| Back to Mac ARM64 build report for BioC 3.16 |
|
This page was generated on 2023-04-19 11:01:56 -0400 (Wed, 19 Apr 2023).
| Hostname | OS | Arch (*) | R version | Installed pkgs |
|---|---|---|---|---|
| kjohnson | macOS 13.0 Ventura | arm64 | 4.2.2 (2022-10-31) -- "Innocent and Trusting" | 4256 |
| Click on any hostname to see more info about the system (e.g. compilers) (*) as reported by 'uname -p', except on Windows and Mac OS X | ||||
|
To the developers/maintainers of the ngsReports package: Make sure to use the following settings in order to reproduce any error or warning you see on this page. |
| Package 1353/2183 | Hostname | OS / Arch | INSTALL | BUILD | BUILD BIN | ||||||||
| ngsReports 2.0.3 (landing page) Stephen Pederson
| kjohnson | macOS 13.0 Ventura / arm64 | OK | OK | OK | ||||||||
| Package: ngsReports |
| Version: 2.0.3 |
| Command: /Library/Frameworks/R.framework/Resources/bin/R CMD build --keep-empty-dirs --no-resave-data ngsReports |
| StartedAt: 2023-04-17 18:51:50 -0400 (Mon, 17 Apr 2023) |
| EndedAt: 2023-04-17 18:53:09 -0400 (Mon, 17 Apr 2023) |
| EllapsedTime: 79.0 seconds |
| RetCode: 0 |
| Status: OK |
| PackageFile: ngsReports_2.0.3.tar.gz |
| PackageFileSize: 2.581 MiB |
############################################################################## ############################################################################## ### ### Running command: ### ### /Library/Frameworks/R.framework/Resources/bin/R CMD build --keep-empty-dirs --no-resave-data ngsReports ### ############################################################################## ############################################################################## * checking for file ‘ngsReports/DESCRIPTION’ ... OK * preparing ‘ngsReports’: * checking DESCRIPTION meta-information ... OK * installing the package to process help pages * building the PDF package manual * creating vignettes ... OK * checking for LF line-endings in source and make files and shell scripts * checking for empty or unneeded directories * building ‘ngsReports_2.0.3.tar.gz’