Back to Multiple platform build/check report for BioC 3.22:   simplified   long
ABCD[E]FGHIJKLMNOPQRSTUVWXYZ

This page was generated on 2025-11-12 11:57 -0500 (Wed, 12 Nov 2025).

HostnameOSArch (*)R versionInstalled pkgs
nebbiolo2Linux (Ubuntu 24.04.3 LTS)x86_644.5.1 Patched (2025-08-23 r88802) -- "Great Square Root" 4902
taishanLinux (openEuler 24.03 LTS)aarch644.5.0 (2025-04-11) -- "How About a Twenty-Six" 4668
Click on any hostname to see more info about the system (e.g. compilers)      (*) as reported by 'uname -p', except on Windows and Mac OS X

All results for package edgeR


To the developers/maintainers of the edgeR package:
- Allow up to 24 hours (and sometimes 48 hours) for your latest push to git@git.bioconductor.org:packages/edgeR.git to reflect on this report. See Troubleshooting Build Report for more information.
- Use the following Renviron settings to reproduce errors and warnings.
- If 'R CMD check' started to fail recently on the Linux builder(s) over a missing dependency, add the missing dependency to 'Suggests:' in your DESCRIPTION file. See Renviron.bioc for more information.

raw results

Package 654/2361HostnameOS / ArchINSTALLBUILDCHECKBUILD BIN
edgeR 4.8.0  (landing page)
Yunshun Chen , Gordon Smyth
Snapshot Date: 2025-11-11 13:45 -0500 (Tue, 11 Nov 2025)
git_url: https://git.bioconductor.org/packages/edgeR
git_branch: RELEASE_3_22
git_last_commit: d547d7e
git_last_commit_date: 2025-10-29 10:01:19 -0500 (Wed, 29 Oct 2025)
nebbiolo2Linux (Ubuntu 24.04.3 LTS) / x86_64  OK    OK    OK  UNNEEDED, same version is already published
taishanLinux (openEuler 24.03 LTS) / aarch64  OK    OK    OK  



Results for Bioconductor software packages that depend directly on package edgeR

QUICK STATSOS / ArchINSTALLBUILDCHECKBUILD BIN
nebbiolo2Linux (Ubuntu 24.04.3 LTS) / x86_64
02138
06134
0220112
taishanLinux (openEuler 24.03 LTS) / aarch64
03137
27131
2919101
Package 1/140HostnameOS / ArchINSTALLBUILDCHECKBUILD BIN
affycoretools 1.82.0  (landing page)
James W. MacDonald
git_last_commit: c96a089
git_last_commit_date: 2025-10-29 09:57:11 -0500
nebbiolo2Linux (Ubuntu 24.04.3 LTS) / x86_64  OK    OK    OK  UNNEEDED, same version is already published
taishanLinux (openEuler 24.03 LTS) / aarch64  OK    OK    OK  
Package 2/140HostnameOS / ArchINSTALLBUILDCHECKBUILD BIN
anota2seq 1.32.0  (landing page)
Christian Oertlin , Ola Larsson
git_last_commit: 8720150
git_last_commit_date: 2025-10-29 10:41:23 -0500
nebbiolo2Linux (Ubuntu 24.04.3 LTS) / x86_64  OK    OK    WARNINGS  UNNEEDED, same version is already published
taishanLinux (openEuler 24.03 LTS) / aarch64  OK    OK    OK  
Package 3/140HostnameOS / ArchINSTALLBUILDCHECKBUILD BIN
ASpli 2.20.0  (landing page)
Ariel Chernomoretz
git_last_commit: 3c6d496
git_last_commit_date: 2025-10-29 10:33:32 -0500
nebbiolo2Linux (Ubuntu 24.04.3 LTS) / x86_64  OK    OK    WARNINGS  UNNEEDED, same version is already published
taishanLinux (openEuler 24.03 LTS) / aarch64  OK    OK    WARNINGS  
Package 4/140HostnameOS / ArchINSTALLBUILDCHECKBUILD BIN
ATACseqQC 1.34.0  (landing page)
Jianhong Ou
git_last_commit: 9b61612
git_last_commit_date: 2025-10-29 10:38:34 -0500
nebbiolo2Linux (Ubuntu 24.04.3 LTS) / x86_64  OK    OK    OK  UNNEEDED, same version is already published
taishanLinux (openEuler 24.03 LTS) / aarch64  OK    OK    OK  
Package 5/140HostnameOS / ArchINSTALLBUILDCHECKBUILD BIN
autonomics 1.18.0  (landing page)
Aditya Bhagwat
git_last_commit: c22fce2
git_last_commit_date: 2025-10-29 11:06:51 -0500
nebbiolo2Linux (Ubuntu 24.04.3 LTS) / x86_64  OK    OK    OK  UNNEEDED, same version is already published
taishanLinux (openEuler 24.03 LTS) / aarch64  OK    OK    ERROR  
Package 6/140HostnameOS / ArchINSTALLBUILDCHECKBUILD BIN
AWFisher 1.24.0  (landing page)
Zhiguang Huo
git_last_commit: f7b0edc
git_last_commit_date: 2025-10-29 10:53:01 -0500
nebbiolo2Linux (Ubuntu 24.04.3 LTS) / x86_64  OK    OK    OK  UNNEEDED, same version is already published
taishanLinux (openEuler 24.03 LTS) / aarch64  OK    OK    OK  
Package 7/140HostnameOS / ArchINSTALLBUILDCHECKBUILD BIN
BatchQC 2.6.0  (landing page)
Jessica Anderson
git_last_commit: dce5259
git_last_commit_date: 2025-10-29 10:31:36 -0500
nebbiolo2Linux (Ubuntu 24.04.3 LTS) / x86_64  OK    OK    OK  UNNEEDED, same version is already published
taishanLinux (openEuler 24.03 LTS) / aarch64  OK    OK    OK  
Package 8/140HostnameOS / ArchINSTALLBUILDCHECKBUILD BIN
baySeq 2.44.0  (landing page)
Samuel Granjeaud
git_last_commit: 9204ac0
git_last_commit_date: 2025-10-29 11:29:21 -0500
nebbiolo2Linux (Ubuntu 24.04.3 LTS) / x86_64  OK    OK    OK  UNNEEDED, same version is already published
taishanLinux (openEuler 24.03 LTS) / aarch64  OK    OK    OK  
Package 9/140HostnameOS / ArchINSTALLBUILDCHECKBUILD BIN
beer 1.14.0  (landing page)
Athena Chen
git_last_commit: 820bb40
git_last_commit_date: 2025-10-29 11:14:55 -0500
nebbiolo2Linux (Ubuntu 24.04.3 LTS) / x86_64  OK    OK    OK  UNNEEDED, same version is already published
taishanLinux (openEuler 24.03 LTS) / aarch64  ERROR    ERROR  skipped
Package 10/140HostnameOS / ArchINSTALLBUILDCHECKBUILD BIN
benchdamic 1.16.0  (landing page)
Matteo Calgaro
git_last_commit: fcdab2a
git_last_commit_date: 2025-10-29 11:13:16 -0500
nebbiolo2Linux (Ubuntu 24.04.3 LTS) / x86_64  OK    OK    OK  NO, package depends on 'Maaslin2' which is not available
taishanLinux (openEuler 24.03 LTS) / aarch64  OK    OK    ERROR  
Package 11/140HostnameOS / ArchINSTALLBUILDCHECKBUILD BIN
BioQC 1.38.0  (landing page)
Jitao David Zhang
git_last_commit: d2191e5
git_last_commit_date: 2025-10-29 10:28:57 -0500
nebbiolo2Linux (Ubuntu 24.04.3 LTS) / x86_64  OK    OK    OK  UNNEEDED, same version is already published
taishanLinux (openEuler 24.03 LTS) / aarch64  OK    OK    OK  
Package 12/140HostnameOS / ArchINSTALLBUILDCHECKBUILD BIN
BreastSubtypeR 1.2.0  (landing page)
Qiao Yang
git_last_commit: f1af123
git_last_commit_date: 2025-10-29 11:36:09 -0500
nebbiolo2Linux (Ubuntu 24.04.3 LTS) / x86_64  OK    OK    OK  UNNEEDED, same version is already published
taishanLinux (openEuler 24.03 LTS) / aarch64  OK    OK    OK  
Package 13/140HostnameOS / ArchINSTALLBUILDCHECKBUILD BIN
broadSeq 1.4.0  (landing page)
Rishi Das Roy
git_last_commit: f0b1505
git_last_commit_date: 2025-10-29 11:30:34 -0500
nebbiolo2Linux (Ubuntu 24.04.3 LTS) / x86_64  OK    OK    WARNINGS  NO, package depends on 'DELocal' which is not available
taishanLinux (openEuler 24.03 LTS) / aarch64  OK    OK    WARNINGS  
Package 14/140HostnameOS / ArchINSTALLBUILDCHECKBUILD BIN
censcyt 1.18.0  (landing page)
Reto Gerber
git_last_commit: c86eeed
git_last_commit_date: 2025-10-29 11:05:07 -0500
nebbiolo2Linux (Ubuntu 24.04.3 LTS) / x86_64  OK    OK    OK  UNNEEDED, same version is already published
taishanLinux (openEuler 24.03 LTS) / aarch64  OK    OK    OK  
Package 15/140HostnameOS / ArchINSTALLBUILDCHECKBUILD BIN
ChromSCape 1.20.0  (landing page)
Pacome Prompsy
git_last_commit: a5a7bda
git_last_commit_date: 2025-10-29 11:02:56 -0500
nebbiolo2Linux (Ubuntu 24.04.3 LTS) / x86_64  OK    OK    WARNINGS  UNNEEDED, same version is already published
taishanLinux (openEuler 24.03 LTS) / aarch64  OK    OK    WARNINGS  
Package 16/140HostnameOS / ArchINSTALLBUILDCHECKBUILD BIN
circRNAprofiler 1.24.0  (landing page)
Simona Aufiero
git_last_commit: 8f3c453
git_last_commit_date: 2025-10-29 10:53:06 -0500
nebbiolo2Linux (Ubuntu 24.04.3 LTS) / x86_64  OK    OK    OK  UNNEEDED, same version is already published
taishanLinux (openEuler 24.03 LTS) / aarch64  OK    OK    OK  
Package 17/140HostnameOS / ArchINSTALLBUILDCHECKBUILD BIN
CleanUpRNAseq 1.4.0  (landing page)
Haibo Liu
git_last_commit: 3ccdf23
git_last_commit_date: 2025-10-29 11:31:19 -0500
nebbiolo2Linux (Ubuntu 24.04.3 LTS) / x86_64  OK    OK    OK  UNNEEDED, same version is already published
taishanLinux (openEuler 24.03 LTS) / aarch64  OK    OK    OK  
Package 18/140HostnameOS / ArchINSTALLBUILDCHECKBUILD BIN
clusterExperiment 2.30.0  (landing page)
Elizabeth Purdom
git_last_commit: 86a6cae
git_last_commit_date: 2025-10-29 10:33:07 -0500
nebbiolo2Linux (Ubuntu 24.04.3 LTS) / x86_64  OK    OK    WARNINGS  UNNEEDED, same version is already published
taishanLinux (openEuler 24.03 LTS) / aarch64  OK    OK    WARNINGS  
Package 19/140HostnameOS / ArchINSTALLBUILDCHECKBUILD BIN
CNVRanger 1.26.0  (landing page)
Ludwig Geistlinger
git_last_commit: 53ff90f
git_last_commit_date: 2025-10-29 10:49:56 -0500
nebbiolo2Linux (Ubuntu 24.04.3 LTS) / x86_64  OK    OK    OK  UNNEEDED, same version is already published
taishanLinux (openEuler 24.03 LTS) / aarch64  OK    OK    OK  
Package 20/140HostnameOS / ArchINSTALLBUILDCHECKBUILD BIN
compcodeR 1.46.0  (landing page)
Charlotte Soneson
git_last_commit: 0bb9bee
git_last_commit_date: 2025-10-29 10:19:15 -0500
nebbiolo2Linux (Ubuntu 24.04.3 LTS) / x86_64  OK    OK    OK  UNNEEDED, same version is already published
taishanLinux (openEuler 24.03 LTS) / aarch64  OK    OK    OK  
Package 21/140HostnameOS / ArchINSTALLBUILDCHECKBUILD BIN
consensusDE 1.28.0  (landing page)
Ashley J. Waardenberg
git_last_commit: 7c6b138
git_last_commit_date: 2025-10-29 10:48:35 -0500
nebbiolo2Linux (Ubuntu 24.04.3 LTS) / x86_64  OK    OK    OK  UNNEEDED, same version is already published
taishanLinux (openEuler 24.03 LTS) / aarch64  OK    OK    OK  
Package 22/140HostnameOS / ArchINSTALLBUILDCHECKBUILD BIN
coseq 1.34.0  (landing page)
Andrea Rau
git_last_commit: c25dfae
git_last_commit_date: 2025-10-29 10:36:16 -0500
nebbiolo2Linux (Ubuntu 24.04.3 LTS) / x86_64  OK    OK    OK  UNNEEDED, same version is already published
taishanLinux (openEuler 24.03 LTS) / aarch64  OK    OK    OK  
Package 23/140HostnameOS / ArchINSTALLBUILDCHECKBUILD BIN
countsimQC 1.28.0  (landing page)
Charlotte Soneson
git_last_commit: 5ad5ec4
git_last_commit_date: 2025-10-29 10:47:52 -0500
nebbiolo2Linux (Ubuntu 24.04.3 LTS) / x86_64  OK    OK    OK  UNNEEDED, same version is already published
taishanLinux (openEuler 24.03 LTS) / aarch64  OK    OK    OK  
Package 24/140HostnameOS / ArchINSTALLBUILDCHECKBUILD BIN
csaw 1.44.0  (landing page)
Aaron Lun
git_last_commit: 592497a
git_last_commit_date: 2025-10-29 10:22:21 -0500
nebbiolo2Linux (Ubuntu 24.04.3 LTS) / x86_64  OK    OK    OK  UNNEEDED, same version is already published
taishanLinux (openEuler 24.03 LTS) / aarch64  OK    OK    OK  
Package 25/140HostnameOS / ArchINSTALLBUILDCHECKBUILD BIN
cypress 1.6.0  (landing page)
Shilin Yu
git_last_commit: 2c7153e
git_last_commit_date: 2025-10-29 11:29:05 -0500
nebbiolo2Linux (Ubuntu 24.04.3 LTS) / x86_64  OK    OK    OK  UNNEEDED, same version is already published
taishanLinux (openEuler 24.03 LTS) / aarch64  OK    OK    OK  
Package 26/140HostnameOS / ArchINSTALLBUILDCHECKBUILD BIN
DaMiRseq 2.22.0  (landing page)
Mattia Chiesa
git_last_commit: 63d6fe2
git_last_commit_date: 2025-10-29 10:37:23 -0500
nebbiolo2Linux (Ubuntu 24.04.3 LTS) / x86_64  OK    OK    OK  UNNEEDED, same version is already published
taishanLinux (openEuler 24.03 LTS) / aarch64  OK    OK    OK  
Package 27/140HostnameOS / ArchINSTALLBUILDCHECKBUILD BIN
Damsel 1.6.0  (landing page)
Caitlin Page
git_last_commit: a70f6d8
git_last_commit_date: 2025-10-29 11:29:38 -0500
nebbiolo2Linux (Ubuntu 24.04.3 LTS) / x86_64  OK    OK    WARNINGS  UNNEEDED, same version is already published
taishanLinux (openEuler 24.03 LTS) / aarch64  OK    OK    WARNINGS  
Package 28/140HostnameOS / ArchINSTALLBUILDCHECKBUILD BIN
debrowser 1.38.0  (landing page)
Alper Kucukural
git_last_commit: 5dcc10b
git_last_commit_date: 2025-10-29 10:30:54 -0500
nebbiolo2Linux (Ubuntu 24.04.3 LTS) / x86_64  OK    OK    OK  UNNEEDED, same version is already published
taishanLinux (openEuler 24.03 LTS) / aarch64  OK    OK    OK  
Package 29/140HostnameOS / ArchINSTALLBUILDCHECKBUILD BIN
DeeDeeExperiment 1.0.0  (landing page)
Najla Abassi
git_last_commit: 8d413ac
git_last_commit_date: 2025-10-29 11:37:21 -0500
nebbiolo2Linux (Ubuntu 24.04.3 LTS) / x86_64  OK    OK    OK  UNNEEDED, same version is already published
taishanLinux (openEuler 24.03 LTS) / aarch64  OK    OK    OK  
Package 30/140HostnameOS / ArchINSTALLBUILDCHECKBUILD BIN
DEFormats 1.38.0  (landing page)
Andrzej Oleś
git_last_commit: 430e20a
git_last_commit_date: 2025-10-29 10:31:05 -0500
nebbiolo2Linux (Ubuntu 24.04.3 LTS) / x86_64  OK    OK    OK  UNNEEDED, same version is already published
taishanLinux (openEuler 24.03 LTS) / aarch64  OK    OK    OK  
Package 31/140HostnameOS / ArchINSTALLBUILDCHECKBUILD BIN
DEGreport 1.46.0  (landing page)
Lorena Pantano
git_last_commit: c98a779
git_last_commit_date: 2025-10-29 10:19:57 -0500
nebbiolo2Linux (Ubuntu 24.04.3 LTS) / x86_64  OK    OK    OK  UNNEEDED, same version is already published
taishanLinux (openEuler 24.03 LTS) / aarch64  OK    OK    OK  
Package 32/140HostnameOS / ArchINSTALLBUILDCHECKBUILD BIN
DESpace 2.2.1  (landing page)
Peiying Cai
git_last_commit: 90141ee
git_last_commit_date: 2025-10-31 08:20:25 -0500
nebbiolo2Linux (Ubuntu 24.04.3 LTS) / x86_64  OK    OK    OK  UNNEEDED, same version is already published
taishanLinux (openEuler 24.03 LTS) / aarch64  OK    OK    OK  
Package 33/140HostnameOS / ArchINSTALLBUILDCHECKBUILD BIN
DEsubs 1.36.0  (landing page)
Aristidis G. Vrahatis , Panos Balomenos
git_last_commit: eacc80f
git_last_commit_date: 2025-10-29 10:34:42 -0500
nebbiolo2Linux (Ubuntu 24.04.3 LTS) / x86_64  OK    OK    WARNINGS  UNNEEDED, same version is already published
taishanLinux (openEuler 24.03 LTS) / aarch64  OK    OK    WARNINGS  
Package 34/140HostnameOS / ArchINSTALLBUILDCHECKBUILD BIN
diffcyt 1.30.0  (landing page)
Lukas M. Weber
git_last_commit: d8003b3
git_last_commit_date: 2025-10-29 10:44:30 -0500
nebbiolo2Linux (Ubuntu 24.04.3 LTS) / x86_64  OK    OK    OK  UNNEEDED, same version is already published
taishanLinux (openEuler 24.03 LTS) / aarch64  OK    OK    OK  
Package 35/140HostnameOS / ArchINSTALLBUILDCHECKBUILD BIN
diffHic 1.42.0  (landing page)
Aaron Lun , Gordon Smyth , Hannah Coughlin
git_last_commit: d1e2c99
git_last_commit_date: 2025-10-29 10:25:47 -0500
nebbiolo2Linux (Ubuntu 24.04.3 LTS) / x86_64  OK    OK    OK  UNNEEDED, same version is already published
taishanLinux (openEuler 24.03 LTS) / aarch64  OK    OK    OK  
Package 36/140HostnameOS / ArchINSTALLBUILDCHECKBUILD BIN
diffUTR 1.18.0  (landing page)
Pierre-Luc Germain
git_last_commit: 6ffc717
git_last_commit_date: 2025-10-29 11:09:14 -0500
nebbiolo2Linux (Ubuntu 24.04.3 LTS) / x86_64  OK    OK    OK  UNNEEDED, same version is already published
taishanLinux (openEuler 24.03 LTS) / aarch64  OK    OK    OK  
Package 37/140HostnameOS / ArchINSTALLBUILDCHECKBUILD BIN
dinoR 1.6.0  (landing page)
Michaela Schwaiger
git_last_commit: 5d0a090
git_last_commit_date: 2025-10-29 11:28:52 -0500
nebbiolo2Linux (Ubuntu 24.04.3 LTS) / x86_64  OK    OK    OK  UNNEEDED, same version is already published
taishanLinux (openEuler 24.03 LTS) / aarch64  OK    OK    OK  
Package 38/140HostnameOS / ArchINSTALLBUILDCHECKBUILD BIN
DMRcate 3.6.0  (landing page)
Tim Peters
git_last_commit: d522a97
git_last_commit_date: 2025-10-29 10:18:14 -0500
nebbiolo2Linux (Ubuntu 24.04.3 LTS) / x86_64  OK    OK    OK  UNNEEDED, same version is already published
taishanLinux (openEuler 24.03 LTS) / aarch64  OK    TIMEOUT  skipped
Package 39/140HostnameOS / ArchINSTALLBUILDCHECKBUILD BIN
doseR 1.26.0  (landing page)
ake.vastermark
git_last_commit: 119605b
git_last_commit_date: 2025-10-29 10:50:15 -0500
nebbiolo2Linux (Ubuntu 24.04.3 LTS) / x86_64  OK    OK    OK  UNNEEDED, same version is already published
taishanLinux (openEuler 24.03 LTS) / aarch64  OK    OK    OK  
Package 40/140HostnameOS / ArchINSTALLBUILDCHECKBUILD BIN
dreamlet 1.8.0  (landing page)
Gabriel Hoffman
git_last_commit: 1eb467d
git_last_commit_date: 2025-10-29 11:25:03 -0500
nebbiolo2Linux (Ubuntu 24.04.3 LTS) / x86_64  OK    OK    OK  UNNEEDED, same version is already published
taishanLinux (openEuler 24.03 LTS) / aarch64  OK    OK    OK  
Package 41/140HostnameOS / ArchINSTALLBUILDCHECKBUILD BIN
DRIMSeq 1.38.0  (landing page)
Malgorzata Nowicka
git_last_commit: 7fdbd09
git_last_commit_date: 2025-10-29 10:30:52 -0500
nebbiolo2Linux (Ubuntu 24.04.3 LTS) / x86_64  OK    OK    WARNINGS  UNNEEDED, same version is already published
taishanLinux (openEuler 24.03 LTS) / aarch64  OK    OK    WARNINGS  
Package 42/140HostnameOS / ArchINSTALLBUILDCHECKBUILD BIN
DropletUtils 1.30.0  (landing page)
Jonathan Griffiths
git_last_commit: 6ef5eaa
git_last_commit_date: 2025-10-29 10:42:43 -0500
nebbiolo2Linux (Ubuntu 24.04.3 LTS) / x86_64  OK    OK    WARNINGS  UNNEEDED, same version is already published
taishanLinux (openEuler 24.03 LTS) / aarch64  OK    OK    WARNINGS  
Package 43/140HostnameOS / ArchINSTALLBUILDCHECKBUILD BIN
DspikeIn 1.0.0  (landing page)
Mitra Ghotbi
git_last_commit: 8a427ff
git_last_commit_date: 2025-10-29 11:39:12 -0500
nebbiolo2Linux (Ubuntu 24.04.3 LTS) / x86_64  OK    OK    OK  UNNEEDED, same version is already published
taishanLinux (openEuler 24.03 LTS) / aarch64  OK    OK    OK  
Package 44/140HostnameOS / ArchINSTALLBUILDCHECKBUILD BIN
easyRNASeq 2.46.0  (landing page)
Nicolas Delhomme
git_last_commit: e268573
git_last_commit_date: 2025-10-29 10:10:00 -0500
nebbiolo2Linux (Ubuntu 24.04.3 LTS) / x86_64  OK    OK    WARNINGS  UNNEEDED, same version is already published
taishanLinux (openEuler 24.03 LTS) / aarch64  OK    OK    WARNINGS  
Package 45/140HostnameOS / ArchINSTALLBUILDCHECKBUILD BIN
EGSEA 1.38.0  (landing page)
Monther Alhamdoosh
git_last_commit: 1a8a161
git_last_commit_date: 2025-10-29 10:32:11 -0500
nebbiolo2Linux (Ubuntu 24.04.3 LTS) / x86_64  OK    OK    OK  UNNEEDED, same version is already published
taishanLinux (openEuler 24.03 LTS) / aarch64  OK    OK    OK  
Package 46/140HostnameOS / ArchINSTALLBUILDCHECKBUILD BIN
eisaR 1.22.1  (landing page)
Michael Stadler
git_last_commit: 8c3511a
git_last_commit_date: 2025-11-03 09:33:59 -0500
nebbiolo2Linux (Ubuntu 24.04.3 LTS) / x86_64  OK    OK    OK  UNNEEDED, same version is already published
taishanLinux (openEuler 24.03 LTS) / aarch64  OK    OK    OK  
Package 47/140HostnameOS / ArchINSTALLBUILDCHECKBUILD BIN
EnrichmentBrowser 2.40.0  (landing page)
Ludwig Geistlinger
git_last_commit: 2118f0c
git_last_commit_date: 2025-10-29 10:21:30 -0500
nebbiolo2Linux (Ubuntu 24.04.3 LTS) / x86_64  OK    OK    OK  UNNEEDED, same version is already published
taishanLinux (openEuler 24.03 LTS) / aarch64  OK    OK    ERROR  
Package 48/140HostnameOS / ArchINSTALLBUILDCHECKBUILD BIN
erccdashboard 1.44.0  (landing page)
Sarah Munro
git_last_commit: 76c1882
git_last_commit_date: 2025-10-29 10:21:01 -0500
nebbiolo2Linux (Ubuntu 24.04.3 LTS) / x86_64  OK    OK    OK  UNNEEDED, same version is already published
taishanLinux (openEuler 24.03 LTS) / aarch64  OK    OK    OK  
Package 49/140HostnameOS / ArchINSTALLBUILDCHECKBUILD BIN
ERSSA 1.28.0  (landing page)
Zixuan Shao
git_last_commit: d746337
git_last_commit_date: 2025-10-29 10:47:37 -0500
nebbiolo2Linux (Ubuntu 24.04.3 LTS) / x86_64  OK    OK    OK  UNNEEDED, same version is already published
taishanLinux (openEuler 24.03 LTS) / aarch64  OK    OK    OK  
Package 50/140HostnameOS / ArchINSTALLBUILDCHECKBUILD BIN
extraChIPs 1.14.0  (landing page)
Stevie Pederson
git_last_commit: 9b0567a
git_last_commit_date: 2025-10-29 11:16:32 -0500
nebbiolo2Linux (Ubuntu 24.04.3 LTS) / x86_64  OK    OK    OK  UNNEEDED, same version is already published
taishanLinux (openEuler 24.03 LTS) / aarch64  OK    OK    OK  
Package 51/140HostnameOS / ArchINSTALLBUILDCHECKBUILD BIN
GDCRNATools 1.30.0  (landing page)
Ruidong Li
git_last_commit: 5237ba8
git_last_commit_date: 2025-10-29 10:42:54 -0500
nebbiolo2Linux (Ubuntu 24.04.3 LTS) / x86_64  OK    OK    OK  UNNEEDED, same version is already published
taishanLinux (openEuler 24.03 LTS) / aarch64  OK    OK    OK  
Package 52/140HostnameOS / ArchINSTALLBUILDCHECKBUILD BIN
GenomicPlot 1.8.0  (landing page)
Shuye Pu
git_last_commit: e9ce4a7
git_last_commit_date: 2025-10-29 11:24:51 -0500
nebbiolo2Linux (Ubuntu 24.04.3 LTS) / x86_64  OK    OK    OK  UNNEEDED, same version is already published
taishanLinux (openEuler 24.03 LTS) / aarch64  OK    OK    OK  
Package 53/140HostnameOS / ArchINSTALLBUILDCHECKBUILD BIN
GEOexplorer 1.16.0  (landing page)
Guy Hunt
git_last_commit: 95a2b2f
git_last_commit_date: 2025-10-29 11:11:17 -0500
nebbiolo2Linux (Ubuntu 24.04.3 LTS) / x86_64  OK    ERROR  skipped
taishanLinux (openEuler 24.03 LTS) / aarch64  OK    OK    ERROR  
Package 54/140HostnameOS / ArchINSTALLBUILDCHECKBUILD BIN
gg4way 1.8.0  (landing page)
Benjamin I Laufer
git_last_commit: 768ce2f
git_last_commit_date: 2025-10-29 11:25:41 -0500
nebbiolo2Linux (Ubuntu 24.04.3 LTS) / x86_64  OK    OK    OK  UNNEEDED, same version is already published
taishanLinux (openEuler 24.03 LTS) / aarch64  OK    OK    OK  
Package 55/140HostnameOS / ArchINSTALLBUILDCHECKBUILD BIN
gINTomics 1.6.0  (landing page)
Angelo Velle
git_last_commit: d433a6d
git_last_commit_date: 2025-10-29 11:30:01 -0500
nebbiolo2Linux (Ubuntu 24.04.3 LTS) / x86_64  OK    OK    OK  NO, package depends on 'OmnipathR' which is not available
taishanLinux (openEuler 24.03 LTS) / aarch64  OK    OK    OK  
Package 56/140HostnameOS / ArchINSTALLBUILDCHECKBUILD BIN
Glimma 2.20.0  (landing page)
Shian Su
git_last_commit: 73c6c44
git_last_commit_date: 2025-10-29 10:31:31 -0500
nebbiolo2Linux (Ubuntu 24.04.3 LTS) / x86_64  OK    OK    OK  UNNEEDED, same version is already published
taishanLinux (openEuler 24.03 LTS) / aarch64  OK    OK    OK  
Package 57/140HostnameOS / ArchINSTALLBUILDCHECKBUILD BIN
GSEABenchmarkeR 1.30.0  (landing page)
Ludwig Geistlinger
git_last_commit: 7ab14b8
git_last_commit_date: 2025-10-29 10:44:06 -0500
nebbiolo2Linux (Ubuntu 24.04.3 LTS) / x86_64  OK    OK    OK  UNNEEDED, same version is already published
taishanLinux (openEuler 24.03 LTS) / aarch64  OK    OK    OK  
Package 58/140HostnameOS / ArchINSTALLBUILDCHECKBUILD BIN
hermes 1.14.0  (landing page)
Daniel Sabanés Bové
git_last_commit: b415d55
git_last_commit_date: 2025-10-29 11:14:07 -0500
nebbiolo2Linux (Ubuntu 24.04.3 LTS) / x86_64  OK    OK    OK  UNNEEDED, same version is already published
taishanLinux (openEuler 24.03 LTS) / aarch64  OK    OK    OK  
Package 59/140HostnameOS / ArchINSTALLBUILDCHECKBUILD BIN
HTSFilter 1.50.0  (landing page)
Andrea Rau
git_last_commit: bc11c10
git_last_commit_date: 2025-10-29 10:13:32 -0500
nebbiolo2Linux (Ubuntu 24.04.3 LTS) / x86_64  OK    OK    OK  UNNEEDED, same version is already published
taishanLinux (openEuler 24.03 LTS) / aarch64  OK    OK    OK  
Package 60/140HostnameOS / ArchINSTALLBUILDCHECKBUILD BIN
icetea 1.28.0  (landing page)
Vivek Bhardwaj
git_last_commit: f7f280d
git_last_commit_date: 2025-10-29 10:45:57 -0500
nebbiolo2Linux (Ubuntu 24.04.3 LTS) / x86_64  OK    OK    WARNINGS  UNNEEDED, same version is already published
taishanLinux (openEuler 24.03 LTS) / aarch64  OK    OK    WARNINGS  
Package 61/140HostnameOS / ArchINSTALLBUILDCHECKBUILD BIN
infercnv 1.26.0  (landing page)
Christophe Georgescu
git_last_commit: 334e1db
git_last_commit_date: 2025-10-29 10:52:07 -0500
nebbiolo2Linux (Ubuntu 24.04.3 LTS) / x86_64  OK    OK    OK  UNNEEDED, same version is already published
taishanLinux (openEuler 24.03 LTS) / aarch64  ERROR    ERROR  skipped
Package 62/140HostnameOS / ArchINSTALLBUILDCHECKBUILD BIN
IntEREst 1.34.0  (landing page)
Ali Oghabian
git_last_commit: 8a4b0c3
git_last_commit_date: 2025-10-29 10:37:18 -0500
nebbiolo2Linux (Ubuntu 24.04.3 LTS) / x86_64  OK    OK    OK  UNNEEDED, same version is already published
taishanLinux (openEuler 24.03 LTS) / aarch64  OK    OK    OK  
Package 63/140HostnameOS / ArchINSTALLBUILDCHECKBUILD BIN
iSEEde 1.8.0  (landing page)
Kevin Rue-Albrecht
git_last_commit: 71c233e
git_last_commit_date: 2025-10-29 11:24:44 -0500
nebbiolo2Linux (Ubuntu 24.04.3 LTS) / x86_64  OK    OK    OK  UNNEEDED, same version is already published
taishanLinux (openEuler 24.03 LTS) / aarch64  OK    OK    OK  
Package 64/140HostnameOS / ArchINSTALLBUILDCHECKBUILD BIN
IsoformSwitchAnalyzeR 2.10.0  (landing page)
Kristoffer Vitting-Seerup
git_last_commit: 34e7c83
git_last_commit_date: 2025-10-29 10:38:58 -0500
nebbiolo2Linux (Ubuntu 24.04.3 LTS) / x86_64  OK    OK    OK  UNNEEDED, same version is already published
taishanLinux (openEuler 24.03 LTS) / aarch64  OK    OK    OK  
Package 65/140HostnameOS / ArchINSTALLBUILDCHECKBUILD BIN
KnowSeq 1.24.0  (landing page)
Daniel Castillo-Secilla
git_last_commit: 803fc01
git_last_commit_date: 2025-10-29 10:52:51 -0500
nebbiolo2Linux (Ubuntu 24.04.3 LTS) / x86_64  OK    OK    OK  UNNEEDED, same version is already published
taishanLinux (openEuler 24.03 LTS) / aarch64  OK    OK    OK  
Package 66/140HostnameOS / ArchINSTALLBUILDCHECKBUILD BIN
Maaslin2 1.24.0  (landing page)
Lauren McIver
git_last_commit: cbf23d4
git_last_commit_date: 2025-10-29 10:53:16 -0500
nebbiolo2Linux (Ubuntu 24.04.3 LTS) / x86_64  OK    ERROR  skipped
taishanLinux (openEuler 24.03 LTS) / aarch64  OK    ERROR  skipped
Package 67/140HostnameOS / ArchINSTALLBUILDCHECKBUILD BIN
markeR 1.0.0  (landing page)
Rita Martins-Silva
git_last_commit: defebad
git_last_commit_date: 2025-10-29 11:38:06 -0500
nebbiolo2Linux (Ubuntu 24.04.3 LTS) / x86_64  OK    OK    OK  UNNEEDED, same version is already published
taishanLinux (openEuler 24.03 LTS) / aarch64  OK    OK    OK  
Package 68/140HostnameOS / ArchINSTALLBUILDCHECKBUILD BIN
mastR 1.10.0  (landing page)
Jinjin Chen
git_last_commit: 2cd82fb
git_last_commit_date: 2025-10-29 11:22:48 -0500
nebbiolo2Linux (Ubuntu 24.04.3 LTS) / x86_64  OK    OK    OK  UNNEEDED, same version is already published
taishanLinux (openEuler 24.03 LTS) / aarch64  OK    TIMEOUT  skipped
Package 69/140HostnameOS / ArchINSTALLBUILDCHECKBUILD BIN
MEB 1.24.0  (landing page)
Jiadi Zhu
git_last_commit: 75bb07c
git_last_commit_date: 2025-10-29 10:54:34 -0500
nebbiolo2Linux (Ubuntu 24.04.3 LTS) / x86_64  OK    OK    OK  UNNEEDED, same version is already published
taishanLinux (openEuler 24.03 LTS) / aarch64  OK    OK    OK  
Package 70/140HostnameOS / ArchINSTALLBUILDCHECKBUILD BIN
MEDIPS 1.62.0  (landing page)
Lukas Chavez
git_last_commit: 8748557
git_last_commit_date: 2025-10-29 10:06:09 -0500
nebbiolo2Linux (Ubuntu 24.04.3 LTS) / x86_64  OK    OK    OK  UNNEEDED, same version is already published
taishanLinux (openEuler 24.03 LTS) / aarch64  OK    OK    OK  
Package 71/140HostnameOS / ArchINSTALLBUILDCHECKBUILD BIN
MetaDICT 1.0.0  (landing page)
Bo Yuan
git_last_commit: 2dfcaa8
git_last_commit_date: 2025-10-29 11:37:46 -0500
nebbiolo2Linux (Ubuntu 24.04.3 LTS) / x86_64  OK    OK    OK  UNNEEDED, same version is already published
taishanLinux (openEuler 24.03 LTS) / aarch64  OK    OK    OK  
Package 72/140HostnameOS / ArchINSTALLBUILDCHECKBUILD BIN
metaseqR2 1.22.0  (landing page)
Panagiotis Moulos
git_last_commit: e5e7809
git_last_commit_date: 2025-10-29 10:59:18 -0500
nebbiolo2Linux (Ubuntu 24.04.3 LTS) / x86_64  OK    ERROR  skipped
taishanLinux (openEuler 24.03 LTS) / aarch64  OK    OK    ERROR  
Package 73/140HostnameOS / ArchINSTALLBUILDCHECKBUILD BIN
methylMnM 1.48.0  (landing page)
Yan Zhou
git_last_commit: 084ea47
git_last_commit_date: 2025-10-29 10:16:48 -0500
nebbiolo2Linux (Ubuntu 24.04.3 LTS) / x86_64  OK    OK    OK  UNNEEDED, same version is already published
taishanLinux (openEuler 24.03 LTS) / aarch64  OK    OK    OK  
Package 74/140HostnameOS / ArchINSTALLBUILDCHECKBUILD BIN
miloR 2.6.0  (landing page)
Mike Morgan
git_last_commit: 374663b
git_last_commit_date: 2025-10-29 11:08:58 -0500
nebbiolo2Linux (Ubuntu 24.04.3 LTS) / x86_64  OK    OK    OK  UNNEEDED, same version is already published
taishanLinux (openEuler 24.03 LTS) / aarch64  OK    ERROR  skipped
Package 75/140HostnameOS / ArchINSTALLBUILDCHECKBUILD BIN
MIRit 1.6.0  (landing page)
Jacopo Ronchi
git_last_commit: 2274523
git_last_commit_date: 2025-10-29 11:27:39 -0500
nebbiolo2Linux (Ubuntu 24.04.3 LTS) / x86_64  OK    OK    OK  UNNEEDED, same version is already published
taishanLinux (openEuler 24.03 LTS) / aarch64  OK    OK    ERROR  
Package 76/140HostnameOS / ArchINSTALLBUILDCHECKBUILD BIN
MLSeq 2.28.0  (landing page)
Gokmen Zararsiz
git_last_commit: e4f82c9
git_last_commit_date: 2025-10-29 10:18:29 -0500
nebbiolo2Linux (Ubuntu 24.04.3 LTS) / x86_64  OK    OK    OK  UNNEEDED, same version is already published
taishanLinux (openEuler 24.03 LTS) / aarch64  OK    OK    OK  
Package 77/140HostnameOS / ArchINSTALLBUILDCHECKBUILD BIN
moanin 1.18.0  (landing page)
Nelle Varoquaux
git_last_commit: 6b72807
git_last_commit_date: 2025-10-29 11:04:42 -0500
nebbiolo2Linux (Ubuntu 24.04.3 LTS) / x86_64  OK    OK    OK  UNNEEDED, same version is already published
taishanLinux (openEuler 24.03 LTS) / aarch64  OK    OK    OK  
Package 78/140HostnameOS / ArchINSTALLBUILDCHECKBUILD BIN
mobileRNA 1.6.0  (landing page)
Katie Jeynes-Cupper
git_last_commit: 0497702
git_last_commit_date: 2025-10-29 11:28:04 -0500
nebbiolo2Linux (Ubuntu 24.04.3 LTS) / x86_64  OK    OK    ERROR  
taishanLinux (openEuler 24.03 LTS) / aarch64  OK    OK    ERROR  
Package 79/140HostnameOS / ArchINSTALLBUILDCHECKBUILD BIN
MOSim 2.6.0  (landing page)
Sonia Tarazona
git_last_commit: 3eff748
git_last_commit_date: 2025-10-29 10:53:49 -0500
nebbiolo2Linux (Ubuntu 24.04.3 LTS) / x86_64  OK    OK    WARNINGS  UNNEEDED, same version is already published
taishanLinux (openEuler 24.03 LTS) / aarch64  OK    OK    WARNINGS  
Package 80/140HostnameOS / ArchINSTALLBUILDCHECKBUILD BIN
Motif2Site 1.14.0  (landing page)
Peyman Zarrineh
git_last_commit: ce0607c
git_last_commit_date: 2025-10-29 11:15:00 -0500
nebbiolo2Linux (Ubuntu 24.04.3 LTS) / x86_64  OK    OK    OK  UNNEEDED, same version is already published
taishanLinux (openEuler 24.03 LTS) / aarch64  OK    OK    OK  
Package 81/140HostnameOS / ArchINSTALLBUILDCHECKBUILD BIN
msgbsR 1.34.0  (landing page)
Benjamin Mayne
git_last_commit: 1016b01
git_last_commit_date: 2025-10-29 10:38:42 -0500
nebbiolo2Linux (Ubuntu 24.04.3 LTS) / x86_64  OK    OK    OK  UNNEEDED, same version is already published
taishanLinux (openEuler 24.03 LTS) / aarch64  OK    OK    OK  
Package 82/140HostnameOS / ArchINSTALLBUILDCHECKBUILD BIN
msmsTests 1.48.0  (landing page)
Josep Gregori i Font
git_last_commit: 51afab8
git_last_commit_date: 2025-10-29 10:15:47 -0500
nebbiolo2Linux (Ubuntu 24.04.3 LTS) / x86_64  OK    OK    OK  UNNEEDED, same version is already published
taishanLinux (openEuler 24.03 LTS) / aarch64  OK    OK    OK  
Package 83/140HostnameOS / ArchINSTALLBUILDCHECKBUILD BIN
multiHiCcompare 1.28.0  (landing page)
Mikhail Dozmorov
git_last_commit: 5d0766c
git_last_commit_date: 2025-10-29 10:46:53 -0500
nebbiolo2Linux (Ubuntu 24.04.3 LTS) / x86_64  OK    OK    OK  UNNEEDED, same version is already published
taishanLinux (openEuler 24.03 LTS) / aarch64  OK    OK    OK  
Package 84/140HostnameOS / ArchINSTALLBUILDCHECKBUILD BIN
muscat 1.24.0  (landing page)
Helena L. Crowell
git_last_commit: a6749ec
git_last_commit_date: 2025-10-29 10:53:55 -0500
nebbiolo2Linux (Ubuntu 24.04.3 LTS) / x86_64  OK    OK    OK  UNNEEDED, same version is already published
taishanLinux (openEuler 24.03 LTS) / aarch64  OK    OK    OK  
Package 85/140HostnameOS / ArchINSTALLBUILDCHECKBUILD BIN
mutscan 1.0.0  (landing page)
Charlotte Soneson
git_last_commit: 79672e3
git_last_commit_date: 2025-10-29 11:37:32 -0500
nebbiolo2Linux (Ubuntu 24.04.3 LTS) / x86_64  OK    OK    OK  UNNEEDED, same version is already published
taishanLinux (openEuler 24.03 LTS) / aarch64  OK    OK    OK  
Package 86/140HostnameOS / ArchINSTALLBUILDCHECKBUILD BIN
netZooR 1.14.0  (landing page)
Marouen Ben Guebila
git_last_commit: 5f3b18e
git_last_commit_date: 2025-10-29 11:14:04 -0500
nebbiolo2Linux (Ubuntu 24.04.3 LTS) / x86_64  ERROR    ERROR  skipped
taishanLinux (openEuler 24.03 LTS) / aarch64  ERROR    ERROR  skipped
Package 87/140HostnameOS / ArchINSTALLBUILDCHECKBUILD BIN
octad 1.12.0  (landing page)
E. Chekalin
git_last_commit: e8beea0
git_last_commit_date: 2025-10-29 11:19:54 -0500
nebbiolo2Linux (Ubuntu 24.04.3 LTS) / x86_64  OK    OK    OK  UNNEEDED, same version is already published
taishanLinux (openEuler 24.03 LTS) / aarch64  OK    OK    OK  
Package 88/140HostnameOS / ArchINSTALLBUILDCHECKBUILD BIN
PathoStat 1.36.0  (landing page)
Solaiappan Manimaran
git_last_commit: a14c74c
git_last_commit_date: 2025-10-29 10:34:57 -0500
nebbiolo2Linux (Ubuntu 24.04.3 LTS) / x86_64  OK    OK    OK  UNNEEDED, same version is already published
taishanLinux (openEuler 24.03 LTS) / aarch64  OK    OK    OK  
Package 89/140HostnameOS / ArchINSTALLBUILDCHECKBUILD BIN
phantasus 1.30.0  (landing page)
Alexey Sergushichev
git_last_commit: 7182df1
git_last_commit_date: 2025-10-29 10:44:01 -0500
nebbiolo2Linux (Ubuntu 24.04.3 LTS) / x86_64  OK    OK    OK  UNNEEDED, same version is already published
taishanLinux (openEuler 24.03 LTS) / aarch64  OK    OK    OK  
Package 90/140HostnameOS / ArchINSTALLBUILDCHECKBUILD BIN
PhIPData 1.18.0  (landing page)
Athena Chen
git_last_commit: 2d43e86
git_last_commit_date: 2025-10-29 11:06:46 -0500
nebbiolo2Linux (Ubuntu 24.04.3 LTS) / x86_64  OK    OK    OK  UNNEEDED, same version is already published
taishanLinux (openEuler 24.03 LTS) / aarch64  OK    OK    OK  
Package 91/140HostnameOS / ArchINSTALLBUILDCHECKBUILD BIN
ppcseq 1.18.0  (landing page)
Stefano Mangiola
git_last_commit: cf30bec
git_last_commit_date: 2025-10-29 11:08:20 -0500
nebbiolo2Linux (Ubuntu 24.04.3 LTS) / x86_64  OK    OK    OK  UNNEEDED, same version is already published
taishanLinux (openEuler 24.03 LTS) / aarch64  OK    ERROR  skipped
Package 92/140HostnameOS / ArchINSTALLBUILDCHECKBUILD BIN
PRONE 1.4.0  (landing page)
Lis Arend
git_last_commit: 2b31a49
git_last_commit_date: 2025-10-29 11:32:38 -0500
nebbiolo2Linux (Ubuntu 24.04.3 LTS) / x86_64  OK    OK    OK  UNNEEDED, same version is already published
taishanLinux (openEuler 24.03 LTS) / aarch64  OK    OK    OK  
Package 93/140HostnameOS / ArchINSTALLBUILDCHECKBUILD BIN
PROPER 1.42.0  (landing page)
Hao Wu
git_last_commit: f2bf399
git_last_commit_date: 2025-10-29 10:23:16 -0500
nebbiolo2Linux (Ubuntu 24.04.3 LTS) / x86_64  OK    OK    WARNINGS  UNNEEDED, same version is already published
taishanLinux (openEuler 24.03 LTS) / aarch64  OK    OK    WARNINGS  
Package 94/140HostnameOS / ArchINSTALLBUILDCHECKBUILD BIN
psichomics 1.36.0  (landing page)
Nuno Saraiva-Agostinho
git_last_commit: 7123c18
git_last_commit_date: 2025-10-29 10:35:05 -0500
nebbiolo2Linux (Ubuntu 24.04.3 LTS) / x86_64  OK    OK    OK  UNNEEDED, same version is already published
taishanLinux (openEuler 24.03 LTS) / aarch64  OK    OK    OK  
Package 95/140HostnameOS / ArchINSTALLBUILDCHECKBUILD BIN
RCM 1.26.0  (landing page)
Stijn Hawinkel
git_last_commit: a722ed9
git_last_commit_date: 2025-10-29 10:49:27 -0500
nebbiolo2Linux (Ubuntu 24.04.3 LTS) / x86_64  OK    OK    OK  UNNEEDED, same version is already published
taishanLinux (openEuler 24.03 LTS) / aarch64  OK    OK    OK  
Package 96/140HostnameOS / ArchINSTALLBUILDCHECKBUILD BIN
regsplice 1.36.0  (landing page)
Lukas M. Weber
git_last_commit: d9c8d76
git_last_commit_date: 2025-10-29 10:35:24 -0500
nebbiolo2Linux (Ubuntu 24.04.3 LTS) / x86_64  OK    OK    OK  UNNEEDED, same version is already published
taishanLinux (openEuler 24.03 LTS) / aarch64  OK    OK    OK  
Package 97/140HostnameOS / ArchINSTALLBUILDCHECKBUILD BIN
Repitools 1.56.0  (landing page)
Mark Robinson
git_last_commit: e46521a
git_last_commit_date: 2025-10-29 10:08:02 -0500
nebbiolo2Linux (Ubuntu 24.04.3 LTS) / x86_64  ERROR    ERROR  skipped
taishanLinux (openEuler 24.03 LTS) / aarch64  OK    OK    ERROR  
Package 98/140HostnameOS / ArchINSTALLBUILDCHECKBUILD BIN
ReportingTools 2.50.0  (landing page)
Jason A. Hackney , Gabriel Becker
git_last_commit: 9a53d36
git_last_commit_date: 2025-10-29 10:12:14 -0500
nebbiolo2Linux (Ubuntu 24.04.3 LTS) / x86_64  OK    OK    OK  UNNEEDED, same version is already published
taishanLinux (openEuler 24.03 LTS) / aarch64  OK    OK    OK  
Package 99/140HostnameOS / ArchINSTALLBUILDCHECKBUILD BIN
RFLOMICS 1.2.0  (landing page)
Nadia Bessoltane
git_last_commit: cb2ef8a
git_last_commit_date: 2025-10-29 11:35:35 -0500
nebbiolo2Linux (Ubuntu 24.04.3 LTS) / x86_64  OK    OK    OK  UNNEEDED, same version is already published
taishanLinux (openEuler 24.03 LTS) / aarch64  OK    OK    OK  
Package 100/140HostnameOS / ArchINSTALLBUILDCHECKBUILD BIN
RNAseqCovarImpute 1.8.0  (landing page)
Brennan Baker
git_last_commit: 2d5c9bb
git_last_commit_date: 2025-10-29 11:25:57 -0500
nebbiolo2Linux (Ubuntu 24.04.3 LTS) / x86_64  OK    OK    OK  UNNEEDED, same version is already published
taishanLinux (openEuler 24.03 LTS) / aarch64  OK    OK    TIMEOUT  
Package 101/140HostnameOS / ArchINSTALLBUILDCHECKBUILD BIN
RnaSeqSampleSize 2.20.0  (landing page)
Shilin Zhao Developer
git_last_commit: 6b8556b
git_last_commit_date: 2025-10-29 11:03:19 -0500
nebbiolo2Linux (Ubuntu 24.04.3 LTS) / x86_64  OK    OK    OK  UNNEEDED, same version is already published
taishanLinux (openEuler 24.03 LTS) / aarch64  OK    OK    OK  
Package 102/140HostnameOS / ArchINSTALLBUILDCHECKBUILD BIN
ROSeq 1.22.0  (landing page)
Krishan Gupta
git_last_commit: 41d1eca
git_last_commit_date: 2025-10-29 10:58:57 -0500
nebbiolo2Linux (Ubuntu 24.04.3 LTS) / x86_64  OK    OK    WARNINGS  UNNEEDED, same version is already published
taishanLinux (openEuler 24.03 LTS) / aarch64  OK    OK    WARNINGS  
Package 103/140HostnameOS / ArchINSTALLBUILDCHECKBUILD BIN
RUVSeq 1.44.0  (landing page)
Davide Risso
git_last_commit: a0bba0d
git_last_commit_date: 2025-10-29 10:19:52 -0500
nebbiolo2Linux (Ubuntu 24.04.3 LTS) / x86_64  OK    OK    OK  UNNEEDED, same version is already published
taishanLinux (openEuler 24.03 LTS) / aarch64  OK    OK    OK  
Package 104/140HostnameOS / ArchINSTALLBUILDCHECKBUILD BIN
Rvisdiff 1.8.0  (landing page)
David Barrios
git_last_commit: 3c19cde
git_last_commit_date: 2025-10-29 11:25:13 -0500
nebbiolo2Linux (Ubuntu 24.04.3 LTS) / x86_64  OK    OK    OK  UNNEEDED, same version is already published
taishanLinux (openEuler 24.03 LTS) / aarch64  OK    OK    OK  
Package 105/140HostnameOS / ArchINSTALLBUILDCHECKBUILD BIN
saseR 1.6.0  (landing page)
Alexandre Segers
git_last_commit: 8ee3ecc
git_last_commit_date: 2025-10-29 11:27:12 -0500
nebbiolo2Linux (Ubuntu 24.04.3 LTS) / x86_64  OK    OK    WARNINGS  UNNEEDED, same version is already published
taishanLinux (openEuler 24.03 LTS) / aarch64  OK    OK    WARNINGS  
Package 106/140HostnameOS / ArchINSTALLBUILDCHECKBUILD BIN
scCB2 1.20.0  (landing page)
Zijian Ni
git_last_commit: 16b341e
git_last_commit_date: 2025-10-29 11:00:33 -0500
nebbiolo2Linux (Ubuntu 24.04.3 LTS) / x86_64  OK    OK    OK  UNNEEDED, same version is already published
taishanLinux (openEuler 24.03 LTS) / aarch64  OK    OK    OK  
Package 107/140HostnameOS / ArchINSTALLBUILDCHECKBUILD BIN
scde 2.38.0  (landing page)
Evan Biederstedt
git_last_commit: fc608d5
git_last_commit_date: 2025-10-29 10:28:40 -0500
nebbiolo2Linux (Ubuntu 24.04.3 LTS) / x86_64  OK    OK    WARNINGS  UNNEEDED, same version is already published
taishanLinux (openEuler 24.03 LTS) / aarch64  OK    OK    WARNINGS  
Package 108/140HostnameOS / ArchINSTALLBUILDCHECKBUILD BIN
scone 1.34.0  (landing page)
Davide Risso
git_last_commit: a2184ae
git_last_commit_date: 2025-10-29 10:36:05 -0500
nebbiolo2Linux (Ubuntu 24.04.3 LTS) / x86_64  OK    OK    OK  UNNEEDED, same version is already published
taishanLinux (openEuler 24.03 LTS) / aarch64  OK    OK    OK  
Package 109/140HostnameOS / ArchINSTALLBUILDCHECKBUILD BIN
scran 1.38.0  (landing page)
Aaron Lun
git_last_commit: 50cb1ba
git_last_commit_date: 2025-10-29 10:31:34 -0500
nebbiolo2Linux (Ubuntu 24.04.3 LTS) / x86_64  OK    OK    WARNINGS  UNNEEDED, same version is already published
taishanLinux (openEuler 24.03 LTS) / aarch64  OK    OK    WARNINGS  
Package 110/140HostnameOS / ArchINSTALLBUILDCHECKBUILD BIN
ScreenR 1.12.0  (landing page)
Emanuel Michele Soda
git_last_commit: e9ee46a
git_last_commit_date: 2025-10-29 11:17:18 -0500
nebbiolo2Linux (Ubuntu 24.04.3 LTS) / x86_64  OK    OK    ERROR  
taishanLinux (openEuler 24.03 LTS) / aarch64  OK    OK    ERROR  
Package 111/140HostnameOS / ArchINSTALLBUILDCHECKBUILD BIN
SEtools 1.24.0  (landing page)
Pierre-Luc Germain
git_last_commit: 06b3955
git_last_commit_date: 2025-10-29 10:54:13 -0500
nebbiolo2Linux (Ubuntu 24.04.3 LTS) / x86_64  OK    OK    OK  UNNEEDED, same version is already published
taishanLinux (openEuler 24.03 LTS) / aarch64  OK    OK    OK  
Package 112/140HostnameOS / ArchINSTALLBUILDCHECKBUILD BIN
shinyDSP 1.2.0  (landing page)
Seung J. Kim
git_last_commit: 867bc12
git_last_commit_date: 2025-10-29 11:35:46 -0500
nebbiolo2Linux (Ubuntu 24.04.3 LTS) / x86_64  OK    OK    OK  UNNEEDED, same version is already published
taishanLinux (openEuler 24.03 LTS) / aarch64  OK    OK    OK  
Package 113/140HostnameOS / ArchINSTALLBUILDCHECKBUILD BIN
SIMD 1.28.0  (landing page)
Jiadi Zhu
git_last_commit: 0910665
git_last_commit_date: 2025-10-29 10:47:35 -0500
nebbiolo2Linux (Ubuntu 24.04.3 LTS) / x86_64  OK    OK    OK  UNNEEDED, same version is already published
taishanLinux (openEuler 24.03 LTS) / aarch64  OK    OK    OK  
Package 114/140HostnameOS / ArchINSTALLBUILDCHECKBUILD BIN
simPIC 1.6.0  (landing page)
Sagrika Chugh
git_last_commit: c272c6f
git_last_commit_date: 2025-10-29 11:28:25 -0500
nebbiolo2Linux (Ubuntu 24.04.3 LTS) / x86_64  OK    OK    OK  UNNEEDED, same version is already published
taishanLinux (openEuler 24.03 LTS) / aarch64  OK    OK    OK  
Package 115/140HostnameOS / ArchINSTALLBUILDCHECKBUILD BIN
singscore 1.30.0  (landing page)
Malvika Kharbanda
git_last_commit: 5bc304d
git_last_commit_date: 2025-10-29 10:45:11 -0500
nebbiolo2Linux (Ubuntu 24.04.3 LTS) / x86_64  OK    OK    OK  UNNEEDED, same version is already published
taishanLinux (openEuler 24.03 LTS) / aarch64  OK    OK    OK  
Package 116/140HostnameOS / ArchINSTALLBUILDCHECKBUILD BIN
SpaNorm 1.4.0  (landing page)
Dharmesh D. Bhuva
git_last_commit: 3627d0d
git_last_commit_date: 2025-10-29 11:32:47 -0500
nebbiolo2Linux (Ubuntu 24.04.3 LTS) / x86_64  OK    OK    OK  UNNEEDED, same version is already published
taishanLinux (openEuler 24.03 LTS) / aarch64  OK    OK    OK  
Package 117/140HostnameOS / ArchINSTALLBUILDCHECKBUILD BIN
sparrow 1.16.0  (landing page)
Steve Lianoglou
git_last_commit: fc1b95c
git_last_commit_date: 2025-10-29 11:12:41 -0500
nebbiolo2Linux (Ubuntu 24.04.3 LTS) / x86_64  OK    OK    OK  UNNEEDED, same version is already published
taishanLinux (openEuler 24.03 LTS) / aarch64  OK    OK    OK  
Package 118/140HostnameOS / ArchINSTALLBUILDCHECKBUILD BIN
spatialHeatmap 2.16.0  (landing page)
Jianhai Zhang
git_last_commit: e3ad0e0
git_last_commit_date: 2025-10-29 11:02:59 -0500
nebbiolo2Linux (Ubuntu 24.04.3 LTS) / x86_64  OK    ERROR  skipped
taishanLinux (openEuler 24.03 LTS) / aarch64  OK    ERROR  skipped
Package 119/140HostnameOS / ArchINSTALLBUILDCHECKBUILD BIN
speckle 1.10.0  (landing page)
Belinda Phipson
git_last_commit: 71ee725
git_last_commit_date: 2025-10-29 11:20:18 -0500
nebbiolo2Linux (Ubuntu 24.04.3 LTS) / x86_64  OK    OK    OK  UNNEEDED, same version is already published
taishanLinux (openEuler 24.03 LTS) / aarch64  OK    OK    OK  
Package 120/140HostnameOS / ArchINSTALLBUILDCHECKBUILD BIN
splatter 1.34.0  (landing page)
Luke Zappia
git_last_commit: e9a1ee1
git_last_commit_date: 2025-10-29 10:36:34 -0500
nebbiolo2Linux (Ubuntu 24.04.3 LTS) / x86_64  OK    OK    OK  UNNEEDED, same version is already published
taishanLinux (openEuler 24.03 LTS) / aarch64  OK    OK    OK  
Package 121/140HostnameOS / ArchINSTALLBUILDCHECKBUILD BIN
SPsimSeq 1.20.0  (landing page)
Joris Meys
git_last_commit: bfb4e62
git_last_commit_date: 2025-10-29 11:00:01 -0500
nebbiolo2Linux (Ubuntu 24.04.3 LTS) / x86_64  OK    OK    OK  UNNEEDED, same version is already published
taishanLinux (openEuler 24.03 LTS) / aarch64  OK    OK    OK  
Package 122/140HostnameOS / ArchINSTALLBUILDCHECKBUILD BIN
srnadiff 1.30.0  (landing page)
Zytnicki Matthias
git_last_commit: 809d1c9
git_last_commit_date: 2025-10-29 10:43:01 -0500
nebbiolo2Linux (Ubuntu 24.04.3 LTS) / x86_64  OK    OK    WARNINGS  UNNEEDED, same version is already published
taishanLinux (openEuler 24.03 LTS) / aarch64  OK    OK    WARNINGS  
Package 123/140HostnameOS / ArchINSTALLBUILDCHECKBUILD BIN
sSNAPPY 1.14.0  (landing page)
Wenjun Liu
git_last_commit: 5d40009
git_last_commit_date: 2025-10-29 11:16:30 -0500
nebbiolo2Linux (Ubuntu 24.04.3 LTS) / x86_64  OK    OK    OK  UNNEEDED, same version is already published
taishanLinux (openEuler 24.03 LTS) / aarch64  OK    OK    OK  
Package 124/140HostnameOS / ArchINSTALLBUILDCHECKBUILD BIN
standR 1.14.0  (landing page)
Ning Liu
git_last_commit: 40f29f9
git_last_commit_date: 2025-10-29 11:16:04 -0500
nebbiolo2Linux (Ubuntu 24.04.3 LTS) / x86_64  OK    OK    OK  UNNEEDED, same version is already published
taishanLinux (openEuler 24.03 LTS) / aarch64  OK    OK    OK  
Package 125/140HostnameOS / ArchINSTALLBUILDCHECKBUILD BIN
STATegRa 1.46.0  (landing page)
David Gomez-Cabrero , Núria Planell
git_last_commit: 5d45aa5
git_last_commit_date: 2025-10-29 10:22:24 -0500
nebbiolo2Linux (Ubuntu 24.04.3 LTS) / x86_64  OK    OK    OK  UNNEEDED, same version is already published
taishanLinux (openEuler 24.03 LTS) / aarch64  OK    OK    OK  
Package 126/140HostnameOS / ArchINSTALLBUILDCHECKBUILD BIN
Statial 1.12.0  (landing page)
Farhan Ameen
git_last_commit: 7de3cdd
git_last_commit_date: 2025-10-29 11:19:57 -0500
nebbiolo2Linux (Ubuntu 24.04.3 LTS) / x86_64  OK    OK    OK  UNNEEDED, same version is already published
taishanLinux (openEuler 24.03 LTS) / aarch64  OK    OK    TIMEOUT  
Package 127/140HostnameOS / ArchINSTALLBUILDCHECKBUILD BIN
SurfR 1.6.0  (landing page)
Aurora Maurizio
git_last_commit: 6bb52a0
git_last_commit_date: 2025-10-29 11:27:44 -0500
nebbiolo2Linux (Ubuntu 24.04.3 LTS) / x86_64  OK    OK    OK  UNNEEDED, same version is already published
taishanLinux (openEuler 24.03 LTS) / aarch64  OK    OK    OK  
Package 128/140HostnameOS / ArchINSTALLBUILDCHECKBUILD BIN
sva 3.58.0  (landing page)
Jeffrey T. Leek , John D. Storey
git_last_commit: 32d0f19
git_last_commit_date: 2025-10-29 10:09:21 -0500
nebbiolo2Linux (Ubuntu 24.04.3 LTS) / x86_64  OK    OK    OK  UNNEEDED, same version is already published
taishanLinux (openEuler 24.03 LTS) / aarch64  OK    OK    OK  
Package 129/140HostnameOS / ArchINSTALLBUILDCHECKBUILD BIN
TBSignatureProfiler 1.22.0  (landing page)
Kiloni Quiles
git_last_commit: 376376a
git_last_commit_date: 2025-10-29 10:58:59 -0500
nebbiolo2Linux (Ubuntu 24.04.3 LTS) / x86_64  OK    OK    OK  UNNEEDED, same version is already published
taishanLinux (openEuler 24.03 LTS) / aarch64  OK    OK    OK  
Package 130/140HostnameOS / ArchINSTALLBUILDCHECKBUILD BIN
TCC 1.50.0  (landing page)
Jianqiang Sun
git_last_commit: 0697a1a
git_last_commit_date: 2025-10-29 10:16:10 -0500
nebbiolo2Linux (Ubuntu 24.04.3 LTS) / x86_64  OK    OK    OK  UNNEEDED, same version is already published
taishanLinux (openEuler 24.03 LTS) / aarch64  OK    OK    OK  
Package 131/140HostnameOS / ArchINSTALLBUILDCHECKBUILD BIN
TCseq 1.34.0  (landing page)
Mengjun Wu
git_last_commit: 406875c
git_last_commit_date: 2025-10-29 10:36:13 -0500
nebbiolo2Linux (Ubuntu 24.04.3 LTS) / x86_64  OK    OK    WARNINGS  UNNEEDED, same version is already published
taishanLinux (openEuler 24.03 LTS) / aarch64  OK    OK    WARNINGS  
Package 132/140HostnameOS / ArchINSTALLBUILDCHECKBUILD BIN
tradeSeq 1.24.0  (landing page)
Hector Roux de Bezieux
git_last_commit: 7eea99e
git_last_commit_date: 2025-10-29 10:55:42 -0500
nebbiolo2Linux (Ubuntu 24.04.3 LTS) / x86_64  OK    OK    OK  UNNEEDED, same version is already published
taishanLinux (openEuler 24.03 LTS) / aarch64  OK    OK    OK  
Package 133/140HostnameOS / ArchINSTALLBUILDCHECKBUILD BIN
tRanslatome 1.48.0  (landing page)
Toma Tebaldi , Erik Dassi
git_last_commit: 4f15a1c
git_last_commit_date: 2025-10-29 10:14:58 -0500
nebbiolo2Linux (Ubuntu 24.04.3 LTS) / x86_64  OK    OK    OK  UNNEEDED, same version is already published
taishanLinux (openEuler 24.03 LTS) / aarch64  OK    OK    OK  
Package 134/140HostnameOS / ArchINSTALLBUILDCHECKBUILD BIN
treeclimbR 1.6.0  (landing page)
Charlotte Soneson
git_last_commit: 45ad92c
git_last_commit_date: 2025-10-29 11:28:31 -0500
nebbiolo2Linux (Ubuntu 24.04.3 LTS) / x86_64  OK    OK    OK  UNNEEDED, same version is already published
taishanLinux (openEuler 24.03 LTS) / aarch64  OK    OK    OK  
Package 135/140HostnameOS / ArchINSTALLBUILDCHECKBUILD BIN
treekoR 1.18.0  (landing page)
Adam Chan
git_last_commit: 83e186e
git_last_commit_date: 2025-10-29 11:08:22 -0500
nebbiolo2Linux (Ubuntu 24.04.3 LTS) / x86_64  OK    OK    OK  UNNEEDED, same version is already published
taishanLinux (openEuler 24.03 LTS) / aarch64  OK    OK    OK  
Package 136/140HostnameOS / ArchINSTALLBUILDCHECKBUILD BIN
tweeDEseq 1.56.0  (landing page)
Dolors Pelegri-Siso
git_last_commit: 07f346b
git_last_commit_date: 2025-10-29 10:09:35 -0500
nebbiolo2Linux (Ubuntu 24.04.3 LTS) / x86_64  OK    OK    WARNINGS  UNNEEDED, same version is already published
taishanLinux (openEuler 24.03 LTS) / aarch64  OK    OK    WARNINGS  
Package 137/140HostnameOS / ArchINSTALLBUILDCHECKBUILD BIN
vidger 1.30.0  (landing page)
Brandon Monier
git_last_commit: 2dc9656
git_last_commit_date: 2025-10-29 10:43:35 -0500
nebbiolo2Linux (Ubuntu 24.04.3 LTS) / x86_64  OK    OK    OK  UNNEEDED, same version is already published
taishanLinux (openEuler 24.03 LTS) / aarch64  OK    OK    OK  
Package 138/140HostnameOS / ArchINSTALLBUILDCHECKBUILD BIN
xcore 1.14.0  (landing page)
Maciej Migdał
git_last_commit: b03d46b
git_last_commit_date: 2025-10-29 11:15:21 -0500
nebbiolo2Linux (Ubuntu 24.04.3 LTS) / x86_64  OK    OK    OK  UNNEEDED, same version is already published
taishanLinux (openEuler 24.03 LTS) / aarch64  OK    OK    OK  
Package 139/140HostnameOS / ArchINSTALLBUILDCHECKBUILD BIN
yarn 1.36.0  (landing page)
Joseph N Paulson
git_last_commit: ade31dd
git_last_commit_date: 2025-10-29 10:35:35 -0500
nebbiolo2Linux (Ubuntu 24.04.3 LTS) / x86_64  OK    OK    OK  UNNEEDED, same version is already published
taishanLinux (openEuler 24.03 LTS) / aarch64  OK    OK    OK  
Package 140/140HostnameOS / ArchINSTALLBUILDCHECKBUILD BIN
zinbwave 1.32.0  (landing page)
Davide Risso
git_last_commit: cfc6ec2
git_last_commit_date: 2025-10-29 10:39:04 -0500
nebbiolo2Linux (Ubuntu 24.04.3 LTS) / x86_64  OK    OK    OK  UNNEEDED, same version is already published
taishanLinux (openEuler 24.03 LTS) / aarch64  OK    OK    OK