| Back to Mac ARM64 build report for BioC 3.16 |
|
This page was generated on 2023-04-19 11:01:47 -0400 (Wed, 19 Apr 2023).
| Hostname | OS | Arch (*) | R version | Installed pkgs |
|---|---|---|---|---|
| kjohnson | macOS 13.0 Ventura | arm64 | 4.2.2 (2022-10-31) -- "Innocent and Trusting" | 4256 |
| Click on any hostname to see more info about the system (e.g. compilers) (*) as reported by 'uname -p', except on Windows and Mac OS X | ||||
|
To the developers/maintainers of the Biobase package: Make sure to use the following settings in order to reproduce any error or warning you see on this page. |
| Package 154/2183 | Hostname | OS / Arch | INSTALL | BUILD | BUILD BIN | ||||||||
| Biobase 2.58.0 (landing page) Bioconductor Package Maintainer
| kjohnson | macOS 13.0 Ventura / arm64 | OK | OK | OK | ||||||||
| QUICK STATS | OS / Arch | INSTALL | BUILD | BUILD BIN | |||||||||||||
| kjohnson | macOS 13.0 Ventura / arm64 |
|
|
| |||||||||||||
| Package 1/461 | Hostname | OS / Arch | INSTALL | BUILD | BUILD BIN | ||||||||||||
| a4Base 1.46.0 (landing page) Laure Cougnaud
| kjohnson | macOS 13.0 Ventura / arm64 | OK | OK | OK | ||||||||||||
| Package 2/461 | Hostname | OS / Arch | INSTALL | BUILD | BUILD BIN | ||||||||||||
| a4Classif 1.46.0 (landing page) Laure Cougnaud
| kjohnson | macOS 13.0 Ventura / arm64 | OK | OK | OK | ||||||||||||
| Package 3/461 | Hostname | OS / Arch | INSTALL | BUILD | BUILD BIN | ||||||||||||
| a4Core 1.46.0 (landing page) Laure Cougnaud
| kjohnson | macOS 13.0 Ventura / arm64 | OK | OK | OK | ||||||||||||
| Package 4/461 | Hostname | OS / Arch | INSTALL | BUILD | BUILD BIN | ||||||||||||
| a4Preproc 1.46.0 (landing page) Laure Cougnaud
| kjohnson | macOS 13.0 Ventura / arm64 | OK | OK | OK | ||||||||||||
| Package 5/461 | Hostname | OS / Arch | INSTALL | BUILD | BUILD BIN | ||||||||||||
| ABarray 1.66.0 (landing page) Yongming Andrew Sun
| kjohnson | macOS 13.0 Ventura / arm64 | OK | OK | OK | ||||||||||||
| Package 6/461 | Hostname | OS / Arch | INSTALL | BUILD | BUILD BIN | ||||||||||||
| ACE 1.16.0 (landing page) Jos B Poell
| kjohnson | macOS 13.0 Ventura / arm64 | OK | OK | OK | ||||||||||||
| Package 7/461 | Hostname | OS / Arch | INSTALL | BUILD | BUILD BIN | ||||||||||||
| aCGH 1.76.0 (landing page) Peter Dimitrov
| kjohnson | macOS 13.0 Ventura / arm64 | OK | OK | OK | ||||||||||||
| Package 8/461 | Hostname | OS / Arch | INSTALL | BUILD | BUILD BIN | ||||||||||||
| ACME 2.54.0 (landing page) Sean Davis
| kjohnson | macOS 13.0 Ventura / arm64 | OK | OK | OK | ||||||||||||
| Package 9/461 | Hostname | OS / Arch | INSTALL | BUILD | BUILD BIN | ||||||||||||
| adSplit 1.68.0 (landing page) Claudio Lottaz
| kjohnson | macOS 13.0 Ventura / arm64 | OK | OK | OK | ||||||||||||
| Package 10/461 | Hostname | OS / Arch | INSTALL | BUILD | BUILD BIN | ||||||||||||
| affy 1.76.0 (landing page) Rafael A. Irizarry
| kjohnson | macOS 13.0 Ventura / arm64 | OK | OK | OK | ||||||||||||
| Package 11/461 | Hostname | OS / Arch | INSTALL | BUILD | BUILD BIN | ||||||||||||
| affycomp 1.74.0 (landing page) Rafael A. Irizarry
| kjohnson | macOS 13.0 Ventura / arm64 | OK | OK | OK | ||||||||||||
| Package 12/461 | Hostname | OS / Arch | INSTALL | BUILD | BUILD BIN | ||||||||||||
| affyContam 1.56.0 (landing page) V. Carey
| kjohnson | macOS 13.0 Ventura / arm64 | OK | OK | OK | ||||||||||||
| Package 13/461 | Hostname | OS / Arch | INSTALL | BUILD | BUILD BIN | ||||||||||||
| affycoretools 1.70.0 (landing page) James W. MacDonald
| kjohnson | macOS 13.0 Ventura / arm64 | OK | OK | OK | ||||||||||||
| Package 14/461 | Hostname | OS / Arch | INSTALL | BUILD | BUILD BIN | ||||||||||||
| affyILM 1.50.0 (landing page) Myriam Kroll and Fabrice Berger
| kjohnson | macOS 13.0 Ventura / arm64 | OK | OK | OK | ||||||||||||
| Package 15/461 | Hostname | OS / Arch | INSTALL | BUILD | BUILD BIN | ||||||||||||
| affyPLM 1.74.2 (landing page) Ben Bolstad
| kjohnson | macOS 13.0 Ventura / arm64 | OK | OK | OK | ||||||||||||
| Package 16/461 | Hostname | OS / Arch | INSTALL | BUILD | BUILD BIN | ||||||||||||
| AGDEX 1.46.0 (landing page) Cuilan lani Gao
| kjohnson | macOS 13.0 Ventura / arm64 | OK | OK | OK | ||||||||||||
| Package 17/461 | Hostname | OS / Arch | INSTALL | BUILD | BUILD BIN | ||||||||||||
| AgiMicroRna 2.48.0 (landing page) Pedro Lopez-Romero
| kjohnson | macOS 13.0 Ventura / arm64 | OK | OK | OK | ||||||||||||
| Package 18/461 | Hostname | OS / Arch | INSTALL | BUILD | BUILD BIN | ||||||||||||
| AIMS 1.30.0 (landing page) Eric R Paquet
| kjohnson | macOS 13.0 Ventura / arm64 | OK | OK | OK | ||||||||||||
| Package 19/461 | Hostname | OS / Arch | INSTALL | BUILD | BUILD BIN | ||||||||||||
| altcdfenvs 2.60.0 (landing page) Laurent Gautier
| kjohnson | macOS 13.0 Ventura / arm64 | OK | OK | OK | ||||||||||||
| Package 20/461 | Hostname | OS / Arch | INSTALL | BUILD | BUILD BIN | ||||||||||||
| ANF 1.20.0 (landing page) Tianle Ma
| kjohnson | macOS 13.0 Ventura / arm64 | OK | OK | OK | ||||||||||||
| Package 21/461 | Hostname | OS / Arch | INSTALL | BUILD | BUILD BIN | ||||||||||||
| annaffy 1.70.0 (landing page) Colin A. Smith
| kjohnson | macOS 13.0 Ventura / arm64 | OK | OK | OK | ||||||||||||
| Package 22/461 | Hostname | OS / Arch | INSTALL | BUILD | BUILD BIN | ||||||||||||
| annmap 1.40.0 (landing page) Chris Wirth
| kjohnson | macOS 13.0 Ventura / arm64 | OK | ERROR | skipped | ||||||||||||
| Package 23/461 | Hostname | OS / Arch | INSTALL | BUILD | BUILD BIN | ||||||||||||
| annotate 1.76.0 (landing page) Bioconductor Package Maintainer
| kjohnson | macOS 13.0 Ventura / arm64 | OK | OK | OK | ||||||||||||
| Package 24/461 | Hostname | OS / Arch | INSTALL | BUILD | BUILD BIN | ||||||||||||
| AnnotationDbi 1.60.2 (landing page) Bioconductor Package Maintainer
| kjohnson | macOS 13.0 Ventura / arm64 | OK | OK | OK | ||||||||||||
| Package 25/461 | Hostname | OS / Arch | INSTALL | BUILD | BUILD BIN | ||||||||||||
| AnnotationForge 1.40.2 (landing page) Bioconductor Package Maintainer
| kjohnson | macOS 13.0 Ventura / arm64 | OK | OK | OK | ||||||||||||
| Package 26/461 | Hostname | OS / Arch | INSTALL | BUILD | BUILD BIN | ||||||||||||
| AnnotationHubData 1.28.0 (landing page) Bioconductor Package Maintainer
| kjohnson | macOS 13.0 Ventura / arm64 | OK | OK | OK | ||||||||||||
| Package 27/461 | Hostname | OS / Arch | INSTALL | BUILD | BUILD BIN | ||||||||||||
| annotationTools 1.72.0 (landing page) Alexandre Kuhn
| kjohnson | macOS 13.0 Ventura / arm64 | OK | OK | OK | ||||||||||||
| Package 28/461 | Hostname | OS / Arch | INSTALL | BUILD | BUILD BIN | ||||||||||||
| ArrayExpress 1.58.0 (landing page) Suhaib Mohammed
| kjohnson | macOS 13.0 Ventura / arm64 | OK | ERROR | skipped | ||||||||||||
| Package 29/461 | Hostname | OS / Arch | INSTALL | BUILD | BUILD BIN | ||||||||||||
| ArrayExpressHTS 1.48.0 (landing page) Angela Goncalves
| kjohnson | macOS 13.0 Ventura / arm64 | ERROR | ERROR | skipped | ||||||||||||
| Package 30/461 | Hostname | OS / Arch | INSTALL | BUILD | BUILD BIN | ||||||||||||
| arrayMvout 1.56.0 (landing page) V. Carey
| kjohnson | macOS 13.0 Ventura / arm64 | OK | OK | OK | ||||||||||||
| Package 31/461 | Hostname | OS / Arch | INSTALL | BUILD | BUILD BIN | ||||||||||||
| arrayQualityMetrics 3.54.0 (landing page) Mike Smith
| kjohnson | macOS 13.0 Ventura / arm64 | OK | OK | OK | ||||||||||||
| Package 32/461 | Hostname | OS / Arch | INSTALL | BUILD | BUILD BIN | ||||||||||||
| attract 1.50.0 (landing page) Samuel Zimmerman
| kjohnson | macOS 13.0 Ventura / arm64 | OK | OK | OK | ||||||||||||
| Package 33/461 | Hostname | OS / Arch | INSTALL | BUILD | BUILD BIN | ||||||||||||
| BAGS 2.38.0 (landing page) Alejandro Quiroz-Zarate
| kjohnson | macOS 13.0 Ventura / arm64 | OK | OK | OK | ||||||||||||
| Package 34/461 | Hostname | OS / Arch | INSTALL | BUILD | BUILD BIN | ||||||||||||
| ballgown 2.30.0 (landing page) Jack Fu
| kjohnson | macOS 13.0 Ventura / arm64 | OK | OK | OK | ||||||||||||
| Package 35/461 | Hostname | OS / Arch | INSTALL | BUILD | BUILD BIN | ||||||||||||
| bandle 1.2.2 (landing page) Oliver M. Crook
| kjohnson | macOS 13.0 Ventura / arm64 | OK | OK | OK | ||||||||||||
| Package 36/461 | Hostname | OS / Arch | INSTALL | BUILD | BUILD BIN | ||||||||||||
| BASiCS 2.10.5 (landing page) Catalina Vallejos
| kjohnson | macOS 13.0 Ventura / arm64 | OK | OK | OK | ||||||||||||
| Package 37/461 | Hostname | OS / Arch | INSTALL | BUILD | BUILD BIN | ||||||||||||
| BayesKnockdown 1.24.0 (landing page) William Chad Young
| kjohnson | macOS 13.0 Ventura / arm64 | OK | OK | OK | ||||||||||||
| Package 38/461 | Hostname | OS / Arch | INSTALL | BUILD | BUILD BIN | ||||||||||||
| beadarray 2.48.0 (landing page) Mark Dunning
| kjohnson | macOS 13.0 Ventura / arm64 | OK | OK | OK | ||||||||||||
| Package 39/461 | Hostname | OS / Arch | INSTALL | BUILD | BUILD BIN | ||||||||||||
| beadarraySNP 1.64.0 (landing page) Jan Oosting
| kjohnson | macOS 13.0 Ventura / arm64 | OK | OK | OK | ||||||||||||
| Package 40/461 | Hostname | OS / Arch | INSTALL | BUILD | BUILD BIN | ||||||||||||
| BgeeDB 2.24.0 (landing page) Julien Wollbrett
| kjohnson | macOS 13.0 Ventura / arm64 | OK | OK | OK | ||||||||||||
| Package 41/461 | Hostname | OS / Arch | INSTALL | BUILD | BUILD BIN | ||||||||||||
| bgx 1.64.0 (landing page) Ernest Turro
| kjohnson | macOS 13.0 Ventura / arm64 | OK | OK | OK | ||||||||||||
| Package 42/461 | Hostname | OS / Arch | INSTALL | BUILD | BUILD BIN | ||||||||||||
| BicARE 1.56.0 (landing page) Pierre Gestraud
| kjohnson | macOS 13.0 Ventura / arm64 | OK | OK | OK | ||||||||||||
| Package 43/461 | Hostname | OS / Arch | INSTALL | BUILD | BUILD BIN | ||||||||||||
| bigmelon 1.24.0 (landing page) Tyler J. Gorrie-Stone
| kjohnson | macOS 13.0 Ventura / arm64 | OK | OK | OK | ||||||||||||
| Package 44/461 | Hostname | OS / Arch | INSTALL | BUILD | BUILD BIN | ||||||||||||
| biobroom 1.30.0 (landing page) John D. Storey
| kjohnson | macOS 13.0 Ventura / arm64 | OK | OK | OK | ||||||||||||
| Package 45/461 | Hostname | OS / Arch | INSTALL | BUILD | BUILD BIN | ||||||||||||
| bioCancer 1.26.04 (landing page) Karim Mezhoud
| kjohnson | macOS 13.0 Ventura / arm64 | OK | OK | OK | ||||||||||||
| Package 46/461 | Hostname | OS / Arch | INSTALL | BUILD | BUILD BIN | ||||||||||||
| biocViews 1.66.3 (landing page) Bioconductor Package Maintainer
| kjohnson | macOS 13.0 Ventura / arm64 | OK | OK | OK | ||||||||||||
| Package 47/461 | Hostname | OS / Arch | INSTALL | BUILD | BUILD BIN | ||||||||||||
| bioDist 1.70.0 (landing page) Bioconductor Package Maintainer
| kjohnson | macOS 13.0 Ventura / arm64 | OK | OK | OK | ||||||||||||
| Package 48/461 | Hostname | OS / Arch | INSTALL | BUILD | BUILD BIN | ||||||||||||
| BioMVCClass 1.66.0 (landing page) Elizabeth Whalen
| kjohnson | macOS 13.0 Ventura / arm64 | OK | OK | OK | ||||||||||||
| Package 49/461 | Hostname | OS / Arch | INSTALL | BUILD | BUILD BIN | ||||||||||||
| BioNet 1.58.0 (landing page) Marcus Dittrich
| kjohnson | macOS 13.0 Ventura / arm64 | OK | OK | OK | ||||||||||||
| Package 50/461 | Hostname | OS / Arch | INSTALL | BUILD | BUILD BIN | ||||||||||||
| BioQC 1.26.0 (landing page) Jitao David Zhang
| kjohnson | macOS 13.0 Ventura / arm64 | OK | OK | OK | ||||||||||||
| Package 51/461 | Hostname | OS / Arch | INSTALL | BUILD | BUILD BIN | ||||||||||||
| biosigner 1.26.0 (landing page) Etienne A. Thevenot
| kjohnson | macOS 13.0 Ventura / arm64 | OK | OK | OK | ||||||||||||
| Package 52/461 | Hostname | OS / Arch | INSTALL | BUILD | BUILD BIN | ||||||||||||
| biscuiteer 1.12.0 (landing page) Jacob Morrison
| kjohnson | macOS 13.0 Ventura / arm64 | OK | OK | OK | ||||||||||||
| Package 53/461 | Hostname | OS / Arch | INSTALL | BUILD | BUILD BIN | ||||||||||||
| BiSeq 1.38.0 (landing page) Katja Hebestreit
| kjohnson | macOS 13.0 Ventura / arm64 | OK | OK | OK | ||||||||||||
| Package 54/461 | Hostname | OS / Arch | INSTALL | BUILD | BUILD BIN | ||||||||||||
| blima 1.32.0 (landing page) Vojtěch Kulvait
| kjohnson | macOS 13.0 Ventura / arm64 | OK | OK | OK | ||||||||||||
| Package 55/461 | Hostname | OS / Arch | INSTALL | BUILD | BUILD BIN | ||||||||||||
| BLMA 1.22.0 (landing page) Hung Nguyen
| kjohnson | macOS 13.0 Ventura / arm64 | OK | OK | OK | ||||||||||||
| Package 56/461 | Hostname | OS / Arch | INSTALL | BUILD | BUILD BIN | ||||||||||||
| bnem 1.6.0 (landing page) Martin Pirkl
| kjohnson | macOS 13.0 Ventura / arm64 | OK | OK | OK | ||||||||||||
| Package 57/461 | Hostname | OS / Arch | INSTALL | BUILD | BUILD BIN | ||||||||||||
| borealis 1.2.2 (landing page) Garrett Jenkinson
| kjohnson | macOS 13.0 Ventura / arm64 | OK | OK | OK | ||||||||||||
| Package 58/461 | Hostname | OS / Arch | INSTALL | BUILD | BUILD BIN | ||||||||||||
| bsseq 1.34.0 (landing page) Kasper Daniel Hansen
| kjohnson | macOS 13.0 Ventura / arm64 | OK | OK | OK | ||||||||||||
| Package 59/461 | Hostname | OS / Arch | INSTALL | BUILD | BUILD BIN | ||||||||||||
| BubbleTree 2.28.0 (landing page) Todd Creasy
| kjohnson | macOS 13.0 Ventura / arm64 | OK | OK | OK | ||||||||||||
| Package 60/461 | Hostname | OS / Arch | INSTALL | BUILD | BUILD BIN | ||||||||||||
| CAFE 1.34.0 (landing page) Sander Bollen
| kjohnson | macOS 13.0 Ventura / arm64 | OK | OK | OK | ||||||||||||
| Package 61/461 | Hostname | OS / Arch | INSTALL | BUILD | BUILD BIN | ||||||||||||
| CAMERA 1.54.0 (landing page) Steffen Neumann
| kjohnson | macOS 13.0 Ventura / arm64 | OK | OK | OK | ||||||||||||
| Package 62/461 | Hostname | OS / Arch | INSTALL | BUILD | BUILD BIN | ||||||||||||
| canceR 1.32.0 (landing page) Karim Mezhoud
| kjohnson | macOS 13.0 Ventura / arm64 | OK | OK | OK | ||||||||||||
| Package 63/461 | Hostname | OS / Arch | INSTALL | BUILD | BUILD BIN | ||||||||||||
| cancerclass 1.42.0 (landing page) Daniel Kosztyla
| kjohnson | macOS 13.0 Ventura / arm64 | OK | OK | OK | ||||||||||||
| Package 64/461 | Hostname | OS / Arch | INSTALL | BUILD | BUILD BIN | ||||||||||||
| Cardinal 3.0.1 (landing page) Kylie A. Bemis
| kjohnson | macOS 13.0 Ventura / arm64 | OK | OK | OK | ||||||||||||
| Package 65/461 | Hostname | OS / Arch | INSTALL | BUILD | BUILD BIN | ||||||||||||
| casper 2.32.0 (landing page) David Rossell
| kjohnson | macOS 13.0 Ventura / arm64 | OK | ERROR | skipped | ||||||||||||
| Package 66/461 | Hostname | OS / Arch | INSTALL | BUILD | BUILD BIN | ||||||||||||
| Category 2.64.0 (landing page) Bioconductor Package Maintainer
| kjohnson | macOS 13.0 Ventura / arm64 | OK | OK | OK | ||||||||||||
| Package 67/461 | Hostname | OS / Arch | INSTALL | BUILD | BUILD BIN | ||||||||||||
| categoryCompare 1.42.0 (landing page) Robert M. Flight
| kjohnson | macOS 13.0 Ventura / arm64 | OK | OK | OK | ||||||||||||
| Package 68/461 | Hostname | OS / Arch | INSTALL | BUILD | BUILD BIN | ||||||||||||
| CCPROMISE 1.24.0 (landing page) Xueyuan Cao
| kjohnson | macOS 13.0 Ventura / arm64 | OK | OK | OK | ||||||||||||
| Package 69/461 | Hostname | OS / Arch | INSTALL | BUILD | BUILD BIN | ||||||||||||
| cellHTS2 2.62.0 (landing page) Joseph Barry
| kjohnson | macOS 13.0 Ventura / arm64 | OK | OK | OK | ||||||||||||
| Package 70/461 | Hostname | OS / Arch | INSTALL | BUILD | BUILD BIN | ||||||||||||
| CellScore 1.18.0 (landing page) Nancy Mah
| kjohnson | macOS 13.0 Ventura / arm64 | OK | OK | OK | ||||||||||||
| Package 71/461 | Hostname | OS / Arch | INSTALL | BUILD | BUILD BIN | ||||||||||||
| CellTrails 1.16.0 (landing page) Daniel Ellwanger
| kjohnson | macOS 13.0 Ventura / arm64 | OK | OK | OK | ||||||||||||
| Package 72/461 | Hostname | OS / Arch | INSTALL | BUILD | BUILD BIN | ||||||||||||
| CGHbase 1.58.0 (landing page) Mark van de Wiel
| kjohnson | macOS 13.0 Ventura / arm64 | OK | OK | OK | ||||||||||||
| Package 73/461 | Hostname | OS / Arch | INSTALL | BUILD | BUILD BIN | ||||||||||||
| CGHcall 2.60.0 (landing page) Mark van de Wiel
| kjohnson | macOS 13.0 Ventura / arm64 | OK | OK | OK | ||||||||||||
| Package 74/461 | Hostname | OS / Arch | INSTALL | BUILD | BUILD BIN | ||||||||||||
| CGHnormaliter 1.52.0 (landing page) Bart P.P. van Houte
| kjohnson | macOS 13.0 Ventura / arm64 | OK | OK | OK | ||||||||||||
| Package 75/461 | Hostname | OS / Arch | INSTALL | BUILD | BUILD BIN | ||||||||||||
| CGHregions 1.56.0 (landing page) Sjoerd Vosse
| kjohnson | macOS 13.0 Ventura / arm64 | OK | OK | OK | ||||||||||||
| Package 76/461 | Hostname | OS / Arch | INSTALL | BUILD | BUILD BIN | ||||||||||||
| ChIPQC 1.34.1 (landing page) Tom Carroll
| kjohnson | macOS 13.0 Ventura / arm64 | OK | OK | OK | ||||||||||||
| Package 77/461 | Hostname | OS / Arch | INSTALL | BUILD | BUILD BIN | ||||||||||||
| ChIPXpress 1.42.0 (landing page) George Wu
| kjohnson | macOS 13.0 Ventura / arm64 | OK | OK | OK | ||||||||||||
| Package 78/461 | Hostname | OS / Arch | INSTALL | BUILD | BUILD BIN | ||||||||||||
| ChromHeatMap 1.52.0 (landing page) Tim F. Rayner
| kjohnson | macOS 13.0 Ventura / arm64 | OK | OK | OK | ||||||||||||
| Package 79/461 | Hostname | OS / Arch | INSTALL | BUILD | BUILD BIN | ||||||||||||
| chromswitch 1.20.0 (landing page) Selin Jessa
| kjohnson | macOS 13.0 Ventura / arm64 | OK | OK | OK | ||||||||||||
| Package 80/461 | Hostname | OS / Arch | INSTALL | BUILD | BUILD BIN | ||||||||||||
| cicero 1.16.2 (landing page) Hannah Pliner
| kjohnson | macOS 13.0 Ventura / arm64 | OK | OK | OK | ||||||||||||
| Package 81/461 | Hostname | OS / Arch | INSTALL | BUILD | BUILD BIN | ||||||||||||
| clippda 1.48.0 (landing page) Stephen Nyangoma
| kjohnson | macOS 13.0 Ventura / arm64 | OK | OK | OK | ||||||||||||
| Package 82/461 | Hostname | OS / Arch | INSTALL | BUILD | BUILD BIN | ||||||||||||
| clipper 1.38.0 (landing page) Paolo Martini
| kjohnson | macOS 13.0 Ventura / arm64 | OK | OK | OK | ||||||||||||
| Package 83/461 | Hostname | OS / Arch | INSTALL | BUILD | BUILD BIN | ||||||||||||
| CluMSID 1.14.0 (landing page) Tobias Depke
| kjohnson | macOS 13.0 Ventura / arm64 | OK | OK | OK | ||||||||||||
| Package 84/461 | Hostname | OS / Arch | INSTALL | BUILD | BUILD BIN | ||||||||||||
| clusterStab 1.70.0 (landing page) James W. MacDonald
| kjohnson | macOS 13.0 Ventura / arm64 | OK | OK | OK | ||||||||||||
| Package 85/461 | Hostname | OS / Arch | INSTALL | BUILD | BUILD BIN | ||||||||||||
| CMA 1.56.0 (landing page) Roman Hornung
| kjohnson | macOS 13.0 Ventura / arm64 | OK | OK | OK | ||||||||||||
| Package 86/461 | Hostname | OS / Arch | INSTALL | BUILD | BUILD BIN | ||||||||||||
| cn.farms 1.46.0 (landing page) Andreas Mitterecker
| kjohnson | macOS 13.0 Ventura / arm64 | OK | OK | OK | ||||||||||||
| Package 87/461 | Hostname | OS / Arch | INSTALL | BUILD | BUILD BIN | ||||||||||||
| cn.mops 1.44.0 (landing page) Gundula Povysil
| kjohnson | macOS 13.0 Ventura / arm64 | OK | OK | OK | ||||||||||||
| Package 88/461 | Hostname | OS / Arch | INSTALL | BUILD | BUILD BIN | ||||||||||||
| COCOA 2.12.0 (landing page) John Lawson
| kjohnson | macOS 13.0 Ventura / arm64 | OK | OK | OK | ||||||||||||
| Package 89/461 | Hostname | OS / Arch | INSTALL | BUILD | BUILD BIN | ||||||||||||
| codelink 1.66.0 (landing page) Diego Diez
| kjohnson | macOS 13.0 Ventura / arm64 | OK | OK | OK | ||||||||||||
| Package 90/461 | Hostname | OS / Arch | INSTALL | BUILD | BUILD BIN | ||||||||||||
Juan David Henao
| kjohnson | macOS 13.0 Ventura / arm64 | OK | OK | OK | ||||||||||||
| Package 91/461 | Hostname | OS / Arch | INSTALL | BUILD | BUILD BIN | ||||||||||||
| cogena 1.32.0 (landing page) Zhilong Jia
| kjohnson | macOS 13.0 Ventura / arm64 | OK | OK | OK | ||||||||||||
| Package 92/461 | Hostname | OS / Arch | INSTALL | BUILD | BUILD BIN | ||||||||||||
| combi 1.10.0 (landing page) Stijn Hawinkel
| kjohnson | macOS 13.0 Ventura / arm64 | OK | OK | OK | ||||||||||||
| Package 93/461 | Hostname | OS / Arch | INSTALL | BUILD | BUILD BIN | ||||||||||||
| CompoundDb 1.2.1 (landing page) Johannes Rainer
| kjohnson | macOS 13.0 Ventura / arm64 | OK | OK | OK | ||||||||||||
| Package 94/461 | Hostname | OS / Arch | INSTALL | BUILD | BUILD BIN | ||||||||||||
Ilyess Rachedi
| kjohnson | macOS 13.0 Ventura / arm64 | OK | ERROR | skipped | ||||||||||||
| Package 95/461 | Hostname | OS / Arch | INSTALL | BUILD | BUILD BIN | ||||||||||||
| ConsensusClusterPlus 1.62.0 (landing page) Matt Wilkerson
| kjohnson | macOS 13.0 Ventura / arm64 | OK | OK | OK | ||||||||||||
| Package 96/461 | Hostname | OS / Arch | INSTALL | BUILD | BUILD BIN | ||||||||||||
| consensusDE 1.16.0 (landing page) Ashley J. Waardenberg
| kjohnson | macOS 13.0 Ventura / arm64 | OK | OK | OK | ||||||||||||
| Package 97/461 | Hostname | OS / Arch | INSTALL | BUILD | BUILD BIN | ||||||||||||
| consensusOV 1.20.0 (landing page) Benjamin Haibe-Kains
| kjohnson | macOS 13.0 Ventura / arm64 | OK | OK | OK | ||||||||||||
| Package 98/461 | Hostname | OS / Arch | INSTALL | BUILD | BUILD BIN | ||||||||||||
| convert 1.74.0 (landing page) Yee Hwa (Jean) Yang
| kjohnson | macOS 13.0 Ventura / arm64 | OK | OK | OK | ||||||||||||
| Package 99/461 | Hostname | OS / Arch | INSTALL | BUILD | BUILD BIN | ||||||||||||
| copa 1.66.0 (landing page) James W. MacDonald
| kjohnson | macOS 13.0 Ventura / arm64 | OK | OK | OK | ||||||||||||
| Package 100/461 | Hostname | OS / Arch | INSTALL | BUILD | BUILD BIN | ||||||||||||
| coRdon 1.16.0 (landing page) Anamaria Elek
| kjohnson | macOS 13.0 Ventura / arm64 | OK | OK | OK | ||||||||||||
| Package 101/461 | Hostname | OS / Arch | INSTALL | BUILD | BUILD BIN | ||||||||||||
| CoreGx 2.2.0 (landing page) Benjamin Haibe-Kains
| kjohnson | macOS 13.0 Ventura / arm64 | OK | OK | OK | ||||||||||||
| Package 102/461 | Hostname | OS / Arch | INSTALL | BUILD | BUILD BIN | ||||||||||||
| covEB 1.24.0 (landing page) C. Pacini
| kjohnson | macOS 13.0 Ventura / arm64 | OK | OK | OK | ||||||||||||
| Package 103/461 | Hostname | OS / Arch | INSTALL | BUILD | BUILD BIN | ||||||||||||
| covRNA 1.24.0 (landing page) Lara Urban
| kjohnson | macOS 13.0 Ventura / arm64 | OK | OK | OK | ||||||||||||
| Package 104/461 | Hostname | OS / Arch | INSTALL | BUILD | BUILD BIN | ||||||||||||
| crlmm 1.56.0 (landing page) Benilton S Carvalho
| kjohnson | macOS 13.0 Ventura / arm64 | OK | OK | OK | ||||||||||||
| Package 105/461 | Hostname | OS / Arch | INSTALL | BUILD | BUILD BIN | ||||||||||||
| crossmeta 1.24.0 (landing page) Alex Pickering
| kjohnson | macOS 13.0 Ventura / arm64 | OK | OK | OK | ||||||||||||
| Package 106/461 | Hostname | OS / Arch | INSTALL | BUILD | BUILD BIN | ||||||||||||
USD Biomedical Engineering
| kjohnson | macOS 13.0 Ventura / arm64 | ERROR | ERROR | skipped | ||||||||||||
| Package 107/461 | Hostname | OS / Arch | INSTALL | BUILD | BUILD BIN | ||||||||||||
| cummeRbund 2.40.0 (landing page) Loyal A. Goff
| kjohnson | macOS 13.0 Ventura / arm64 | OK | OK | OK | ||||||||||||
| Package 108/461 | Hostname | OS / Arch | INSTALL | BUILD | BUILD BIN | ||||||||||||
| cyanoFilter 1.6.0 (landing page) Oluwafemi Olusoji
| kjohnson | macOS 13.0 Ventura / arm64 | OK | OK | OK | ||||||||||||
| Package 109/461 | Hostname | OS / Arch | INSTALL | BUILD | BUILD BIN | ||||||||||||
| cycle 1.52.0 (landing page) Matthias Futschik
| kjohnson | macOS 13.0 Ventura / arm64 | OK | OK | OK | ||||||||||||
| Package 110/461 | Hostname | OS / Arch | INSTALL | BUILD | BUILD BIN | ||||||||||||
| cydar 1.22.0 (landing page) Aaron Lun
| kjohnson | macOS 13.0 Ventura / arm64 | OK | OK | OK | ||||||||||||
| Package 111/461 | Hostname | OS / Arch | INSTALL | BUILD | BUILD BIN | ||||||||||||
| CytoML 2.10.0 (landing page) Mike Jiang
| kjohnson | macOS 13.0 Ventura / arm64 | OK | OK | OK | ||||||||||||
| Package 112/461 | Hostname | OS / Arch | INSTALL | BUILD | BUILD BIN | ||||||||||||
Yuting Dai
| kjohnson | macOS 13.0 Ventura / arm64 | OK | OK | OK | ||||||||||||
| Package 113/461 | Hostname | OS / Arch | INSTALL | BUILD | BUILD BIN | ||||||||||||
| DAPAR 1.30.6 (landing page) Samuel Wieczorek
| kjohnson | macOS 13.0 Ventura / arm64 | OK | OK | OK | ||||||||||||
| Package 114/461 | Hostname | OS / Arch | INSTALL | BUILD | BUILD BIN | ||||||||||||
| ddCt 1.54.0 (landing page) Jitao David Zhang
| kjohnson | macOS 13.0 Ventura / arm64 | OK | OK | OK | ||||||||||||
| Package 115/461 | Hostname | OS / Arch | INSTALL | BUILD | BUILD BIN | ||||||||||||
| debCAM 1.16.0 (landing page) Lulu Chen
| kjohnson | macOS 13.0 Ventura / arm64 | OK | OK | OK | ||||||||||||
| Package 116/461 | Hostname | OS / Arch | INSTALL | BUILD | BUILD BIN | ||||||||||||
| deco 1.14.0 (landing page) Francisco Jose Campos Laborie
| kjohnson | macOS 13.0 Ventura / arm64 | OK | OK | OK | ||||||||||||
| Package 117/461 | Hostname | OS / Arch | INSTALL | BUILD | BUILD BIN | ||||||||||||
| DEGreport 1.34.0 (landing page) Lorena Pantano
| kjohnson | macOS 13.0 Ventura / arm64 | OK | OK | OK | ||||||||||||
| Package 118/461 | Hostname | OS / Arch | INSTALL | BUILD | BUILD BIN | ||||||||||||
| DESeq2 1.38.3 (landing page) Michael Love
| kjohnson | macOS 13.0 Ventura / arm64 | OK | OK | OK | ||||||||||||
| Package 119/461 | Hostname | OS / Arch | INSTALL | BUILD | BUILD BIN | ||||||||||||
| destiny 3.12.0 (landing page) Philipp Angerer
| kjohnson | macOS 13.0 Ventura / arm64 | OK | OK | OK | ||||||||||||
| Package 120/461 | Hostname | OS / Arch | INSTALL | BUILD | BUILD BIN | ||||||||||||
| DExMA 1.6.0 (landing page) Juan Antonio Villatoro-GarcÃa
| kjohnson | macOS 13.0 Ventura / arm64 | OK | OK | OK | ||||||||||||
| Package 121/461 | Hostname | OS / Arch | INSTALL | BUILD | BUILD BIN | ||||||||||||
| DEXSeq 1.44.0 (landing page) Alejandro Reyes
| kjohnson | macOS 13.0 Ventura / arm64 | OK | OK | OK | ||||||||||||
| Package 122/461 | Hostname | OS / Arch | INSTALL | BUILD | BUILD BIN | ||||||||||||
| DFP 1.56.0 (landing page) Rodrigo Alvarez-Glez
| kjohnson | macOS 13.0 Ventura / arm64 | OK | OK | OK | ||||||||||||
| Package 123/461 | Hostname | OS / Arch | INSTALL | BUILD | BUILD BIN | ||||||||||||
| diggit 1.30.0 (landing page) Mariano J Alvarez
| kjohnson | macOS 13.0 Ventura / arm64 | OK | OK | OK | ||||||||||||
| Package 124/461 | Hostname | OS / Arch | INSTALL | BUILD | BUILD BIN | ||||||||||||
| discordant 1.22.0 (landing page) McGrath Max
| kjohnson | macOS 13.0 Ventura / arm64 | OK | OK | OK | ||||||||||||
| Package 125/461 | Hostname | OS / Arch | INSTALL | BUILD | BUILD BIN | ||||||||||||
| doppelgangR 1.26.0 (landing page) Levi Waldron
| kjohnson | macOS 13.0 Ventura / arm64 | OK | OK | OK | ||||||||||||
| Package 126/461 | Hostname | OS / Arch | INSTALL | BUILD | BUILD BIN | ||||||||||||
| DSS 2.46.0 (landing page) Hao Wu
| kjohnson | macOS 13.0 Ventura / arm64 | OK | OK | OK | ||||||||||||
| Package 127/461 | Hostname | OS / Arch | INSTALL | BUILD | BUILD BIN | ||||||||||||
| dyebias 1.58.0 (landing page) Philip Lijnzaad
| kjohnson | macOS 13.0 Ventura / arm64 | OK | OK | OK | ||||||||||||
| Package 128/461 | Hostname | OS / Arch | INSTALL | BUILD | BUILD BIN | ||||||||||||
| easyRNASeq 2.34.0 (landing page) Nicolas Delhomme
| kjohnson | macOS 13.0 Ventura / arm64 | OK | OK | OK | ||||||||||||
| Package 129/461 | Hostname | OS / Arch | INSTALL | BUILD | BUILD BIN | ||||||||||||
| EBarrays 2.62.0 (landing page) Ming Yuan
| kjohnson | macOS 13.0 Ventura / arm64 | OK | OK | OK | ||||||||||||
| Package 130/461 | Hostname | OS / Arch | INSTALL | BUILD | BUILD BIN | ||||||||||||
| ecolitk 1.70.0 (landing page) Laurent Gautier
| kjohnson | macOS 13.0 Ventura / arm64 | OK | OK | OK | ||||||||||||
| Package 131/461 | Hostname | OS / Arch | INSTALL | BUILD | BUILD BIN | ||||||||||||
| EDASeq 2.32.0 (landing page) Davide Risso
| kjohnson | macOS 13.0 Ventura / arm64 | OK | OK | OK | ||||||||||||
| Package 132/461 | Hostname | OS / Arch | INSTALL | BUILD | BUILD BIN | ||||||||||||
| edge 2.30.0 (landing page) John D. Storey
| kjohnson | macOS 13.0 Ventura / arm64 | OK | OK | OK | ||||||||||||
| Package 133/461 | Hostname | OS / Arch | INSTALL | BUILD | BUILD BIN | ||||||||||||
| EGAD 1.26.0 (landing page) Sara Ballouz
| kjohnson | macOS 13.0 Ventura / arm64 | OK | OK | OK | ||||||||||||
| Package 134/461 | Hostname | OS / Arch | INSTALL | BUILD | BUILD BIN | ||||||||||||
| EGSEA 1.26.0 (landing page) Monther Alhamdoosh
| kjohnson | macOS 13.0 Ventura / arm64 | OK | OK | OK | ||||||||||||
| Package 135/461 | Hostname | OS / Arch | INSTALL | BUILD | BUILD BIN | ||||||||||||
| ENmix 1.34.02 (landing page) Zongli Xu
| kjohnson | macOS 13.0 Ventura / arm64 | OK | OK | OK | ||||||||||||
| Package 136/461 | Hostname | OS / Arch | INSTALL | BUILD | BUILD BIN | ||||||||||||
| ensembldb 2.22.0 (landing page) Johannes Rainer
| kjohnson | macOS 13.0 Ventura / arm64 | OK | OK | OK | ||||||||||||
| Package 137/461 | Hostname | OS / Arch | INSTALL | BUILD | BUILD BIN | ||||||||||||
| epigenomix 1.38.0 (landing page) Hans-Ulrich Klein
| kjohnson | macOS 13.0 Ventura / arm64 | OK | OK | OK | ||||||||||||
| Package 138/461 | Hostname | OS / Arch | INSTALL | BUILD | BUILD BIN | ||||||||||||
| EpiMix 1.0.2 (landing page) Yuanning Zheng
| kjohnson | macOS 13.0 Ventura / arm64 | OK | ERROR | skipped | ||||||||||||
| Package 139/461 | Hostname | OS / Arch | INSTALL | BUILD | BUILD BIN | ||||||||||||
| epivizrData 1.26.0 (landing page) Hector Corrada Bravo
| kjohnson | macOS 13.0 Ventura / arm64 | OK | OK | OK | ||||||||||||
| Package 140/461 | Hostname | OS / Arch | INSTALL | BUILD | BUILD BIN | ||||||||||||
| erma 1.14.0 (landing page) VJ Carey
| kjohnson | macOS 13.0 Ventura / arm64 | OK | OK | OK | ||||||||||||
| Package 141/461 | Hostname | OS / Arch | INSTALL | BUILD | BUILD BIN | ||||||||||||
| esetVis 1.24.0 (landing page) Laure Cougnaud
| kjohnson | macOS 13.0 Ventura / arm64 | OK | OK | OK | ||||||||||||
| Package 142/461 | Hostname | OS / Arch | INSTALL | BUILD | BUILD BIN | ||||||||||||
| ExiMiR 2.40.0 (landing page) Sylvain Gubian
| kjohnson | macOS 13.0 Ventura / arm64 | OK | OK | OK | ||||||||||||
| Package 143/461 | Hostname | OS / Arch | INSTALL | BUILD | BUILD BIN | ||||||||||||
| ExpressionAtlas 1.26.0 (landing page) Pedro Madrigal
| kjohnson | macOS 13.0 Ventura / arm64 | OK | OK | OK | ||||||||||||
| Package 144/461 | Hostname | OS / Arch | INSTALL | BUILD | BUILD BIN | ||||||||||||
| fabia 2.44.0 (landing page) Andreas Mitterecker
| kjohnson | macOS 13.0 Ventura / arm64 | OK | OK | OK | ||||||||||||
| Package 145/461 | Hostname | OS / Arch | INSTALL | BUILD | BUILD BIN | ||||||||||||
| factDesign 1.74.0 (landing page) Denise Scholtens
| kjohnson | macOS 13.0 Ventura / arm64 | OK | OK | OK | ||||||||||||
| Package 146/461 | Hostname | OS / Arch | INSTALL | BUILD | BUILD BIN | ||||||||||||
| farms 1.50.0 (landing page) Djork-Arne Clevert
| kjohnson | macOS 13.0 Ventura / arm64 | OK | OK | OK | ||||||||||||
| Package 147/461 | Hostname | OS / Arch | INSTALL | BUILD | BUILD BIN | ||||||||||||
| fastseg 1.44.0 (landing page) Alexander Blume
| kjohnson | macOS 13.0 Ventura / arm64 | OK | OK | OK | ||||||||||||
| Package 148/461 | Hostname | OS / Arch | INSTALL | BUILD | BUILD BIN | ||||||||||||
| ffpe 1.42.0 (landing page) Levi Waldron
| kjohnson | macOS 13.0 Ventura / arm64 | OK | OK | OK | ||||||||||||
| Package 149/461 | Hostname | OS / Arch | INSTALL | BUILD | BUILD BIN | ||||||||||||
| flowBeads 1.36.0 (landing page) Nikolas Pontikos
| kjohnson | macOS 13.0 Ventura / arm64 | OK | OK | OK | ||||||||||||
| Package 150/461 | Hostname | OS / Arch | INSTALL | BUILD | BUILD BIN | ||||||||||||
| flowClust 3.36.1 (landing page) Greg Finak
| kjohnson | macOS 13.0 Ventura / arm64 | OK | OK | OK | ||||||||||||
| Package 151/461 | Hostname | OS / Arch | INSTALL | BUILD | BUILD BIN | ||||||||||||
| flowCore 2.10.0 (landing page) Mike Jiang
| kjohnson | macOS 13.0 Ventura / arm64 | OK | OK | OK | ||||||||||||
| Package 152/461 | Hostname | OS / Arch | INSTALL | BUILD | BUILD BIN | ||||||||||||
| flowFP 1.56.3 (landing page) Herb Holyst
| kjohnson | macOS 13.0 Ventura / arm64 | OK | OK | OK | ||||||||||||
| Package 153/461 | Hostname | OS / Arch | INSTALL | BUILD | BUILD BIN | ||||||||||||
| flowMatch 1.34.0 (landing page) Ariful Azad
| kjohnson | macOS 13.0 Ventura / arm64 | OK | OK | OK | ||||||||||||
| Package 154/461 | Hostname | OS / Arch | INSTALL | BUILD | BUILD BIN | ||||||||||||
| flowMeans 1.58.0 (landing page) Nima Aghaeepour
| kjohnson | macOS 13.0 Ventura / arm64 | OK | OK | OK | ||||||||||||
| Package 155/461 | Hostname | OS / Arch | INSTALL | BUILD | BUILD BIN | ||||||||||||
| flowSpecs 1.12.0 (landing page) Jakob Theorell
| kjohnson | macOS 13.0 Ventura / arm64 | OK | OK | OK | ||||||||||||
| Package 156/461 | Hostname | OS / Arch | INSTALL | BUILD | BUILD BIN | ||||||||||||
| flowStats 4.10.0 (landing page) Greg Finak
| kjohnson | macOS 13.0 Ventura / arm64 | OK | OK | OK | ||||||||||||
| Package 157/461 | Hostname | OS / Arch | INSTALL | BUILD | BUILD BIN | ||||||||||||
Josef Spidlen
| kjohnson | macOS 13.0 Ventura / arm64 | OK | ERROR | skipped | ||||||||||||
| Package 158/461 | Hostname | OS / Arch | INSTALL | BUILD | BUILD BIN | ||||||||||||
| flowViz 1.62.0 (landing page) Mike Jiang
| kjohnson | macOS 13.0 Ventura / arm64 | OK | OK | OK | ||||||||||||
| Package 159/461 | Hostname | OS / Arch | INSTALL | BUILD | BUILD BIN | ||||||||||||
| flowWorkspace 4.10.1 (landing page) Greg Finak
| kjohnson | macOS 13.0 Ventura / arm64 | OK | OK | OK | ||||||||||||
| Package 160/461 | Hostname | OS / Arch | INSTALL | BUILD | BUILD BIN | ||||||||||||
| FRASER 1.10.2 (landing page) Christian Mertes
| kjohnson | macOS 13.0 Ventura / arm64 | OK | OK | OK | ||||||||||||
| Package 161/461 | Hostname | OS / Arch | INSTALL | BUILD | BUILD BIN | ||||||||||||
| frma 1.50.0 (landing page) Matthew N. McCall
| kjohnson | macOS 13.0 Ventura / arm64 | OK | OK | OK | ||||||||||||
| Package 162/461 | Hostname | OS / Arch | INSTALL | BUILD | BUILD BIN | ||||||||||||
| frmaTools 1.50.0 (landing page) Matthew N. McCall
| kjohnson | macOS 13.0 Ventura / arm64 | OK | OK | OK | ||||||||||||
| Package 163/461 | Hostname | OS / Arch | INSTALL | BUILD | BUILD BIN | ||||||||||||
| gaga 2.44.0 (landing page) David Rossell
| kjohnson | macOS 13.0 Ventura / arm64 | OK | OK | OK | ||||||||||||
| Package 164/461 | Hostname | OS / Arch | INSTALL | BUILD | BUILD BIN | ||||||||||||
| GAPGOM 1.14.0 (landing page) Rezvan Ehsani
| kjohnson | macOS 13.0 Ventura / arm64 | OK | ERROR | skipped | ||||||||||||
| Package 165/461 | Hostname | OS / Arch | INSTALL | BUILD | BUILD BIN | ||||||||||||
| gCrisprTools 2.4.0 (landing page) Russell Bainer
| kjohnson | macOS 13.0 Ventura / arm64 | OK | OK | OK | ||||||||||||
| Package 166/461 | Hostname | OS / Arch | INSTALL | BUILD | BUILD BIN | ||||||||||||
| gcrma 2.70.0 (landing page) Z. Wu
| kjohnson | macOS 13.0 Ventura / arm64 | OK | OK | OK | ||||||||||||
| Package 167/461 | Hostname | OS / Arch | INSTALL | BUILD | BUILD BIN | ||||||||||||
| GCSscore 1.12.0 (landing page) Guy M. Harris
| kjohnson | macOS 13.0 Ventura / arm64 | OK | OK | OK | ||||||||||||
| Package 168/461 | Hostname | OS / Arch | INSTALL | BUILD | BUILD BIN | ||||||||||||
| gemma.R 1.0.1 (landing page) Ogan Mancarci
| kjohnson | macOS 13.0 Ventura / arm64 | OK | OK | OK | ||||||||||||
| Package 169/461 | Hostname | OS / Arch | INSTALL | BUILD | BUILD BIN | ||||||||||||
| genbankr 1.26.0 (landing page) Gabriel Becker
| kjohnson | macOS 13.0 Ventura / arm64 | OK | OK | OK | ||||||||||||
| Package 170/461 | Hostname | OS / Arch | INSTALL | BUILD | BUILD BIN | ||||||||||||
| geneClassifiers 1.22.0 (landing page) R Kuiper
| kjohnson | macOS 13.0 Ventura / arm64 | OK | OK | OK | ||||||||||||
| Package 171/461 | Hostname | OS / Arch | INSTALL | BUILD | BUILD BIN | ||||||||||||
| GeneExpressionSignature 1.44.0 (landing page) Yang Cao
| kjohnson | macOS 13.0 Ventura / arm64 | OK | OK | OK | ||||||||||||
| Package 172/461 | Hostname | OS / Arch | INSTALL | BUILD | BUILD BIN | ||||||||||||
| genefilter 1.80.3 (landing page) Bioconductor Package Maintainer
| kjohnson | macOS 13.0 Ventura / arm64 | OK | OK | OK | ||||||||||||
| Package 173/461 | Hostname | OS / Arch | INSTALL | BUILD | BUILD BIN | ||||||||||||
| GeneMeta 1.70.0 (landing page) Bioconductor Package Maintainer
| kjohnson | macOS 13.0 Ventura / arm64 | OK | OK | OK | ||||||||||||
| Package 174/461 | Hostname | OS / Arch | INSTALL | BUILD | BUILD BIN | ||||||||||||
| geneplotter 1.76.0 (landing page) Bioconductor Package Maintainer
| kjohnson | macOS 13.0 Ventura / arm64 | OK | OK | OK | ||||||||||||
| Package 175/461 | Hostname | OS / Arch | INSTALL | BUILD | BUILD BIN | ||||||||||||
| geneRecommender 1.70.0 (landing page) Greg Hather
| kjohnson | macOS 13.0 Ventura / arm64 | OK | OK | OK | ||||||||||||
| Package 176/461 | Hostname | OS / Arch | INSTALL | BUILD | BUILD BIN | ||||||||||||
| GeneRegionScan 1.54.0 (landing page) Lasse Folkersen
| kjohnson | macOS 13.0 Ventura / arm64 | OK | OK | OK | ||||||||||||
| Package 177/461 | Hostname | OS / Arch | INSTALL | BUILD | BUILD BIN | ||||||||||||
| GeneSelectMMD 2.42.3 (landing page) Weiliang Qiu
| kjohnson | macOS 13.0 Ventura / arm64 | OK | OK | OK | ||||||||||||
| Package 178/461 | Hostname | OS / Arch | INSTALL | BUILD | BUILD BIN | ||||||||||||
| GENESIS 2.28.0 (landing page) Stephanie M. Gogarten
| kjohnson | macOS 13.0 Ventura / arm64 | OK | OK | OK | ||||||||||||
| Package 179/461 | Hostname | OS / Arch | INSTALL | BUILD | BUILD BIN | ||||||||||||
| geNetClassifier 1.38.0 (landing page) Sara Aibar
| kjohnson | macOS 13.0 Ventura / arm64 | OK | OK | OK | ||||||||||||
| Package 180/461 | Hostname | OS / Arch | INSTALL | BUILD | BUILD BIN | ||||||||||||
| GenomicFeatures 1.50.4 (landing page) H. Pagès
| kjohnson | macOS 13.0 Ventura / arm64 | OK | OK | OK | ||||||||||||
| Package 181/461 | Hostname | OS / Arch | INSTALL | BUILD | BUILD BIN | ||||||||||||
| GenomicInteractions 1.32.0 (landing page) Liz Ing-Simmons
| kjohnson | macOS 13.0 Ventura / arm64 | OK | OK | OK | ||||||||||||
| Package 182/461 | Hostname | OS / Arch | INSTALL | BUILD | BUILD BIN | ||||||||||||
| GenomicScores 2.10.0 (landing page) Robert Castelo
| kjohnson | macOS 13.0 Ventura / arm64 | OK | OK | OK | ||||||||||||
| Package 183/461 | Hostname | OS / Arch | INSTALL | BUILD | BUILD BIN | ||||||||||||
| GenomicSuperSignature 1.6.0 (landing page) Sehyun Oh
| kjohnson | macOS 13.0 Ventura / arm64 | OK | OK | OK | ||||||||||||
| Package 184/461 | Hostname | OS / Arch | INSTALL | BUILD | BUILD BIN | ||||||||||||
| GeoDiff 1.4.2 (landing page) Nicole Ortogero
| kjohnson | macOS 13.0 Ventura / arm64 | OK | OK | OK | ||||||||||||
| Package 185/461 | Hostname | OS / Arch | INSTALL | BUILD | BUILD BIN | ||||||||||||
| GEOexplorer 1.4.0 (landing page) Guy Hunt
| kjohnson | macOS 13.0 Ventura / arm64 | OK | OK | OK | ||||||||||||
| Package 186/461 | Hostname | OS / Arch | INSTALL | BUILD | BUILD BIN | ||||||||||||
| GeomxTools 3.2.0 (landing page) Nicole Ortogero
| kjohnson | macOS 13.0 Ventura / arm64 | OK | OK | OK | ||||||||||||
| Package 187/461 | Hostname | OS / Arch | INSTALL | BUILD | BUILD BIN | ||||||||||||
| GEOquery 2.66.0 (landing page) Sean Davis
| kjohnson | macOS 13.0 Ventura / arm64 | OK | OK | OK | ||||||||||||
| Package 188/461 | Hostname | OS / Arch | INSTALL | BUILD | BUILD BIN | ||||||||||||
| GEOsubmission 1.50.0 (landing page) Alexandre Kuhn
| kjohnson | macOS 13.0 Ventura / arm64 | OK | OK | OK | ||||||||||||
| Package 189/461 | Hostname | OS / Arch | INSTALL | BUILD | BUILD BIN | ||||||||||||
| gep2pep 1.18.0 (landing page) Francesco Napolitano
| kjohnson | macOS 13.0 Ventura / arm64 | OK | OK | OK | ||||||||||||
| Package 190/461 | Hostname | OS / Arch | INSTALL | BUILD | BUILD BIN | ||||||||||||
| gespeR 1.30.0 (landing page) Fabian Schmich
| kjohnson | macOS 13.0 Ventura / arm64 | OK | OK | OK | ||||||||||||
| Package 191/461 | Hostname | OS / Arch | INSTALL | BUILD | BUILD BIN | ||||||||||||
| ggbio 1.46.0 (landing page) Michael Lawrence
| kjohnson | macOS 13.0 Ventura / arm64 | OK | OK | OK | ||||||||||||
| Package 192/461 | Hostname | OS / Arch | INSTALL | BUILD | BUILD BIN | ||||||||||||
| girafe 1.50.0 (landing page) J. Toedling
| kjohnson | macOS 13.0 Ventura / arm64 | OK | OK | OK | ||||||||||||
| Package 193/461 | Hostname | OS / Arch | INSTALL | BUILD | BUILD BIN | ||||||||||||
| GISPA 1.22.0 (landing page) Bhakti Dwivedi
| kjohnson | macOS 13.0 Ventura / arm64 | OK | OK | OK | ||||||||||||
| Package 194/461 | Hostname | OS / Arch | INSTALL | BUILD | BUILD BIN | ||||||||||||
| GlobalAncova 4.16.0 (landing page) Manuela Hummel
| kjohnson | macOS 13.0 Ventura / arm64 | OK | OK | OK | ||||||||||||
| Package 195/461 | Hostname | OS / Arch | INSTALL | BUILD | BUILD BIN | ||||||||||||
| globaltest 5.52.1 (landing page) Jelle Goeman
| kjohnson | macOS 13.0 Ventura / arm64 | OK | TIMEOUT | skipped | ||||||||||||
| Package 196/461 | Hostname | OS / Arch | INSTALL | BUILD | BUILD BIN | ||||||||||||
| gmapR 1.40.0 (landing page) Michael Lawrence
| kjohnson | macOS 13.0 Ventura / arm64 | ERROR | ERROR | skipped | ||||||||||||
| Package 197/461 | Hostname | OS / Arch | INSTALL | BUILD | BUILD BIN | ||||||||||||
| GOexpress 1.32.0 (landing page) Kevin Rue-Albrecht
| kjohnson | macOS 13.0 Ventura / arm64 | OK | OK | OK | ||||||||||||
| Package 198/461 | Hostname | OS / Arch | INSTALL | BUILD | BUILD BIN | ||||||||||||
| goProfiles 1.60.0 (landing page) Alex Sanchez
| kjohnson | macOS 13.0 Ventura / arm64 | OK | OK | OK | ||||||||||||
| Package 199/461 | Hostname | OS / Arch | INSTALL | BUILD | BUILD BIN | ||||||||||||
| GOstats 2.64.0 (landing page) Bioconductor Package Maintainer
| kjohnson | macOS 13.0 Ventura / arm64 | OK | OK | OK | ||||||||||||
| Package 200/461 | Hostname | OS / Arch | INSTALL | BUILD | BUILD BIN | ||||||||||||
| GSEABase 1.60.0 (landing page) Bioconductor Package Maintainer
| kjohnson | macOS 13.0 Ventura / arm64 | OK | OK | OK | ||||||||||||
| Package 201/461 | Hostname | OS / Arch | INSTALL | BUILD | BUILD BIN | ||||||||||||
| GSEABenchmarkeR 1.18.0 (landing page) Ludwig Geistlinger
| kjohnson | macOS 13.0 Ventura / arm64 | OK | OK | OK | ||||||||||||
| Package 202/461 | Hostname | OS / Arch | INSTALL | BUILD | BUILD BIN | ||||||||||||
| GSEAlm 1.58.0 (landing page) Assaf Oron
| kjohnson | macOS 13.0 Ventura / arm64 | OK | OK | OK | ||||||||||||
| Package 203/461 | Hostname | OS / Arch | INSTALL | BUILD | BUILD BIN | ||||||||||||
| GSRI 2.46.0 (landing page) Julian Gehring
| kjohnson | macOS 13.0 Ventura / arm64 | OK | OK | OK | ||||||||||||
| Package 204/461 | Hostname | OS / Arch | INSTALL | BUILD | BUILD BIN | ||||||||||||
| GSVA 1.46.0 (landing page) Robert Castelo
| kjohnson | macOS 13.0 Ventura / arm64 | OK | OK | OK | ||||||||||||
| Package 205/461 | Hostname | OS / Arch | INSTALL | BUILD | BUILD BIN | ||||||||||||
| Gviz 1.42.1 (landing page) Robert Ivanek
| kjohnson | macOS 13.0 Ventura / arm64 | OK | OK | OK | ||||||||||||
| Package 206/461 | Hostname | OS / Arch | INSTALL | BUILD | BUILD BIN | ||||||||||||
| GWASTools 1.44.0 (landing page) Stephanie M. Gogarten
| kjohnson | macOS 13.0 Ventura / arm64 | OK | OK | OK | ||||||||||||
| Package 207/461 | Hostname | OS / Arch | INSTALL | BUILD | BUILD BIN | ||||||||||||
| hapFabia 1.40.0 (landing page) Andreas Mitterecker
| kjohnson | macOS 13.0 Ventura / arm64 | OK | OK | OK | ||||||||||||
| Package 208/461 | Hostname | OS / Arch | INSTALL | BUILD | BUILD BIN | ||||||||||||
| Harshlight 1.70.0 (landing page) Maurizio Pellegrino
| kjohnson | macOS 13.0 Ventura / arm64 | OK | OK | OK | ||||||||||||
| Package 209/461 | Hostname | OS / Arch | INSTALL | BUILD | BUILD BIN | ||||||||||||
| HELP 1.56.0 (landing page) Reid F. Thompson
| kjohnson | macOS 13.0 Ventura / arm64 | OK | OK | OK | ||||||||||||
| Package 210/461 | Hostname | OS / Arch | INSTALL | BUILD | BUILD BIN | ||||||||||||
| HEM 1.70.0 (landing page) HyungJun Cho
| kjohnson | macOS 13.0 Ventura / arm64 | OK | OK | OK | ||||||||||||
| Package 211/461 | Hostname | OS / Arch | INSTALL | BUILD | BUILD BIN | ||||||||||||
| hermes 1.2.0 (landing page) Daniel Sabanés Bové
| kjohnson | macOS 13.0 Ventura / arm64 | OK | OK | OK | ||||||||||||
| Package 212/461 | Hostname | OS / Arch | INSTALL | BUILD | BUILD BIN | ||||||||||||
| hopach 2.58.0 (landing page) Katherine S. Pollard
| kjohnson | macOS 13.0 Ventura / arm64 | OK | OK | OK | ||||||||||||
| Package 213/461 | Hostname | OS / Arch | INSTALL | BUILD | BUILD BIN | ||||||||||||
| HTqPCR 1.52.0 (landing page) Heidi Dvinge
| kjohnson | macOS 13.0 Ventura / arm64 | OK | OK | OK | ||||||||||||
| Package 214/461 | Hostname | OS / Arch | INSTALL | BUILD | BUILD BIN | ||||||||||||
| HTSFilter 1.38.0 (landing page) Andrea Rau
| kjohnson | macOS 13.0 Ventura / arm64 | OK | OK | OK | ||||||||||||
| Package 215/461 | Hostname | OS / Arch | INSTALL | BUILD | BUILD BIN | ||||||||||||
| HybridMTest 1.42.0 (landing page) Demba Fofana
| kjohnson | macOS 13.0 Ventura / arm64 | OK | OK | OK | ||||||||||||
| Package 216/461 | Hostname | OS / Arch | INSTALL | BUILD | BUILD BIN | ||||||||||||
| iCheck 1.28.0 (landing page) Weiliang Qiu
| kjohnson | macOS 13.0 Ventura / arm64 | OK | OK | OK | ||||||||||||
| Package 217/461 | Hostname | OS / Arch | INSTALL | BUILD | BUILD BIN | ||||||||||||
| IdeoViz 1.34.0 (landing page) Shraddha Pai
| kjohnson | macOS 13.0 Ventura / arm64 | OK | OK | OK | ||||||||||||
| Package 218/461 | Hostname | OS / Arch | INSTALL | BUILD | BUILD BIN | ||||||||||||
| idiogram 1.74.0 (landing page) Karl J. Dykema
| kjohnson | macOS 13.0 Ventura / arm64 | OK | OK | OK | ||||||||||||
| Package 219/461 | Hostname | OS / Arch | INSTALL | BUILD | BUILD BIN | ||||||||||||
| imageHTS 1.48.0 (landing page) Joseph Barry
| kjohnson | macOS 13.0 Ventura / arm64 | OK | OK | OK | ||||||||||||
| Package 220/461 | Hostname | OS / Arch | INSTALL | BUILD | BUILD BIN | ||||||||||||
| ImmuneSpaceR 1.26.1 (landing page) ImmuneSpace Package Maintainer
| kjohnson | macOS 13.0 Ventura / arm64 | OK | OK | OK | ||||||||||||
| Package 221/461 | Hostname | OS / Arch | INSTALL | BUILD | BUILD BIN | ||||||||||||
| infinityFlow 1.8.0 (landing page) Etienne Becht
| kjohnson | macOS 13.0 Ventura / arm64 | OK | OK | OK | ||||||||||||
| Package 222/461 | Hostname | OS / Arch | INSTALL | BUILD | BUILD BIN | ||||||||||||
| InPAS 2.6.0 (landing page) Jianhong Ou
| kjohnson | macOS 13.0 Ventura / arm64 | OK | OK | OK | ||||||||||||
| Package 223/461 | Hostname | OS / Arch | INSTALL | BUILD | BUILD BIN | ||||||||||||
| INSPEcT 1.28.0 (landing page) Stefano de Pretis
| kjohnson | macOS 13.0 Ventura / arm64 | OK | OK | OK | ||||||||||||
| Package 224/461 | Hostname | OS / Arch | INSTALL | BUILD | BUILD BIN | ||||||||||||
| InTAD 1.18.0 (landing page) Konstantin Okonechnikov
| kjohnson | macOS 13.0 Ventura / arm64 | OK | OK | OK | ||||||||||||
| Package 225/461 | Hostname | OS / Arch | INSTALL | BUILD | BUILD BIN | ||||||||||||
| isobar 1.44.0 (landing page) Florian P Breitwieser
| kjohnson | macOS 13.0 Ventura / arm64 | OK | OK | OK | ||||||||||||
| Package 226/461 | Hostname | OS / Arch | INSTALL | BUILD | BUILD BIN | ||||||||||||
| IsoformSwitchAnalyzeR 1.20.0 (landing page) Kristoffer Vitting-Seerup
| kjohnson | macOS 13.0 Ventura / arm64 | OK | OK | OK | ||||||||||||
| Package 227/461 | Hostname | OS / Arch | INSTALL | BUILD | BUILD BIN | ||||||||||||
Setia Pramana
| kjohnson | macOS 13.0 Ventura / arm64 | ERROR | ERROR | skipped | ||||||||||||
| Package 228/461 | Hostname | OS / Arch | INSTALL | BUILD | BUILD BIN | ||||||||||||
| isomiRs 1.26.0 (landing page) Lorena Pantano
| kjohnson | macOS 13.0 Ventura / arm64 | OK | OK | OK | ||||||||||||
| Package 229/461 | Hostname | OS / Arch | INSTALL | BUILD | BUILD BIN | ||||||||||||
| iterativeBMA 1.56.0 (landing page) Ka Yee Yeung
| kjohnson | macOS 13.0 Ventura / arm64 | OK | OK | OK | ||||||||||||
| Package 230/461 | Hostname | OS / Arch | INSTALL | BUILD | BUILD BIN | ||||||||||||
| iterClust 1.20.0 (landing page) Hongxu Ding
| kjohnson | macOS 13.0 Ventura / arm64 | OK | OK | OK | ||||||||||||
| Package 231/461 | Hostname | OS / Arch | INSTALL | BUILD | BUILD BIN | ||||||||||||
| IVAS 2.18.0 (landing page) Seonggyun Han
| kjohnson | macOS 13.0 Ventura / arm64 | OK | OK | OK | ||||||||||||
| Package 232/461 | Hostname | OS / Arch | INSTALL | BUILD | BUILD BIN | ||||||||||||
| katdetectr 1.0.0 (landing page) Daan Hazelaar
| kjohnson | macOS 13.0 Ventura / arm64 | OK | OK | OK | ||||||||||||
| Package 233/461 | Hostname | OS / Arch | INSTALL | BUILD | BUILD BIN | ||||||||||||
| kissDE 1.18.0 (landing page) Aurélie Siberchicot
| kjohnson | macOS 13.0 Ventura / arm64 | OK | OK | OK | ||||||||||||
| Package 234/461 | Hostname | OS / Arch | INSTALL | BUILD | BUILD BIN | ||||||||||||
| lapmix 1.64.0 (landing page) Yann Ruffieux
| kjohnson | macOS 13.0 Ventura / arm64 | OK | OK | OK | ||||||||||||
| Package 235/461 | Hostname | OS / Arch | INSTALL | BUILD | BUILD BIN | ||||||||||||
| LiquidAssociation 1.52.0 (landing page) Yen-Yi Ho
| kjohnson | macOS 13.0 Ventura / arm64 | OK | OK | OK | ||||||||||||
| Package 236/461 | Hostname | OS / Arch | INSTALL | BUILD | BUILD BIN | ||||||||||||
| LRBaseDbi 2.8.0 (landing page) Koki Tsuyuzaki
| kjohnson | macOS 13.0 Ventura / arm64 | OK | OK | OK | ||||||||||||
| Package 237/461 | Hostname | OS / Arch | INSTALL | BUILD | BUILD BIN | ||||||||||||
| lumi 2.50.0 (landing page) Lei Huang
| kjohnson | macOS 13.0 Ventura / arm64 | OK | OK | OK | ||||||||||||
| Package 238/461 | Hostname | OS / Arch | INSTALL | BUILD | BUILD BIN | ||||||||||||
| maanova 1.68.2 (landing page) Keith Sheppard
| kjohnson | macOS 13.0 Ventura / arm64 | OK | OK | OK | ||||||||||||
| Package 239/461 | Hostname | OS / Arch | INSTALL | BUILD | BUILD BIN | ||||||||||||
| macat 1.72.0 (landing page) Joern Toedling
| kjohnson | macOS 13.0 Ventura / arm64 | OK | OK | OK | ||||||||||||
| Package 240/461 | Hostname | OS / Arch | INSTALL | BUILD | BUILD BIN | ||||||||||||
| made4 1.72.0 (landing page) Aedin Culhane
| kjohnson | macOS 13.0 Ventura / arm64 | OK | OK | OK | ||||||||||||
| Package 241/461 | Hostname | OS / Arch | INSTALL | BUILD | BUILD BIN | ||||||||||||
| MAGeCKFlute 2.2.0 (landing page) Wubing Zhang
| kjohnson | macOS 13.0 Ventura / arm64 | OK | OK | OK | ||||||||||||
| Package 242/461 | Hostname | OS / Arch | INSTALL | BUILD | BUILD BIN | ||||||||||||
| makecdfenv 1.74.0 (landing page) James W. MacDonald
| kjohnson | macOS 13.0 Ventura / arm64 | OK | OK | OK | ||||||||||||
| Package 243/461 | Hostname | OS / Arch | INSTALL | BUILD | BUILD BIN | ||||||||||||
| mAPKL 1.28.0 (landing page) Argiris Sakellariou
| kjohnson | macOS 13.0 Ventura / arm64 | OK | OK | OK | ||||||||||||
| Package 244/461 | Hostname | OS / Arch | INSTALL | BUILD | BUILD BIN | ||||||||||||
| maSigPro 1.70.0 (landing page) Maria Jose Nueda
| kjohnson | macOS 13.0 Ventura / arm64 | OK | OK | OK | ||||||||||||
| Package 245/461 | Hostname | OS / Arch | INSTALL | BUILD | BUILD BIN | ||||||||||||
| massiR 1.34.0 (landing page) Sam Buckberry
| kjohnson | macOS 13.0 Ventura / arm64 | OK | OK | OK | ||||||||||||
| Package 246/461 | Hostname | OS / Arch | INSTALL | BUILD | BUILD BIN | ||||||||||||
| MAST 1.24.1 (landing page) Andrew McDavid
| kjohnson | macOS 13.0 Ventura / arm64 | OK | OK | OK | ||||||||||||
| Package 247/461 | Hostname | OS / Arch | INSTALL | BUILD | BUILD BIN | ||||||||||||
| mBPCR 1.52.0 (landing page) P.M.V. Rancoita
| kjohnson | macOS 13.0 Ventura / arm64 | OK | OK | OK | ||||||||||||
| Package 248/461 | Hostname | OS / Arch | INSTALL | BUILD | BUILD BIN | ||||||||||||
| MEAL 1.28.0 (landing page) Xavier Escribà Montagut
| kjohnson | macOS 13.0 Ventura / arm64 | OK | OK | OK | ||||||||||||
| Package 249/461 | Hostname | OS / Arch | INSTALL | BUILD | BUILD BIN | ||||||||||||
| MeSHDbi 1.34.0 (landing page) Koki Tsuyuzaki
| kjohnson | macOS 13.0 Ventura / arm64 | OK | OK | OK | ||||||||||||
| Package 250/461 | Hostname | OS / Arch | INSTALL | BUILD | BUILD BIN | ||||||||||||
| metabomxtr 1.32.0 (landing page) Michael Nodzenski
| kjohnson | macOS 13.0 Ventura / arm64 | OK | OK | OK | ||||||||||||
| Package 251/461 | Hostname | OS / Arch | INSTALL | BUILD | BUILD BIN | ||||||||||||
| metagenomeSeq 1.40.0 (landing page) Joseph N. Paulson
| kjohnson | macOS 13.0 Ventura / arm64 | OK | OK | OK | ||||||||||||
| Package 252/461 | Hostname | OS / Arch | INSTALL | BUILD | BUILD BIN | ||||||||||||
| metaseqR2 1.10.0 (landing page) Panagiotis Moulos
| kjohnson | macOS 13.0 Ventura / arm64 | OK | OK | OK | ||||||||||||
| Package 253/461 | Hostname | OS / Arch | INSTALL | BUILD | BUILD BIN | ||||||||||||
| metavizr 1.22.0 (landing page) Hector Corrada Bravo
| kjohnson | macOS 13.0 Ventura / arm64 | OK | ERROR | skipped | ||||||||||||
| Package 254/461 | Hostname | OS / Arch | INSTALL | BUILD | BUILD BIN | ||||||||||||
| MethPed 1.26.0 (landing page) Helena Carén
| kjohnson | macOS 13.0 Ventura / arm64 | OK | OK | OK | ||||||||||||
| Package 255/461 | Hostname | OS / Arch | INSTALL | BUILD | BUILD BIN | ||||||||||||
| MethylAid 1.32.0 (landing page) L.J.Sinke
| kjohnson | macOS 13.0 Ventura / arm64 | OK | OK | OK | ||||||||||||
| Package 256/461 | Hostname | OS / Arch | INSTALL | BUILD | BUILD BIN | ||||||||||||
| methylCC 1.12.0 (landing page) Stephanie C. Hicks
| kjohnson | macOS 13.0 Ventura / arm64 | OK | OK | OK | ||||||||||||
| Package 257/461 | Hostname | OS / Arch | INSTALL | BUILD | BUILD BIN | ||||||||||||
| methylclock 1.4.0 (landing page) Dolors Pelegri-Siso
| kjohnson | macOS 13.0 Ventura / arm64 | OK | OK | OK | ||||||||||||
| Package 258/461 | Hostname | OS / Arch | INSTALL | BUILD | BUILD BIN | ||||||||||||
| methylumi 2.44.0 (landing page) Sean Davis
| kjohnson | macOS 13.0 Ventura / arm64 | OK | OK | OK | ||||||||||||
| Package 259/461 | Hostname | OS / Arch | INSTALL | BUILD | BUILD BIN | ||||||||||||
| mfa 1.20.0 (landing page) Kieran Campbell
| kjohnson | macOS 13.0 Ventura / arm64 | OK | OK | OK | ||||||||||||
| Package 260/461 | Hostname | OS / Arch | INSTALL | BUILD | BUILD BIN | ||||||||||||
| Mfuzz 2.58.0 (landing page) Matthias Futschik
| kjohnson | macOS 13.0 Ventura / arm64 | OK | OK | OK | ||||||||||||
| Package 261/461 | Hostname | OS / Arch | INSTALL | BUILD | BUILD BIN | ||||||||||||
| MiChip 1.52.0 (landing page) Jonathon Blake
| kjohnson | macOS 13.0 Ventura / arm64 | OK | OK | OK | ||||||||||||
| Package 262/461 | Hostname | OS / Arch | INSTALL | BUILD | BUILD BIN | ||||||||||||
| microbiomeDASim 1.12.0 (landing page) Justin Williams
| kjohnson | macOS 13.0 Ventura / arm64 | OK | OK | OK | ||||||||||||
| Package 263/461 | Hostname | OS / Arch | INSTALL | BUILD | BUILD BIN | ||||||||||||
| microbiomeExplorer 1.8.0 (landing page) Janina Reeder
| kjohnson | macOS 13.0 Ventura / arm64 | OK | OK | OK | ||||||||||||
| Package 264/461 | Hostname | OS / Arch | INSTALL | BUILD | BUILD BIN | ||||||||||||
| microbiomeMarker 1.4.0 (landing page) Yang Cao
| kjohnson | macOS 13.0 Ventura / arm64 | OK | OK | OK | ||||||||||||
| Package 265/461 | Hostname | OS / Arch | INSTALL | BUILD | BUILD BIN | ||||||||||||
| MIGSA 1.22.0 (landing page) Juan C. Rodriguez
| kjohnson | macOS 13.0 Ventura / arm64 | OK | ERROR | skipped | ||||||||||||
| Package 266/461 | Hostname | OS / Arch | INSTALL | BUILD | BUILD BIN | ||||||||||||
| mimager 1.22.0 (landing page) Aaron Wolen
| kjohnson | macOS 13.0 Ventura / arm64 | OK | OK | OK | ||||||||||||
| Package 267/461 | Hostname | OS / Arch | INSTALL | BUILD | BUILD BIN | ||||||||||||
| MIMOSA 1.36.0 (landing page) Greg Finak
| kjohnson | macOS 13.0 Ventura / arm64 | OK | ERROR | skipped | ||||||||||||
| Package 268/461 | Hostname | OS / Arch | INSTALL | BUILD | BUILD BIN | ||||||||||||
| MineICA 1.38.0 (landing page) Anne Biton
| kjohnson | macOS 13.0 Ventura / arm64 | OK | OK | OK | ||||||||||||
| Package 269/461 | Hostname | OS / Arch | INSTALL | BUILD | BUILD BIN | ||||||||||||
| minfi 1.44.0 (landing page) Kasper Daniel Hansen
| kjohnson | macOS 13.0 Ventura / arm64 | OK | OK | OK | ||||||||||||
| Package 270/461 | Hostname | OS / Arch | INSTALL | BUILD | BUILD BIN | ||||||||||||
| MinimumDistance 1.42.0 (landing page) Robert Scharpf
| kjohnson | macOS 13.0 Ventura / arm64 | OK | OK | OK | ||||||||||||
| Package 271/461 | Hostname | OS / Arch | INSTALL | BUILD | BUILD BIN | ||||||||||||
| MiPP 1.70.0 (landing page) Sukwoo Kim
| kjohnson | macOS 13.0 Ventura / arm64 | OK | OK | OK | ||||||||||||
| Package 272/461 | Hostname | OS / Arch | INSTALL | BUILD | BUILD BIN | ||||||||||||
| MIRA 1.20.0 (landing page) John Lawson
| kjohnson | macOS 13.0 Ventura / arm64 | OK | OK | OK | ||||||||||||
| Package 273/461 | Hostname | OS / Arch | INSTALL | BUILD | BUILD BIN | ||||||||||||
| MiRaGE 1.40.0 (landing page) Y-h. Taguchi
| kjohnson | macOS 13.0 Ventura / arm64 | OK | OK | OK | ||||||||||||
| Package 274/461 | Hostname | OS / Arch | INSTALL | BUILD | BUILD BIN | ||||||||||||
| miRcomp 1.28.0 (landing page) Matthew N. McCall
| kjohnson | macOS 13.0 Ventura / arm64 | OK | OK | OK | ||||||||||||
| Package 275/461 | Hostname | OS / Arch | INSTALL | BUILD | BUILD BIN | ||||||||||||
| miRSM 1.16.0 (landing page) Junpeng Zhang
| kjohnson | macOS 13.0 Ventura / arm64 | OK | OK | OK | ||||||||||||
| Package 276/461 | Hostname | OS / Arch | INSTALL | BUILD | BUILD BIN | ||||||||||||
| missMethyl 1.32.1 (landing page) Belinda Phipson
| kjohnson | macOS 13.0 Ventura / arm64 | OK | OK | OK | ||||||||||||
| Package 277/461 | Hostname | OS / Arch | INSTALL | BUILD | BUILD BIN | ||||||||||||
| MLInterfaces 1.78.0 (landing page) V. Carey
| kjohnson | macOS 13.0 Ventura / arm64 | OK | OK | OK | ||||||||||||
| Package 278/461 | Hostname | OS / Arch | INSTALL | BUILD | BUILD BIN | ||||||||||||
| MLSeq 2.16.0 (landing page) Gokmen Zararsiz
| kjohnson | macOS 13.0 Ventura / arm64 | OK | OK | OK | ||||||||||||
| Package 279/461 | Hostname | OS / Arch | INSTALL | BUILD | BUILD BIN | ||||||||||||
| MMAPPR2 1.12.0 (landing page) Jonathon Hill
| kjohnson | macOS 13.0 Ventura / arm64 | ERROR | ERROR | skipped | ||||||||||||
| Package 280/461 | Hostname | OS / Arch | INSTALL | BUILD | BUILD BIN | ||||||||||||
| MMDiff2 1.26.0 (landing page) Gabriele Schweikert
| kjohnson | macOS 13.0 Ventura / arm64 | OK | OK | OK | ||||||||||||
| Package 281/461 | Hostname | OS / Arch | INSTALL | BUILD | BUILD BIN | ||||||||||||
| mogsa 1.32.0 (landing page) Chen Meng
| kjohnson | macOS 13.0 Ventura / arm64 | OK | OK | OK | ||||||||||||
| Package 282/461 | Hostname | OS / Arch | INSTALL | BUILD | BUILD BIN | ||||||||||||
| monocle 2.26.0 (landing page) Cole Trapnell
| kjohnson | macOS 13.0 Ventura / arm64 | OK | OK | OK | ||||||||||||
| Package 283/461 | Hostname | OS / Arch | INSTALL | BUILD | BUILD BIN | ||||||||||||
| MoonlightR 1.24.0 (landing page) Matteo Tiberti
| kjohnson | macOS 13.0 Ventura / arm64 | OK | OK | OK | ||||||||||||
| Package 284/461 | Hostname | OS / Arch | INSTALL | BUILD | BUILD BIN | ||||||||||||
| MOSim 1.12.0 (landing page) Carlos MartÃnez
| kjohnson | macOS 13.0 Ventura / arm64 | OK | OK | OK | ||||||||||||
| Package 285/461 | Hostname | OS / Arch | INSTALL | BUILD | BUILD BIN | ||||||||||||
| MSnbase 2.24.2 (landing page) Laurent Gatto
| kjohnson | macOS 13.0 Ventura / arm64 | OK | OK | OK | ||||||||||||
| Package 286/461 | Hostname | OS / Arch | INSTALL | BUILD | BUILD BIN | ||||||||||||
| MSnID 1.32.0 (landing page) Vlad Petyuk
| kjohnson | macOS 13.0 Ventura / arm64 | OK | OK | OK | ||||||||||||
| Package 287/461 | Hostname | OS / Arch | INSTALL | BUILD | BUILD BIN | ||||||||||||
| Mulcom 1.48.0 (landing page) Claudio Isella
| kjohnson | macOS 13.0 Ventura / arm64 | OK | OK | OK | ||||||||||||
| Package 288/461 | Hostname | OS / Arch | INSTALL | BUILD | BUILD BIN | ||||||||||||
| MultiAssayExperiment 1.24.0 (landing page) Marcel Ramos
| kjohnson | macOS 13.0 Ventura / arm64 | OK | OK | OK | ||||||||||||
| Package 289/461 | Hostname | OS / Arch | INSTALL | BUILD | BUILD BIN | ||||||||||||
| MultiDataSet 1.26.0 (landing page) Xavier Escribà Montagut
| kjohnson | macOS 13.0 Ventura / arm64 | OK | OK | OK | ||||||||||||
| Package 290/461 | Hostname | OS / Arch | INSTALL | BUILD | BUILD BIN | ||||||||||||
| multiscan 1.58.0 (landing page) Mizanur Khondoker
| kjohnson | macOS 13.0 Ventura / arm64 | OK | OK | OK | ||||||||||||
| Package 291/461 | Hostname | OS / Arch | INSTALL | BUILD | BUILD BIN | ||||||||||||
| multtest 2.54.0 (landing page) Katherine S. Pollard
| kjohnson | macOS 13.0 Ventura / arm64 | OK | OK | OK | ||||||||||||
| Package 292/461 | Hostname | OS / Arch | INSTALL | BUILD | BUILD BIN | ||||||||||||
| mzR 2.32.0 (landing page) Steffen Neumann
| kjohnson | macOS 13.0 Ventura / arm64 | OK | OK | OK | ||||||||||||
| Package 293/461 | Hostname | OS / Arch | INSTALL | BUILD | BUILD BIN | ||||||||||||
| NanoStringDiff 1.28.0 (landing page) tingting zhai
| kjohnson | macOS 13.0 Ventura / arm64 | OK | OK | OK | ||||||||||||
| Package 294/461 | Hostname | OS / Arch | INSTALL | BUILD | BUILD BIN | ||||||||||||
| NanoStringNCTools 1.6.1 (landing page) Nicole Ortogero
| kjohnson | macOS 13.0 Ventura / arm64 | OK | OK | OK | ||||||||||||
| Package 295/461 | Hostname | OS / Arch | INSTALL | BUILD | BUILD BIN | ||||||||||||
| NanoStringQCPro 1.30.0 (landing page) Robert Ziman
| kjohnson | macOS 13.0 Ventura / arm64 | OK | OK | OK | ||||||||||||
| Package 296/461 | Hostname | OS / Arch | INSTALL | BUILD | BUILD BIN | ||||||||||||
| NanoTube 1.4.0 (landing page) Caleb Class
| kjohnson | macOS 13.0 Ventura / arm64 | OK | OK | OK | ||||||||||||
| Package 297/461 | Hostname | OS / Arch | INSTALL | BUILD | BUILD BIN | ||||||||||||
| ncdfFlow 2.44.0 (landing page) Mike Jiang
| kjohnson | macOS 13.0 Ventura / arm64 | OK | OK | OK | ||||||||||||
| Package 298/461 | Hostname | OS / Arch | INSTALL | BUILD | BUILD BIN | ||||||||||||
| netZooR 1.2.0 (landing page) Marouen Ben Guebila
| kjohnson | macOS 13.0 Ventura / arm64 | OK | OK | OK | ||||||||||||
| Package 299/461 | Hostname | OS / Arch | INSTALL | BUILD | BUILD BIN | ||||||||||||
| NOISeq 2.42.0 (landing page) Sonia Tarazona
| kjohnson | macOS 13.0 Ventura / arm64 | OK | OK | OK | ||||||||||||
| Package 300/461 | Hostname | OS / Arch | INSTALL | BUILD | BUILD BIN | ||||||||||||
| nondetects 2.28.0 (landing page) Valeriia Sherina
| kjohnson | macOS 13.0 Ventura / arm64 | OK | OK | OK | ||||||||||||
| Package 301/461 | Hostname | OS / Arch | INSTALL | BUILD | BUILD BIN | ||||||||||||
| normalize450K 1.26.0 (landing page) Jonathan Alexander Heiss
| kjohnson | macOS 13.0 Ventura / arm64 | OK | OK | OK | ||||||||||||
| Package 302/461 | Hostname | OS / Arch | INSTALL | BUILD | BUILD BIN | ||||||||||||
| NormalyzerDE 1.16.0 (landing page) Jakob Willforss
| kjohnson | macOS 13.0 Ventura / arm64 | OK | OK | OK | ||||||||||||
| Package 303/461 | Hostname | OS / Arch | INSTALL | BUILD | BUILD BIN | ||||||||||||
| NormqPCR 1.44.0 (landing page) James Perkins
| kjohnson | macOS 13.0 Ventura / arm64 | OK | OK | OK | ||||||||||||
| Package 304/461 | Hostname | OS / Arch | INSTALL | BUILD | BUILD BIN | ||||||||||||
| npGSEA 1.34.0 (landing page) Jessica Larson
| kjohnson | macOS 13.0 Ventura / arm64 | OK | OK | OK | ||||||||||||
| Package 305/461 | Hostname | OS / Arch | INSTALL | BUILD | BUILD BIN | ||||||||||||
| nucleR 2.30.0 (landing page) Alba Sala
| kjohnson | macOS 13.0 Ventura / arm64 | OK | OK | OK | ||||||||||||
| Package 306/461 | Hostname | OS / Arch | INSTALL | BUILD | BUILD BIN | ||||||||||||
| octad 1.0.0 (landing page) E. Chekalin
| kjohnson | macOS 13.0 Ventura / arm64 | OK | OK | OK | ||||||||||||
| Package 307/461 | Hostname | OS / Arch | INSTALL | BUILD | BUILD BIN | ||||||||||||
| oligo 1.62.2 (landing page) Benilton Carvalho
| kjohnson | macOS 13.0 Ventura / arm64 | OK | OK | OK | ||||||||||||
| Package 308/461 | Hostname | OS / Arch | INSTALL | BUILD | BUILD BIN | ||||||||||||
| oligoClasses 1.60.0 (landing page) Benilton Carvalho
| kjohnson | macOS 13.0 Ventura / arm64 | OK | OK | OK | ||||||||||||
| Package 309/461 | Hostname | OS / Arch | INSTALL | BUILD | BUILD BIN | ||||||||||||
| omicade4 1.38.0 (landing page) Chen Meng
| kjohnson | macOS 13.0 Ventura / arm64 | OK | OK | OK | ||||||||||||
| Package 310/461 | Hostname | OS / Arch | INSTALL | BUILD | BUILD BIN | ||||||||||||
| omicRexposome 1.20.0 (landing page) Xavier Escribà Montagut
| kjohnson | macOS 13.0 Ventura / arm64 | OK | OK | OK | ||||||||||||
| Package 311/461 | Hostname | OS / Arch | INSTALL | BUILD | BUILD BIN | ||||||||||||
| omicsViewer 1.2.0 (landing page) Chen Meng
| kjohnson | macOS 13.0 Ventura / arm64 | OK | OK | OK | ||||||||||||
| Package 312/461 | Hostname | OS / Arch | INSTALL | BUILD | BUILD BIN | ||||||||||||
| ontoProc 1.20.0 (landing page) Vincent Carey
| kjohnson | macOS 13.0 Ventura / arm64 | OK | OK | OK | ||||||||||||
| Package 313/461 | Hostname | OS / Arch | INSTALL | BUILD | BUILD BIN | ||||||||||||
| openCyto 2.10.1 (landing page) Mike Jiang
| kjohnson | macOS 13.0 Ventura / arm64 | OK | ERROR | skipped | ||||||||||||
| Package 314/461 | Hostname | OS / Arch | INSTALL | BUILD | BUILD BIN | ||||||||||||
| oposSOM 2.16.0 (landing page) Henry Loeffler-Wirth
| kjohnson | macOS 13.0 Ventura / arm64 | OK | OK | OK | ||||||||||||
| Package 315/461 | Hostname | OS / Arch | INSTALL | BUILD | BUILD BIN | ||||||||||||
| oppar 1.26.0 (landing page) Soroor Hediyeh zadeh
| kjohnson | macOS 13.0 Ventura / arm64 | OK | OK | OK | ||||||||||||
| Package 316/461 | Hostname | OS / Arch | INSTALL | BUILD | BUILD BIN | ||||||||||||
| OrderedList 1.70.0 (landing page) Claudio Lottaz
| kjohnson | macOS 13.0 Ventura / arm64 | OK | OK | OK | ||||||||||||
| Package 317/461 | Hostname | OS / Arch | INSTALL | BUILD | BUILD BIN | ||||||||||||
| OrganismDbi 1.40.0 (landing page) Bioconductor Package Maintainer
| kjohnson | macOS 13.0 Ventura / arm64 | OK | OK | OK | ||||||||||||
| Package 318/461 | Hostname | OS / Arch | INSTALL | BUILD | BUILD BIN | ||||||||||||
| OTUbase 1.48.0 (landing page) Daniel Beck
| kjohnson | macOS 13.0 Ventura / arm64 | OK | OK | OK | ||||||||||||
| Package 319/461 | Hostname | OS / Arch | INSTALL | BUILD | BUILD BIN | ||||||||||||
| PADOG 1.40.0 (landing page) Adi L. Tarca
| kjohnson | macOS 13.0 Ventura / arm64 | OK | OK | OK | ||||||||||||
| Package 320/461 | Hostname | OS / Arch | INSTALL | BUILD | BUILD BIN | ||||||||||||
| pandaR 1.30.0 (landing page) Joseph N. Paulson
| kjohnson | macOS 13.0 Ventura / arm64 | OK | OK | OK | ||||||||||||
| Package 321/461 | Hostname | OS / Arch | INSTALL | BUILD | BUILD BIN | ||||||||||||
| panp 1.68.0 (landing page) Peter Warren
| kjohnson | macOS 13.0 Ventura / arm64 | OK | OK | OK | ||||||||||||
| Package 322/461 | Hostname | OS / Arch | INSTALL | BUILD | BUILD BIN | ||||||||||||
| pcaMethods 1.90.0 (landing page) Henning Redestig
| kjohnson | macOS 13.0 Ventura / arm64 | OK | OK | OK | ||||||||||||
| Package 323/461 | Hostname | OS / Arch | INSTALL | BUILD | BUILD BIN | ||||||||||||
| pdInfoBuilder 1.62.0 (landing page) Benilton Carvalho
| kjohnson | macOS 13.0 Ventura / arm64 | OK | OK | OK | ||||||||||||
| Package 324/461 | Hostname | OS / Arch | INSTALL | BUILD | BUILD BIN | ||||||||||||
| pepStat 1.32.0 (landing page) Gregory C Imholte
| kjohnson | macOS 13.0 Ventura / arm64 | OK | OK | OK | ||||||||||||
| Package 325/461 | Hostname | OS / Arch | INSTALL | BUILD | BUILD BIN | ||||||||||||
| phantasus 1.18.4 (landing page) Alexey Sergushichev
| kjohnson | macOS 13.0 Ventura / arm64 | OK | OK | OK | ||||||||||||
| Package 326/461 | Hostname | OS / Arch | INSTALL | BUILD | BUILD BIN | ||||||||||||
| PharmacoGx 3.2.0 (landing page) Benjamin Haibe-Kains
| kjohnson | macOS 13.0 Ventura / arm64 | OK | OK | OK | ||||||||||||
| Package 327/461 | Hostname | OS / Arch | INSTALL | BUILD | BUILD BIN | ||||||||||||
| phemd 1.14.1 (landing page) William S Chen
| kjohnson | macOS 13.0 Ventura / arm64 | OK | OK | OK | ||||||||||||
| Package 328/461 | Hostname | OS / Arch | INSTALL | BUILD | BUILD BIN | ||||||||||||
| phenomis 1.0.2 (landing page) Etienne A. Thevenot
| kjohnson | macOS 13.0 Ventura / arm64 | OK | OK | OK | ||||||||||||
| Package 329/461 | Hostname | OS / Arch | INSTALL | BUILD | BUILD BIN | ||||||||||||
| phenoTest 1.46.0 (landing page) Evarist Planet
| kjohnson | macOS 13.0 Ventura / arm64 | OK | OK | OK | ||||||||||||
| Package 330/461 | Hostname | OS / Arch | INSTALL | BUILD | BUILD BIN | ||||||||||||
| phyloseq 1.42.0 (landing page) Paul J. McMurdie
| kjohnson | macOS 13.0 Ventura / arm64 | OK | OK | OK | ||||||||||||
| Package 331/461 | Hostname | OS / Arch | INSTALL | BUILD | BUILD BIN | ||||||||||||
| piano 2.14.0 (landing page) Leif Varemo Wigge
| kjohnson | macOS 13.0 Ventura / arm64 | OK | OK | OK | ||||||||||||
| Package 332/461 | Hostname | OS / Arch | INSTALL | BUILD | BUILD BIN | ||||||||||||
| plethy 1.36.0 (landing page) Daniel Bottomly
| kjohnson | macOS 13.0 Ventura / arm64 | OK | OK | OK | ||||||||||||
| Package 333/461 | Hostname | OS / Arch | INSTALL | BUILD | BUILD BIN | ||||||||||||
| plgem 1.70.0 (landing page) Norman Pavelka
| kjohnson | macOS 13.0 Ventura / arm64 | OK | OK | OK | ||||||||||||
| Package 334/461 | Hostname | OS / Arch | INSTALL | BUILD | BUILD BIN | ||||||||||||
| plier 1.68.0 (landing page) Crispin Miller
| kjohnson | macOS 13.0 Ventura / arm64 | OK | OK | OK | ||||||||||||
| Package 335/461 | Hostname | OS / Arch | INSTALL | BUILD | BUILD BIN | ||||||||||||
| PLPE 1.58.0 (landing page) Soo-heang Eo
| kjohnson | macOS 13.0 Ventura / arm64 | OK | OK | OK | ||||||||||||
| Package 336/461 | Hostname | OS / Arch | INSTALL | BUILD | BUILD BIN | ||||||||||||
| podkat 1.30.0 (landing page) Ulrich Bodenhofer
| kjohnson | macOS 13.0 Ventura / arm64 | OK | OK | OK | ||||||||||||
| Package 337/461 | Hostname | OS / Arch | INSTALL | BUILD | BUILD BIN | ||||||||||||
| POWSC 1.6.0 (landing page) Kenong Su
| kjohnson | macOS 13.0 Ventura / arm64 | OK | OK | OK | ||||||||||||
| Package 338/461 | Hostname | OS / Arch | INSTALL | BUILD | BUILD BIN | ||||||||||||
| prebs 1.38.0 (landing page) Karolis Uziela
| kjohnson | macOS 13.0 Ventura / arm64 | OK | OK | OK | ||||||||||||
| Package 339/461 | Hostname | OS / Arch | INSTALL | BUILD | BUILD BIN | ||||||||||||
| PREDA 1.44.0 (landing page) Francesco Ferrari
| kjohnson | macOS 13.0 Ventura / arm64 | OK | OK | OK | ||||||||||||
| Package 340/461 | Hostname | OS / Arch | INSTALL | BUILD | BUILD BIN | ||||||||||||
| PrInCE 1.14.0 (landing page) Michael Skinnider
| kjohnson | macOS 13.0 Ventura / arm64 | OK | OK | OK | ||||||||||||
| Package 341/461 | Hostname | OS / Arch | INSTALL | BUILD | BUILD BIN | ||||||||||||
| proBatch 1.14.0 (landing page) Chloe H. Lee
| kjohnson | macOS 13.0 Ventura / arm64 | OK | OK | OK | ||||||||||||
| Package 342/461 | Hostname | OS / Arch | INSTALL | BUILD | BUILD BIN | ||||||||||||
| proFIA 1.24.0 (landing page) Alexis Delabriere
| kjohnson | macOS 13.0 Ventura / arm64 | OK | ERROR | skipped | ||||||||||||
| Package 343/461 | Hostname | OS / Arch | INSTALL | BUILD | BUILD BIN | ||||||||||||
| progeny 1.20.0 (landing page) Aurélien Dugourd
| kjohnson | macOS 13.0 Ventura / arm64 | OK | OK | OK | ||||||||||||
| Package 344/461 | Hostname | OS / Arch | INSTALL | BUILD | BUILD BIN | ||||||||||||
| pRoloc 1.38.2 (landing page) Laurent Gatto
| kjohnson | macOS 13.0 Ventura / arm64 | OK | OK | OK | ||||||||||||
| Package 345/461 | Hostname | OS / Arch | INSTALL | BUILD | BUILD BIN | ||||||||||||
| pRolocGUI 2.8.0 (landing page) Lisa Breckels
| kjohnson | macOS 13.0 Ventura / arm64 | OK | OK | OK | ||||||||||||
| Package 346/461 | Hostname | OS / Arch | INSTALL | BUILD | BUILD BIN | ||||||||||||
| PROMISE 1.50.0 (landing page) Stan Pounds
| kjohnson | macOS 13.0 Ventura / arm64 | OK | OK | OK | ||||||||||||
| Package 347/461 | Hostname | OS / Arch | INSTALL | BUILD | BUILD BIN | ||||||||||||
| PROPS 1.20.0 (landing page) Lichy Han
| kjohnson | macOS 13.0 Ventura / arm64 | OK | OK | OK | ||||||||||||
| Package 348/461 | Hostname | OS / Arch | INSTALL | BUILD | BUILD BIN | ||||||||||||
| protGear 1.2.0 (landing page) Kennedy Mwai
| kjohnson | macOS 13.0 Ventura / arm64 | OK | OK | OK | ||||||||||||
| Package 349/461 | Hostname | OS / Arch | INSTALL | BUILD | BUILD BIN | ||||||||||||
| PSEA 1.32.0 (landing page) Alexandre Kuhn
| kjohnson | macOS 13.0 Ventura / arm64 | OK | OK | OK | ||||||||||||
| Package 350/461 | Hostname | OS / Arch | INSTALL | BUILD | BUILD BIN | ||||||||||||
| psygenet2r 1.30.0 (landing page) Alba Gutierrez-Sacristan
| kjohnson | macOS 13.0 Ventura / arm64 | OK | TIMEOUT | skipped | ||||||||||||
| Package 351/461 | Hostname | OS / Arch | INSTALL | BUILD | BUILD BIN | ||||||||||||
| ptairMS 1.6.0 (landing page) camille Roquencourt
| kjohnson | macOS 13.0 Ventura / arm64 | OK | OK | OK | ||||||||||||
| Package 352/461 | Hostname | OS / Arch | INSTALL | BUILD | BUILD BIN | ||||||||||||
| puma 3.40.0 (landing page) Xuejun Liu
| kjohnson | macOS 13.0 Ventura / arm64 | OK | OK | OK | ||||||||||||
| Package 353/461 | Hostname | OS / Arch | INSTALL | BUILD | BUILD BIN | ||||||||||||
| PureCN 2.4.0 (landing page) Markus Riester
| kjohnson | macOS 13.0 Ventura / arm64 | OK | OK | OK | ||||||||||||
| Package 354/461 | Hostname | OS / Arch | INSTALL | BUILD | BUILD BIN | ||||||||||||
| pvac 1.46.0 (landing page) Jun Lu
| kjohnson | macOS 13.0 Ventura / arm64 | OK | OK | OK | ||||||||||||
| Package 355/461 | Hostname | OS / Arch | INSTALL | BUILD | BUILD BIN | ||||||||||||
| pvca 1.38.0 (landing page) Jianying LI
| kjohnson | macOS 13.0 Ventura / arm64 | OK | OK | OK | ||||||||||||
| Package 356/461 | Hostname | OS / Arch | INSTALL | BUILD | BUILD BIN | ||||||||||||
| pwOmics 1.30.0 (landing page) Maren Sitte
| kjohnson | macOS 13.0 Ventura / arm64 | OK | OK | OK | ||||||||||||
| Package 357/461 | Hostname | OS / Arch | INSTALL | BUILD | BUILD BIN | ||||||||||||
| qcmetrics 1.36.0 (landing page) Laurent Gatto
| kjohnson | macOS 13.0 Ventura / arm64 | OK | OK | OK | ||||||||||||
| Package 358/461 | Hostname | OS / Arch | INSTALL | BUILD | BUILD BIN | ||||||||||||
| QDNAseq 1.34.0 (landing page) Daoud Sie
| kjohnson | macOS 13.0 Ventura / arm64 | OK | OK | OK | ||||||||||||
| Package 359/461 | Hostname | OS / Arch | INSTALL | BUILD | BUILD BIN | ||||||||||||
| QFeatures 1.8.0 (landing page) Laurent Gatto
| kjohnson | macOS 13.0 Ventura / arm64 | OK | OK | OK | ||||||||||||
| Package 360/461 | Hostname | OS / Arch | INSTALL | BUILD | BUILD BIN | ||||||||||||
| qpcrNorm 1.56.0 (landing page) Jessica Mar
| kjohnson | macOS 13.0 Ventura / arm64 | OK | OK | OK | ||||||||||||
| Package 361/461 | Hostname | OS / Arch | INSTALL | BUILD | BUILD BIN | ||||||||||||
| qpgraph 2.32.2 (landing page) Robert Castelo
| kjohnson | macOS 13.0 Ventura / arm64 | OK | OK | OK | ||||||||||||
| Package 362/461 | Hostname | OS / Arch | INSTALL | BUILD | BUILD BIN | ||||||||||||
| qPLEXanalyzer 1.16.1 (landing page) Ashley Sawle
| kjohnson | macOS 13.0 Ventura / arm64 | OK | OK | OK | ||||||||||||
| Package 363/461 | Hostname | OS / Arch | INSTALL | BUILD | BUILD BIN | ||||||||||||
| quantiseqr 1.6.0 (landing page) Federico Marini
| kjohnson | macOS 13.0 Ventura / arm64 | OK | ERROR | skipped | ||||||||||||
| Package 364/461 | Hostname | OS / Arch | INSTALL | BUILD | BUILD BIN | ||||||||||||
| quantro 1.32.0 (landing page) Stephanie Hicks
| kjohnson | macOS 13.0 Ventura / arm64 | OK | OK | OK | ||||||||||||
| Package 365/461 | Hostname | OS / Arch | INSTALL | BUILD | BUILD BIN | ||||||||||||
| QuasR 1.38.0 (landing page) Michael Stadler
| kjohnson | macOS 13.0 Ventura / arm64 | OK | OK | OK | ||||||||||||
| Package 366/461 | Hostname | OS / Arch | INSTALL | BUILD | BUILD BIN | ||||||||||||
| qusage 2.32.0 (landing page) Christopher Bolen
| kjohnson | macOS 13.0 Ventura / arm64 | OK | OK | OK | ||||||||||||
| Package 367/461 | Hostname | OS / Arch | INSTALL | BUILD | BUILD BIN | ||||||||||||
| R453Plus1Toolbox 1.48.0 (landing page) Hans-Ulrich Klein
| kjohnson | macOS 13.0 Ventura / arm64 | OK | OK | OK | ||||||||||||
| Package 368/461 | Hostname | OS / Arch | INSTALL | BUILD | BUILD BIN | ||||||||||||
| RadioGx 2.2.0 (landing page) Benjamin Haibe-Kains
| kjohnson | macOS 13.0 Ventura / arm64 | OK | OK | OK | ||||||||||||
| Package 369/461 | Hostname | OS / Arch | INSTALL | BUILD | BUILD BIN | ||||||||||||
| randPack 1.44.0 (landing page) Robert Gentleman
| kjohnson | macOS 13.0 Ventura / arm64 | OK | OK | OK | ||||||||||||
| Package 370/461 | Hostname | OS / Arch | INSTALL | BUILD | BUILD BIN | ||||||||||||
| RbcBook1 1.66.0 (landing page) Vince Carey
| kjohnson | macOS 13.0 Ventura / arm64 | OK | OK | OK | ||||||||||||
| Package 371/461 | Hostname | OS / Arch | INSTALL | BUILD | BUILD BIN | ||||||||||||
| rbsurv 2.56.0 (landing page) Soo-heang Eo
| kjohnson | macOS 13.0 Ventura / arm64 | OK | OK | OK | ||||||||||||
| Package 372/461 | Hostname | OS / Arch | INSTALL | BUILD | BUILD BIN | ||||||||||||
| rcellminer 2.20.0 (landing page) Augustin Luna
| kjohnson | macOS 13.0 Ventura / arm64 | OK | OK | OK | ||||||||||||
| Package 373/461 | Hostname | OS / Arch | INSTALL | BUILD | BUILD BIN | ||||||||||||
| ReadqPCR 1.44.0 (landing page) James Perkins
| kjohnson | macOS 13.0 Ventura / arm64 | OK | OK | OK | ||||||||||||
| Package 374/461 | Hostname | OS / Arch | INSTALL | BUILD | BUILD BIN | ||||||||||||
| RefPlus 1.68.0 (landing page) Kai-Ming Chang
| kjohnson | macOS 13.0 Ventura / arm64 | OK | OK | OK | ||||||||||||
| Package 375/461 | Hostname | OS / Arch | INSTALL | BUILD | BUILD BIN | ||||||||||||
| ReportingTools 2.38.0 (landing page) Jason A. Hackney
| kjohnson | macOS 13.0 Ventura / arm64 | OK | OK | OK | ||||||||||||
| Package 376/461 | Hostname | OS / Arch | INSTALL | BUILD | BUILD BIN | ||||||||||||
| restfulSE 1.20.0 (landing page) Shweta Gopaulakrishnan
| kjohnson | macOS 13.0 Ventura / arm64 | OK | OK | OK | ||||||||||||
| Package 377/461 | Hostname | OS / Arch | INSTALL | BUILD | BUILD BIN | ||||||||||||
| rexposome 1.20.1 (landing page) Xavier Escribà Montagut
| kjohnson | macOS 13.0 Ventura / arm64 | OK | OK | OK | ||||||||||||
| Package 378/461 | Hostname | OS / Arch | INSTALL | BUILD | BUILD BIN | ||||||||||||
| Ringo 1.62.0 (landing page) J. Toedling
| kjohnson | macOS 13.0 Ventura / arm64 | OK | OK | OK | ||||||||||||
| Package 379/461 | Hostname | OS / Arch | INSTALL | BUILD | BUILD BIN | ||||||||||||
| Risa 1.40.0 (landing page) Alejandra Gonzalez-Beltran
| kjohnson | macOS 13.0 Ventura / arm64 | OK | OK | OK | ||||||||||||
| Package 380/461 | Hostname | OS / Arch | INSTALL | BUILD | BUILD BIN | ||||||||||||
| RIVER 1.22.0 (landing page) Yungil Kim
| kjohnson | macOS 13.0 Ventura / arm64 | OK | OK | OK | ||||||||||||
| Package 381/461 | Hostname | OS / Arch | INSTALL | BUILD | BUILD BIN | ||||||||||||
| Rmagpie 1.54.0 (landing page) Camille Maumet
| kjohnson | macOS 13.0 Ventura / arm64 | OK | OK | OK | ||||||||||||
| Package 382/461 | Hostname | OS / Arch | INSTALL | BUILD | BUILD BIN | ||||||||||||
| RMassBank 3.8.0 (landing page) RMassBank at Eawag
| kjohnson | macOS 13.0 Ventura / arm64 | ERROR | ERROR | skipped | ||||||||||||
| Package 383/461 | Hostname | OS / Arch | INSTALL | BUILD | BUILD BIN | ||||||||||||
| RNAinteract 1.46.0 (landing page) Mike Smith
| kjohnson | macOS 13.0 Ventura / arm64 | OK | OK | OK | ||||||||||||
| Package 384/461 | Hostname | OS / Arch | INSTALL | BUILD | BUILD BIN | ||||||||||||
| Rnits 1.32.1 (landing page) Dipen P. Sangurdekar
| kjohnson | macOS 13.0 Ventura / arm64 | OK | ERROR | skipped | ||||||||||||
| Package 385/461 | Hostname | OS / Arch | INSTALL | BUILD | BUILD BIN | ||||||||||||
| rols 2.26.0 (landing page) Laurent Gatto
| kjohnson | macOS 13.0 Ventura / arm64 | OK | OK | OK | ||||||||||||
| Package 386/461 | Hostname | OS / Arch | INSTALL | BUILD | BUILD BIN | ||||||||||||
| ropls 1.30.0 (landing page) Etienne A. Thevenot
| kjohnson | macOS 13.0 Ventura / arm64 | OK | OK | OK | ||||||||||||
| Package 387/461 | Hostname | OS / Arch | INSTALL | BUILD | BUILD BIN | ||||||||||||
| ROTS 1.26.0 (landing page) Tomi Suomi
| kjohnson | macOS 13.0 Ventura / arm64 | OK | OK | OK | ||||||||||||
| Package 388/461 | Hostname | OS / Arch | INSTALL | BUILD | BUILD BIN | ||||||||||||
| rqubic 1.44.0 (landing page) Jitao David Zhang
| kjohnson | macOS 13.0 Ventura / arm64 | OK | OK | OK | ||||||||||||
| Package 389/461 | Hostname | OS / Arch | INSTALL | BUILD | BUILD BIN | ||||||||||||
| rScudo 1.14.0 (landing page) Matteo Ciciani
| kjohnson | macOS 13.0 Ventura / arm64 | OK | OK | OK | ||||||||||||
| Package 390/461 | Hostname | OS / Arch | INSTALL | BUILD | BUILD BIN | ||||||||||||
| RTCA 1.50.0 (landing page) Jitao David Zhang
| kjohnson | macOS 13.0 Ventura / arm64 | OK | OK | OK | ||||||||||||
| Package 391/461 | Hostname | OS / Arch | INSTALL | BUILD | BUILD BIN | ||||||||||||
| RTopper 1.44.1 (landing page) Luigi Marchionni
| kjohnson | macOS 13.0 Ventura / arm64 | OK | OK | OK | ||||||||||||
| Package 392/461 | Hostname | OS / Arch | INSTALL | BUILD | BUILD BIN | ||||||||||||
| Rtpca 1.8.0 (landing page) Nils Kurzawa
| kjohnson | macOS 13.0 Ventura / arm64 | OK | OK | OK | ||||||||||||
| Package 393/461 | Hostname | OS / Arch | INSTALL | BUILD | BUILD BIN | ||||||||||||
| Rtreemix 1.60.0 (landing page) Jasmina Bogojeska
| kjohnson | macOS 13.0 Ventura / arm64 | OK | OK | OK | ||||||||||||
| Package 394/461 | Hostname | OS / Arch | INSTALL | BUILD | BUILD BIN | ||||||||||||
| RUVnormalize 1.32.0 (landing page) Laurent Jacob
| kjohnson | macOS 13.0 Ventura / arm64 | OK | OK | OK | ||||||||||||
| Package 395/461 | Hostname | OS / Arch | INSTALL | BUILD | BUILD BIN | ||||||||||||
| RUVSeq 1.32.0 (landing page) Davide Risso
| kjohnson | macOS 13.0 Ventura / arm64 | OK | OK | OK | ||||||||||||
| Package 396/461 | Hostname | OS / Arch | INSTALL | BUILD | BUILD BIN | ||||||||||||
| safe 3.38.0 (landing page) Ludwig Geistlinger
| kjohnson | macOS 13.0 Ventura / arm64 | OK | OK | OK | ||||||||||||
| Package 397/461 | Hostname | OS / Arch | INSTALL | BUILD | BUILD BIN | ||||||||||||
| SCAN.UPC 2.40.0 (landing page) Stephen R. Piccolo
| kjohnson | macOS 13.0 Ventura / arm64 | OK | OK | OK | ||||||||||||
| Package 398/461 | Hostname | OS / Arch | INSTALL | BUILD | BUILD BIN | ||||||||||||
| scmap 1.20.2 (landing page) Vladimir Kiselev
| kjohnson | macOS 13.0 Ventura / arm64 | OK | OK | OK | ||||||||||||
| Package 399/461 | Hostname | OS / Arch | INSTALL | BUILD | BUILD BIN | ||||||||||||
| scTGIF 1.12.0 (landing page) Koki Tsuyuzaki
| kjohnson | macOS 13.0 Ventura / arm64 | OK | OK | OK | ||||||||||||
| Package 400/461 | Hostname | OS / Arch | INSTALL | BUILD | BUILD BIN | ||||||||||||
| SeqGSEA 1.38.0 (landing page) Xi Wang
| kjohnson | macOS 13.0 Ventura / arm64 | OK | OK | OK | ||||||||||||
| Package 401/461 | Hostname | OS / Arch | INSTALL | BUILD | BUILD BIN | ||||||||||||
| SeqVarTools 1.36.0 (landing page) Stephanie M. Gogarten
| kjohnson | macOS 13.0 Ventura / arm64 | OK | OK | OK | ||||||||||||
| Package 402/461 | Hostname | OS / Arch | INSTALL | BUILD | BUILD BIN | ||||||||||||
| ShortRead 1.56.1 (landing page) Bioconductor Package Maintainer
| kjohnson | macOS 13.0 Ventura / arm64 | OK | OK | OK | ||||||||||||
| Package 403/461 | Hostname | OS / Arch | INSTALL | BUILD | BUILD BIN | ||||||||||||
| SigCheck 2.30.0 (landing page) Rory Stark
| kjohnson | macOS 13.0 Ventura / arm64 | OK | OK | OK | ||||||||||||
| Package 404/461 | Hostname | OS / Arch | INSTALL | BUILD | BUILD BIN | ||||||||||||
| siggenes 1.72.0 (landing page) Holger Schwender
| kjohnson | macOS 13.0 Ventura / arm64 | OK | OK | OK | ||||||||||||
| Package 405/461 | Hostname | OS / Arch | INSTALL | BUILD | BUILD BIN | ||||||||||||
| SigsPack 1.12.0 (landing page) Franziska Schumann
| kjohnson | macOS 13.0 Ventura / arm64 | OK | OK | OK | ||||||||||||
| Package 406/461 | Hostname | OS / Arch | INSTALL | BUILD | BUILD BIN | ||||||||||||
| sigsquared 1.30.0 (landing page) UnJin Lee
| kjohnson | macOS 13.0 Ventura / arm64 | OK | OK | OK | ||||||||||||
| Package 407/461 | Hostname | OS / Arch | INSTALL | BUILD | BUILD BIN | ||||||||||||
| SimBindProfiles 1.36.0 (landing page) Bettina Fischer
| kjohnson | macOS 13.0 Ventura / arm64 | OK | OK | OK | ||||||||||||
| Package 408/461 | Hostname | OS / Arch | INSTALL | BUILD | BUILD BIN | ||||||||||||
| singleCellTK 2.8.0 (landing page) Yichen Wang
| kjohnson | macOS 13.0 Ventura / arm64 | OK | OK | OK | ||||||||||||
| Package 409/461 | Hostname | OS / Arch | INSTALL | BUILD | BUILD BIN | ||||||||||||
| singscore 1.18.0 (landing page) Dharmesh D. Bhuva
| kjohnson | macOS 13.0 Ventura / arm64 | OK | OK | OK | ||||||||||||
| Package 410/461 | Hostname | OS / Arch | INSTALL | BUILD | BUILD BIN | ||||||||||||
| sitadela 1.6.0 (landing page) Panagiotis Moulos
| kjohnson | macOS 13.0 Ventura / arm64 | OK | OK | OK | ||||||||||||
| Package 411/461 | Hostname | OS / Arch | INSTALL | BUILD | BUILD BIN | ||||||||||||
| SMITE 1.26.0 (landing page) Neil Ari Wijetunga
| kjohnson | macOS 13.0 Ventura / arm64 | OK | OK | OK | ||||||||||||
| Package 412/461 | Hostname | OS / Arch | INSTALL | BUILD | BUILD BIN | ||||||||||||
| SomaticSignatures 2.34.0 (landing page) Julian Gehring
| kjohnson | macOS 13.0 Ventura / arm64 | OK | OK | OK | ||||||||||||
| Package 413/461 | Hostname | OS / Arch | INSTALL | BUILD | BUILD BIN | ||||||||||||
| SpatialDecon 1.8.0 (landing page) Maddy Griswold
| kjohnson | macOS 13.0 Ventura / arm64 | OK | OK | OK | ||||||||||||
| Package 414/461 | Hostname | OS / Arch | INSTALL | BUILD | BUILD BIN | ||||||||||||
| SpeCond 1.52.0 (landing page) Florence Cavalli
| kjohnson | macOS 13.0 Ventura / arm64 | OK | OK | OK | ||||||||||||
| Package 415/461 | Hostname | OS / Arch | INSTALL | BUILD | BUILD BIN | ||||||||||||
| SPEM 1.38.0 (landing page) Xinyi YANG
| kjohnson | macOS 13.0 Ventura / arm64 | OK | OK | OK | ||||||||||||
| Package 416/461 | Hostname | OS / Arch | INSTALL | BUILD | BUILD BIN | ||||||||||||
| spkTools 1.54.0 (landing page) Matthew N McCall
| kjohnson | macOS 13.0 Ventura / arm64 | OK | OK | OK | ||||||||||||
| Package 417/461 | Hostname | OS / Arch | INSTALL | BUILD | BUILD BIN | ||||||||||||
| splineTimeR 1.26.0 (landing page) Herbert Braselmann
| kjohnson | macOS 13.0 Ventura / arm64 | OK | OK | OK | ||||||||||||
| Package 418/461 | Hostname | OS / Arch | INSTALL | BUILD | BUILD BIN | ||||||||||||
| SPONGE 1.20.0 (landing page) Markus List
| kjohnson | macOS 13.0 Ventura / arm64 | OK | OK | OK | ||||||||||||
| Package 419/461 | Hostname | OS / Arch | INSTALL | BUILD | BUILD BIN | ||||||||||||
| standR 1.2.2 (landing page) Ning Liu
| kjohnson | macOS 13.0 Ventura / arm64 | OK | OK | OK | ||||||||||||
| Package 420/461 | Hostname | OS / Arch | INSTALL | BUILD | BUILD BIN | ||||||||||||
| STATegRa 1.34.0 (landing page) David Gomez-Cabrero
| kjohnson | macOS 13.0 Ventura / arm64 | OK | OK | OK | ||||||||||||
| Package 421/461 | Hostname | OS / Arch | INSTALL | BUILD | BUILD BIN | ||||||||||||
| STROMA4 1.22.0 (landing page) Sadiq Saleh
| kjohnson | macOS 13.0 Ventura / arm64 | OK | OK | OK | ||||||||||||
| Package 422/461 | Hostname | OS / Arch | INSTALL | BUILD | BUILD BIN | ||||||||||||
| subSeq 1.28.0 (landing page) Andrew J. Bass
| kjohnson | macOS 13.0 Ventura / arm64 | OK | OK | OK | ||||||||||||
| Package 423/461 | Hostname | OS / Arch | INSTALL | BUILD | BUILD BIN | ||||||||||||
| SummarizedExperiment 1.28.0 (landing page) Hervé Pagès
| kjohnson | macOS 13.0 Ventura / arm64 | OK | OK | OK | ||||||||||||
| Package 424/461 | Hostname | OS / Arch | INSTALL | BUILD | BUILD BIN | ||||||||||||
| synapter 2.22.0 (landing page) Laurent Gatto
| kjohnson | macOS 13.0 Ventura / arm64 | OK | OK | OK | ||||||||||||
| Package 425/461 | Hostname | OS / Arch | INSTALL | BUILD | BUILD BIN | ||||||||||||
Zoppoli Pietro
| kjohnson | macOS 13.0 Ventura / arm64 | ERROR | ERROR | skipped | ||||||||||||
| Package 426/461 | Hostname | OS / Arch | INSTALL | BUILD | BUILD BIN | ||||||||||||
| TEQC 4.20.0 (landing page) Sarah Bonnin
| kjohnson | macOS 13.0 Ventura / arm64 | OK | OK | OK | ||||||||||||
| Package 427/461 | Hostname | OS / Arch | INSTALL | BUILD | BUILD BIN | ||||||||||||
| TFBSTools 1.36.0 (landing page) Ge Tan
| kjohnson | macOS 13.0 Ventura / arm64 | OK | OK | OK | ||||||||||||
| Package 428/461 | Hostname | OS / Arch | INSTALL | BUILD | BUILD BIN | ||||||||||||
| tigre 1.52.0 (landing page) Antti Honkela
| kjohnson | macOS 13.0 Ventura / arm64 | OK | OK | OK | ||||||||||||
| Package 429/461 | Hostname | OS / Arch | INSTALL | BUILD | BUILD BIN | ||||||||||||
| tilingArray 1.76.0 (landing page) Zhenyu Xu
| kjohnson | macOS 13.0 Ventura / arm64 | OK | OK | OK | ||||||||||||
| Package 430/461 | Hostname | OS / Arch | INSTALL | BUILD | BUILD BIN | ||||||||||||
| timecourse 1.70.0 (landing page) Yu Chuan Tai
| kjohnson | macOS 13.0 Ventura / arm64 | OK | OK | OK | ||||||||||||
| Package 431/461 | Hostname | OS / Arch | INSTALL | BUILD | BUILD BIN | ||||||||||||
| TMixClust 1.20.0 (landing page) Monica Golumbeanu
| kjohnson | macOS 13.0 Ventura / arm64 | OK | OK | OK | ||||||||||||
| Package 432/461 | Hostname | OS / Arch | INSTALL | BUILD | BUILD BIN | ||||||||||||
| TnT 1.20.0 (landing page) Jialin Ma
| kjohnson | macOS 13.0 Ventura / arm64 | OK | OK | OK | ||||||||||||
| Package 433/461 | Hostname | OS / Arch | INSTALL | BUILD | BUILD BIN | ||||||||||||
| topdownr 1.20.0 (landing page) Sebastian Gibb
| kjohnson | macOS 13.0 Ventura / arm64 | OK | OK | OK | ||||||||||||
| Package 434/461 | Hostname | OS / Arch | INSTALL | BUILD | BUILD BIN | ||||||||||||
| topGO 2.50.0 (landing page) Adrian Alexa
| kjohnson | macOS 13.0 Ventura / arm64 | OK | OK | OK | ||||||||||||
| Package 435/461 | Hostname | OS / Arch | INSTALL | BUILD | BUILD BIN | ||||||||||||
| ToxicoGx 2.2.0 (landing page) Benjamin Haibe-Kains
| kjohnson | macOS 13.0 Ventura / arm64 | OK | OK | OK | ||||||||||||
| Package 436/461 | Hostname | OS / Arch | INSTALL | BUILD | BUILD BIN | ||||||||||||
| TPP 3.26.1 (landing page) Dorothee Childs
| kjohnson | macOS 13.0 Ventura / arm64 | OK | OK | OK | ||||||||||||
| Package 437/461 | Hostname | OS / Arch | INSTALL | BUILD | BUILD BIN | ||||||||||||
| tradeSeq 1.12.0 (landing page) Hector Roux de Bezieux
| kjohnson | macOS 13.0 Ventura / arm64 | OK | OK | OK | ||||||||||||
| Package 438/461 | Hostname | OS / Arch | INSTALL | BUILD | BUILD BIN | ||||||||||||
| tRanslatome 1.36.0 (landing page) Toma Tebaldi
| kjohnson | macOS 13.0 Ventura / arm64 | OK | OK | OK | ||||||||||||
| Package 439/461 | Hostname | OS / Arch | INSTALL | BUILD | BUILD BIN | ||||||||||||
| traviz 1.4.0 (landing page) Koen Van den Berge
| kjohnson | macOS 13.0 Ventura / arm64 | OK | OK | OK | ||||||||||||
| Package 440/461 | Hostname | OS / Arch | INSTALL | BUILD | BUILD BIN | ||||||||||||
Jeffrey T. Leek
| kjohnson | macOS 13.0 Ventura / arm64 | OK | ERROR | skipped | ||||||||||||
| Package 441/461 | Hostname | OS / Arch | INSTALL | BUILD | BUILD BIN | ||||||||||||
| TTMap 1.20.0 (landing page) Rachel Jeitziner
| kjohnson | macOS 13.0 Ventura / arm64 | OK | OK | OK | ||||||||||||
| Package 442/461 | Hostname | OS / Arch | INSTALL | BUILD | BUILD BIN | ||||||||||||
| twilight 1.74.0 (landing page) Stefanie Scheid
| kjohnson | macOS 13.0 Ventura / arm64 | OK | OK | OK | ||||||||||||
| Package 443/461 | Hostname | OS / Arch | INSTALL | BUILD | BUILD BIN | ||||||||||||
| UNDO 1.40.0 (landing page) Niya Wang
| kjohnson | macOS 13.0 Ventura / arm64 | OK | OK | OK | ||||||||||||
| Package 444/461 | Hostname | OS / Arch | INSTALL | BUILD | BUILD BIN | ||||||||||||
| uSORT 1.24.0 (landing page) Hao Chen
| kjohnson | macOS 13.0 Ventura / arm64 | OK | OK | OK | ||||||||||||
| Package 445/461 | Hostname | OS / Arch | INSTALL | BUILD | BUILD BIN | ||||||||||||
| VanillaICE 1.60.0 (landing page) Robert Scharpf
| kjohnson | macOS 13.0 Ventura / arm64 | OK | OK | OK | ||||||||||||
| Package 446/461 | Hostname | OS / Arch | INSTALL | BUILD | BUILD BIN | ||||||||||||
| variancePartition 1.28.9 (landing page) Gabriel E. Hoffman
| kjohnson | macOS 13.0 Ventura / arm64 | OK | OK | OK | ||||||||||||
| Package 447/461 | Hostname | OS / Arch | INSTALL | BUILD | BUILD BIN | ||||||||||||
| VariantAnnotation 1.44.1 (landing page) Bioconductor Package Maintainer
| kjohnson | macOS 13.0 Ventura / arm64 | OK | OK | OK | ||||||||||||
| Package 448/461 | Hostname | OS / Arch | INSTALL | BUILD | BUILD BIN | ||||||||||||
| VariantFiltering 1.34.0 (landing page) Robert Castelo
| kjohnson | macOS 13.0 Ventura / arm64 | OK | ERROR | skipped | ||||||||||||
| Package 449/461 | Hostname | OS / Arch | INSTALL | BUILD | BUILD BIN | ||||||||||||
| VariantTools 1.40.0 (landing page) Michael Lawrence
| kjohnson | macOS 13.0 Ventura / arm64 | OK | OK | OK | ||||||||||||
| Package 450/461 | Hostname | OS / Arch | INSTALL | BUILD | BUILD BIN | ||||||||||||
| VegaMC 3.36.0 (landing page) Sandro Morganella
| kjohnson | macOS 13.0 Ventura / arm64 | OK | OK | OK | ||||||||||||
| Package 451/461 | Hostname | OS / Arch | INSTALL | BUILD | BUILD BIN | ||||||||||||
| vidger 1.18.0 (landing page) Brandon Monier
| kjohnson | macOS 13.0 Ventura / arm64 | OK | OK | OK | ||||||||||||
| Package 452/461 | Hostname | OS / Arch | INSTALL | BUILD | BUILD BIN | ||||||||||||
| viper 1.32.0 (landing page) Mariano J Alvarez
| kjohnson | macOS 13.0 Ventura / arm64 | OK | OK | OK | ||||||||||||
| Package 453/461 | Hostname | OS / Arch | INSTALL | BUILD | BUILD BIN | ||||||||||||
| vsn 3.66.0 (landing page) Wolfgang Huber
| kjohnson | macOS 13.0 Ventura / arm64 | OK | OK | OK | ||||||||||||
| Package 454/461 | Hostname | OS / Arch | INSTALL | BUILD | BUILD BIN | ||||||||||||
| vulcan 1.20.0 (landing page) Federico M. Giorgi
| kjohnson | macOS 13.0 Ventura / arm64 | OK | OK | OK | ||||||||||||
| Package 455/461 | Hostname | OS / Arch | INSTALL | BUILD | BUILD BIN | ||||||||||||
| wateRmelon 2.4.0 (landing page) Leo C Schalkwyk
| kjohnson | macOS 13.0 Ventura / arm64 | OK | OK | OK | ||||||||||||
| Package 456/461 | Hostname | OS / Arch | INSTALL | BUILD | BUILD BIN | ||||||||||||
| webbioc 1.70.0 (landing page) Colin A. Smith
| kjohnson | macOS 13.0 Ventura / arm64 | OK | OK | OK | ||||||||||||
| Package 457/461 | Hostname | OS / Arch | INSTALL | BUILD | BUILD BIN | ||||||||||||
| wpm 1.8.0 (landing page) Helene Borges
| kjohnson | macOS 13.0 Ventura / arm64 | OK | OK | OK | ||||||||||||
| Package 458/461 | Hostname | OS / Arch | INSTALL | BUILD | BUILD BIN | ||||||||||||
| xcms 3.20.0 (landing page) Steffen Neumann
| kjohnson | macOS 13.0 Ventura / arm64 | OK | OK | OK | ||||||||||||
| Package 459/461 | Hostname | OS / Arch | INSTALL | BUILD | BUILD BIN | ||||||||||||
| XDE 2.44.0 (landing page) Robert Scharpf
| kjohnson | macOS 13.0 Ventura / arm64 | OK | OK | OK | ||||||||||||
| Package 460/461 | Hostname | OS / Arch | INSTALL | BUILD | BUILD BIN | ||||||||||||
| Xeva 1.14.0 (landing page) Benjamin Haibe-Kains
| kjohnson | macOS 13.0 Ventura / arm64 | OK | OK | OK | ||||||||||||
| Package 461/461 | Hostname | OS / Arch | INSTALL | BUILD | BUILD BIN | ||||||||||||
| yarn 1.24.0 (landing page) Joseph N Paulson
| kjohnson | macOS 13.0 Ventura / arm64 | OK | OK | OK | ||||||||||||