| Back to Mac ARM64 build report for BioC 3.16 | 
 | 
This page was generated on 2023-04-19 11:01:57 -0400 (Wed, 19 Apr 2023).
| Hostname | OS | Arch (*) | R version | Installed pkgs | 
|---|---|---|---|---|
| kjohnson | macOS 13.0 Ventura | arm64 | 4.2.2 (2022-10-31) -- "Innocent and Trusting" | 4256 | 
| Click on any hostname to see more info about the system (e.g. compilers) (*) as reported by 'uname -p', except on Windows and Mac OS X | ||||
| To the developers/maintainers of the pvac package: Make sure to use the following settings in order to reproduce any error or warning you see on this page. | 
| Package 1552/2183 | Hostname | OS / Arch | INSTALL | BUILD | BUILD BIN | ||||||||
| pvac 1.46.0  (landing page) Jun Lu 
 | kjohnson | macOS 13.0 Ventura / arm64 | OK | OK | OK |  | |||||||
| Package: pvac | 
| Version: 1.46.0 | 
| Command: /Library/Frameworks/R.framework/Resources/bin/R CMD build --keep-empty-dirs --no-resave-data pvac | 
| StartedAt: 2023-04-17 23:03:47 -0400 (Mon, 17 Apr 2023) | 
| EndedAt: 2023-04-17 23:04:53 -0400 (Mon, 17 Apr 2023) | 
| EllapsedTime: 66.4 seconds | 
| RetCode: 0 | 
| Status: OK | 
| PackageFile: pvac_1.46.0.tar.gz | 
| PackageFileSize: 256.6 KiB | 
############################################################################## ############################################################################## ### ### Running command: ### ### /Library/Frameworks/R.framework/Resources/bin/R CMD build --keep-empty-dirs --no-resave-data pvac ### ############################################################################## ############################################################################## * checking for file ‘pvac/DESCRIPTION’ ... OK * preparing ‘pvac’: * checking DESCRIPTION meta-information ... OK * installing the package to build vignettes * creating vignettes ... OK * checking for LF line-endings in source and make files and shell scripts * checking for empty or unneeded directories * building ‘pvac_1.46.0.tar.gz’