| lamb2 | 
Linux (openSUSE 11.2) / x86_64  |  |  |  | 
| gewurz | 
Windows Server 2008 R2 Enterprise (64-bit) / x64  |  |  |  | 
| petty | 
Mac OS X Snow Leopard (10.6.6) / i386  |  |  |  | 
affycompData 0.99.0 Harris Jaffee
 | Last Changed Rev: 1462 / Revision: 1510 |  | Last Changed Date: 2011-03-24 10:50:38 -0700 |  
  | lamb2  | Linux (openSUSE 11.2) / x86_64  |  OK  |  ERROR  |  | 
| gewurz  | Windows Server 2008 R2 Enterprise (64-bit) / x64  |  OK  |  ERROR  |  ERROR  | 
| petty  | Mac OS X Snow Leopard (10.6.6) / i386  |  OK  |  ERROR  |  ERROR  | 
affydata 1.11.11 Harris Jaffee
 | Last Changed Rev: 1455 / Revision: 1510 |  | Last Changed Date: 2011-03-15 08:05:02 -0700 |  
  | lamb2  | Linux (openSUSE 11.2) / x86_64  |  OK  |  OK  |  | 
| gewurz  | Windows Server 2008 R2 Enterprise (64-bit) / x64  |  OK  |  OK  |  OK  | 
| petty  | Mac OS X Snow Leopard (10.6.6) / i386  |  OK  |  OK  |  OK  | 
AffymetrixDataTestFiles 0.1.2 Henrik Bengtsson
 | Last Changed Rev: 959 / Revision: 1510 |  | Last Changed Date: 2009-09-10 11:19:18 -0700 |  
  | lamb2  | Linux (openSUSE 11.2) / x86_64  |  OK  |  OK  |  | 
| gewurz  | Windows Server 2008 R2 Enterprise (64-bit) / x64  |  OK  |  OK  |  OK  | 
| petty  | Mac OS X Snow Leopard (10.6.6) / i386  |  OK  |  OK  |  OK  | 
ALL 1.4.7 Xiaochun Li
 | Last Changed Rev: 1061 / Revision: 1510 |  | Last Changed Date: 2009-10-13 23:43:09 -0700 |  
  | lamb2  | Linux (openSUSE 11.2) / x86_64  |  OK  |  OK  |  | 
| gewurz  | Windows Server 2008 R2 Enterprise (64-bit) / x64  |  OK  |  OK  |  OK  | 
| petty  | Mac OS X Snow Leopard (10.6.6) / i386  |  OK  |  OK  |  OK  | 
ALLMLL 1.2.8 B. M. Bolstad
 | Last Changed Rev: 1371 / Revision: 1510 |  | Last Changed Date: 2010-10-18 10:32:00 -0700 |  
  | lamb2  | Linux (openSUSE 11.2) / x86_64  |  OK  |  OK  |  | 
| gewurz  | Windows Server 2008 R2 Enterprise (64-bit) / x64  |  OK  |  OK  |  OK  | 
| petty  | Mac OS X Snow Leopard (10.6.6) / i386  |  OK  |  OK  |  OK  | 
AmpAffyExample 1.2.5 Rafael A. Irizarry
 | Last Changed Rev: 1362 / Revision: 1510 |  | Last Changed Date: 2010-10-15 14:12:00 -0700 |  
  | lamb2  | Linux (openSUSE 11.2) / x86_64  |  OK  |  OK  |  | 
| gewurz  | Windows Server 2008 R2 Enterprise (64-bit) / x64  |  OK  |  OK  |  OK  | 
| petty  | Mac OS X Snow Leopard (10.6.6) / i386  |  OK  |  OK  |  OK  | 
beta7 1.0.0 Jean Yang
 | Last Changed Rev: 780 / Revision: 1510 |  | Last Changed Date: 2009-05-08 11:53:22 -0700 |  
  | lamb2  | Linux (openSUSE 11.2) / x86_64  |  OK  |  WARNINGS  |  | 
| gewurz  | Windows Server 2008 R2 Enterprise (64-bit) / x64  |  OK  |  WARNINGS  |  OK  | 
| petty  | Mac OS X Snow Leopard (10.6.6) / i386  |  OK  |  WARNINGS  |  OK  | 
breastCancerMAINZ 0.99.0 Markus Schroeder , Benjamin Haibe-Kains
 | Last Changed Rev: 1499 / Revision: 1510 |  | Last Changed Date: 2011-04-05 22:03:32 -0700 |  
  | lamb2  | Linux (openSUSE 11.2) / x86_64  |  OK  |  OK  |  | 
| gewurz  | Windows Server 2008 R2 Enterprise (64-bit) / x64  |  OK  |  OK  |  OK  | 
| petty  | Mac OS X Snow Leopard (10.6.6) / i386  |  OK  |  OK  |  OK  | 
breastCancerNKI 0.99.0 Markus Schroeder , Benjamin Haibe-Kains
 | Last Changed Rev: 1500 / Revision: 1510 |  | Last Changed Date: 2011-04-05 22:04:46 -0700 |  
  | lamb2  | Linux (openSUSE 11.2) / x86_64  |  OK  |  OK  |  | 
| gewurz  | Windows Server 2008 R2 Enterprise (64-bit) / x64  |  OK  |  OK  |  OK  | 
| petty  | Mac OS X Snow Leopard (10.6.6) / i386  |  OK  |  OK  |  OK  | 
breastCancerTRANSBIG 0.99.0 Markus Schroeder , Benjamin Haibe-Kains
 | Last Changed Rev: 1501 / Revision: 1510 |  | Last Changed Date: 2011-04-05 22:07:15 -0700 |  
  | lamb2  | Linux (openSUSE 11.2) / x86_64  |  OK  |  OK  |  | 
| gewurz  | Windows Server 2008 R2 Enterprise (64-bit) / x64  |  OK  |  OK  |  OK  | 
| petty  | Mac OS X Snow Leopard (10.6.6) / i386  |  OK  |  OK  |  OK  | 
breastCancerUNT 0.99.0 Markus Schroeder , Benjamin Haibe-Kains
 | Last Changed Rev: 1503 / Revision: 1510 |  | Last Changed Date: 2011-04-05 22:09:09 -0700 |  
  | lamb2  | Linux (openSUSE 11.2) / x86_64  |  OK  |  OK  |  | 
| gewurz  | Windows Server 2008 R2 Enterprise (64-bit) / x64  |  OK  |  OK  |  OK  | 
| petty  | Mac OS X Snow Leopard (10.6.6) / i386  |  OK  |  OK  |  OK  | 
breastCancerUPP 0.99.0 Markus Schroeder , Benjamin Haibe-Kains
 | Last Changed Rev: 1504 / Revision: 1510 |  | Last Changed Date: 2011-04-05 22:09:37 -0700 |  
  | lamb2  | Linux (openSUSE 11.2) / x86_64  |  OK  |  OK  |  | 
| gewurz  | Windows Server 2008 R2 Enterprise (64-bit) / x64  |  OK  |  OK  |  OK  | 
| petty  | Mac OS X Snow Leopard (10.6.6) / i386  |  OK  |  OK  |  OK  | 
breastCancerVDX 0.99.0 Markus Schroeder , Benjamin Haibe-Kains
 | Last Changed Rev: 1505 / Revision: 1510 |  | Last Changed Date: 2011-04-05 22:09:57 -0700 |  
  | lamb2  | Linux (openSUSE 11.2) / x86_64  |  OK  |  OK  |  | 
| gewurz  | Windows Server 2008 R2 Enterprise (64-bit) / x64  |  OK  |  OK  |  OK  | 
| petty  | Mac OS X Snow Leopard (10.6.6) / i386  |  OK  |  OK  |  OK  | 
bronchialIL13 1.0-6 Vince Carey
 | Last Changed Rev: 1494 / Revision: 1510 |  | Last Changed Date: 2011-04-05 04:24:32 -0700 |  
  | lamb2  | Linux (openSUSE 11.2) / x86_64  |  OK  |  OK  |  | 
| gewurz  | Windows Server 2008 R2 Enterprise (64-bit) / x64  |  OK  |  OK  |  OK  | 
| petty  | Mac OS X Snow Leopard (10.6.6) / i386  |  OK  |  OK  |  OK  | 
CCl4 1.0.9 Audrey Kauffmann
 | Last Changed Rev: 959 / Revision: 1510 |  | Last Changed Date: 2009-09-10 11:19:18 -0700 |  
  | lamb2  | Linux (openSUSE 11.2) / x86_64  |  OK  |  OK  |  | 
| gewurz  | Windows Server 2008 R2 Enterprise (64-bit) / x64  |  OK  |  OK  |  OK  | 
| petty  | Mac OS X Snow Leopard (10.6.6) / i386  |  OK  |  OK  |  OK  | 
ccTutorial 1.0.17 Joern Toedling
 | Last Changed Rev: 1044 / Revision: 1510 |  | Last Changed Date: 2009-10-13 18:55:23 -0700 |  
  | lamb2  | Linux (openSUSE 11.2) / x86_64  |  OK  |  OK  |  | 
| gewurz  | Windows Server 2008 R2 Enterprise (64-bit) / x64  |  OK  |  OK  |  OK  | 
| petty  | Mac OS X Snow Leopard (10.6.6) / i386  |  OK  |  OK  |  OK  | 
ceu1kg 0.0.23 VJ Carey
 | Last Changed Rev: 1510 / Revision: 1510 |  | Last Changed Date: 2011-04-06 06:29:06 -0700 |  
  | lamb2  | Linux (openSUSE 11.2) / x86_64  |  ERROR  |  skipped  |  | 
| gewurz  | Windows Server 2008 R2 Enterprise (64-bit) / x64  |  ERROR  |  skipped  |  skipped  | 
| petty  | Mac OS X Snow Leopard (10.6.6) / i386  |  ERROR  |  skipped  |  skipped  | 
ceuhm3 0.0.6 VJ Carey
 | Last Changed Rev: 1386 / Revision: 1510 |  | Last Changed Date: 2010-11-28 20:40:06 -0800 |  
  | lamb2  | Linux (openSUSE 11.2) / x86_64  |  OK  |  OK  |  | 
| gewurz  | Windows Server 2008 R2 Enterprise (64-bit) / x64  |  OK  |  OK  |  OK  | 
| petty  | Mac OS X Snow Leopard (10.6.6) / i386  |  OK  |  OK  |  OK  | 
charmData 0.99.3 Martin Aryee
 | Last Changed Rev: 1337 / Revision: 1510 |  | Last Changed Date: 2010-10-13 17:43:10 -0700 |  
  | lamb2  | Linux (openSUSE 11.2) / x86_64  |  OK  |  WARNINGS  |  | 
| gewurz  | Windows Server 2008 R2 Enterprise (64-bit) / x64  |  OK  |  WARNINGS  |  OK  | 
| petty  | Mac OS X Snow Leopard (10.6.6) / i386  |  OK  |  WARNINGS  |  OK  | 
CLL 1.2.8 Robert Gentleman
 | Last Changed Rev: 1063 / Revision: 1510 |  | Last Changed Date: 2009-10-13 23:47:36 -0700 |  
  | lamb2  | Linux (openSUSE 11.2) / x86_64  |  OK  |  OK  |  | 
| gewurz  | Windows Server 2008 R2 Enterprise (64-bit) / x64  |  OK  |  OK  |  OK  | 
| petty  | Mac OS X Snow Leopard (10.6.6) / i386  |  OK  |  OK  |  OK  | 
colonCA 1.4.5 W Sylvia Merk
 | Last Changed Rev: 973 / Revision: 1510 |  | Last Changed Date: 2009-09-15 11:29:54 -0700 |  
  | lamb2  | Linux (openSUSE 11.2) / x86_64  |  OK  |  OK  |  | 
| gewurz  | Windows Server 2008 R2 Enterprise (64-bit) / x64  |  OK  |  OK  |  OK  | 
| petty  | Mac OS X Snow Leopard (10.6.6) / i386  |  OK  |  OK  |  OK  | 
davidTiling 1.2.12 Wolfgang Huber
 | Last Changed Rev: 1042 / Revision: 1510 |  | Last Changed Date: 2009-10-13 18:35:32 -0700 |  
  | lamb2  | Linux (openSUSE 11.2) / x86_64  |  OK  |  OK  |  | 
| gewurz  | Windows Server 2008 R2 Enterprise (64-bit) / x64  |  OK  |  OK  |  OK  | 
| petty  | Mac OS X Snow Leopard (10.6.6) / i386  |  OK  |  OK  |  OK  | 
DLBCL 1.3.1 Marcus Dittrich
 | Last Changed Rev: 1249 / Revision: 1510 |  | Last Changed Date: 2010-07-14 17:29:10 -0700 |  
  | lamb2  | Linux (openSUSE 11.2) / x86_64  |  OK  |  OK  |  | 
| gewurz  | Windows Server 2008 R2 Enterprise (64-bit) / x64  |  OK  |  OK  |  OK  | 
| petty  | Mac OS X Snow Leopard (10.6.6) / i386  |  OK  |  OK  |  OK  | 
dressCheck 0.1.1 Vincent Carey
 | Last Changed Rev: 1340 / Revision: 1510 |  | Last Changed Date: 2010-10-13 18:08:35 -0700 |  
  | lamb2  | Linux (openSUSE 11.2) / x86_64  |  OK  |  OK  |  | 
| gewurz  | Windows Server 2008 R2 Enterprise (64-bit) / x64  |  OK  |  OK  |  OK  | 
| petty  | Mac OS X Snow Leopard (10.6.6) / i386  |  OK  |  OK  |  OK  | 
dyebiasexamples 1.0.6 Philip Lijnzaad
 | Last Changed Rev: 1102 / Revision: 1510 |  | Last Changed Date: 2009-12-09 04:12:52 -0800 |  
  | lamb2  | Linux (openSUSE 11.2) / x86_64  |  OK  |  OK  |  | 
| gewurz  | Windows Server 2008 R2 Enterprise (64-bit) / x64  |  OK  |  OK  |  OK  | 
| petty  | Mac OS X Snow Leopard (10.6.6) / i386  |  OK  |  OK  |  OK  | 
EatonEtAlChIPseq 0.0.1 Patrick Aboyoun
 | Last Changed Rev: 1221 / Revision: 1510 |  | Last Changed Date: 2010-05-03 12:16:04 -0700 |  
  | lamb2  | Linux (openSUSE 11.2) / x86_64  |  OK  |  OK  |  | 
| gewurz  | Windows Server 2008 R2 Enterprise (64-bit) / x64  |  OK  |  OK  |  OK  | 
| petty  | Mac OS X Snow Leopard (10.6.6) / i386  |  OK  |  OK  |  OK  | 
ecoliLeucine 1.2.5 Laurent Gautier
 | Last Changed Rev: 1363 / Revision: 1510 |  | Last Changed Date: 2010-10-15 14:12:55 -0700 |  
  | lamb2  | Linux (openSUSE 11.2) / x86_64  |  OK  |  OK  |  | 
| gewurz  | Windows Server 2008 R2 Enterprise (64-bit) / x64  |  OK  |  OK  |  OK  | 
| petty  | Mac OS X Snow Leopard (10.6.6) / i386  |  OK  |  OK  |  OK  | 
encoDnaseI 0.1.6 VJ Carey
 | Last Changed Rev: 1342 / Revision: 1510 |  | Last Changed Date: 2010-10-13 18:21:56 -0700 |  
  | lamb2  | Linux (openSUSE 11.2) / x86_64  |  ERROR  |  skipped  |  | 
| gewurz  | Windows Server 2008 R2 Enterprise (64-bit) / x64  |  ERROR  |  skipped  |  skipped  | 
| petty  | Mac OS X Snow Leopard (10.6.6) / i386  |  ERROR  |  skipped  |  skipped  | 
estrogen 1.8.5 R. Gentleman
 | Last Changed Rev: 1036 / Revision: 1510 |  | Last Changed Date: 2009-10-12 11:55:42 -0700 |  
  | lamb2  | Linux (openSUSE 11.2) / x86_64  |  OK  |  OK  |  | 
| gewurz  | Windows Server 2008 R2 Enterprise (64-bit) / x64  |  OK  |  OK  |  OK  | 
| petty  | Mac OS X Snow Leopard (10.6.6) / i386  |  OK  |  OK  |  OK  | 
faahKO 1.2.5 Colin A. Smith
 | Last Changed Rev: 1232 / Revision: 1510 |  | Last Changed Date: 2010-06-30 04:55:50 -0700 |  
  | lamb2  | Linux (openSUSE 11.2) / x86_64  |  OK  |  WARNINGS  |  | 
| gewurz  | Windows Server 2008 R2 Enterprise (64-bit) / x64  |  OK  |  WARNINGS  |  OK  | 
| petty  | Mac OS X Snow Leopard (10.6.6) / i386  |  OK  |  WARNINGS  |  OK  | 
facsDorit 1.4.2 Florian Hahne
 | Last Changed Rev: 959 / Revision: 1510 |  | Last Changed Date: 2009-09-10 11:19:18 -0700 |  
  | lamb2  | Linux (openSUSE 11.2) / x86_64  |  OK  |  OK  |  | 
| gewurz  | Windows Server 2008 R2 Enterprise (64-bit) / x64  |  OK  |  OK  |  OK  | 
| petty  | Mac OS X Snow Leopard (10.6.6) / i386  |  OK  |  OK  |  OK  | 
fibroEset 1.4.4 Sylvia Merk
 | Last Changed Rev: 976 / Revision: 1510 |  | Last Changed Date: 2009-09-15 11:40:21 -0700 |  
  | lamb2  | Linux (openSUSE 11.2) / x86_64  |  OK  |  OK  |  | 
| gewurz  | Windows Server 2008 R2 Enterprise (64-bit) / x64  |  OK  |  OK  |  OK  | 
| petty  | Mac OS X Snow Leopard (10.6.6) / i386  |  OK  |  OK  |  OK  | 
frmaExampleData 0.99.0 Matthew N. McCall
 | Last Changed Rev: 1134 / Revision: 1510 |  | Last Changed Date: 2010-02-03 13:37:59 -0800 |  
  | lamb2  | Linux (openSUSE 11.2) / x86_64  |  OK  |  OK  |  | 
| gewurz  | Windows Server 2008 R2 Enterprise (64-bit) / x64  |  OK  |  OK  |  OK  | 
| petty  | Mac OS X Snow Leopard (10.6.6) / i386  |  OK  |  OK  |  OK  | 
gageData 1.1.0 Weijun Luo
 | Last Changed Rev: 1374 / Revision: 1510 |  | Last Changed Date: 2010-10-21 07:22:11 -0700 |  
  | lamb2  | Linux (openSUSE 11.2) / x86_64  |  OK  |  OK  |  | 
| gewurz  | Windows Server 2008 R2 Enterprise (64-bit) / x64  |  OK  |  OK  |  OK  | 
| petty  | Mac OS X Snow Leopard (10.6.6) / i386  |  OK  |  OK  |  OK  | 
gaschYHS 1.0.3 Vince Carey
 | Last Changed Rev: 1026 / Revision: 1510 |  | Last Changed Date: 2009-10-06 16:38:50 -0700 |  
  | lamb2  | Linux (openSUSE 11.2) / x86_64  |  OK  |  OK  |  | 
| gewurz  | Windows Server 2008 R2 Enterprise (64-bit) / x64  |  OK  |  OK  |  OK  | 
| petty  | Mac OS X Snow Leopard (10.6.6) / i386  |  OK  |  OK  |  OK  | 
gatingMLData 1.0.2 Nishant Gopalakrishnan
 | Last Changed Rev: 792 / Revision: 1510 |  | Last Changed Date: 2009-05-11 11:47:30 -0700 |  
  | lamb2  | Linux (openSUSE 11.2) / x86_64  |  OK  |  OK  |  | 
| gewurz  | Windows Server 2008 R2 Enterprise (64-bit) / x64  |  OK  |  OK  |  OK  | 
| petty  | Mac OS X Snow Leopard (10.6.6) / i386  |  OK  |  OK  |  OK  | 
gcspikelite 1.0.4 Mark Robinson
 | Last Changed Rev: 1368 / Revision: 1510 |  | Last Changed Date: 2010-10-16 09:36:58 -0700 |  
  | lamb2  | Linux (openSUSE 11.2) / x86_64  |  OK  |  OK  |  | 
| gewurz  | Windows Server 2008 R2 Enterprise (64-bit) / x64  |  OK  |  OK  |  OK  | 
| petty  | Mac OS X Snow Leopard (10.6.6) / i386  |  OK  |  OK  |  OK  | 
geneLenDataBase 0.99.7 Matthew Young
 | Last Changed Rev: 1487 / Revision: 1510 |  | Last Changed Date: 2011-03-29 20:53:14 -0700 |  
  | lamb2  | Linux (openSUSE 11.2) / x86_64  |  OK  |  ERROR  |  | 
| gewurz  | Windows Server 2008 R2 Enterprise (64-bit) / x64  |  OK  |  ERROR  |  ERROR  | 
| petty  | Mac OS X Snow Leopard (10.6.6) / i386  |  OK  |  ERROR  |  ERROR  | 
GGdata 1.0.11 VJ Carey
 | Last Changed Rev: 1491 / Revision: 1510 |  | Last Changed Date: 2011-04-03 05:54:05 -0700 |  
  | lamb2  | Linux (openSUSE 11.2) / x86_64  |  OK  |  ERROR  |  | 
| gewurz  | Windows Server 2008 R2 Enterprise (64-bit) / x64  |  OK  |  ERROR  |  ERROR  | 
| petty  | Mac OS X Snow Leopard (10.6.6) / i386  |  OK  |  ERROR  |  ERROR  | 
golubEsets 1.4.7 Vince Carey
 | Last Changed Rev: 980 / Revision: 1510 |  | Last Changed Date: 2009-09-15 11:49:40 -0700 |  
  | lamb2  | Linux (openSUSE 11.2) / x86_64  |  OK  |  OK  |  | 
| gewurz  | Windows Server 2008 R2 Enterprise (64-bit) / x64  |  OK  |  OK  |  OK  | 
| petty  | Mac OS X Snow Leopard (10.6.6) / i386  |  OK  |  OK  |  OK  | 
hapmap100khind 1.3.32 Benilton Carvalho
 | Last Changed Rev: 1037 / Revision: 1510 |  | Last Changed Date: 2009-10-12 11:58:09 -0700 |  
  | lamb2  | Linux (openSUSE 11.2) / x86_64  |  OK  |  OK  |  | 
| gewurz  | Windows Server 2008 R2 Enterprise (64-bit) / x64  |  OK  |  OK  |  OK  | 
| petty  | Mac OS X Snow Leopard (10.6.6) / i386  |  OK  |  OK  |  OK  | 
hapmap100kxba 1.3.3 Benilton Carvalho
 | Last Changed Rev: 1032 / Revision: 1510 |  | Last Changed Date: 2009-10-06 16:56:18 -0700 |  
  | lamb2  | Linux (openSUSE 11.2) / x86_64  |  OK  |  OK  |  | 
| gewurz  | Windows Server 2008 R2 Enterprise (64-bit) / x64  |  OK  |  OK  |  OK  | 
| petty  | Mac OS X Snow Leopard (10.6.6) / i386  |  OK  |  OK  |  OK  | 
hapmap500knsp 1.3.3 Benilton Carvalho
 | Last Changed Rev: 1028 / Revision: 1510 |  | Last Changed Date: 2009-10-06 16:52:21 -0700 |  
  | lamb2  | Linux (openSUSE 11.2) / x86_64  |  OK  |  OK  |  | 
| gewurz  | Windows Server 2008 R2 Enterprise (64-bit) / x64  |  OK  |  OK  |  OK  | 
| petty  | Mac OS X Snow Leopard (10.6.6) / i386  |  OK  |  OK  |  OK  | 
hapmap500ksty 1.3.3 Benilton Carvalho
 | Last Changed Rev: 1031 / Revision: 1510 |  | Last Changed Date: 2009-10-06 16:55:26 -0700 |  
  | lamb2  | Linux (openSUSE 11.2) / x86_64  |  OK  |  OK  |  | 
| gewurz  | Windows Server 2008 R2 Enterprise (64-bit) / x64  |  OK  |  OK  |  OK  | 
| petty  | Mac OS X Snow Leopard (10.6.6) / i386  |  OK  |  OK  |  OK  | 
hapmapsnp5 1.3.3 Benilton Carvalho
 | Last Changed Rev: 1030 / Revision: 1510 |  | Last Changed Date: 2009-10-06 16:54:25 -0700 |  
  | lamb2  | Linux (openSUSE 11.2) / x86_64  |  OK  |  OK  |  | 
| gewurz  | Windows Server 2008 R2 Enterprise (64-bit) / x64  |  OK  |  OK  |  OK  | 
| petty  | Mac OS X Snow Leopard (10.6.6) / i386  |  OK  |  OK  |  OK  | 
hapmapsnp6 1.3.3 Benilton Carvalho
 | Last Changed Rev: 1029 / Revision: 1510 |  | Last Changed Date: 2009-10-06 16:53:25 -0700 |  
  | lamb2  | Linux (openSUSE 11.2) / x86_64  |  OK  |  OK  |  | 
| gewurz  | Windows Server 2008 R2 Enterprise (64-bit) / x64  |  OK  |  OK  |  OK  | 
| petty  | Mac OS X Snow Leopard (10.6.6) / i386  |  OK  |  OK  |  OK  | 
harbChIP 1.0.5 VJ Carey
 | Last Changed Rev: 1209 / Revision: 1510 |  | Last Changed Date: 2010-04-11 09:43:18 -0700 |  
  | lamb2  | Linux (openSUSE 11.2) / x86_64  |  OK  |  OK  |  | 
| gewurz  | Windows Server 2008 R2 Enterprise (64-bit) / x64  |  OK  |  OK  |  OK  | 
| petty  | Mac OS X Snow Leopard (10.6.6) / i386  |  OK  |  OK  |  OK  | 
HEEBOdata 1.0.0 Agnes Paquet
 | Last Changed Rev: 142 / Revision: 1510 |  | Last Changed Date: 2006-09-28 18:17:09 -0700 |  
  | lamb2  | Linux (openSUSE 11.2) / x86_64  |  OK  |  OK  |  | 
| gewurz  | Windows Server 2008 R2 Enterprise (64-bit) / x64  |  OK  |  OK  |  OK  | 
| petty  | Mac OS X Snow Leopard (10.6.6) / i386  |  OK  |  OK  |  OK  | 
hgu133abarcodevecs 1.0.1 Matthew N. McCall
 | Last Changed Rev: 1353 / Revision: 1510 |  | Last Changed Date: 2010-10-14 05:31:54 -0700 |  
  | lamb2  | Linux (openSUSE 11.2) / x86_64  |  OK  |  OK  |  | 
| gewurz  | Windows Server 2008 R2 Enterprise (64-bit) / x64  |  OK  |  OK  |  OK  | 
| petty  | Mac OS X Snow Leopard (10.6.6) / i386  |  OK  |  OK  |  OK  | 
hgu133afrmavecs 1.1.6 Matthew N. McCall
 | Last Changed Rev: 1441 / Revision: 1510 |  | Last Changed Date: 2011-03-04 13:39:17 -0800 |  
  | lamb2  | Linux (openSUSE 11.2) / x86_64  |  OK  |  WARNINGS  |  | 
| gewurz  | Windows Server 2008 R2 Enterprise (64-bit) / x64  |  OK  |  WARNINGS  |  OK  | 
| petty  | Mac OS X Snow Leopard (10.6.6) / i386  |  OK  |  WARNINGS  |  OK  | 
hgu133plus2barcodevecs 1.0.1 Matthew N. McCall
 | Last Changed Rev: 1354 / Revision: 1510 |  | Last Changed Date: 2010-10-14 05:32:33 -0700 |  
  | lamb2  | Linux (openSUSE 11.2) / x86_64  |  OK  |  OK  |  | 
| gewurz  | Windows Server 2008 R2 Enterprise (64-bit) / x64  |  OK  |  OK  |  OK  | 
| petty  | Mac OS X Snow Leopard (10.6.6) / i386  |  OK  |  OK  |  OK  | 
hgu133plus2frmavecs 1.1.6 Matthew N. McCall
 | Last Changed Rev: 1443 / Revision: 1510 |  | Last Changed Date: 2011-03-04 13:41:04 -0800 |  
  | lamb2  | Linux (openSUSE 11.2) / x86_64  |  OK  |  OK  |  | 
| gewurz  | Windows Server 2008 R2 Enterprise (64-bit) / x64  |  OK  |  OK  |  OK  | 
| petty  | Mac OS X Snow Leopard (10.6.6) / i386  |  OK  |  OK  |  OK  | 
hgu2beta7 1.2.2 Biocore Team c/o BioC user list
 | Last Changed Rev: 782 / Revision: 1510 |  | Last Changed Date: 2009-05-08 12:29:52 -0700 |  
  | lamb2  | Linux (openSUSE 11.2) / x86_64  |  OK  |  WARNINGS  |  | 
| gewurz  | Windows Server 2008 R2 Enterprise (64-bit) / x64  |  OK  |  WARNINGS  |  OK  | 
| petty  | Mac OS X Snow Leopard (10.6.6) / i386  |  OK  |  WARNINGS  |  OK  | 
HIVcDNAvantWout03 1.2.3 Chris Fraley
 | Last Changed Rev: 959 / Revision: 1510 |  | Last Changed Date: 2009-09-10 11:19:18 -0700 |  
  | lamb2  | Linux (openSUSE 11.2) / x86_64  |  OK  |  OK  |  | 
| gewurz  | Windows Server 2008 R2 Enterprise (64-bit) / x64  |  OK  |  OK  |  OK  | 
| petty  | Mac OS X Snow Leopard (10.6.6) / i386  |  OK  |  OK  |  OK  | 
hmyriB36 0.99.8 Vincent Carey
 | Last Changed Rev: 1492 / Revision: 1510 |  | Last Changed Date: 2011-04-03 06:38:16 -0700 |  
  | lamb2  | Linux (openSUSE 11.2) / x86_64  |  OK  |  ERROR  |  | 
| gewurz  | Windows Server 2008 R2 Enterprise (64-bit) / x64  |  OK  |  ERROR  |  ERROR  | 
| petty  | Mac OS X Snow Leopard (10.6.6) / i386  |  OK  |  ERROR  |  ERROR  | 
humanStemCell 0.2.3 R. Gentleman
 | Last Changed Rev: 906 / Revision: 1510 |  | Last Changed Date: 2009-07-24 17:41:39 -0700 |  
  | lamb2  | Linux (openSUSE 11.2) / x86_64  |  OK  |  OK  |  | 
| gewurz  | Windows Server 2008 R2 Enterprise (64-bit) / x64  |  OK  |  OK  |  OK  | 
| petty  | Mac OS X Snow Leopard (10.6.6) / i386  |  OK  |  OK  |  OK  | 
ind1KG 0.1.5 VJ Carey
 | Last Changed Rev: 1348 / Revision: 1510 |  | Last Changed Date: 2010-10-13 19:41:41 -0700 |  
  | lamb2  | Linux (openSUSE 11.2) / x86_64  |  OK  |  OK  |  | 
| gewurz  | Windows Server 2008 R2 Enterprise (64-bit) / x64  |  ERROR  |  skipped  |  skipped  | 
| petty  | Mac OS X Snow Leopard (10.6.6) / i386  |  OK  |  OK  |  OK  | 
ITALICSData 2.0.2 Guillem Rigaill
 | Last Changed Rev: 1489 / Revision: 1510 |  | Last Changed Date: 2011-04-01 11:03:10 -0700 |  
  | lamb2  | Linux (openSUSE 11.2) / x86_64  |  OK  |  OK  |  | 
| gewurz  | Windows Server 2008 R2 Enterprise (64-bit) / x64  |  OK  |  OK  |  OK  | 
| petty  | Mac OS X Snow Leopard (10.6.6) / i386  |  OK  |  OK  |  OK  | 
Iyer517 1.4.5 Vince Carey
 | Last Changed Rev: 1341 / Revision: 1510 |  | Last Changed Date: 2010-10-13 18:09:14 -0700 |  
  | lamb2  | Linux (openSUSE 11.2) / x86_64  |  OK  |  OK  |  | 
| gewurz  | Windows Server 2008 R2 Enterprise (64-bit) / x64  |  OK  |  OK  |  OK  | 
| petty  | Mac OS X Snow Leopard (10.6.6) / i386  |  OK  |  OK  |  OK  | 
kidpack 1.5.7 Wolfgang Huber
 | Last Changed Rev: 1057 / Revision: 1510 |  | Last Changed Date: 2009-10-13 23:37:03 -0700 |  
  | lamb2  | Linux (openSUSE 11.2) / x86_64  |  OK  |  OK  |  | 
| gewurz  | Windows Server 2008 R2 Enterprise (64-bit) / x64  |  OK  |  OK  |  OK  | 
| petty  | Mac OS X Snow Leopard (10.6.6) / i386  |  OK  |  OK  |  OK  | 
leeBamViews 0.99.11 VJ Carey
 | Last Changed Rev: 1361 / Revision: 1510 |  | Last Changed Date: 2010-10-14 21:15:12 -0700 |  
  | lamb2  | Linux (openSUSE 11.2) / x86_64  |  OK  |  OK  |  | 
| gewurz  | Windows Server 2008 R2 Enterprise (64-bit) / x64  |  OK  |  OK  |  OK  | 
| petty  | Mac OS X Snow Leopard (10.6.6) / i386  |  OK  |  OK  |  OK  | 
lumiBarnes 1.3.5 Pan Du
 | Last Changed Rev: 1359 / Revision: 1510 |  | Last Changed Date: 2010-10-14 20:51:04 -0700 |  
  | lamb2  | Linux (openSUSE 11.2) / x86_64  |  OK  |  OK  |  | 
| gewurz  | Windows Server 2008 R2 Enterprise (64-bit) / x64  |  OK  |  OK  |  OK  | 
| petty  | Mac OS X Snow Leopard (10.6.6) / i386  |  OK  |  OK  |  OK  | 
lungExpression 0.0.10 Robert Scharpf
 | Last Changed Rev: 959 / Revision: 1510 |  | Last Changed Date: 2009-09-10 11:19:18 -0700 |  
  | lamb2  | Linux (openSUSE 11.2) / x86_64  |  OK  |  OK  |  | 
| gewurz  | Windows Server 2008 R2 Enterprise (64-bit) / x64  |  OK  |  OK  |  OK  | 
| petty  | Mac OS X Snow Leopard (10.6.6) / i386  |  OK  |  OK  |  OK  | 
maqcExpression4plex 1.2.0 Benilton Carvalho
 | Last Changed Rev: 1239 / Revision: 1510 |  | Last Changed Date: 2010-07-06 18:11:50 -0700 |  
  | lamb2  | Linux (openSUSE 11.2) / x86_64  |  OK  |  OK  |  | 
| gewurz  | Windows Server 2008 R2 Enterprise (64-bit) / x64  |  OK  |  OK  |  OK  | 
| petty  | Mac OS X Snow Leopard (10.6.6) / i386  |  OK  |  OK  |  OK  | 
MAQCsubset 1.0.20 VJ Carey
 | Last Changed Rev: 1345 / Revision: 1510 |  | Last Changed Date: 2010-10-13 19:10:00 -0700 |  
  | lamb2  | Linux (openSUSE 11.2) / x86_64  |  OK  |  OK  |  | 
| gewurz  | Windows Server 2008 R2 Enterprise (64-bit) / x64  |  OK  |  OK  |  OK  | 
| petty  | Mac OS X Snow Leopard (10.6.6) / i386  |  OK  |  OK  |  OK  | 
MAQCsubsetAFX 1.0.3 Laurent Gatto
 | Last Changed Rev: 1071 / Revision: 1510 |  | Last Changed Date: 2009-10-14 00:23:52 -0700 |  
  | lamb2  | Linux (openSUSE 11.2) / x86_64  |  OK  |  OK  |  | 
| gewurz  | Windows Server 2008 R2 Enterprise (64-bit) / x64  |  OK  |  OK  |  OK  | 
| petty  | Mac OS X Snow Leopard (10.6.6) / i386  |  OK  |  OK  |  OK  | 
MAQCsubsetILM 1.0.2 Laurent Gatto
 | Last Changed Rev: 959 / Revision: 1510 |  | Last Changed Date: 2009-09-10 11:19:18 -0700 |  
  | lamb2  | Linux (openSUSE 11.2) / x86_64  |  OK  |  OK  |  | 
| gewurz  | Windows Server 2008 R2 Enterprise (64-bit) / x64  |  OK  |  OK  |  OK  | 
| petty  | Mac OS X Snow Leopard (10.6.6) / i386  |  OK  |  OK  |  OK  | 
MEEBOdata 1.0.0 Agnes Paquet
 | Last Changed Rev: 142 / Revision: 1510 |  | Last Changed Date: 2006-09-28 18:17:09 -0700 |  
  | lamb2  | Linux (openSUSE 11.2) / x86_64  |  OK  |  OK  |  | 
| gewurz  | Windows Server 2008 R2 Enterprise (64-bit) / x64  |  OK  |  OK  |  OK  | 
| petty  | Mac OS X Snow Leopard (10.6.6) / i386  |  OK  |  OK  |  OK  | 
mosaicsExample 0.99.3 Dongjun Chung
 | Last Changed Rev: 1485 / Revision: 1510 |  | Last Changed Date: 2011-03-28 11:57:04 -0700 |  
  | lamb2  | Linux (openSUSE 11.2) / x86_64  |  OK  |  OK  |  | 
| gewurz  | Windows Server 2008 R2 Enterprise (64-bit) / x64  |  OK  |  OK  |  OK  | 
| petty  | Mac OS X Snow Leopard (10.6.6) / i386  |  OK  |  OK  |  OK  | 
mouse4302barcodevecs 1.0.1 Matthew N. McCall
 | Last Changed Rev: 1355 / Revision: 1510 |  | Last Changed Date: 2010-10-14 05:33:08 -0700 |  
  | lamb2  | Linux (openSUSE 11.2) / x86_64  |  OK  |  OK  |  | 
| gewurz  | Windows Server 2008 R2 Enterprise (64-bit) / x64  |  OK  |  OK  |  OK  | 
| petty  | Mac OS X Snow Leopard (10.6.6) / i386  |  OK  |  OK  |  OK  | 
mouse4302frmavecs 1.1.6 Matthew N. McCall
 | Last Changed Rev: 1444 / Revision: 1510 |  | Last Changed Date: 2011-03-04 13:42:20 -0800 |  
  | lamb2  | Linux (openSUSE 11.2) / x86_64  |  OK  |  OK  |  | 
| gewurz  | Windows Server 2008 R2 Enterprise (64-bit) / x64  |  OK  |  OK  |  OK  | 
| petty  | Mac OS X Snow Leopard (10.6.6) / i386  |  OK  |  OK  |  OK  | 
msdata 0.1.5 Steffen Neumann
 | Last Changed Rev: 1409 / Revision: 1510 |  | Last Changed Date: 2010-12-15 06:52:45 -0800 |  
  | lamb2  | Linux (openSUSE 11.2) / x86_64  |  OK  |  OK  |  | 
| gewurz  | Windows Server 2008 R2 Enterprise (64-bit) / x64  |  OK  |  OK  |  OK  | 
| petty  | Mac OS X Snow Leopard (10.6.6) / i386  |  OK  |  OK  |  OK  | 
mvoutData 0.99.4 VJ Carey
 | Last Changed Rev: 1075 / Revision: 1510 |  | Last Changed Date: 2009-10-14 00:37:29 -0700 |  
  | lamb2  | Linux (openSUSE 11.2) / x86_64  |  OK  |  OK  |  | 
| gewurz  | Windows Server 2008 R2 Enterprise (64-bit) / x64  |  OK  |  OK  |  OK  | 
| petty  | Mac OS X Snow Leopard (10.6.6) / i386  |  OK  |  OK  |  OK  | 
Neve2006 0.1.10 VJ Carey
 | Last Changed Rev: 1375 / Revision: 1510 |  | Last Changed Date: 2010-10-21 09:43:05 -0700 |  
  | lamb2  | Linux (openSUSE 11.2) / x86_64  |  OK  |  OK  |  | 
| gewurz  | Windows Server 2008 R2 Enterprise (64-bit) / x64  |  OK  |  OK  |  OK  | 
| petty  | Mac OS X Snow Leopard (10.6.6) / i386  |  OK  |  OK  |  OK  | 
ppiData 0.1.14 Tony Chiang
 | Last Changed Rev: 1101 / Revision: 1510 |  | Last Changed Date: 2009-12-05 17:17:35 -0800 |  
  | lamb2  | Linux (openSUSE 11.2) / x86_64  |  OK  |  OK  |  | 
| gewurz  | Windows Server 2008 R2 Enterprise (64-bit) / x64  |  OK  |  OK  |  OK  | 
| petty  | Mac OS X Snow Leopard (10.6.6) / i386  |  OK  |  OK  |  OK  | 
ProData 1.0.3 Xiaochun Li
 | Last Changed Rev: 924 / Revision: 1510 |  | Last Changed Date: 2009-07-24 18:53:02 -0700 |  
  | lamb2  | Linux (openSUSE 11.2) / x86_64  |  OK  |  OK  |  | 
| gewurz  | Windows Server 2008 R2 Enterprise (64-bit) / x64  |  OK  |  OK  |  OK  | 
| petty  | Mac OS X Snow Leopard (10.6.6) / i386  |  OK  |  OK  |  OK  | 
pumadata 1.0.3 Richard Pearson
 | Last Changed Rev: 1356 / Revision: 1510 |  | Last Changed Date: 2010-10-14 09:31:05 -0700 |  
  | lamb2  | Linux (openSUSE 11.2) / x86_64  |  OK  |  WARNINGS  |  | 
| gewurz  | Windows Server 2008 R2 Enterprise (64-bit) / x64  |  OK  |  WARNINGS  |  OK  | 
| petty  | Mac OS X Snow Leopard (10.6.6) / i386  |  OK  |  WARNINGS  |  OK  | 
rfcdmin 1.6.11 N. Le Meur
 | Last Changed Rev: 1077 / Revision: 1510 |  | Last Changed Date: 2009-10-14 00:44:20 -0700 |  
  | lamb2  | Linux (openSUSE 11.2) / x86_64  |  OK  |  OK  |  | 
| gewurz  | Windows Server 2008 R2 Enterprise (64-bit) / x64  |  OK  |  OK  |  OK  | 
| petty  | Mac OS X Snow Leopard (10.6.6) / i386  |  OK  |  OK  |  OK  | 
RNAinteractMAPK 0.99.5 Bernd Fischer
 | Last Changed Rev: 1459 / Revision: 1510 |  | Last Changed Date: 2011-03-18 10:40:39 -0700 |  
  | lamb2  | Linux (openSUSE 11.2) / x86_64  |  ERROR  |  skipped  |  | 
| gewurz  | Windows Server 2008 R2 Enterprise (64-bit) / x64  |  ERROR  |  skipped  |  skipped  | 
| petty  | Mac OS X Snow Leopard (10.6.6) / i386  |  ERROR  |  skipped  |  skipped  | 
simpIntLists 0.99.0 Kircicegi Korkmaz
 | Last Changed Rev: 1466 / Revision: 1510 |  | Last Changed Date: 2011-03-24 13:25:09 -0700 |  
  | lamb2  | Linux (openSUSE 11.2) / x86_64  |  OK  |  OK  |  | 
| gewurz  | Windows Server 2008 R2 Enterprise (64-bit) / x64  |  OK  |  OK  |  OK  | 
| petty  | Mac OS X Snow Leopard (10.6.6) / i386  |  OK  |  OK  |  OK  | 
SNAData 1.8.1 Denise Scholtens
 | Last Changed Rev: 733 / Revision: 1510 |  | Last Changed Date: 2008-10-27 10:59:54 -0700 |  
  | lamb2  | Linux (openSUSE 11.2) / x86_64  |  OK  |  OK  |  | 
| gewurz  | Windows Server 2008 R2 Enterprise (64-bit) / x64  |  OK  |  OK  |  OK  | 
| petty  | Mac OS X Snow Leopard (10.6.6) / i386  |  OK  |  OK  |  OK  | 
SpikeIn 1.4.4 Rafael A. Irizarry
 | Last Changed Rev: 1055 / Revision: 1510 |  | Last Changed Date: 2009-10-13 23:31:49 -0700 |  
  | lamb2  | Linux (openSUSE 11.2) / x86_64  |  OK  |  OK  |  | 
| gewurz  | Windows Server 2008 R2 Enterprise (64-bit) / x64  |  OK  |  OK  |  OK  | 
| petty  | Mac OS X Snow Leopard (10.6.6) / i386  |  OK  |  OK  |  OK  | 
SpikeInSubset 1.2.8 Rafael A. Irizarry
 | Last Changed Rev: 930 / Revision: 1510 |  | Last Changed Date: 2009-07-24 19:13:55 -0700 |  
  | lamb2  | Linux (openSUSE 11.2) / x86_64  |  OK  |  WARNINGS  |  | 
| gewurz  | Windows Server 2008 R2 Enterprise (64-bit) / x64  |  OK  |  WARNINGS  |  OK  | 
| petty  | Mac OS X Snow Leopard (10.6.6) / i386  |  OK  |  WARNINGS  |  OK  | 
stjudem 1.2.2 Joern Toedling
 | Last Changed Rev: 1059 / Revision: 1510 |  | Last Changed Date: 2009-10-13 23:40:40 -0700 |  
  | lamb2  | Linux (openSUSE 11.2) / x86_64  |  OK  |  OK  |  | 
| gewurz  | Windows Server 2008 R2 Enterprise (64-bit) / x64  |  OK  |  OK  |  OK  | 
| petty  | Mac OS X Snow Leopard (10.6.6) / i386  |  OK  |  OK  |  OK  | 
TargetSearchData 1.0.3 Alvaro Cuadros-Inostroza
 | Last Changed Rev: 1376 / Revision: 1510 |  | Last Changed Date: 2010-10-26 02:23:50 -0700 |  
  | lamb2  | Linux (openSUSE 11.2) / x86_64  |  OK  |  OK  |  | 
| gewurz  | Windows Server 2008 R2 Enterprise (64-bit) / x64  |  OK  |  OK  |  OK  | 
| petty  | Mac OS X Snow Leopard (10.6.6) / i386  |  OK  |  OK  |  OK  | 
tinesath1cdf 1.0.3 Tine Casneuf
 | Last Changed Rev: 959 / Revision: 1510 |  | Last Changed Date: 2009-09-10 11:19:18 -0700 |  
  | lamb2  | Linux (openSUSE 11.2) / x86_64  |  OK  |  OK  |  | 
| gewurz  | Windows Server 2008 R2 Enterprise (64-bit) / x64  |  OK  |  OK  |  ERROR  | 
| petty  | Mac OS X Snow Leopard (10.6.6) / i386  |  OK  |  OK  |  OK  | 
tinesath1probe 1.0.2 Tine Casneuf
 | Last Changed Rev: 1338 / Revision: 1510 |  | Last Changed Date: 2010-10-13 17:58:41 -0700 |  
  | lamb2  | Linux (openSUSE 11.2) / x86_64  |  OK  |  OK  |  | 
| gewurz  | Windows Server 2008 R2 Enterprise (64-bit) / x64  |  OK  |  OK  |  OK  | 
| petty  | Mac OS X Snow Leopard (10.6.6) / i386  |  OK  |  OK  |  OK  | 
XhybCasneuf 1.0.6 Tineke Casneuf
 | Last Changed Rev: 986 / Revision: 1510 |  | Last Changed Date: 2009-09-15 12:41:50 -0700 |  
  | lamb2  | Linux (openSUSE 11.2) / x86_64  |  OK  |  OK  |  | 
| gewurz  | Windows Server 2008 R2 Enterprise (64-bit) / x64  |  OK  |  OK  |  OK  | 
| petty  | Mac OS X Snow Leopard (10.6.6) / i386  |  OK  |  OK  |  OK  | 
yeastCC 1.2.12 Sandrine Dudoit
 | Last Changed Rev: 1357 / Revision: 1510 |  | Last Changed Date: 2010-10-14 09:39:32 -0700 |  
  | lamb2  | Linux (openSUSE 11.2) / x86_64  |  OK  |  OK  |  | 
| gewurz  | Windows Server 2008 R2 Enterprise (64-bit) / x64  |  OK  |  OK  |  OK  | 
| petty  | Mac OS X Snow Leopard (10.6.6) / i386  |  OK  |  OK  |  OK  | 
yeastExpData 0.9.17 R. Gentleman
 | Last Changed Rev: 1099 / Revision: 1510 |  | Last Changed Date: 2009-12-03 10:39:42 -0800 |  
  | lamb2  | Linux (openSUSE 11.2) / x86_64  |  OK  |  WARNINGS  |  | 
| gewurz  | Windows Server 2008 R2 Enterprise (64-bit) / x64  |  OK  |  WARNINGS  |  OK  | 
| petty  | Mac OS X Snow Leopard (10.6.6) / i386  |  OK  |  WARNINGS  |  OK  | 
yeastGSData 0.1.5 R. Gentleman
 | Last Changed Rev: 959 / Revision: 1510 |  | Last Changed Date: 2009-09-10 11:19:18 -0700 |  
  | lamb2  | Linux (openSUSE 11.2) / x86_64  |  OK  |  OK  |  | 
| gewurz  | Windows Server 2008 R2 Enterprise (64-bit) / x64  |  OK  |  OK  |  OK  | 
| petty  | Mac OS X Snow Leopard (10.6.6) / i386  |  OK  |  OK  |  OK  | 
yeastRNASeq 0.0.3 J. Bullard
 | Last Changed Rev: 1395 / Revision: 1510 |  | Last Changed Date: 2010-12-03 12:31:37 -0800 |  
  | lamb2  | Linux (openSUSE 11.2) / x86_64  |  OK  |  OK  |  | 
| gewurz  | Windows Server 2008 R2 Enterprise (64-bit) / x64  |  OK  |  OK  |  OK  | 
| petty  | Mac OS X Snow Leopard (10.6.6) / i386  |  OK  |  OK  |  OK  |