ccTutorial 1.0.17 Joern Toedling
 | Snapshot Date: 2011-04-06 12:27:26 -0700 (Wed, 06 Apr 2011) |  | URL: https://hedgehog.fhcrc.org/bioc-data/trunk/experiment/pkgs/ccTutorial |  | Last Changed Rev: 1044 / Revision: 1510 |  | Last Changed Date: 2009-10-13 18:55:23 -0700 (Tue, 13 Oct 2009) |  
  | lamb2  | Linux (openSUSE 11.2) / x86_64  |  OK  |  OK  |  | 
| gewurz  | Windows Server 2008 R2 Enterprise (64-bit) / x64  |  OK  |  OK  |  OK  | 
| petty  | Mac OS X Snow Leopard (10.6.6) / i386  |  OK  |  OK  | [ OK ] | 
>>>>>>> 
>>>>>>> INSTALLATION WITH 'R CMD INSTALL --preclean --library=ccTutorial.buildbin-libdir ccTutorial_1.0.17.tar.gz'
>>>>>>> 
* installing *source* package 'ccTutorial' ...
** R
** data
** inst
** preparing package for lazy loading
Loading required package: Biobase
Welcome to Bioconductor
  Vignettes contain introductory material. To view, type
  'openVignette()'. To cite Bioconductor, see
  'citation("Biobase")' and for packages 'citation(pkgname)'.
Loading required package: RColorBrewer
Loading required package: limma
Loading required package: Matrix
Loading required package: lattice
Attaching package: 'Matrix'
The following object(s) are masked from 'package:base':
    det
Loading required package: grid
Attaching package: 'affy'
The following object(s) are masked from 'package:Ringo':
    probes
Loading required package: graph
Loading required package: GO.db
Loading required package: AnnotationDbi
Loading required package: DBI
Loading required package: SparseM
Package SparseM (0.86) loaded.
	   To cite, see citation("SparseM")
Attaching package: 'SparseM'
The following object(s) are masked from 'package:base':
    backsolve
groupGOTerms: 	GOBPTerm, GOMFTerm, GOCCTerm environments built.
** help
*** installing help indices
** building package indices ...
** testing if installed package can be loaded
* DONE (ccTutorial)