hgu133afrmavecs 1.1.6 Matthew N. McCall
 | Snapshot Date: 2011-04-06 12:27:26 -0700 (Wed, 06 Apr 2011) |  | URL: https://hedgehog.fhcrc.org/bioc-data/trunk/experiment/pkgs/hgu133afrmavecs |  | Last Changed Rev: 1441 / Revision: 1510 |  | Last Changed Date: 2011-03-04 13:39:17 -0800 (Fri, 04 Mar 2011) |  
  | lamb2  | Linux (openSUSE 11.2) / x86_64  |  OK  |  WARNINGS  |  | 
| gewurz  | Windows Server 2008 R2 Enterprise (64-bit) / x64  |  OK  |  WARNINGS  |  OK  | 
| petty  | Mac OS X Snow Leopard (10.6.6) / i386  |  OK  |  WARNINGS  | [ OK ] | 
>>>>>>> 
>>>>>>> INSTALLATION WITH 'R CMD INSTALL --preclean --library=hgu133afrmavecs.buildbin-libdir hgu133afrmavecs_1.1.6.tar.gz'
>>>>>>> 
* installing *source* package 'hgu133afrmavecs' ...
** data
** help
*** installing help indices
** building package indices ...
** testing if installed package can be loaded
* DONE (hgu133afrmavecs)