| Back to the "Multiple platform build/check report" | 
| Package 76/92 | Hostname | OS / Arch | BUILD | CHECK | BUILD BIN | ||||
| ProData 1.0.3 Xiaochun Li 
  | lamb2 | Linux (openSUSE 11.2) / x86_64 | OK | OK | |||||
| gewurz | Windows Server 2008 R2 Enterprise (64-bit) / x64 | OK | OK | [ OK ] | |||||
| petty | Mac OS X Snow Leopard (10.6.6) / i386 | OK | OK | OK | 
| Package: ProData | 
| Version: 1.0.3 | 
| Command: D:\biocbld\bbs-2.7-bioc\R\bin\R.exe CMD INSTALL --build --library=ProData.buildbin-libdir ProData_1.0.3.tar.gz | 
| StartedAt: 2011-04-06 17:24:37 -0700 (Wed, 06 Apr 2011) | 
| EndedAt: 2011-04-06 17:25:05 -0700 (Wed, 06 Apr 2011) | 
| EllapsedTime: 28.0 seconds | 
| RetCode: 0 | 
| Status: OK | 
| PackageFile: ProData_1.0.3.zip | 
| PackageFileSize: 19.06 MiB | 
* installing *source* package 'ProData' ... ** data ** inst ** help *** installing help indices ** building package indices ... ** testing if installed package can be loaded * MD5 sums packaged installation of 'ProData' as ProData_1.0.3.zip * DONE (ProData)