hgu133abarcodevecs 1.0.1 Matthew N. McCall
 | Snapshot Date: 2011-04-06 12:27:26 -0700 (Wed, 06 Apr 2011) |  | URL: https://hedgehog.fhcrc.org/bioc-data/trunk/experiment/pkgs/hgu133abarcodevecs |  | Last Changed Rev: 1353 / Revision: 1510 |  | Last Changed Date: 2010-10-14 05:31:54 -0700 (Thu, 14 Oct 2010) |  
  | lamb2  | Linux (openSUSE 11.2) / x86_64  |  OK  |  OK  |  | 
| gewurz  | Windows Server 2008 R2 Enterprise (64-bit) / x64  |  OK  |  OK  | [ OK ] | 
| petty  | Mac OS X Snow Leopard (10.6.6) / i386  |  OK  |  OK  |  OK  | 
* installing *source* package 'hgu133abarcodevecs' ...
  Using auto-selected zip option '--use-zip-data'
** data
** help
*** installing help indices
** building package indices ...
** testing if installed package can be loaded
* MD5 sums
packaged installation of 'hgu133abarcodevecs' as hgu133abarcodevecs_1.0.1.zip
* DONE (hgu133abarcodevecs)