ceuhm3 0.0.6 VJ Carey
 | Snapshot Date: 2011-04-06 12:27:26 -0700 (Wed, 06 Apr 2011) |  | URL: https://hedgehog.fhcrc.org/bioc-data/trunk/experiment/pkgs/ceuhm3 |  | Last Changed Rev: 1386 / Revision: 1510 |  | Last Changed Date: 2010-11-28 20:40:06 -0800 (Sun, 28 Nov 2010) |  
  | lamb2  | Linux (openSUSE 11.2) / x86_64  |  OK  |  OK  |  | 
| gewurz  | Windows Server 2008 R2 Enterprise (64-bit) / x64  |  OK  | [ OK ] |  OK  | 
| petty  | Mac OS X Snow Leopard (10.6.6) / i386  |  OK  |  OK  |  OK  | 
* using log directory 'D:/biocbld/bbs-2.7-data-experiment/meat/ceuhm3.Rcheck'
* using R version 2.12.2 (2011-02-25)
* using platform: x86_64-pc-mingw32 (64-bit)
* using session charset: ISO8859-1
* using option '--no-vignettes'
* checking for file 'ceuhm3/DESCRIPTION' ... OK
* this is package 'ceuhm3' version '0.0.6'
* checking package dependencies ... OK
* checking if this is a source package ... OK
* checking whether package 'ceuhm3' can be installed ... OK
* checking package directory ... OK
* checking for portable file names ... OK
* checking DESCRIPTION meta-information ... OK
* checking top-level files ... OK
* checking index information ... OK
* checking package subdirectories ... OK
* checking whether the package can be loaded ... OK
* checking whether the package can be loaded with stated dependencies ... OK
* checking whether the package can be unloaded cleanly ... OK
* checking Rd files ... OK
* checking Rd metadata ... OK
* checking Rd cross-references ... OK
* checking for missing documentation entries ... OK
* checking for code/documentation mismatches ... OK
* checking Rd \usage sections ... OK
* checking Rd contents ... OK
* checking for unstated dependencies in examples ... OK
* checking data for non-ASCII characters ...Warning: running command '"D:\biocbld\bbs-2.7-bioc\R/bin/x64/Rterm.exe"  --vanilla --slave -f D:\biocbld\bbs-2.7-data-experiment\tmpdir\RtmpLQKhAb\Rin7d29129' had status 1
 NOTE
  Error in .requirePackage(package) : 
    unable to find required package "snpMatrix2"
  Calls: <Anonymous> ... .findInheritedMethods -> getClass -> getClassDef -> .requirePackage
  Execution halted
* checking examples ... OK
* checking PDF version of manual ... OK