gcspikelite 1.0.4 Mark Robinson
 | Snapshot Date: 2011-04-06 12:27:26 -0700 (Wed, 06 Apr 2011) |  | URL: https://hedgehog.fhcrc.org/bioc-data/trunk/experiment/pkgs/gcspikelite |  | Last Changed Rev: 1368 / Revision: 1510 |  | Last Changed Date: 2010-10-16 09:36:58 -0700 (Sat, 16 Oct 2010) |  
  | lamb2  | Linux (openSUSE 11.2) / x86_64  |  OK  |  OK  |  | 
| gewurz  | Windows Server 2008 R2 Enterprise (64-bit) / x64  |  OK  |  OK  |  OK  | 
| petty  | Mac OS X Snow Leopard (10.6.6) / i386  | [ OK ] |  OK  |  OK  | 
Warning: unknown option '--keep-empty-dirs'
* checking for file 'gcspikelite/DESCRIPTION' ... OK
* preparing 'gcspikelite':
* checking DESCRIPTION meta-information ... OK
* checking for LF line-endings in source and make files
* checking for empty or unneeded directories
* building 'gcspikelite_1.0.4.tar.gz'