| Back to the "Multiple platform build/check report" | 
| Package 21/92 | Hostname | OS / Arch | BUILD | CHECK | BUILD BIN | ||||
| colonCA 1.4.5 W Sylvia Merk 
  | lamb2 | Linux (openSUSE 11.2) / x86_64 | OK | OK | |||||
| gewurz | Windows Server 2008 R2 Enterprise (64-bit) / x64 | [ OK ] | OK | OK | |||||
| petty | Mac OS X Snow Leopard (10.6.6) / i386 | OK | OK | OK | 
| Package: colonCA | 
| Version: 1.4.5 | 
| Command: chmod a+r colonCA -R && D:\biocbld\bbs-2.7-bioc\R\bin\R.exe CMD build --keep-empty-dirs colonCA | 
| StartedAt: 2011-04-06 14:40:00 -0700 (Wed, 06 Apr 2011) | 
| EndedAt: 2011-04-06 14:40:02 -0700 (Wed, 06 Apr 2011) | 
| EllapsedTime: 1.8 seconds | 
| RetCode: 0 | 
| Status: OK | 
| PackageFile: colonCA_1.4.5.tar.gz | 
| PackageFileSize: 783.1 KiB | 
Warning: unknown option '--keep-empty-dirs' * checking for file 'colonCA/DESCRIPTION' ... OK * preparing 'colonCA': * checking DESCRIPTION meta-information ... OK * checking for LF line-endings in source and make files * checking for empty or unneeded directories * building 'colonCA_1.4.5.tar.gz'