Back to Multiple platform build/check report for BioC 3.22:   simplified   long
A[B]CDEFGHIJKLMNOPQRSTUVWXYZ

This page was generated on 2025-11-15 11:57 -0500 (Sat, 15 Nov 2025).

HostnameOSArch (*)R versionInstalled pkgs
nebbiolo2Linux (Ubuntu 24.04.3 LTS)x86_644.5.1 Patched (2025-08-23 r88802) -- "Great Square Root" 4903
taishanLinux (openEuler 24.03 LTS)aarch644.5.0 (2025-04-11) -- "How About a Twenty-Six" 4668
Click on any hostname to see more info about the system (e.g. compilers)      (*) as reported by 'uname -p', except on Windows and Mac OS X

All results for package Biostrings


To the developers/maintainers of the Biostrings package:
- Allow up to 24 hours (and sometimes 48 hours) for your latest push to git@git.bioconductor.org:packages/Biostrings.git to reflect on this report. See Troubleshooting Build Report for more information.
- Use the following Renviron settings to reproduce errors and warnings.
- If 'R CMD check' started to fail recently on the Linux builder(s) over a missing dependency, add the missing dependency to 'Suggests:' in your DESCRIPTION file. See Renviron.bioc for more information.

raw results

Package 226/2361HostnameOS / ArchINSTALLBUILDCHECKBUILD BIN
Biostrings 2.78.0  (landing page)
Hervé Pagès
Snapshot Date: 2025-11-14 13:45 -0500 (Fri, 14 Nov 2025)
git_url: https://git.bioconductor.org/packages/Biostrings
git_branch: RELEASE_3_22
git_last_commit: eda5d66
git_last_commit_date: 2025-10-29 13:43:31 -0500 (Wed, 29 Oct 2025)
nebbiolo2Linux (Ubuntu 24.04.3 LTS) / x86_64  OK    OK    WARNINGS  UNNEEDED, same version is already published
taishanLinux (openEuler 24.03 LTS) / aarch64  OK    OK    WARNINGS  



Results for Bioconductor software packages that depend directly on package Biostrings

QUICK STATSOS / ArchINSTALLBUILDCHECKBUILD BIN
nebbiolo2Linux (Ubuntu 24.04.3 LTS) / x86_64
07289
017279
01451214
taishanLinux (openEuler 24.03 LTS) / aarch64
09286
324268
41648200
Package 1/296HostnameOS / ArchINSTALLBUILDCHECKBUILD BIN
alabaster.string 1.10.0  (landing page)
Aaron Lun
git_last_commit: 1014c54
git_last_commit_date: 2025-10-29 11:21:29 -0500
nebbiolo2Linux (Ubuntu 24.04.3 LTS) / x86_64  OK    OK    OK  UNNEEDED, same version is already published
taishanLinux (openEuler 24.03 LTS) / aarch64  OK    OK    OK  
Package 2/296HostnameOS / ArchINSTALLBUILDCHECKBUILD BIN
AllelicImbalance 1.48.0  (landing page)
Jesper R Gadin
git_last_commit: 556446f
git_last_commit_date: 2025-10-29 10:16:36 -0500
nebbiolo2Linux (Ubuntu 24.04.3 LTS) / x86_64  OK    OK    OK  UNNEEDED, same version is already published
taishanLinux (openEuler 24.03 LTS) / aarch64  OK    OK    OK  
Package 3/296HostnameOS / ArchINSTALLBUILDCHECKBUILD BIN
altcdfenvs 2.72.0  (landing page)
Laurent Gautier
git_last_commit: 0c41761
git_last_commit_date: 2025-10-29 09:54:38 -0500
nebbiolo2Linux (Ubuntu 24.04.3 LTS) / x86_64  OK    OK    OK  UNNEEDED, same version is already published
taishanLinux (openEuler 24.03 LTS) / aarch64  OK    OK    OK  
Package 4/296HostnameOS / ArchINSTALLBUILDCHECKBUILD BIN
amplican 1.32.1  (landing page)
Eivind Valen
git_last_commit: 91d4b74
git_last_commit_date: 2025-11-11 10:10:45 -0500
nebbiolo2Linux (Ubuntu 24.04.3 LTS) / x86_64  OK    OK    OK  UNNEEDED, same version is already published
taishanLinux (openEuler 24.03 LTS) / aarch64  OK    OK    OK  
Package 5/296HostnameOS / ArchINSTALLBUILDCHECKBUILD BIN
AnnotationHubData 1.40.0  (landing page)
Bioconductor Package Maintainer
git_last_commit: 077effd
git_last_commit_date: 2025-10-29 10:27:35 -0500
nebbiolo2Linux (Ubuntu 24.04.3 LTS) / x86_64  OK    OK    WARNINGS  UNNEEDED, same version is already published
taishanLinux (openEuler 24.03 LTS) / aarch64  OK    OK    WARNINGS  
Package 6/296HostnameOS / ArchINSTALLBUILDCHECKBUILD BIN
appreci8R 1.28.0  (landing page)
Sarah Sandmann
git_last_commit: 43ec6e7
git_last_commit_date: 2025-10-29 10:46:18 -0500
nebbiolo2Linux (Ubuntu 24.04.3 LTS) / x86_64  OK    OK    OK  UNNEEDED, same version is already published
taishanLinux (openEuler 24.03 LTS) / aarch64  OK    OK    OK  
Package 7/296HostnameOS / ArchINSTALLBUILDCHECKBUILD BIN
AssessORF 1.28.0  (landing page)
Deepank Korandla
git_last_commit: 06260fd
git_last_commit_date: 2025-10-29 10:48:40 -0500
nebbiolo2Linux (Ubuntu 24.04.3 LTS) / x86_64  OK    OK    OK  UNNEEDED, same version is already published
taishanLinux (openEuler 24.03 LTS) / aarch64  OK    OK    OK  
Package 8/296HostnameOS / ArchINSTALLBUILDCHECKBUILD BIN
ATACseqQC 1.34.0  (landing page)
Jianhong Ou
git_last_commit: 9b61612
git_last_commit_date: 2025-10-29 10:38:34 -0500
nebbiolo2Linux (Ubuntu 24.04.3 LTS) / x86_64  OK    OK    OK  UNNEEDED, same version is already published
taishanLinux (openEuler 24.03 LTS) / aarch64  OK    OK    OK  
Package 9/296HostnameOS / ArchINSTALLBUILDCHECKBUILD BIN
Basic4Cseq 1.46.0  (landing page)
Carolin Walter
git_last_commit: 9e614cc
git_last_commit_date: 2025-10-29 10:18:19 -0500
nebbiolo2Linux (Ubuntu 24.04.3 LTS) / x86_64  OK    OK    OK  UNNEEDED, same version is already published
taishanLinux (openEuler 24.03 LTS) / aarch64  OK    OK    OK  
Package 10/296HostnameOS / ArchINSTALLBUILDCHECKBUILD BIN
BBCAnalyzer 1.40.0  (landing page)
Sarah Sandmann
git_last_commit: d118157
git_last_commit_date: 2025-10-29 10:27:19 -0500
nebbiolo2Linux (Ubuntu 24.04.3 LTS) / x86_64  OK    OK    OK  UNNEEDED, same version is already published
taishanLinux (openEuler 24.03 LTS) / aarch64  OK    OK    OK  
Package 11/296HostnameOS / ArchINSTALLBUILDCHECKBUILD BIN
BCRANK 1.72.0  (landing page)
Adam Ameur
git_last_commit: b625b23
git_last_commit_date: 2025-10-29 10:00:13 -0500
nebbiolo2Linux (Ubuntu 24.04.3 LTS) / x86_64  OK    OK    OK  UNNEEDED, same version is already published
taishanLinux (openEuler 24.03 LTS) / aarch64  OK    OK    OK  
Package 12/296HostnameOS / ArchINSTALLBUILDCHECKBUILD BIN
bcSeq 1.32.0  (landing page)
Jiaxing Lin
git_last_commit: 306f3a8
git_last_commit_date: 2025-10-29 10:42:17 -0500
nebbiolo2Linux (Ubuntu 24.04.3 LTS) / x86_64  OK    OK    WARNINGS  UNNEEDED, same version is already published
taishanLinux (openEuler 24.03 LTS) / aarch64  OK    OK    WARNINGS  
Package 13/296HostnameOS / ArchINSTALLBUILDCHECKBUILD BIN
BEAT 1.48.0  (landing page)
Kemal Akman
git_last_commit: 6d10f1c
git_last_commit_date: 2025-10-29 10:17:47 -0500
nebbiolo2Linux (Ubuntu 24.04.3 LTS) / x86_64  OK    OK    OK  UNNEEDED, same version is already published
taishanLinux (openEuler 24.03 LTS) / aarch64  OK    OK    OK  
Package 14/296HostnameOS / ArchINSTALLBUILDCHECKBUILD BIN
BgeeCall 1.26.0  (landing page)
Julien Wollbrett
git_last_commit: 0d3bcb0
git_last_commit_date: 2025-10-29 10:56:16 -0500
nebbiolo2Linux (Ubuntu 24.04.3 LTS) / x86_64  OK    OK    OK  UNNEEDED, same version is already published
taishanLinux (openEuler 24.03 LTS) / aarch64  OK    OK    ERROR  
Package 15/296HostnameOS / ArchINSTALLBUILDCHECKBUILD BIN
biovizBase 1.58.0  (landing page)
Michael Lawrence
git_last_commit: 1f6087b
git_last_commit_date: 2025-10-29 10:09:04 -0500
nebbiolo2Linux (Ubuntu 24.04.3 LTS) / x86_64  OK    OK    WARNINGS  UNNEEDED, same version is already published
taishanLinux (openEuler 24.03 LTS) / aarch64  OK    OK    WARNINGS  
Package 16/296HostnameOS / ArchINSTALLBUILDCHECKBUILD BIN
BRAIN 1.56.0  (landing page)
Piotr Dittwald
git_last_commit: 514ccdf
git_last_commit_date: 2025-10-29 10:10:26 -0500
nebbiolo2Linux (Ubuntu 24.04.3 LTS) / x86_64  OK    OK    WARNINGS  UNNEEDED, same version is already published
taishanLinux (openEuler 24.03 LTS) / aarch64  OK    OK    WARNINGS  
Package 17/296HostnameOS / ArchINSTALLBUILDCHECKBUILD BIN
branchpointer 1.36.0  (landing page)
Beth Signal
git_last_commit: 897a60c
git_last_commit_date: 2025-10-29 10:37:20 -0500
nebbiolo2Linux (Ubuntu 24.04.3 LTS) / x86_64  OK    ERROR  skipped
taishanLinux (openEuler 24.03 LTS) / aarch64  OK    ERROR  skipped
Package 18/296HostnameOS / ArchINSTALLBUILDCHECKBUILD BIN
BSgenome 1.78.0  (landing page)
Hervé Pagès
git_last_commit: 8f40a31
git_last_commit_date: 2025-10-29 14:19:23 -0500
nebbiolo2Linux (Ubuntu 24.04.3 LTS) / x86_64  OK    OK    WARNINGS  UNNEEDED, same version is already published
taishanLinux (openEuler 24.03 LTS) / aarch64  OK    OK    WARNINGS  
Package 19/296HostnameOS / ArchINSTALLBUILDCHECKBUILD BIN
BSgenomeForge 1.10.0  (landing page)
Hervé Pagès
git_last_commit: 5634fdd
git_last_commit_date: 2025-10-29 14:23:53 -0500
nebbiolo2Linux (Ubuntu 24.04.3 LTS) / x86_64  OK    OK    OK  UNNEEDED, same version is already published
taishanLinux (openEuler 24.03 LTS) / aarch64  OK    OK    OK  
Package 20/296HostnameOS / ArchINSTALLBUILDCHECKBUILD BIN
bsseq 1.46.0  (landing page)
Kasper Daniel Hansen
git_last_commit: ea21812
git_last_commit_date: 2025-10-29 10:11:31 -0500
nebbiolo2Linux (Ubuntu 24.04.3 LTS) / x86_64  OK    OK    OK  UNNEEDED, same version is already published
taishanLinux (openEuler 24.03 LTS) / aarch64  OK    OK    TIMEOUT  
Package 21/296HostnameOS / ArchINSTALLBUILDCHECKBUILD BIN
BUMHMM 1.34.0  (landing page)
Alina Selega
git_last_commit: 63f1678
git_last_commit_date: 2025-10-29 10:35:55 -0500
nebbiolo2Linux (Ubuntu 24.04.3 LTS) / x86_64  OK    OK    OK  UNNEEDED, same version is already published
taishanLinux (openEuler 24.03 LTS) / aarch64  OK    OK    OK  
Package 22/296HostnameOS / ArchINSTALLBUILDCHECKBUILD BIN
BUSpaRse 1.24.0  (landing page)
Lambda Moses
git_last_commit: 757e3e4
git_last_commit_date: 2025-10-29 10:53:52 -0500
nebbiolo2Linux (Ubuntu 24.04.3 LTS) / x86_64  OK    OK    OK  UNNEEDED, same version is already published
taishanLinux (openEuler 24.03 LTS) / aarch64  OK    OK    OK  
Package 23/296HostnameOS / ArchINSTALLBUILDCHECKBUILD BIN
CAGEr 2.16.0  (landing page)
Charles Plessy
git_last_commit: b717389
git_last_commit_date: 2025-10-29 10:13:45 -0500
nebbiolo2Linux (Ubuntu 24.04.3 LTS) / x86_64  OK    OK    OK  UNNEEDED, same version is already published
taishanLinux (openEuler 24.03 LTS) / aarch64  OK    OK    OK  
Package 24/296HostnameOS / ArchINSTALLBUILDCHECKBUILD BIN
CellBarcode 1.16.0  (landing page)
Wenjie Sun
git_last_commit: 5db08a9
git_last_commit_date: 2025-10-29 11:13:43 -0500
nebbiolo2Linux (Ubuntu 24.04.3 LTS) / x86_64  OK    OK    OK  UNNEEDED, same version is already published
taishanLinux (openEuler 24.03 LTS) / aarch64  OK    OK    OK  
Package 25/296HostnameOS / ArchINSTALLBUILDCHECKBUILD BIN
chimeraviz 1.36.0  (landing page)
Stian Lågstad
git_last_commit: 36b8261
git_last_commit_date: 2025-10-29 10:35:50 -0500
nebbiolo2Linux (Ubuntu 24.04.3 LTS) / x86_64  OK    OK    OK  UNNEEDED, same version is already published
taishanLinux (openEuler 24.03 LTS) / aarch64  OK    OK    OK  
Package 26/296HostnameOS / ArchINSTALLBUILDCHECKBUILD BIN
ChIPanalyser 1.32.0  (landing page)
Patrick C.N. Martin
git_last_commit: 36e9429
git_last_commit_date: 2025-10-29 10:40:34 -0500
nebbiolo2Linux (Ubuntu 24.04.3 LTS) / x86_64  OK    OK    OK  UNNEEDED, same version is already published
taishanLinux (openEuler 24.03 LTS) / aarch64  OK    OK    OK  
Package 27/296HostnameOS / ArchINSTALLBUILDCHECKBUILD BIN
ChIPpeakAnno 3.44.0  (landing page)
Jianhong Ou
git_last_commit: 2b855fa
git_last_commit_date: 2025-10-29 10:03:18 -0500
nebbiolo2Linux (Ubuntu 24.04.3 LTS) / x86_64  OK    OK    OK  UNNEEDED, same version is already published
taishanLinux (openEuler 24.03 LTS) / aarch64  OK    OK    OK  
Package 28/296HostnameOS / ArchINSTALLBUILDCHECKBUILD BIN
ChIPseqR 1.64.0  (landing page)
Peter Humburg
git_last_commit: 544d5eb
git_last_commit_date: 2025-10-29 10:03:52 -0500
nebbiolo2Linux (Ubuntu 24.04.3 LTS) / x86_64  OK    OK    WARNINGS  UNNEEDED, same version is already published
taishanLinux (openEuler 24.03 LTS) / aarch64  OK    OK    OK  
Package 29/296HostnameOS / ArchINSTALLBUILDCHECKBUILD BIN
ChIPsim 1.64.0  (landing page)
Peter Humburg
git_last_commit: 4288ced
git_last_commit_date: 2025-10-29 10:03:24 -0500
nebbiolo2Linux (Ubuntu 24.04.3 LTS) / x86_64  OK    OK    OK  UNNEEDED, same version is already published
taishanLinux (openEuler 24.03 LTS) / aarch64  OK    OK    OK  
Package 30/296HostnameOS / ArchINSTALLBUILDCHECKBUILD BIN
chromVAR 1.32.0  (landing page)
Alicia Schep
git_last_commit: c67de98
git_last_commit_date: 2025-10-29 10:41:16 -0500
nebbiolo2Linux (Ubuntu 24.04.3 LTS) / x86_64  OK    OK    OK  UNNEEDED, same version is already published
taishanLinux (openEuler 24.03 LTS) / aarch64  OK    OK    OK  
Package 31/296HostnameOS / ArchINSTALLBUILDCHECKBUILD BIN
cigarillo 1.0.0  (landing page)
Hervé Pagès
git_last_commit: 8775adf
git_last_commit_date: 2025-10-29 11:39:18 -0500
nebbiolo2Linux (Ubuntu 24.04.3 LTS) / x86_64  OK    OK    OK  UNNEEDED, same version is already published
taishanLinux (openEuler 24.03 LTS) / aarch64  OK    OK    OK  
Package 32/296HostnameOS / ArchINSTALLBUILDCHECKBUILD BIN
circRNAprofiler 1.24.0  (landing page)
Simona Aufiero
git_last_commit: 8f3c453
git_last_commit_date: 2025-10-29 10:53:06 -0500
nebbiolo2Linux (Ubuntu 24.04.3 LTS) / x86_64  OK    OK    OK  UNNEEDED, same version is already published
taishanLinux (openEuler 24.03 LTS) / aarch64  OK    OK    OK  
Package 33/296HostnameOS / ArchINSTALLBUILDCHECKBUILD BIN
CircSeqAlignTk 1.12.0  (landing page)
Jianqiang Sun
git_last_commit: d5a1377
git_last_commit_date: 2025-10-29 11:19:05 -0500
nebbiolo2Linux (Ubuntu 24.04.3 LTS) / x86_64  OK    OK    OK  UNNEEDED, same version is already published
taishanLinux (openEuler 24.03 LTS) / aarch64  OK    OK    OK  
Package 34/296HostnameOS / ArchINSTALLBUILDCHECKBUILD BIN
cleanUpdTSeq 1.48.0  (landing page)
Jianhong Ou ; Lihua Julie Zhu
git_last_commit: 4565da2
git_last_commit_date: 2025-10-29 10:15:28 -0500
nebbiolo2Linux (Ubuntu 24.04.3 LTS) / x86_64  OK    OK    OK  UNNEEDED, same version is already published
taishanLinux (openEuler 24.03 LTS) / aarch64  OK    OK    WARNINGS  
Package 35/296HostnameOS / ArchINSTALLBUILDCHECKBUILD BIN
CleanUpRNAseq 1.4.0  (landing page)
Haibo Liu
git_last_commit: 3ccdf23
git_last_commit_date: 2025-10-29 11:31:19 -0500
nebbiolo2Linux (Ubuntu 24.04.3 LTS) / x86_64  OK    OK    OK  UNNEEDED, same version is already published
taishanLinux (openEuler 24.03 LTS) / aarch64  OK    OK    OK  
Package 36/296HostnameOS / ArchINSTALLBUILDCHECKBUILD BIN
cleaver 1.48.0  (landing page)
Sebastian Gibb
git_last_commit: 2f4b3fc
git_last_commit_date: 2025-10-29 10:15:06 -0500
nebbiolo2Linux (Ubuntu 24.04.3 LTS) / x86_64  OK    OK    OK  UNNEEDED, same version is already published
taishanLinux (openEuler 24.03 LTS) / aarch64  OK    OK    OK  
Package 37/296HostnameOS / ArchINSTALLBUILDCHECKBUILD BIN
cliProfiler 1.16.0  (landing page)
You Zhou
git_last_commit: 3ed7cb4
git_last_commit_date: 2025-10-29 11:12:54 -0500
nebbiolo2Linux (Ubuntu 24.04.3 LTS) / x86_64  OK    OK    OK  UNNEEDED, same version is already published
taishanLinux (openEuler 24.03 LTS) / aarch64  OK    OK    OK  
Package 38/296HostnameOS / ArchINSTALLBUILDCHECKBUILD BIN
CNEr 1.46.0  (landing page)
Boris Lenhard Damir Baranasic
git_last_commit: a5d64f4
git_last_commit_date: 2025-10-29 10:18:00 -0500
nebbiolo2Linux (Ubuntu 24.04.3 LTS) / x86_64  OK    OK    WARNINGS  UNNEEDED, same version is already published
taishanLinux (openEuler 24.03 LTS) / aarch64  OK    OK    WARNINGS  
Package 39/296HostnameOS / ArchINSTALLBUILDCHECKBUILD BIN
CNVfilteR 1.24.0  (landing page)
Jose Marcos Moreno-Cabrera
git_last_commit: ad670c2
git_last_commit_date: 2025-10-29 10:54:50 -0500
nebbiolo2Linux (Ubuntu 24.04.3 LTS) / x86_64  OK    OK    OK  UNNEEDED, same version is already published
taishanLinux (openEuler 24.03 LTS) / aarch64  OK    OK    OK  
Package 40/296HostnameOS / ArchINSTALLBUILDCHECKBUILD BIN
CODEX 1.42.0  (landing page)
Yuchao Jiang
git_last_commit: 27808f2
git_last_commit_date: 2025-10-29 10:23:27 -0500
nebbiolo2Linux (Ubuntu 24.04.3 LTS) / x86_64  OK    OK    OK  UNNEEDED, same version is already published
taishanLinux (openEuler 24.03 LTS) / aarch64  OK    OK    OK  
Package 41/296HostnameOS / ArchINSTALLBUILDCHECKBUILD BIN
cogeqc 1.14.0  (landing page)
Fabrício Almeida-Silva
git_last_commit: 5bac111
git_last_commit_date: 2025-10-29 11:16:40 -0500
nebbiolo2Linux (Ubuntu 24.04.3 LTS) / x86_64  OK    OK    OK  UNNEEDED, same version is already published
taishanLinux (openEuler 24.03 LTS) / aarch64  OK    OK    OK  
Package 42/296HostnameOS / ArchINSTALLBUILDCHECKBUILD BIN
compEpiTools 1.44.0  (landing page)
Mattia Furlan
git_last_commit: 75ae4a8
git_last_commit_date: 2025-10-29 10:20:59 -0500
nebbiolo2Linux (Ubuntu 24.04.3 LTS) / x86_64  OK    OK    OK  UNNEEDED, same version is already published
taishanLinux (openEuler 24.03 LTS) / aarch64  OK    OK    OK  
Package 43/296HostnameOS / ArchINSTALLBUILDCHECKBUILD BIN
consensusDE 1.28.0  (landing page)
Ashley J. Waardenberg
git_last_commit: 7c6b138
git_last_commit_date: 2025-10-29 10:48:35 -0500
nebbiolo2Linux (Ubuntu 24.04.3 LTS) / x86_64  OK    OK    OK  UNNEEDED, same version is already published
taishanLinux (openEuler 24.03 LTS) / aarch64  OK    OK    OK  
Package 44/296HostnameOS / ArchINSTALLBUILDCHECKBUILD BIN
coRdon 1.28.0  (landing page)
Anamaria Elek
git_last_commit: 1ec9f4a
git_last_commit_date: 2025-10-29 10:46:38 -0500
nebbiolo2Linux (Ubuntu 24.04.3 LTS) / x86_64  OK    OK    OK  UNNEEDED, same version is already published
taishanLinux (openEuler 24.03 LTS) / aarch64  OK    OK    OK  
Package 45/296HostnameOS / ArchINSTALLBUILDCHECKBUILD BIN
crisprBase 1.14.0  (landing page)
Jean-Philippe Fortin
git_last_commit: 6e22570
git_last_commit_date: 2025-10-29 11:14:18 -0500
nebbiolo2Linux (Ubuntu 24.04.3 LTS) / x86_64  OK    OK    WARNINGS  UNNEEDED, same version is already published
taishanLinux (openEuler 24.03 LTS) / aarch64  OK    OK    WARNINGS  
Package 46/296HostnameOS / ArchINSTALLBUILDCHECKBUILD BIN
crisprBowtie 1.14.0  (landing page)
Jean-Philippe Fortin
git_last_commit: 4840230
git_last_commit_date: 2025-10-29 11:15:03 -0500
nebbiolo2Linux (Ubuntu 24.04.3 LTS) / x86_64  OK    OK    OK  UNNEEDED, same version is already published
taishanLinux (openEuler 24.03 LTS) / aarch64  OK    OK    OK  
Package 47/296HostnameOS / ArchINSTALLBUILDCHECKBUILD BIN
crisprDesign 1.12.0  (landing page)
Jean-Philippe Fortin
git_last_commit: 143c0ce
git_last_commit_date: 2025-10-29 11:17:54 -0500
nebbiolo2Linux (Ubuntu 24.04.3 LTS) / x86_64  OK    OK    OK  UNNEEDED, same version is already published
taishanLinux (openEuler 24.03 LTS) / aarch64  OK    OK    OK  
Package 48/296HostnameOS / ArchINSTALLBUILDCHECKBUILD BIN
crisprScore 1.14.0  (landing page)
Jean-Philippe Fortin
git_last_commit: 86c5f68
git_last_commit_date: 2025-10-29 11:14:23 -0500
nebbiolo2Linux (Ubuntu 24.04.3 LTS) / x86_64  OK    OK    OK  UNNEEDED, same version is already published
taishanLinux (openEuler 24.03 LTS) / aarch64  OK    OK    OK  
Package 49/296HostnameOS / ArchINSTALLBUILDCHECKBUILD BIN
CRISPRseek 1.50.0  (landing page)
Lihua Julie Zhu
git_last_commit: fd2babc
git_last_commit_date: 2025-10-29 10:17:22 -0500
nebbiolo2Linux (Ubuntu 24.04.3 LTS) / x86_64  OK    OK    OK  UNNEEDED, same version is already published
taishanLinux (openEuler 24.03 LTS) / aarch64  OK    OK    OK  
Package 50/296HostnameOS / ArchINSTALLBUILDCHECKBUILD BIN
crisprShiny 1.6.0  (landing page)
Jean-Philippe Fortin
git_last_commit: 00fd6fe
git_last_commit_date: 2025-10-29 11:28:01 -0500
nebbiolo2Linux (Ubuntu 24.04.3 LTS) / x86_64  OK    OK    OK  UNNEEDED, same version is already published
taishanLinux (openEuler 24.03 LTS) / aarch64  OK    OK    OK  
Package 51/296HostnameOS / ArchINSTALLBUILDCHECKBUILD BIN
CrispRVariants 1.38.0  (landing page)
Helen Lindsay
git_last_commit: d78780f
git_last_commit_date: 2025-10-29 10:29:17 -0500
nebbiolo2Linux (Ubuntu 24.04.3 LTS) / x86_64  OK    OK    WARNINGS  UNNEEDED, same version is already published
taishanLinux (openEuler 24.03 LTS) / aarch64  OK    OK    WARNINGS  
Package 52/296HostnameOS / ArchINSTALLBUILDCHECKBUILD BIN
crisprViz 1.12.0  (landing page)
Jean-Philippe Fortin
git_last_commit: 3153352
git_last_commit_date: 2025-10-29 11:18:46 -0500
nebbiolo2Linux (Ubuntu 24.04.3 LTS) / x86_64  OK    OK    OK  UNNEEDED, same version is already published
taishanLinux (openEuler 24.03 LTS) / aarch64  OK    OK    OK  
Package 53/296HostnameOS / ArchINSTALLBUILDCHECKBUILD BIN
customProDB 1.50.0  (landing page)
Xiaojing Wang
git_last_commit: e4b2f17
git_last_commit_date: 2025-10-29 10:15:09 -0500
nebbiolo2Linux (Ubuntu 24.04.3 LTS) / x86_64  OK    OK    ERROR  
taishanLinux (openEuler 24.03 LTS) / aarch64  OK    OK    ERROR  
Package 54/296HostnameOS / ArchINSTALLBUILDCHECKBUILD BIN
dada2 1.38.0  (landing page)
Benjamin Callahan
git_last_commit: 60234dd
git_last_commit_date: 2025-10-29 10:30:17 -0500
nebbiolo2Linux (Ubuntu 24.04.3 LTS) / x86_64  OK    OK    WARNINGS  UNNEEDED, same version is already published
taishanLinux (openEuler 24.03 LTS) / aarch64  OK    ERROR  skipped
Package 55/296HostnameOS / ArchINSTALLBUILDCHECKBUILD BIN
dagLogo 1.48.0  (landing page)
Jianhong Ou
git_last_commit: a5fc0da
git_last_commit_date: 2025-10-29 10:16:42 -0500
nebbiolo2Linux (Ubuntu 24.04.3 LTS) / x86_64  OK    OK    OK  UNNEEDED, same version is already published
taishanLinux (openEuler 24.03 LTS) / aarch64  OK    OK    OK  
Package 56/296HostnameOS / ArchINSTALLBUILDCHECKBUILD BIN
DAMEfinder 1.22.0  (landing page)
Stephany Orjuela
git_last_commit: a1490db
git_last_commit_date: 2025-10-29 10:56:31 -0500
nebbiolo2Linux (Ubuntu 24.04.3 LTS) / x86_64  OK    OK    OK  UNNEEDED, same version is already published
taishanLinux (openEuler 24.03 LTS) / aarch64  OK    OK    OK  
Package 57/296HostnameOS / ArchINSTALLBUILDCHECKBUILD BIN
Damsel 1.6.0  (landing page)
Caitlin Page
git_last_commit: a70f6d8
git_last_commit_date: 2025-10-29 11:29:38 -0500
nebbiolo2Linux (Ubuntu 24.04.3 LTS) / x86_64  OK    OK    WARNINGS  UNNEEDED, same version is already published
taishanLinux (openEuler 24.03 LTS) / aarch64  OK    OK    WARNINGS  
Package 58/296HostnameOS / ArchINSTALLBUILDCHECKBUILD BIN
DECIPHER 3.6.0  (landing page)
Erik Wright
git_last_commit: e807f36
git_last_commit_date: 2025-10-29 10:09:13 -0500
nebbiolo2Linux (Ubuntu 24.04.3 LTS) / x86_64  OK    OK    OK  UNNEEDED, same version is already published
taishanLinux (openEuler 24.03 LTS) / aarch64  OK    OK    OK  
Package 59/296HostnameOS / ArchINSTALLBUILDCHECKBUILD BIN
decompTumor2Sig 2.26.0  (landing page)
Rosario M. Piro
git_last_commit: 1228e7c
git_last_commit_date: 2025-10-29 10:49:06 -0500
nebbiolo2Linux (Ubuntu 24.04.3 LTS) / x86_64  OK    OK    OK  UNNEEDED, same version is already published
taishanLinux (openEuler 24.03 LTS) / aarch64  OK    OK    OK  
Package 60/296HostnameOS / ArchINSTALLBUILDCHECKBUILD BIN
deepSNV 1.56.0  (landing page)
Moritz Gerstung
git_last_commit: 50518b9
git_last_commit_date: 2025-10-29 10:10:14 -0500
nebbiolo2Linux (Ubuntu 24.04.3 LTS) / x86_64  OK    OK    OK  UNNEEDED, same version is already published
taishanLinux (openEuler 24.03 LTS) / aarch64  OK    OK    OK  
Package 61/296HostnameOS / ArchINSTALLBUILDCHECKBUILD BIN
diffHic 1.42.0  (landing page)
Aaron Lun , Gordon Smyth , Hannah Coughlin
git_last_commit: d1e2c99
git_last_commit_date: 2025-10-29 10:25:47 -0500
nebbiolo2Linux (Ubuntu 24.04.3 LTS) / x86_64  OK    OK    OK  UNNEEDED, same version is already published
taishanLinux (openEuler 24.03 LTS) / aarch64  OK    OK    OK  
Package 62/296HostnameOS / ArchINSTALLBUILDCHECKBUILD BIN
DMRcaller 1.42.0  (landing page)
Nicolae Radu Zabet
git_last_commit: ba466d4
git_last_commit_date: 2025-10-29 10:25:12 -0500
nebbiolo2Linux (Ubuntu 24.04.3 LTS) / x86_64  OK    OK    OK  UNNEEDED, same version is already published
taishanLinux (openEuler 24.03 LTS) / aarch64  OK    TIMEOUT  skipped
Package 63/296HostnameOS / ArchINSTALLBUILDCHECKBUILD BIN
DNAshapeR 1.38.0  (landing page)
Tsu-Pei Chiu
git_last_commit: c0aba6b
git_last_commit_date: 2025-10-29 10:30:49 -0500
nebbiolo2Linux (Ubuntu 24.04.3 LTS) / x86_64  OK    OK    OK  UNNEEDED, same version is already published
taishanLinux (openEuler 24.03 LTS) / aarch64  OK    OK    OK  
Package 64/296HostnameOS / ArchINSTALLBUILDCHECKBUILD BIN
DominoEffect 1.30.0  (landing page)
Marija Buljan , Peter Blattmann
git_last_commit: 6694070
git_last_commit_date: 2025-10-29 10:43:24 -0500
nebbiolo2Linux (Ubuntu 24.04.3 LTS) / x86_64  OK    OK    OK  UNNEEDED, same version is already published
taishanLinux (openEuler 24.03 LTS) / aarch64  OK    OK    OK  
Package 65/296HostnameOS / ArchINSTALLBUILDCHECKBUILD BIN
doubletrouble 1.10.0  (landing page)
Fabrício Almeida-Silva
git_last_commit: 555edc5
git_last_commit_date: 2025-10-29 11:20:05 -0500
nebbiolo2Linux (Ubuntu 24.04.3 LTS) / x86_64  OK    OK    OK  UNNEEDED, same version is already published
taishanLinux (openEuler 24.03 LTS) / aarch64  OK    OK    OK  
Package 66/296HostnameOS / ArchINSTALLBUILDCHECKBUILD BIN
DspikeIn 1.0.0  (landing page)
Mitra Ghotbi
git_last_commit: 8a427ff
git_last_commit_date: 2025-10-29 11:39:12 -0500
nebbiolo2Linux (Ubuntu 24.04.3 LTS) / x86_64  OK    OK    OK  UNNEEDED, same version is already published
taishanLinux (openEuler 24.03 LTS) / aarch64  OK    OK    OK  
Package 67/296HostnameOS / ArchINSTALLBUILDCHECKBUILD BIN
DuplexDiscovereR 1.4.0  (landing page)
Egor Semenchenko
git_last_commit: 38c4e52
git_last_commit_date: 2025-10-29 11:32:35 -0500
nebbiolo2Linux (Ubuntu 24.04.3 LTS) / x86_64  OK    OK    OK  UNNEEDED, same version is already published
taishanLinux (openEuler 24.03 LTS) / aarch64  OK    OK    OK  
Package 68/296HostnameOS / ArchINSTALLBUILDCHECKBUILD BIN
easyRNASeq 2.46.0  (landing page)
Nicolas Delhomme
git_last_commit: e268573
git_last_commit_date: 2025-10-29 10:10:00 -0500
nebbiolo2Linux (Ubuntu 24.04.3 LTS) / x86_64  OK    OK    WARNINGS  UNNEEDED, same version is already published
taishanLinux (openEuler 24.03 LTS) / aarch64  OK    OK    WARNINGS  
Package 69/296HostnameOS / ArchINSTALLBUILDCHECKBUILD BIN
EDASeq 2.44.0  (landing page)
Davide Risso
git_last_commit: e7a4a13
git_last_commit_date: 2025-10-29 10:08:53 -0500
nebbiolo2Linux (Ubuntu 24.04.3 LTS) / x86_64  OK    OK    OK  UNNEEDED, same version is already published
taishanLinux (openEuler 24.03 LTS) / aarch64  OK    OK    OK  
Package 70/296HostnameOS / ArchINSTALLBUILDCHECKBUILD BIN
enhancerHomologSearch 1.16.0  (landing page)
Jianhong Ou
git_last_commit: a7e3e8d
git_last_commit_date: 2025-10-29 11:11:19 -0500
nebbiolo2Linux (Ubuntu 24.04.3 LTS) / x86_64  OK    OK    OK  UNNEEDED, same version is already published
taishanLinux (openEuler 24.03 LTS) / aarch64  OK    OK    OK  
Package 71/296HostnameOS / ArchINSTALLBUILDCHECKBUILD BIN
ensembldb 2.34.0  (landing page)
Johannes Rainer
git_last_commit: a13967b
git_last_commit_date: 2025-10-29 10:24:50 -0500
nebbiolo2Linux (Ubuntu 24.04.3 LTS) / x86_64  OK    OK    OK  UNNEEDED, same version is already published
taishanLinux (openEuler 24.03 LTS) / aarch64  OK    OK    OK  
Package 72/296HostnameOS / ArchINSTALLBUILDCHECKBUILD BIN
EpiTxDb 1.22.0  (landing page)
Felix G.M. Ernst
git_last_commit: 54a3d69
git_last_commit_date: 2025-10-29 10:57:35 -0500
nebbiolo2Linux (Ubuntu 24.04.3 LTS) / x86_64  OK    OK    OK  UNNEEDED, same version is already published
taishanLinux (openEuler 24.03 LTS) / aarch64  OK    OK    OK  
Package 73/296HostnameOS / ArchINSTALLBUILDCHECKBUILD BIN
esATAC 1.32.0  (landing page)
Zheng Wei
git_last_commit: 6d7ce39
git_last_commit_date: 2025-10-29 10:42:12 -0500
nebbiolo2Linux (Ubuntu 24.04.3 LTS) / x86_64  OK    OK    OK  UNNEEDED, same version is already published
taishanLinux (openEuler 24.03 LTS) / aarch64  OK    OK    OK  
Package 74/296HostnameOS / ArchINSTALLBUILDCHECKBUILD BIN
eudysbiome 1.40.0  (landing page)
Xiaoyuan Zhou
git_last_commit: 7979b5b
git_last_commit_date: 2025-10-29 10:27:08 -0500
nebbiolo2Linux (Ubuntu 24.04.3 LTS) / x86_64  OK    OK    OK  UNNEEDED, same version is already published
taishanLinux (openEuler 24.03 LTS) / aarch64  OK    OK    OK  
Package 75/296HostnameOS / ArchINSTALLBUILDCHECKBUILD BIN
EventPointer 3.18.0  (landing page)
Juan A. Ferrer-Bonsoms
git_last_commit: 816a09d
git_last_commit_date: 2025-10-29 10:37:08 -0500
nebbiolo2Linux (Ubuntu 24.04.3 LTS) / x86_64  OK    OK    OK  UNNEEDED, same version is already published
taishanLinux (openEuler 24.03 LTS) / aarch64  OK    OK    OK  
Package 76/296HostnameOS / ArchINSTALLBUILDCHECKBUILD BIN
factR 1.12.0  (landing page)
Fursham Hamid
git_last_commit: 1edd734
git_last_commit_date: 2025-10-29 11:17:33 -0500
nebbiolo2Linux (Ubuntu 24.04.3 LTS) / x86_64  OK    OK    OK  NO, package depends on 'drawProteins' which is not available
taishanLinux (openEuler 24.03 LTS) / aarch64  OK    OK    OK  
Package 77/296HostnameOS / ArchINSTALLBUILDCHECKBUILD BIN
FastqCleaner 1.28.0  (landing page)
Leandro Roser
git_last_commit: 112c07e
git_last_commit_date: 2025-10-29 10:45:40 -0500
nebbiolo2Linux (Ubuntu 24.04.3 LTS) / x86_64  OK    OK    OK  UNNEEDED, same version is already published
taishanLinux (openEuler 24.03 LTS) / aarch64  OK    OK    OK  
Package 78/296HostnameOS / ArchINSTALLBUILDCHECKBUILD BIN
FLAMES 2.4.1  (landing page)
Changqing Wang
git_last_commit: 41bbd55
git_last_commit_date: 2025-10-31 01:50:56 -0500
nebbiolo2Linux (Ubuntu 24.04.3 LTS) / x86_64  OK    OK    OK  UNNEEDED, same version is already published
taishanLinux (openEuler 24.03 LTS) / aarch64  ERROR    ERROR  skipped
Package 79/296HostnameOS / ArchINSTALLBUILDCHECKBUILD BIN
G4SNVHunter 1.2.0  (landing page)
Rongxin Zhang
git_last_commit: 68a2680
git_last_commit_date: 2025-10-29 11:33:18 -0500
nebbiolo2Linux (Ubuntu 24.04.3 LTS) / x86_64  OK    OK    WARNINGS  UNNEEDED, same version is already published
taishanLinux (openEuler 24.03 LTS) / aarch64  OK    OK    WARNINGS  
Package 80/296HostnameOS / ArchINSTALLBUILDCHECKBUILD BIN
GA4GHclient 1.34.0  (landing page)
Welliton Souza
git_last_commit: 7e604d2
git_last_commit_date: 2025-10-29 10:37:37 -0500
nebbiolo2Linux (Ubuntu 24.04.3 LTS) / x86_64  OK    OK    OK  UNNEEDED, same version is already published
taishanLinux (openEuler 24.03 LTS) / aarch64  OK    OK    OK  
Package 81/296HostnameOS / ArchINSTALLBUILDCHECKBUILD BIN
gcapc 1.34.0  (landing page)
Mingxiang Teng
git_last_commit: 689a02e
git_last_commit_date: 2025-10-29 10:35:52 -0500
nebbiolo2Linux (Ubuntu 24.04.3 LTS) / x86_64  OK    OK    OK  UNNEEDED, same version is already published
taishanLinux (openEuler 24.03 LTS) / aarch64  OK    OK    OK  
Package 82/296HostnameOS / ArchINSTALLBUILDCHECKBUILD BIN
gcrma 2.82.0  (landing page)
Z. Wu
git_last_commit: 3e3e0ce
git_last_commit_date: 2025-10-29 09:53:32 -0500
nebbiolo2Linux (Ubuntu 24.04.3 LTS) / x86_64  OK    OK    OK  UNNEEDED, same version is already published
taishanLinux (openEuler 24.03 LTS) / aarch64  OK    OK    OK  
Package 83/296HostnameOS / ArchINSTALLBUILDCHECKBUILD BIN
gDNAx 1.8.0  (landing page)
Robert Castelo
git_last_commit: b09db45
git_last_commit_date: 2025-10-29 11:24:57 -0500
nebbiolo2Linux (Ubuntu 24.04.3 LTS) / x86_64  OK    OK    OK  UNNEEDED, same version is already published
taishanLinux (openEuler 24.03 LTS) / aarch64  OK    OK    OK  
Package 84/296HostnameOS / ArchINSTALLBUILDCHECKBUILD BIN
GeneRegionScan 1.66.0  (landing page)
Lasse Folkersen
git_last_commit: 3505f1d
git_last_commit_date: 2025-10-29 10:02:41 -0500
nebbiolo2Linux (Ubuntu 24.04.3 LTS) / x86_64  OK    OK    OK  UNNEEDED, same version is already published
taishanLinux (openEuler 24.03 LTS) / aarch64  OK    OK    OK  
Package 85/296HostnameOS / ArchINSTALLBUILDCHECKBUILD BIN
GeneStructureTools 1.30.0  (landing page)
Beth Signal
git_last_commit: 3b1f07b
git_last_commit_date: 2025-10-29 10:43:43 -0500
nebbiolo2Linux (Ubuntu 24.04.3 LTS) / x86_64  OK    OK    OK  UNNEEDED, same version is already published
taishanLinux (openEuler 24.03 LTS) / aarch64  OK    OK    OK  
Package 86/296HostnameOS / ArchINSTALLBUILDCHECKBUILD BIN
genomation 1.42.0  (landing page)
Altuna Akalin , Vedran Franke
git_last_commit: 01d23ac
git_last_commit_date: 2025-10-29 10:23:07 -0500
nebbiolo2Linux (Ubuntu 24.04.3 LTS) / x86_64  OK    OK    WARNINGS  UNNEEDED, same version is already published
taishanLinux (openEuler 24.03 LTS) / aarch64  OK    OK    WARNINGS  
Package 87/296HostnameOS / ArchINSTALLBUILDCHECKBUILD BIN
GenomAutomorphism 1.12.0  (landing page)
Robersy Sanchez
git_last_commit: bb13ab8
git_last_commit_date: 2025-10-29 11:17:59 -0500
nebbiolo2Linux (Ubuntu 24.04.3 LTS) / x86_64  OK    OK    OK  UNNEEDED, same version is already published
taishanLinux (openEuler 24.03 LTS) / aarch64  OK    OK    OK  
Package 88/296HostnameOS / ArchINSTALLBUILDCHECKBUILD BIN
GenomicAlignments 1.46.0  (landing page)
Hervé Pagès
git_last_commit: 4bd0167
git_last_commit_date: 2025-10-29 13:50:18 -0500
nebbiolo2Linux (Ubuntu 24.04.3 LTS) / x86_64  OK    OK    OK  UNNEEDED, same version is already published
taishanLinux (openEuler 24.03 LTS) / aarch64  OK    OK    OK  
Package 89/296HostnameOS / ArchINSTALLBUILDCHECKBUILD BIN
GenomicDistributions 1.18.0  (landing page)
Kristyna Kupkova
git_last_commit: 7d87c4e
git_last_commit_date: 2025-10-29 11:05:22 -0500
nebbiolo2Linux (Ubuntu 24.04.3 LTS) / x86_64  OK    OK    OK  UNNEEDED, same version is already published
taishanLinux (openEuler 24.03 LTS) / aarch64  OK    OK    OK  
Package 90/296HostnameOS / ArchINSTALLBUILDCHECKBUILD BIN
GenomicFeatures 1.62.0  (landing page)
H. Pagès
git_last_commit: f4dfd41
git_last_commit_date: 2025-10-29 14:16:45 -0500
nebbiolo2Linux (Ubuntu 24.04.3 LTS) / x86_64  OK    OK    OK  UNNEEDED, same version is already published
taishanLinux (openEuler 24.03 LTS) / aarch64  OK    OK    OK  
Package 91/296HostnameOS / ArchINSTALLBUILDCHECKBUILD BIN
GenomicScores 2.22.0  (landing page)
Robert Castelo
git_last_commit: 8f6570c
git_last_commit_date: 2025-10-29 10:38:07 -0500
nebbiolo2Linux (Ubuntu 24.04.3 LTS) / x86_64  OK    OK    OK  UNNEEDED, same version is already published
taishanLinux (openEuler 24.03 LTS) / aarch64  OK    OK    OK  
Package 92/296HostnameOS / ArchINSTALLBUILDCHECKBUILD BIN
GenVisR 1.42.0  (landing page)
Zachary Skidmore
git_last_commit: aa50f04
git_last_commit_date: 2025-10-29 10:29:36 -0500
nebbiolo2Linux (Ubuntu 24.04.3 LTS) / x86_64  OK    OK    ERROR  
taishanLinux (openEuler 24.03 LTS) / aarch64  OK    OK    ERROR  
Package 93/296HostnameOS / ArchINSTALLBUILDCHECKBUILD BIN
geomeTriD 1.4.0  (landing page)
Jianhong Ou
git_last_commit: 6d6e43f
git_last_commit_date: 2025-10-29 11:32:13 -0500
nebbiolo2Linux (Ubuntu 24.04.3 LTS) / x86_64  OK    OK    OK  UNNEEDED, same version is already published
taishanLinux (openEuler 24.03 LTS) / aarch64  OK    OK    OK  
Package 94/296HostnameOS / ArchINSTALLBUILDCHECKBUILD BIN
ggbio 1.58.0  (landing page)
Michael Lawrence
git_last_commit: 678f10e
git_last_commit_date: 2025-10-29 10:09:27 -0500
nebbiolo2Linux (Ubuntu 24.04.3 LTS) / x86_64  OK    OK    WARNINGS  UNNEEDED, same version is already published
taishanLinux (openEuler 24.03 LTS) / aarch64  OK    OK    WARNINGS  
Package 95/296HostnameOS / ArchINSTALLBUILDCHECKBUILD BIN
ggmsa 1.16.0  (landing page)
Guangchuang Yu
git_last_commit: c81d424
git_last_commit_date: 2025-10-29 11:12:22 -0500
nebbiolo2Linux (Ubuntu 24.04.3 LTS) / x86_64  OK    OK    WARNINGS  UNNEEDED, same version is already published
taishanLinux (openEuler 24.03 LTS) / aarch64  OK    OK    WARNINGS  
Package 96/296HostnameOS / ArchINSTALLBUILDCHECKBUILD BIN
gmapR 1.52.0  (landing page)
Michael Lawrence
git_last_commit: 10d6080
git_last_commit_date: 2025-10-29 10:11:34 -0500
nebbiolo2Linux (Ubuntu 24.04.3 LTS) / x86_64  OK    ERROR  skipped
taishanLinux (openEuler 24.03 LTS) / aarch64  OK    ERROR  skipped
Package 97/296HostnameOS / ArchINSTALLBUILDCHECKBUILD BIN
gmoviz 1.22.0  (landing page)
Kathleen Zeglinski
git_last_commit: 64c2454
git_last_commit_date: 2025-10-29 10:57:48 -0500
nebbiolo2Linux (Ubuntu 24.04.3 LTS) / x86_64  OK    OK    OK  UNNEEDED, same version is already published
taishanLinux (openEuler 24.03 LTS) / aarch64  OK    OK    OK  
Package 98/296HostnameOS / ArchINSTALLBUILDCHECKBUILD BIN
GOTHiC 1.46.0  (landing page)
Borbala Mifsud
git_last_commit: 9a54459
git_last_commit_date: 2025-10-29 10:52:56 -0500
nebbiolo2Linux (Ubuntu 24.04.3 LTS) / x86_64  OK    OK    OK  UNNEEDED, same version is already published
taishanLinux (openEuler 24.03 LTS) / aarch64  OK    OK    OK  
Package 99/296HostnameOS / ArchINSTALLBUILDCHECKBUILD BIN
GRaNIE 1.14.0  (landing page)
Christian Arnold
git_last_commit: 7d55acc
git_last_commit_date: 2025-10-29 11:16:56 -0500
nebbiolo2Linux (Ubuntu 24.04.3 LTS) / x86_64  OK    OK    OK  UNNEEDED, same version is already published
taishanLinux (openEuler 24.03 LTS) / aarch64  OK    OK    OK  
Package 100/296HostnameOS / ArchINSTALLBUILDCHECKBUILD BIN
GUIDEseq 1.40.0  (landing page)
Lihua Julie Zhu
git_last_commit: 45a0042
git_last_commit_date: 2025-10-29 10:28:16 -0500
nebbiolo2Linux (Ubuntu 24.04.3 LTS) / x86_64  OK    OK    OK  UNNEEDED, same version is already published
taishanLinux (openEuler 24.03 LTS) / aarch64  OK    OK    OK  
Package 101/296HostnameOS / ArchINSTALLBUILDCHECKBUILD BIN
Gviz 1.54.0  (landing page)
Robert Ivanek
git_last_commit: 05ebfa6
git_last_commit_date: 2025-10-29 10:10:17 -0500
nebbiolo2Linux (Ubuntu 24.04.3 LTS) / x86_64  OK    OK    OK  UNNEEDED, same version is already published
taishanLinux (openEuler 24.03 LTS) / aarch64  OK    OK    OK  
Package 102/296HostnameOS / ArchINSTALLBUILDCHECKBUILD BIN
gwascat 2.42.0  (landing page)
VJ Carey
git_last_commit: 5ae3745
git_last_commit_date: 2025-10-29 10:10:23 -0500
nebbiolo2Linux (Ubuntu 24.04.3 LTS) / x86_64  OK    OK    OK  UNNEEDED, same version is already published
taishanLinux (openEuler 24.03 LTS) / aarch64  OK    ERROR  skipped
Package 103/296HostnameOS / ArchINSTALLBUILDCHECKBUILD BIN
h5vc 2.44.0  (landing page)
Paul Theodor Pyl
git_last_commit: 159497f
git_last_commit_date: 2025-10-29 10:17:13 -0500
nebbiolo2Linux (Ubuntu 24.04.3 LTS) / x86_64  OK    OK    WARNINGS  UNNEEDED, same version is already published
taishanLinux (openEuler 24.03 LTS) / aarch64  OK    TIMEOUT  skipped
Package 104/296HostnameOS / ArchINSTALLBUILDCHECKBUILD BIN
heatmaps 1.34.0  (landing page)
Malcolm Perry
git_last_commit: 1fbdefe
git_last_commit_date: 2025-10-29 10:38:31 -0500
nebbiolo2Linux (Ubuntu 24.04.3 LTS) / x86_64  OK    OK    OK  UNNEEDED, same version is already published
taishanLinux (openEuler 24.03 LTS) / aarch64  OK    OK    OK  
Package 105/296HostnameOS / ArchINSTALLBUILDCHECKBUILD BIN
HelloRanges 1.36.0  (landing page)
Michael Lawrence
git_last_commit: 8035909
git_last_commit_date: 2025-10-29 10:35:10 -0500
nebbiolo2Linux (Ubuntu 24.04.3 LTS) / x86_64  OK    OK    OK  UNNEEDED, same version is already published
taishanLinux (openEuler 24.03 LTS) / aarch64  OK    OK    OK  
Package 106/296HostnameOS / ArchINSTALLBUILDCHECKBUILD BIN
HiCaptuRe 1.0.0  (landing page)
Laureano Tomas-Daza
git_last_commit: 0a37211
git_last_commit_date: 2025-10-29 11:37:26 -0500
nebbiolo2Linux (Ubuntu 24.04.3 LTS) / x86_64  OK    OK    OK  UNNEEDED, same version is already published
taishanLinux (openEuler 24.03 LTS) / aarch64  OK    OK    OK  
Package 107/296HostnameOS / ArchINSTALLBUILDCHECKBUILD BIN
HiCDCPlus 1.18.0  (landing page)
Merve Sahin
git_last_commit: 2c8bd39
git_last_commit_date: 2025-10-29 11:06:20 -0500
nebbiolo2Linux (Ubuntu 24.04.3 LTS) / x86_64  OK    OK    OK  UNNEEDED, same version is already published
taishanLinux (openEuler 24.03 LTS) / aarch64  OK    OK    OK  
Package 108/296HostnameOS / ArchINSTALLBUILDCHECKBUILD BIN
HiCPotts 1.0.0  (landing page)
Itunu. Godwin Osuntoki
git_last_commit: d5f20b8
git_last_commit_date: 2025-10-29 11:37:09 -0500
nebbiolo2Linux (Ubuntu 24.04.3 LTS) / x86_64  OK    OK    OK  UNNEEDED, same version is already published
taishanLinux (openEuler 24.03 LTS) / aarch64  OK    OK    OK  
Package 109/296HostnameOS / ArchINSTALLBUILDCHECKBUILD BIN
HiLDA 1.24.0  (landing page)
Zhi Yang
git_last_commit: 6a179d6
git_last_commit_date: 2025-10-29 10:53:14 -0500
nebbiolo2Linux (Ubuntu 24.04.3 LTS) / x86_64  OK    OK    OK  UNNEEDED, same version is already published
taishanLinux (openEuler 24.03 LTS) / aarch64  ERROR    ERROR  skipped
Package 110/296HostnameOS / ArchINSTALLBUILDCHECKBUILD BIN
hiReadsProcessor 1.46.0  (landing page)
Nirav V Malani
git_last_commit: 8ccca6d
git_last_commit_date: 2025-10-29 10:21:04 -0500
nebbiolo2Linux (Ubuntu 24.04.3 LTS) / x86_64  OK    OK    ERROR  
taishanLinux (openEuler 24.03 LTS) / aarch64  OK    OK    ERROR  
Package 111/296HostnameOS / ArchINSTALLBUILDCHECKBUILD BIN
HiTC 1.54.0  (landing page)
Nicolas Servant
git_last_commit: f8056e1
git_last_commit_date: 2025-10-29 10:10:49 -0500
nebbiolo2Linux (Ubuntu 24.04.3 LTS) / x86_64  OK    OK    WARNINGS  UNNEEDED, same version is already published
taishanLinux (openEuler 24.03 LTS) / aarch64  OK    OK    WARNINGS  
Package 112/296HostnameOS / ArchINSTALLBUILDCHECKBUILD BIN
icetea 1.28.0  (landing page)
Vivek Bhardwaj
git_last_commit: f7f280d
git_last_commit_date: 2025-10-29 10:45:57 -0500
nebbiolo2Linux (Ubuntu 24.04.3 LTS) / x86_64  OK    OK    WARNINGS  UNNEEDED, same version is already published
taishanLinux (openEuler 24.03 LTS) / aarch64  OK    OK    WARNINGS  
Package 113/296HostnameOS / ArchINSTALLBUILDCHECKBUILD BIN
idpr 1.20.0  (landing page)
William M. McFadden
git_last_commit: 47a2bb1
git_last_commit_date: 2025-10-29 11:01:41 -0500
nebbiolo2Linux (Ubuntu 24.04.3 LTS) / x86_64  OK    OK    OK  UNNEEDED, same version is already published
taishanLinux (openEuler 24.03 LTS) / aarch64  OK    OK    OK  
Package 114/296HostnameOS / ArchINSTALLBUILDCHECKBUILD BIN
igblastr 1.0.0  (landing page)
Hervé Pagès
git_last_commit: 64e8e91
git_last_commit_date: 2025-11-13 18:15:31 -0500
nebbiolo2Linux (Ubuntu 24.04.3 LTS) / x86_64  OK    OK    OK  UNNEEDED, same version is already published
taishanLinux (openEuler 24.03 LTS) / aarch64... NOT SUPPORTED ...
Package 115/296HostnameOS / ArchINSTALLBUILDCHECKBUILD BIN
InPAS 2.18.0  (landing page)
Jianhong Ou
git_last_commit: b015763
git_last_commit_date: 2025-10-29 10:24:45 -0500
nebbiolo2Linux (Ubuntu 24.04.3 LTS) / x86_64  ERROR    ERROR  skipped
taishanLinux (openEuler 24.03 LTS) / aarch64  ERROR    ERROR  skipped
Package 116/296HostnameOS / ArchINSTALLBUILDCHECKBUILD BIN
IntEREst 1.34.0  (landing page)
Ali Oghabian
git_last_commit: 8a4b0c3
git_last_commit_date: 2025-10-29 10:37:18 -0500
nebbiolo2Linux (Ubuntu 24.04.3 LTS) / x86_64  OK    OK    OK  UNNEEDED, same version is already published
taishanLinux (openEuler 24.03 LTS) / aarch64  OK    OK    OK  
Package 117/296HostnameOS / ArchINSTALLBUILDCHECKBUILD BIN
IONiseR 2.34.0  (landing page)
Mike Smith
git_last_commit: 25723cd
git_last_commit_date: 2025-10-29 10:26:28 -0500
nebbiolo2Linux (Ubuntu 24.04.3 LTS) / x86_64  OK    OK    OK  UNNEEDED, same version is already published
taishanLinux (openEuler 24.03 LTS) / aarch64  OK    OK    OK  
Package 118/296HostnameOS / ArchINSTALLBUILDCHECKBUILD BIN
ipdDb 1.28.0  (landing page)
Steffen Klasberg
git_last_commit: 3758ef6
git_last_commit_date: 2025-10-29 10:46:13 -0500
nebbiolo2Linux (Ubuntu 24.04.3 LTS) / x86_64  OK    OK    OK  UNNEEDED, same version is already published
taishanLinux (openEuler 24.03 LTS) / aarch64  OK    OK    OK  
Package 119/296HostnameOS / ArchINSTALLBUILDCHECKBUILD BIN
IsoformSwitchAnalyzeR 2.10.0  (landing page)
Kristoffer Vitting-Seerup
git_last_commit: 34e7c83
git_last_commit_date: 2025-10-29 10:38:58 -0500
nebbiolo2Linux (Ubuntu 24.04.3 LTS) / x86_64  OK    OK    ERROR  
taishanLinux (openEuler 24.03 LTS) / aarch64  OK    OK    OK  
Package 120/296HostnameOS / ArchINSTALLBUILDCHECKBUILD BIN
kebabs 1.44.0  (landing page)
Ulrich Bodenhofer
git_last_commit: db39eb7
git_last_commit_date: 2025-10-29 10:22:35 -0500
nebbiolo2Linux (Ubuntu 24.04.3 LTS) / x86_64  OK    OK    OK  UNNEEDED, same version is already published
taishanLinux (openEuler 24.03 LTS) / aarch64  OK    OK    WARNINGS  
Package 121/296HostnameOS / ArchINSTALLBUILDCHECKBUILD BIN
KEGGREST 1.50.0  (landing page)
Bioconductor Package Maintainer
git_last_commit: bb924dc
git_last_commit_date: 2025-10-29 10:13:18 -0500
nebbiolo2Linux (Ubuntu 24.04.3 LTS) / x86_64  OK    OK    OK  UNNEEDED, same version is already published
taishanLinux (openEuler 24.03 LTS) / aarch64  OK    OK    OK  
Package 122/296HostnameOS / ArchINSTALLBUILDCHECKBUILD BIN
LinTInd 1.14.0  (landing page)
Luyue Wang
git_last_commit: c065ea6
git_last_commit_date: 2025-10-29 11:14:50 -0500
nebbiolo2Linux (Ubuntu 24.04.3 LTS) / x86_64  OK    ERROR  skipped
taishanLinux (openEuler 24.03 LTS) / aarch64  OK    ERROR  skipped
Package 123/296HostnameOS / ArchINSTALLBUILDCHECKBUILD BIN
LymphoSeq 1.38.0  (landing page)
David Coffey
git_last_commit: d69e717
git_last_commit_date: 2025-10-29 10:31:49 -0500
nebbiolo2Linux (Ubuntu 24.04.3 LTS) / x86_64  OK    OK    OK  UNNEEDED, same version is already published
taishanLinux (openEuler 24.03 LTS) / aarch64  OK    OK    OK  
Package 124/296HostnameOS / ArchINSTALLBUILDCHECKBUILD BIN
m6Aboost 1.16.0  (landing page)
You Zhou
git_last_commit: 97ed1dd
git_last_commit_date: 2025-10-29 11:10:16 -0500
nebbiolo2Linux (Ubuntu 24.04.3 LTS) / x86_64  OK    OK    OK  UNNEEDED, same version is already published
taishanLinux (openEuler 24.03 LTS) / aarch64  OK    OK    OK  
Package 125/296HostnameOS / ArchINSTALLBUILDCHECKBUILD BIN
MADSEQ 1.36.0  (landing page)
Yu Kong
git_last_commit: 856530e
git_last_commit_date: 2025-10-29 10:32:36 -0500
nebbiolo2Linux (Ubuntu 24.04.3 LTS) / x86_64  ERROR    ERROR  skipped
taishanLinux (openEuler 24.03 LTS) / aarch64  ERROR    ERROR  skipped
Package 126/296HostnameOS / ArchINSTALLBUILDCHECKBUILD BIN
MatrixRider 1.42.0  (landing page)
Elena Grassi
git_last_commit: a79a3cc
git_last_commit_date: 2025-10-29 10:24:34 -0500
nebbiolo2Linux (Ubuntu 24.04.3 LTS) / x86_64  OK    OK    WARNINGS  UNNEEDED, same version is already published
taishanLinux (openEuler 24.03 LTS) / aarch64  OK    OK    WARNINGS  
Package 127/296HostnameOS / ArchINSTALLBUILDCHECKBUILD BIN
MDTS 1.30.0  (landing page)
Jack M.. Fu
git_last_commit: 2e2c502
git_last_commit_date: 2025-10-29 10:43:45 -0500
nebbiolo2Linux (Ubuntu 24.04.3 LTS) / x86_64  OK    OK    OK  UNNEEDED, same version is already published
taishanLinux (openEuler 24.03 LTS) / aarch64  OK    OK    OK  
Package 128/296HostnameOS / ArchINSTALLBUILDCHECKBUILD BIN
MEDIPS 1.62.0  (landing page)
Lukas Chavez
git_last_commit: 8748557
git_last_commit_date: 2025-10-29 10:06:09 -0500
nebbiolo2Linux (Ubuntu 24.04.3 LTS) / x86_64  OK    OK    OK  UNNEEDED, same version is already published
taishanLinux (openEuler 24.03 LTS) / aarch64  OK    OK    OK  
Package 129/296HostnameOS / ArchINSTALLBUILDCHECKBUILD BIN
MEDME 1.70.0  (landing page)
Mattia Pelizzola
git_last_commit: 55c9b50
git_last_commit_date: 2025-10-29 10:01:22 -0500
nebbiolo2Linux (Ubuntu 24.04.3 LTS) / x86_64  OK    OK    WARNINGS  UNNEEDED, same version is already published
taishanLinux (openEuler 24.03 LTS) / aarch64  OK    OK    WARNINGS  
Package 130/296HostnameOS / ArchINSTALLBUILDCHECKBUILD BIN
memes 1.18.0  (landing page)
Spencer Nystrom
git_last_commit: ca59d4c
git_last_commit_date: 2025-10-29 11:07:17 -0500
nebbiolo2Linux (Ubuntu 24.04.3 LTS) / x86_64  OK    OK    WARNINGS  UNNEEDED, same version is already published
taishanLinux (openEuler 24.03 LTS) / aarch64  OK    OK    ERROR  
Package 131/296HostnameOS / ArchINSTALLBUILDCHECKBUILD BIN
MesKit 1.20.0  (landing page)
Mengni Liu
git_last_commit: 8a34315
git_last_commit_date: 2025-10-29 11:01:00 -0500
nebbiolo2Linux (Ubuntu 24.04.3 LTS) / x86_64  OK    OK    WARNINGS  UNNEEDED, same version is already published
taishanLinux (openEuler 24.03 LTS) / aarch64  OK    OK    WARNINGS  
Package 132/296HostnameOS / ArchINSTALLBUILDCHECKBUILD BIN
metaseqR2 1.22.0  (landing page)
Panagiotis Moulos
git_last_commit: e5e7809
git_last_commit_date: 2025-10-29 10:59:18 -0500
nebbiolo2Linux (Ubuntu 24.04.3 LTS) / x86_64  OK    ERROR  skipped
taishanLinux (openEuler 24.03 LTS) / aarch64  OK    OK    OK  
Package 133/296HostnameOS / ArchINSTALLBUILDCHECKBUILD BIN
methimpute 1.32.0  (landing page)
Aaron Taudt
git_last_commit: 655a3e7
git_last_commit_date: 2025-10-29 10:41:18 -0500
nebbiolo2Linux (Ubuntu 24.04.3 LTS) / x86_64  OK    OK    WARNINGS  UNNEEDED, same version is already published
taishanLinux (openEuler 24.03 LTS) / aarch64  OK    OK    WARNINGS  
Package 134/296HostnameOS / ArchINSTALLBUILDCHECKBUILD BIN
methodical 1.6.0  (landing page)
Richard Heery
git_last_commit: ebf4ab4
git_last_commit_date: 2025-10-29 11:27:18 -0500
nebbiolo2Linux (Ubuntu 24.04.3 LTS) / x86_64  OK    OK    WARNINGS  UNNEEDED, same version is already published
taishanLinux (openEuler 24.03 LTS) / aarch64  OK    ERROR  skipped
Package 135/296HostnameOS / ArchINSTALLBUILDCHECKBUILD BIN
MethTargetedNGS 1.42.0  (landing page)
Muhammad Ahmer Jamil
git_last_commit: db19216
git_last_commit_date: 2025-10-29 10:25:34 -0500
nebbiolo2Linux (Ubuntu 24.04.3 LTS) / x86_64  OK    OK    OK  UNNEEDED, same version is already published
taishanLinux (openEuler 24.03 LTS) / aarch64  OK    OK    OK  
Package 136/296HostnameOS / ArchINSTALLBUILDCHECKBUILD BIN
methylPipe 1.44.0  (landing page)
Mattia Furlan
git_last_commit: ba28f43
git_last_commit_date: 2025-10-29 10:21:09 -0500
nebbiolo2Linux (Ubuntu 24.04.3 LTS) / x86_64  OK    OK    WARNINGS  UNNEEDED, same version is already published
taishanLinux (openEuler 24.03 LTS) / aarch64  OK    OK    WARNINGS  
Package 137/296HostnameOS / ArchINSTALLBUILDCHECKBUILD BIN
methylscaper 1.18.0  (landing page)
Bacher Rhonda
git_last_commit: 10fab04
git_last_commit_date: 2025-10-29 11:07:12 -0500
nebbiolo2Linux (Ubuntu 24.04.3 LTS) / x86_64  OK    OK    OK  UNNEEDED, same version is already published
taishanLinux (openEuler 24.03 LTS) / aarch64  OK    OK    OK  
Package 138/296HostnameOS / ArchINSTALLBUILDCHECKBUILD BIN
mia 1.18.0  (landing page)
Tuomas Borman
git_last_commit: ad28035
git_last_commit_date: 2025-10-29 11:07:20 -0500
nebbiolo2Linux (Ubuntu 24.04.3 LTS) / x86_64  OK    OK    OK  UNNEEDED, same version is already published
taishanLinux (openEuler 24.03 LTS) / aarch64  OK    OK    TIMEOUT  
Package 139/296HostnameOS / ArchINSTALLBUILDCHECKBUILD BIN
microbiome 1.32.0  (landing page)
Leo Lahti
git_last_commit: 57d7b1a
git_last_commit_date: 2025-10-29 10:40:21 -0500
nebbiolo2Linux (Ubuntu 24.04.3 LTS) / x86_64  OK    OK    OK  UNNEEDED, same version is already published
taishanLinux (openEuler 24.03 LTS) / aarch64  OK    OK    OK  
Package 140/296HostnameOS / ArchINSTALLBUILDCHECKBUILD BIN
MicrobiotaProcess 1.22.0  (landing page)
Shuangbin Xu
git_last_commit: 659114b
git_last_commit_date: 2025-10-29 10:58:25 -0500
nebbiolo2Linux (Ubuntu 24.04.3 LTS) / x86_64  OK    OK    OK  UNNEEDED, same version is already published
taishanLinux (openEuler 24.03 LTS) / aarch64  OK    OK    OK  
Package 141/296HostnameOS / ArchINSTALLBUILDCHECKBUILD BIN
microRNA 1.68.0  (landing page)
"Michael Lawrence"
git_last_commit: ff3bb2e
git_last_commit_date: 2025-10-29 10:01:25 -0500
nebbiolo2Linux (Ubuntu 24.04.3 LTS) / x86_64  OK    OK    OK  UNNEEDED, same version is already published
taishanLinux (openEuler 24.03 LTS) / aarch64  OK    OK    OK  
Package 142/296HostnameOS / ArchINSTALLBUILDCHECKBUILD BIN
minfi 1.56.0  (landing page)
Kasper Daniel Hansen
git_last_commit: e6780b4
git_last_commit_date: 2025-10-29 10:09:18 -0500
nebbiolo2Linux (Ubuntu 24.04.3 LTS) / x86_64  OK    OK    OK  UNNEEDED, same version is already published
taishanLinux (openEuler 24.03 LTS) / aarch64  OK    OK    OK  
Package 143/296HostnameOS / ArchINSTALLBUILDCHECKBUILD BIN
MMDiff2 1.38.0  (landing page)
Gabriele Schweikert
git_last_commit: 3712313
git_last_commit_date: 2025-10-29 10:32:14 -0500
nebbiolo2Linux (Ubuntu 24.04.3 LTS) / x86_64  OK    OK    OK  UNNEEDED, same version is already published
taishanLinux (openEuler 24.03 LTS) / aarch64  OK    OK    OK  
Package 144/296HostnameOS / ArchINSTALLBUILDCHECKBUILD BIN
mobileRNA 1.6.0  (landing page)
Katie Jeynes-Cupper
git_last_commit: 0497702
git_last_commit_date: 2025-10-29 11:28:04 -0500
nebbiolo2Linux (Ubuntu 24.04.3 LTS) / x86_64  OK    OK    ERROR  
taishanLinux (openEuler 24.03 LTS) / aarch64  OK    OK    ERROR  
Package 145/296HostnameOS / ArchINSTALLBUILDCHECKBUILD BIN
Modstrings 1.26.0  (landing page)
Felix G.M. Ernst
git_last_commit: a4e48ba
git_last_commit_date: 2025-10-29 10:50:29 -0500
nebbiolo2Linux (Ubuntu 24.04.3 LTS) / x86_64  OK    OK    OK  UNNEEDED, same version is already published
taishanLinux (openEuler 24.03 LTS) / aarch64  OK    OK    OK  
Package 146/296HostnameOS / ArchINSTALLBUILDCHECKBUILD BIN
monaLisa 1.16.0  (landing page)
Michael Stadler
git_last_commit: fb7bf5b
git_last_commit_date: 2025-10-29 11:12:31 -0500
nebbiolo2Linux (Ubuntu 24.04.3 LTS) / x86_64  OK    OK    OK  UNNEEDED, same version is already published
taishanLinux (openEuler 24.03 LTS) / aarch64  OK    OK    OK  
Package 147/296HostnameOS / ArchINSTALLBUILDCHECKBUILD BIN
Motif2Site 1.14.0  (landing page)
Peyman Zarrineh
git_last_commit: ce0607c
git_last_commit_date: 2025-10-29 11:15:00 -0500
nebbiolo2Linux (Ubuntu 24.04.3 LTS) / x86_64  OK    OK    OK  UNNEEDED, same version is already published
taishanLinux (openEuler 24.03 LTS) / aarch64  OK    OK    OK  
Package 148/296HostnameOS / ArchINSTALLBUILDCHECKBUILD BIN
motifbreakR 2.24.0  (landing page)
Simon Gert Coetzee
git_last_commit: 79ca231
git_last_commit_date: 2025-10-29 10:27:43 -0500
nebbiolo2Linux (Ubuntu 24.04.3 LTS) / x86_64  OK    OK    WARNINGS  UNNEEDED, same version is already published
taishanLinux (openEuler 24.03 LTS) / aarch64  OK    OK    WARNINGS  
Package 149/296HostnameOS / ArchINSTALLBUILDCHECKBUILD BIN
motifcounter 1.34.0  (landing page)
Wolfgang Kopp
git_last_commit: 64fa306
git_last_commit_date: 2025-10-29 10:37:31 -0500
nebbiolo2Linux (Ubuntu 24.04.3 LTS) / x86_64  OK    OK    ERROR  
taishanLinux (openEuler 24.03 LTS) / aarch64  OK    OK    ERROR  
Package 150/296HostnameOS / ArchINSTALLBUILDCHECKBUILD BIN
MotifDb 1.52.0  (landing page)
Paul Shannon
git_last_commit: 84d7458
git_last_commit_date: 2025-10-29 10:11:46 -0500
nebbiolo2Linux (Ubuntu 24.04.3 LTS) / x86_64  OK    OK    WARNINGS  UNNEEDED, same version is already published
taishanLinux (openEuler 24.03 LTS) / aarch64  OK    OK    WARNINGS  
Package 151/296HostnameOS / ArchINSTALLBUILDCHECKBUILD BIN
motifmatchr 1.32.0  (landing page)
Alicia Schep
git_last_commit: ef46b48
git_last_commit_date: 2025-10-29 10:38:55 -0500
nebbiolo2Linux (Ubuntu 24.04.3 LTS) / x86_64  OK    OK    OK  UNNEEDED, same version is already published
taishanLinux (openEuler 24.03 LTS) / aarch64  OK    OK    OK  
Package 152/296HostnameOS / ArchINSTALLBUILDCHECKBUILD BIN
MotifPeeker 1.2.0  (landing page)
Hiranyamaya Dash
git_last_commit: aee3e06
git_last_commit_date: 2025-10-29 11:33:15 -0500
nebbiolo2Linux (Ubuntu 24.04.3 LTS) / x86_64  OK    OK    OK  UNNEEDED, same version is already published
taishanLinux (openEuler 24.03 LTS) / aarch64  OK    OK    OK  
Package 153/296HostnameOS / ArchINSTALLBUILDCHECKBUILD BIN
motifStack 1.54.0  (landing page)
Jianhong Ou
git_last_commit: 6d8937d
git_last_commit_date: 2025-10-29 10:12:08 -0500
nebbiolo2Linux (Ubuntu 24.04.3 LTS) / x86_64  OK    OK    OK  UNNEEDED, same version is already published
taishanLinux (openEuler 24.03 LTS) / aarch64  OK    OK    OK  
Package 154/296HostnameOS / ArchINSTALLBUILDCHECKBUILD BIN
motifTestR 1.6.0  (landing page)
Stevie Pederson
git_last_commit: 1ae0d82
git_last_commit_date: 2025-10-29 11:28:54 -0500
nebbiolo2Linux (Ubuntu 24.04.3 LTS) / x86_64  OK    OK    OK  UNNEEDED, same version is already published
taishanLinux (openEuler 24.03 LTS) / aarch64  OK    OK    OK  
Package 155/296HostnameOS / ArchINSTALLBUILDCHECKBUILD BIN
msa 1.42.0  (landing page)
Ulrich Bodenhofer
git_last_commit: 92481b4
git_last_commit_date: 2025-10-29 10:25:53 -0500
nebbiolo2Linux (Ubuntu 24.04.3 LTS) / x86_64  OK    OK    WARNINGS  UNNEEDED, same version is already published
taishanLinux (openEuler 24.03 LTS) / aarch64  OK    OK    WARNINGS  
Package 156/296HostnameOS / ArchINSTALLBUILDCHECKBUILD BIN
MSA2dist 1.14.0  (landing page)
Kristian K Ullrich
git_last_commit: 010a9f3
git_last_commit_date: 2025-10-29 11:14:34 -0500
nebbiolo2Linux (Ubuntu 24.04.3 LTS) / x86_64  OK    OK    OK  UNNEEDED, same version is already published
taishanLinux (openEuler 24.03 LTS) / aarch64  OK    OK    TIMEOUT  
Package 157/296HostnameOS / ArchINSTALLBUILDCHECKBUILD BIN
MSnID 1.44.0  (landing page)
Vlad Petyuk
git_last_commit: 80a4b14
git_last_commit_date: 2025-10-29 10:21:36 -0500
nebbiolo2Linux (Ubuntu 24.04.3 LTS) / x86_64  OK    OK    OK  UNNEEDED, same version is already published
taishanLinux (openEuler 24.03 LTS) / aarch64  OK    OK    ERROR  
Package 158/296HostnameOS / ArchINSTALLBUILDCHECKBUILD BIN
MSstatsLiP 1.16.0  (landing page)
Anthony Wu
git_last_commit: 2030167
git_last_commit_date: 2025-10-29 11:13:11 -0500
nebbiolo2Linux (Ubuntu 24.04.3 LTS) / x86_64  OK    OK    OK  UNNEEDED, same version is already published
taishanLinux (openEuler 24.03 LTS) / aarch64  OK    OK    OK  
Package 159/296HostnameOS / ArchINSTALLBUILDCHECKBUILD BIN
MSstatsPTM 2.12.0  (landing page)
Anthony Wu
git_last_commit: 6245a63
git_last_commit_date: 2025-10-29 11:02:42 -0500
nebbiolo2Linux (Ubuntu 24.04.3 LTS) / x86_64  OK    OK    WARNINGS  UNNEEDED, same version is already published
taishanLinux (openEuler 24.03 LTS) / aarch64  OK    OK    WARNINGS  
Package 160/296HostnameOS / ArchINSTALLBUILDCHECKBUILD BIN
multicrispr 1.20.0  (landing page)
Aditya Bhagwat
git_last_commit: 1e84407
git_last_commit_date: 2025-10-29 10:59:55 -0500
nebbiolo2Linux (Ubuntu 24.04.3 LTS) / x86_64  OK    OK    OK  UNNEEDED, same version is already published
taishanLinux (openEuler 24.03 LTS) / aarch64  OK    OK    OK  
Package 161/296HostnameOS / ArchINSTALLBUILDCHECKBUILD BIN
MungeSumstats 1.18.0  (landing page)
Alan Murphy
git_last_commit: e2c1431
git_last_commit_date: 2025-10-29 11:08:14 -0500
nebbiolo2Linux (Ubuntu 24.04.3 LTS) / x86_64  OK    OK    ERROR  
taishanLinux (openEuler 24.03 LTS) / aarch64  OK    OK    OK  
Package 162/296HostnameOS / ArchINSTALLBUILDCHECKBUILD BIN
muscle 3.52.0  (landing page)
Alex T. Kalinka
git_last_commit: 1c5d26f
git_last_commit_date: 2025-10-29 10:24:20 -0500
nebbiolo2Linux (Ubuntu 24.04.3 LTS) / x86_64  OK    OK    WARNINGS  UNNEEDED, same version is already published
taishanLinux (openEuler 24.03 LTS) / aarch64  OK    OK    WARNINGS  
Package 163/296HostnameOS / ArchINSTALLBUILDCHECKBUILD BIN
musicatk 2.4.0  (landing page)
Joshua D. Campbell
git_last_commit: a2d2204
git_last_commit_date: 2025-10-29 11:03:52 -0500
nebbiolo2Linux (Ubuntu 24.04.3 LTS) / x86_64  OK    OK    OK  UNNEEDED, same version is already published
taishanLinux (openEuler 24.03 LTS) / aarch64  OK    OK    OK  
Package 164/296HostnameOS / ArchINSTALLBUILDCHECKBUILD BIN
MutationalPatterns 3.20.0  (landing page)
Mark van Roosmalen
git_last_commit: 25b6359
git_last_commit_date: 2025-10-29 10:35:07 -0500
nebbiolo2Linux (Ubuntu 24.04.3 LTS) / x86_64  OK    OK    ERROR  
taishanLinux (openEuler 24.03 LTS) / aarch64  OK    OK    ERROR  
Package 165/296HostnameOS / ArchINSTALLBUILDCHECKBUILD BIN
NanoMethViz 3.6.0  (landing page)
Shian Su
git_last_commit: 836d7c6
git_last_commit_date: 2025-10-29 11:04:08 -0500
nebbiolo2Linux (Ubuntu 24.04.3 LTS) / x86_64  OK    OK    OK  UNNEEDED, same version is already published
taishanLinux (openEuler 24.03 LTS) / aarch64  OK    OK    OK  
Package 166/296HostnameOS / ArchINSTALLBUILDCHECKBUILD BIN
NanoStringNCTools 1.18.0  (landing page)
Maddy Griswold
git_last_commit: 00af008
git_last_commit_date: 2025-10-29 11:05:46 -0500
nebbiolo2Linux (Ubuntu 24.04.3 LTS) / x86_64  OK    OK    OK  UNNEEDED, same version is already published
taishanLinux (openEuler 24.03 LTS) / aarch64  OK    OK    OK  
Package 167/296HostnameOS / ArchINSTALLBUILDCHECKBUILD BIN
ngsReports 2.12.1  (landing page)
Stevie Pederson
git_last_commit: 6192978
git_last_commit_date: 2025-11-09 03:26:06 -0500
nebbiolo2Linux (Ubuntu 24.04.3 LTS) / x86_64  OK    OK    OK  UNNEEDED, same version is already published
taishanLinux (openEuler 24.03 LTS) / aarch64  OK    OK    OK  
Package 168/296HostnameOS / ArchINSTALLBUILDCHECKBUILD BIN
nucleR 2.42.0  (landing page)
Alba Sala
git_last_commit: 90978c6
git_last_commit_date: 2025-10-29 10:08:16 -0500
nebbiolo2Linux (Ubuntu 24.04.3 LTS) / x86_64  OK    OK    WARNINGS  UNNEEDED, same version is already published
taishanLinux (openEuler 24.03 LTS) / aarch64  OK    OK    WARNINGS  
Package 169/296HostnameOS / ArchINSTALLBUILDCHECKBUILD BIN
oligo 1.74.0  (landing page)
Benilton Carvalho
git_last_commit: 03318a4
git_last_commit_date: 2025-10-29 09:56:42 -0500
nebbiolo2Linux (Ubuntu 24.04.3 LTS) / x86_64  OK    OK    OK  UNNEEDED, same version is already published
taishanLinux (openEuler 24.03 LTS) / aarch64  OK    OK    ERROR  
Package 170/296HostnameOS / ArchINSTALLBUILDCHECKBUILD BIN
oligoClasses 1.72.0  (landing page)
Benilton Carvalho and Robert Scharpf
git_last_commit: d8ec574
git_last_commit_date: 2025-10-29 09:59:50 -0500
nebbiolo2Linux (Ubuntu 24.04.3 LTS) / x86_64  OK    OK    WARNINGS  UNNEEDED, same version is already published
taishanLinux (openEuler 24.03 LTS) / aarch64  OK    OK    WARNINGS  
Package 171/296HostnameOS / ArchINSTALLBUILDCHECKBUILD BIN
OmaDB 2.26.0  (landing page)
Klara Kaleb , Adrian Altenhoff
git_last_commit: 8a3bdad
git_last_commit_date: 2025-10-29 10:42:20 -0500
nebbiolo2Linux (Ubuntu 24.04.3 LTS) / x86_64  OK    OK    OK  UNNEEDED, same version is already published
taishanLinux (openEuler 24.03 LTS) / aarch64  OK    OK    OK  
Package 172/296HostnameOS / ArchINSTALLBUILDCHECKBUILD BIN
openPrimeR 1.32.0  (landing page)
Matthias Döring
git_last_commit: 7d12b40
git_last_commit_date: 2025-10-29 10:40:47 -0500
nebbiolo2Linux (Ubuntu 24.04.3 LTS) / x86_64  OK    OK    OK  UNNEEDED, same version is already published
taishanLinux (openEuler 24.03 LTS) / aarch64  OK    OK    OK  
Package 173/296HostnameOS / ArchINSTALLBUILDCHECKBUILD BIN
ORFhunteR 1.18.0  (landing page)
Vasily V. Grinev
git_last_commit: 92b6d57
git_last_commit_date: 2025-10-29 11:05:57 -0500
nebbiolo2Linux (Ubuntu 24.04.3 LTS) / x86_64  OK    OK    WARNINGS  UNNEEDED, same version is already published
taishanLinux (openEuler 24.03 LTS) / aarch64  OK    OK    WARNINGS  
Package 174/296HostnameOS / ArchINSTALLBUILDCHECKBUILD BIN
ORFik 1.30.0  (landing page)
Haakon Tjeldnes
git_last_commit: b860267
git_last_commit_date: 2025-10-29 10:45:22 -0500
nebbiolo2Linux (Ubuntu 24.04.3 LTS) / x86_64  OK    OK    ERROR  
taishanLinux (openEuler 24.03 LTS) / aarch64  OK    OK    ERROR  
Package 175/296HostnameOS / ArchINSTALLBUILDCHECKBUILD BIN
OTUbase 1.60.0  (landing page)
Daniel Beck
git_last_commit: 5c945e4
git_last_commit_date: 2025-10-29 10:05:45 -0500
nebbiolo2Linux (Ubuntu 24.04.3 LTS) / x86_64  OK    OK    OK  UNNEEDED, same version is already published
taishanLinux (openEuler 24.03 LTS) / aarch64  OK    OK    OK  
Package 176/296HostnameOS / ArchINSTALLBUILDCHECKBUILD BIN
packFinder 1.22.0  (landing page)
Jack Gisby
git_last_commit: 360ddfb
git_last_commit_date: 2025-10-29 10:56:19 -0500
nebbiolo2Linux (Ubuntu 24.04.3 LTS) / x86_64  OK    OK    OK  UNNEEDED, same version is already published
taishanLinux (openEuler 24.03 LTS) / aarch64  OK    OK    OK  
Package 177/296HostnameOS / ArchINSTALLBUILDCHECKBUILD BIN
pdInfoBuilder 1.74.0  (landing page)
Benilton Carvalho
git_last_commit: 4ce36e7
git_last_commit_date: 2025-10-29 09:58:52 -0500
nebbiolo2Linux (Ubuntu 24.04.3 LTS) / x86_64  OK    OK    OK  UNNEEDED, same version is already published
taishanLinux (openEuler 24.03 LTS) / aarch64  OK    OK    OK  
Package 178/296HostnameOS / ArchINSTALLBUILDCHECKBUILD BIN
periodicDNA 1.20.0  (landing page)
Jacques Serizay
git_last_commit: 4feee90
git_last_commit_date: 2025-10-29 11:01:58 -0500
nebbiolo2Linux (Ubuntu 24.04.3 LTS) / x86_64  OK    OK    WARNINGS  UNNEEDED, same version is already published
taishanLinux (openEuler 24.03 LTS) / aarch64  OK    OK    WARNINGS  
Package 179/296HostnameOS / ArchINSTALLBUILDCHECKBUILD BIN
PhyloProfile 2.2.1  (landing page)
Vinh Tran
git_last_commit: 0e73eed
git_last_commit_date: 2025-11-03 17:20:22 -0500
nebbiolo2Linux (Ubuntu 24.04.3 LTS) / x86_64  OK    OK    OK  UNNEEDED, same version is already published
taishanLinux (openEuler 24.03 LTS) / aarch64  OK    OK    OK  
Package 180/296HostnameOS / ArchINSTALLBUILDCHECKBUILD BIN
phyloseq 1.54.0  (landing page)
Paul J. McMurdie
git_last_commit: 457587e
git_last_commit_date: 2025-10-29 10:10:12 -0500
nebbiolo2Linux (Ubuntu 24.04.3 LTS) / x86_64  OK    OK    ERROR  
taishanLinux (openEuler 24.03 LTS) / aarch64  OK    OK    WARNINGS  
Package 181/296HostnameOS / ArchINSTALLBUILDCHECKBUILD BIN
PICB 1.2.0  (landing page)
Franziska Ahrend
git_last_commit: b93bc74
git_last_commit_date: 2025-10-29 11:34:05 -0500
nebbiolo2Linux (Ubuntu 24.04.3 LTS) / x86_64  OK    OK    OK  UNNEEDED, same version is already published
taishanLinux (openEuler 24.03 LTS) / aarch64  OK    OK    OK  
Package 182/296HostnameOS / ArchINSTALLBUILDCHECKBUILD BIN
pipeFrame 1.26.0  (landing page)
Zheng Wei
git_last_commit: baee5fd
git_last_commit_date: 2025-10-29 10:51:51 -0500
nebbiolo2Linux (Ubuntu 24.04.3 LTS) / x86_64  OK    OK    OK  UNNEEDED, same version is already published
taishanLinux (openEuler 24.03 LTS) / aarch64  OK    OK    OK  
Package 183/296HostnameOS / ArchINSTALLBUILDCHECKBUILD BIN
planttfhunter 1.10.0  (landing page)
Fabrício Almeida-Silva
git_last_commit: 77ef3f0
git_last_commit_date: 2025-10-29 11:20:13 -0500
nebbiolo2Linux (Ubuntu 24.04.3 LTS) / x86_64  OK    OK    OK  UNNEEDED, same version is already published
taishanLinux (openEuler 24.03 LTS) / aarch64  OK    OK    OK  
Package 184/296HostnameOS / ArchINSTALLBUILDCHECKBUILD BIN
podkat 1.42.0  (landing page)
Ulrich Bodenhofer
git_last_commit: a5e8201
git_last_commit_date: 2025-10-29 10:24:59 -0500
nebbiolo2Linux (Ubuntu 24.04.3 LTS) / x86_64  OK    OK    OK  UNNEEDED, same version is already published
taishanLinux (openEuler 24.03 LTS) / aarch64  OK    OK    OK  
Package 185/296HostnameOS / ArchINSTALLBUILDCHECKBUILD BIN
pqsfinder 2.26.0  (landing page)
Jiri Hon
git_last_commit: 82b47c5
git_last_commit_date: 2025-10-29 10:31:44 -0500
nebbiolo2Linux (Ubuntu 24.04.3 LTS) / x86_64  OK    OK    WARNINGS  UNNEEDED, same version is already published
taishanLinux (openEuler 24.03 LTS) / aarch64  ERROR    ERROR  skipped
Package 186/296HostnameOS / ArchINSTALLBUILDCHECKBUILD BIN
primirTSS 1.28.0  (landing page)
Pumin Li
git_last_commit: 9d01dbb
git_last_commit_date: 2025-10-29 10:47:22 -0500
nebbiolo2Linux (Ubuntu 24.04.3 LTS) / x86_64  OK    OK    WARNINGS  UNNEEDED, same version is already published
taishanLinux (openEuler 24.03 LTS) / aarch64  OK    OK    WARNINGS  
Package 187/296HostnameOS / ArchINSTALLBUILDCHECKBUILD BIN
proBAMr 1.44.0  (landing page)
Xiaojing Wang
git_last_commit: 90383eb
git_last_commit_date: 2025-10-29 10:22:01 -0500
nebbiolo2Linux (Ubuntu 24.04.3 LTS) / x86_64  OK    OK    OK  UNNEEDED, same version is already published
taishanLinux (openEuler 24.03 LTS) / aarch64  OK    OK    OK  
Package 188/296HostnameOS / ArchINSTALLBUILDCHECKBUILD BIN
procoil 2.38.0  (landing page)
Ulrich Bodenhofer
git_last_commit: e9b34f9
git_last_commit_date: 2025-10-29 10:06:44 -0500
nebbiolo2Linux (Ubuntu 24.04.3 LTS) / x86_64  OK    OK    OK  UNNEEDED, same version is already published
taishanLinux (openEuler 24.03 LTS) / aarch64  OK    OK    OK  
Package 189/296HostnameOS / ArchINSTALLBUILDCHECKBUILD BIN
ProteoDisco 1.16.0  (landing page)
Job van Riet
git_last_commit: d4be16c
git_last_commit_date: 2025-10-29 11:11:51 -0500
nebbiolo2Linux (Ubuntu 24.04.3 LTS) / x86_64  OK    OK    WARNINGS  UNNEEDED, same version is already published
taishanLinux (openEuler 24.03 LTS) / aarch64  OK    OK    WARNINGS  
Package 190/296HostnameOS / ArchINSTALLBUILDCHECKBUILD BIN
PureCN 2.16.0  (landing page)
Markus Riester
git_last_commit: c7ace8b
git_last_commit_date: 2025-10-29 10:31:57 -0500
nebbiolo2Linux (Ubuntu 24.04.3 LTS) / x86_64  OK    OK    OK  UNNEEDED, same version is already published
taishanLinux (openEuler 24.03 LTS) / aarch64  OK    OK    OK  
Package 191/296HostnameOS / ArchINSTALLBUILDCHECKBUILD BIN
Pviz 1.44.0  (landing page)
Renan Sauteraud
git_last_commit: b25a5c9
git_last_commit_date: 2025-10-29 10:20:18 -0500
nebbiolo2Linux (Ubuntu 24.04.3 LTS) / x86_64  OK    OK    WARNINGS  UNNEEDED, same version is already published
taishanLinux (openEuler 24.03 LTS) / aarch64  OK    OK    WARNINGS  
Package 192/296HostnameOS / ArchINSTALLBUILDCHECKBUILD BIN
pwalign 1.6.0  (landing page)
Hervé Pagès
git_last_commit: fe44e6d
git_last_commit_date: 2025-10-29 14:26:00 -0500
nebbiolo2Linux (Ubuntu 24.04.3 LTS) / x86_64  OK    OK    OK  UNNEEDED, same version is already published
taishanLinux (openEuler 24.03 LTS) / aarch64  OK    OK    OK  
Package 193/296HostnameOS / ArchINSTALLBUILDCHECKBUILD BIN
PWMEnrich 4.46.0  (landing page)
Diego Diez
git_last_commit: f38bb65
git_last_commit_date: 2025-10-29 10:11:23 -0500
nebbiolo2Linux (Ubuntu 24.04.3 LTS) / x86_64  OK    OK    OK  UNNEEDED, same version is already published
taishanLinux (openEuler 24.03 LTS) / aarch64  OK    OK    OK  
Package 194/296HostnameOS / ArchINSTALLBUILDCHECKBUILD BIN
qPLEXanalyzer 1.28.0  (landing page)
Ashley Sawle
git_last_commit: 73100d7
git_last_commit_date: 2025-10-29 10:46:08 -0500
nebbiolo2Linux (Ubuntu 24.04.3 LTS) / x86_64  OK    ERROR  skipped
taishanLinux (openEuler 24.03 LTS) / aarch64  OK    ERROR  skipped
Package 195/296HostnameOS / ArchINSTALLBUILDCHECKBUILD BIN
qsea 1.36.0  (landing page)
Matthias Lienhard
git_last_commit: a9ac816
git_last_commit_date: 2025-10-29 10:32:56 -0500
nebbiolo2Linux (Ubuntu 24.04.3 LTS) / x86_64  OK    OK    WARNINGS  UNNEEDED, same version is already published
taishanLinux (openEuler 24.03 LTS) / aarch64  OK    OK    WARNINGS  
Package 196/296HostnameOS / ArchINSTALLBUILDCHECKBUILD BIN
QSutils 1.28.0  (landing page)
Mercedes Guerrero-Murillo
git_last_commit: 8911641
git_last_commit_date: 2025-10-29 10:48:23 -0500
nebbiolo2Linux (Ubuntu 24.04.3 LTS) / x86_64  OK    OK    OK  UNNEEDED, same version is already published
taishanLinux (openEuler 24.03 LTS) / aarch64  OK    OK    OK  
Package 197/296HostnameOS / ArchINSTALLBUILDCHECKBUILD BIN
QuasR 1.50.0  (landing page)
Michael Stadler
git_last_commit: 3274f2d
git_last_commit_date: 2025-10-29 10:13:16 -0500
nebbiolo2Linux (Ubuntu 24.04.3 LTS) / x86_64  OK    OK    WARNINGS  UNNEEDED, same version is already published
taishanLinux (openEuler 24.03 LTS) / aarch64  OK    OK    WARNINGS  
Package 198/296HostnameOS / ArchINSTALLBUILDCHECKBUILD BIN
r3Cseq 1.56.0  (landing page)
Supat Thongjuea or
git_last_commit: 4184f01
git_last_commit_date: 2025-10-29 10:09:24 -0500
nebbiolo2Linux (Ubuntu 24.04.3 LTS) / x86_64  OK    OK    OK  UNNEEDED, same version is already published
taishanLinux (openEuler 24.03 LTS) / aarch64  OK    OK    OK  
Package 199/296HostnameOS / ArchINSTALLBUILDCHECKBUILD BIN
R453Plus1Toolbox 1.60.0  (landing page)
Hans-Ulrich Klein
git_last_commit: d4c9421
git_last_commit_date: 2025-10-29 10:06:02 -0500
nebbiolo2Linux (Ubuntu 24.04.3 LTS) / x86_64  OK    ERROR  skipped
taishanLinux (openEuler 24.03 LTS) / aarch64  OK    ERROR  skipped
Package 200/296HostnameOS / ArchINSTALLBUILDCHECKBUILD BIN
R4RNA 1.38.0  (landing page)
Daniel Lai
git_last_commit: 90fdbbd
git_last_commit_date: 2025-10-29 10:28:37 -0500
nebbiolo2Linux (Ubuntu 24.04.3 LTS) / x86_64  OK    OK    OK  UNNEEDED, same version is already published
taishanLinux (openEuler 24.03 LTS) / aarch64  OK    OK    OK  
Package 201/296HostnameOS / ArchINSTALLBUILDCHECKBUILD BIN
raer 1.8.0  (landing page)
Kent Riemondy
git_last_commit: 1e83c0c
git_last_commit_date: 2025-10-29 11:26:05 -0500
nebbiolo2Linux (Ubuntu 24.04.3 LTS) / x86_64  OK    OK    OK  UNNEEDED, same version is already published
taishanLinux (openEuler 24.03 LTS) / aarch64  OK    ERROR  skipped
Package 202/296HostnameOS / ArchINSTALLBUILDCHECKBUILD BIN
ramwas 1.34.0  (landing page)
Andrey A Shabalin
git_last_commit: aedf8f9
git_last_commit_date: 2025-10-29 10:36:00 -0500
nebbiolo2Linux (Ubuntu 24.04.3 LTS) / x86_64  OK    OK    OK  UNNEEDED, same version is already published
taishanLinux (openEuler 24.03 LTS) / aarch64  OK    OK    OK  
Package 203/296HostnameOS / ArchINSTALLBUILDCHECKBUILD BIN
rBLAST 1.6.0  (landing page)
Michael Hahsler
git_last_commit: 392b3db
git_last_commit_date: 2025-10-29 11:29:56 -0500
nebbiolo2Linux (Ubuntu 24.04.3 LTS) / x86_64  OK    OK    OK  UNNEEDED, same version is already published
taishanLinux (openEuler 24.03 LTS) / aarch64  OK    OK    OK  
Package 204/296HostnameOS / ArchINSTALLBUILDCHECKBUILD BIN
RCAS 1.36.0  (landing page)
Bora Uyar
git_last_commit: 780ed18
git_last_commit_date: 2025-10-29 10:33:22 -0500
nebbiolo2Linux (Ubuntu 24.04.3 LTS) / x86_64  OK    OK    OK  UNNEEDED, same version is already published
taishanLinux (openEuler 24.03 LTS) / aarch64  OK    OK    OK  
Package 205/296HostnameOS / ArchINSTALLBUILDCHECKBUILD BIN
Rcpi 1.46.0  (landing page)
Nan Xiao
git_last_commit: c114c2a
git_last_commit_date: 2025-10-29 10:18:37 -0500
nebbiolo2Linux (Ubuntu 24.04.3 LTS) / x86_64  OK    OK    OK  UNNEEDED, same version is already published
taishanLinux (openEuler 24.03 LTS) / aarch64  OK    OK    OK  
Package 206/296HostnameOS / ArchINSTALLBUILDCHECKBUILD BIN
recoup 1.38.0  (landing page)
Panagiotis Moulos
git_last_commit: 7728d2d
git_last_commit_date: 2025-10-29 10:31:02 -0500
nebbiolo2Linux (Ubuntu 24.04.3 LTS) / x86_64  OK    OK    OK  UNNEEDED, same version is already published
taishanLinux (openEuler 24.03 LTS) / aarch64  OK    OK    OK  
Package 207/296HostnameOS / ArchINSTALLBUILDCHECKBUILD BIN
REDseq 1.56.0  (landing page)
Lihua Julie Zhu
git_last_commit: 872f291
git_last_commit_date: 2025-10-29 10:07:45 -0500
nebbiolo2Linux (Ubuntu 24.04.3 LTS) / x86_64  OK    OK    OK  UNNEEDED, same version is already published
taishanLinux (openEuler 24.03 LTS) / aarch64  OK    OK    OK  
Package 208/296HostnameOS / ArchINSTALLBUILDCHECKBUILD BIN
regioneR 1.42.0  (landing page)
Bernat Gel
git_last_commit: eb018a1
git_last_commit_date: 2025-10-29 10:25:09 -0500
nebbiolo2Linux (Ubuntu 24.04.3 LTS) / x86_64  OK    OK    OK  UNNEEDED, same version is already published
taishanLinux (openEuler 24.03 LTS) / aarch64  OK    TIMEOUT  skipped
Package 209/296HostnameOS / ArchINSTALLBUILDCHECKBUILD BIN
regutools 1.22.0  (landing page)
Joselyn Chavez
git_last_commit: f94aecc
git_last_commit_date: 2025-10-29 10:59:10 -0500
nebbiolo2Linux (Ubuntu 24.04.3 LTS) / x86_64  OK    OK    OK  UNNEEDED, same version is already published
taishanLinux (openEuler 24.03 LTS) / aarch64  OK    OK    OK  
Package 210/296HostnameOS / ArchINSTALLBUILDCHECKBUILD BIN
REMP 1.34.0  (landing page)
Yinan Zheng
git_last_commit: 7f2a04f
git_last_commit_date: 2025-10-29 10:36:53 -0500
nebbiolo2Linux (Ubuntu 24.04.3 LTS) / x86_64  OK    OK    OK  UNNEEDED, same version is already published
taishanLinux (openEuler 24.03 LTS) / aarch64  OK    ERROR  skipped
Package 211/296HostnameOS / ArchINSTALLBUILDCHECKBUILD BIN
Repitools 1.56.0  (landing page)
Mark Robinson
git_last_commit: e46521a
git_last_commit_date: 2025-10-29 10:08:02 -0500
nebbiolo2Linux (Ubuntu 24.04.3 LTS) / x86_64  ERROR    ERROR  skipped
taishanLinux (openEuler 24.03 LTS) / aarch64  OK    OK    ERROR  
Package 212/296HostnameOS / ArchINSTALLBUILDCHECKBUILD BIN
RESOLVE 1.12.0  (landing page)
Luca De Sano
git_last_commit: 0daa88d
git_last_commit_date: 2025-10-29 11:19:27 -0500
nebbiolo2Linux (Ubuntu 24.04.3 LTS) / x86_64  OK    OK    OK  UNNEEDED, same version is already published
taishanLinux (openEuler 24.03 LTS) / aarch64  OK    OK    OK  
Package 213/296HostnameOS / ArchINSTALLBUILDCHECKBUILD BIN
rfaRm 1.22.0  (landing page)
Lara Selles Vidal
git_last_commit: affb9a4
git_last_commit_date: 2025-10-29 10:58:41 -0500
nebbiolo2Linux (Ubuntu 24.04.3 LTS) / x86_64  OK    ERROR  skipped
taishanLinux (openEuler 24.03 LTS) / aarch64  OK    ERROR  skipped
Package 214/296HostnameOS / ArchINSTALLBUILDCHECKBUILD BIN
rGADEM 2.58.0  (landing page)
Arnaud Droit
git_last_commit: 32b26c2
git_last_commit_date: 2025-10-29 10:04:22 -0500
nebbiolo2Linux (Ubuntu 24.04.3 LTS) / x86_64  ERROR    ERROR  skipped
taishanLinux (openEuler 24.03 LTS) / aarch64  ERROR    ERROR  skipped
Package 215/296HostnameOS / ArchINSTALLBUILDCHECKBUILD BIN
rhinotypeR 1.4.0  (landing page)
Martha Luka
git_last_commit: 7f9c661
git_last_commit_date: 2025-10-29 11:32:16 -0500
nebbiolo2Linux (Ubuntu 24.04.3 LTS) / x86_64  OK    OK    OK  UNNEEDED, same version is already published
taishanLinux (openEuler 24.03 LTS) / aarch64  OK    OK    OK  
Package 216/296HostnameOS / ArchINSTALLBUILDCHECKBUILD BIN
RiboCrypt 1.16.0  (landing page)
Michal Swirski
git_last_commit: e202b8e
git_last_commit_date: 2025-10-29 11:13:40 -0500
nebbiolo2Linux (Ubuntu 24.04.3 LTS) / x86_64  OK    OK    OK  UNNEEDED, same version is already published
taishanLinux (openEuler 24.03 LTS) / aarch64  OK    OK    OK  
Package 217/296HostnameOS / ArchINSTALLBUILDCHECKBUILD BIN
RiboProfiling 1.40.0  (landing page)
A. Popa
git_last_commit: 43cc4ee
git_last_commit_date: 2025-10-29 10:28:21 -0500
nebbiolo2Linux (Ubuntu 24.04.3 LTS) / x86_64  OK    ERROR  skipped
taishanLinux (openEuler 24.03 LTS) / aarch64  OK    ERROR  skipped
Package 218/296HostnameOS / ArchINSTALLBUILDCHECKBUILD BIN
ribosomeProfilingQC 1.22.0  (landing page)
Jianhong Ou
git_last_commit: d8ce3bd
git_last_commit_date: 2025-10-29 10:57:03 -0500
nebbiolo2Linux (Ubuntu 24.04.3 LTS) / x86_64  OK    OK    OK  UNNEEDED, same version is already published
taishanLinux (openEuler 24.03 LTS) / aarch64  OK    OK    OK  
Package 219/296HostnameOS / ArchINSTALLBUILDCHECKBUILD BIN
RNAmodR 1.24.0  (landing page)
Felix G.M. Ernst
git_last_commit: 683b357
git_last_commit_date: 2025-10-29 10:52:38 -0500
nebbiolo2Linux (Ubuntu 24.04.3 LTS) / x86_64  OK    OK    OK  UNNEEDED, same version is already published
taishanLinux (openEuler 24.03 LTS) / aarch64  OK    OK    OK  
Package 220/296HostnameOS / ArchINSTALLBUILDCHECKBUILD BIN
rprimer 1.14.0  (landing page)
Sofia Persson
git_last_commit: d7001c1
git_last_commit_date: 2025-10-29 11:13:59 -0500
nebbiolo2Linux (Ubuntu 24.04.3 LTS) / x86_64  OK    OK    OK  UNNEEDED, same version is already published
taishanLinux (openEuler 24.03 LTS) / aarch64  OK    OK    OK  
Package 221/296HostnameOS / ArchINSTALLBUILDCHECKBUILD BIN
Rqc 1.44.0  (landing page)
Welliton Souza
git_last_commit: e28c456
git_last_commit_date: 2025-10-29 10:22:46 -0500
nebbiolo2Linux (Ubuntu 24.04.3 LTS) / x86_64  OK    OK    OK  UNNEEDED, same version is already published
taishanLinux (openEuler 24.03 LTS) / aarch64  OK    OK    OK  
Package 222/296HostnameOS / ArchINSTALLBUILDCHECKBUILD BIN
rRDP 1.44.0  (landing page)
Michael Hahsler
git_last_commit: 1dbe2d8
git_last_commit_date: 2025-10-29 10:21:41 -0500
nebbiolo2Linux (Ubuntu 24.04.3 LTS) / x86_64  OK    OK    OK  UNNEEDED, same version is already published
taishanLinux (openEuler 24.03 LTS) / aarch64  OK    OK    OK  
Package 223/296HostnameOS / ArchINSTALLBUILDCHECKBUILD BIN
Rsamtools 2.26.0  (landing page)
Bioconductor Package Maintainer
git_last_commit: ea99fb0
git_last_commit_date: 2025-10-29 10:04:41 -0500
nebbiolo2Linux (Ubuntu 24.04.3 LTS) / x86_64  OK    OK    WARNINGS  UNNEEDED, same version is already published
taishanLinux (openEuler 24.03 LTS) / aarch64  OK    OK    WARNINGS  
Package 224/296HostnameOS / ArchINSTALLBUILDCHECKBUILD BIN
RSVSim 1.50.0  (landing page)
Christoph Bartenhagen
git_last_commit: 9b0b148
git_last_commit_date: 2025-10-29 10:13:10 -0500
nebbiolo2Linux (Ubuntu 24.04.3 LTS) / x86_64  OK    OK    OK  UNNEEDED, same version is already published
taishanLinux (openEuler 24.03 LTS) / aarch64  OK    OK    OK  
Package 225/296HostnameOS / ArchINSTALLBUILDCHECKBUILD BIN
rSWeeP 1.22.0  (landing page)
Camila P Perico
git_last_commit: a26c795
git_last_commit_date: 2025-10-29 10:56:22 -0500
nebbiolo2Linux (Ubuntu 24.04.3 LTS) / x86_64  OK    OK    OK  UNNEEDED, same version is already published
taishanLinux (openEuler 24.03 LTS) / aarch64  OK    OK    OK  
Package 226/296HostnameOS / ArchINSTALLBUILDCHECKBUILD BIN
rtracklayer 1.70.0  (landing page)
Michael Lawrence
git_last_commit: b6dc2ec
git_last_commit_date: 2025-10-29 10:00:29 -0500
nebbiolo2Linux (Ubuntu 24.04.3 LTS) / x86_64  OK    OK    ERROR  
taishanLinux (openEuler 24.03 LTS) / aarch64  OK    OK    ERROR  
Package 227/296HostnameOS / ArchINSTALLBUILDCHECKBUILD BIN
sangeranalyseR 1.20.0  (landing page)
Kuan-Hao Chao
git_last_commit: 7a09d8d
git_last_commit_date: 2025-10-29 10:59:40 -0500
nebbiolo2Linux (Ubuntu 24.04.3 LTS) / x86_64  ERROR    ERROR  skipped
taishanLinux (openEuler 24.03 LTS) / aarch64  ERROR    ERROR  skipped
Package 228/296HostnameOS / ArchINSTALLBUILDCHECKBUILD BIN
sangerseqR 1.46.0  (landing page)
Jonathon Hill
git_last_commit: 650a2c8
git_last_commit_date: 2025-10-29 10:18:08 -0500
nebbiolo2Linux (Ubuntu 24.04.3 LTS) / x86_64  OK    OK    OK  UNNEEDED, same version is already published
taishanLinux (openEuler 24.03 LTS) / aarch64  OK    OK    OK  
Package 229/296HostnameOS / ArchINSTALLBUILDCHECKBUILD BIN
sarks 1.22.0  (landing page)
Dennis Wylie
git_last_commit: 1a0c6ad
git_last_commit_date: 2025-10-29 10:57:22 -0500
nebbiolo2Linux (Ubuntu 24.04.3 LTS) / x86_64  OK    OK    OK  UNNEEDED, same version is already published
taishanLinux (openEuler 24.03 LTS) / aarch64  OK    OK    OK  
Package 230/296HostnameOS / ArchINSTALLBUILDCHECKBUILD BIN
SCAN.UPC 2.52.0  (landing page)
Stephen R. Piccolo
git_last_commit: 8c4e126
git_last_commit_date: 2025-10-29 10:12:17 -0500
nebbiolo2Linux (Ubuntu 24.04.3 LTS) / x86_64  OK    OK    OK  UNNEEDED, same version is already published
taishanLinux (openEuler 24.03 LTS) / aarch64  OK    OK    OK  
Package 231/296HostnameOS / ArchINSTALLBUILDCHECKBUILD BIN
scanMiR 1.16.0  (landing page)
Pierre-Luc Germain
git_last_commit: fa9b00a
git_last_commit_date: 2025-10-29 11:10:43 -0500
nebbiolo2Linux (Ubuntu 24.04.3 LTS) / x86_64  OK    OK    OK  UNNEEDED, same version is already published
taishanLinux (openEuler 24.03 LTS) / aarch64  OK    OK    OK  
Package 232/296HostnameOS / ArchINSTALLBUILDCHECKBUILD BIN
scanMiRApp 1.16.0  (landing page)
Pierre-Luc Germain
git_last_commit: bd87b89
git_last_commit_date: 2025-10-29 11:11:11 -0500
nebbiolo2Linux (Ubuntu 24.04.3 LTS) / x86_64  OK    OK    OK  UNNEEDED, same version is already published
taishanLinux (openEuler 24.03 LTS) / aarch64  OK    OK    OK  
Package 233/296HostnameOS / ArchINSTALLBUILDCHECKBUILD BIN
scifer 1.12.0  (landing page)
Rodrigo Arcoverde Cerveira
git_last_commit: e09cc12
git_last_commit_date: 2025-10-29 11:18:43 -0500
nebbiolo2Linux (Ubuntu 24.04.3 LTS) / x86_64  OK    OK    OK  UNNEEDED, same version is already published
taishanLinux (openEuler 24.03 LTS) / aarch64  OK    OK    OK  
Package 234/296HostnameOS / ArchINSTALLBUILDCHECKBUILD BIN
scmeth 1.30.0  (landing page)
Divy Kangeyan
git_last_commit: 0e01390
git_last_commit_date: 2025-10-29 10:43:21 -0500
nebbiolo2Linux (Ubuntu 24.04.3 LTS) / x86_64  OK    OK    OK  UNNEEDED, same version is already published
taishanLinux (openEuler 24.03 LTS) / aarch64  OK    OK    OK  
Package 235/296HostnameOS / ArchINSTALLBUILDCHECKBUILD BIN
SCOPE 1.22.0  (landing page)
Rujin Wang
git_last_commit: a28af97
git_last_commit_date: 2025-10-29 10:56:53 -0500
nebbiolo2Linux (Ubuntu 24.04.3 LTS) / x86_64  OK    OK    OK  UNNEEDED, same version is already published
taishanLinux (openEuler 24.03 LTS) / aarch64  OK    OK    OK  
Package 236/296HostnameOS / ArchINSTALLBUILDCHECKBUILD BIN
scoreInvHap 1.32.0  (landing page)
Dolors Pelegri-Siso
git_last_commit: 3779f3d
git_last_commit_date: 2025-10-29 10:39:17 -0500
nebbiolo2Linux (Ubuntu 24.04.3 LTS) / x86_64  OK    OK    OK  UNNEEDED, same version is already published
taishanLinux (openEuler 24.03 LTS) / aarch64  OK    OK    OK  
Package 237/296HostnameOS / ArchINSTALLBUILDCHECKBUILD BIN
scoup 1.4.0  (landing page)
Hassan Sadiq
git_last_commit: 8f36ed0
git_last_commit_date: 2025-10-29 11:32:33 -0500
nebbiolo2Linux (Ubuntu 24.04.3 LTS) / x86_64  OK    OK    OK  UNNEEDED, same version is already published
taishanLinux (openEuler 24.03 LTS) / aarch64  OK    OK    OK  
Package 238/296HostnameOS / ArchINSTALLBUILDCHECKBUILD BIN
scPipe 2.10.0  (landing page)
Shian Su
git_last_commit: c021029
git_last_commit_date: 2025-10-29 10:41:31 -0500
nebbiolo2Linux (Ubuntu 24.04.3 LTS) / x86_64  OK    OK    OK  UNNEEDED, same version is already published
taishanLinux (openEuler 24.03 LTS) / aarch64  OK    OK    OK  
Package 239/296HostnameOS / ArchINSTALLBUILDCHECKBUILD BIN
scruff 1.28.0  (landing page)
Zhe Wang
git_last_commit: 085152e
git_last_commit_date: 2025-10-29 10:46:27 -0500
nebbiolo2Linux (Ubuntu 24.04.3 LTS) / x86_64  OK    OK    OK  UNNEEDED, same version is already published
taishanLinux (openEuler 24.03 LTS) / aarch64  OK    OK    OK  
Package 240/296HostnameOS / ArchINSTALLBUILDCHECKBUILD BIN
SELEX 1.42.0  (landing page)
Harmen J. Bussemaker
git_last_commit: 9d010d3
git_last_commit_date: 2025-10-29 10:24:07 -0500
nebbiolo2Linux (Ubuntu 24.04.3 LTS) / x86_64  OK    OK    OK  UNNEEDED, same version is already published
taishanLinux (openEuler 24.03 LTS) / aarch64  OK    OK    OK  
Package 241/296HostnameOS / ArchINSTALLBUILDCHECKBUILD BIN
seqArchR 1.14.0  (landing page)
Sarvesh Nikumbh
git_last_commit: 232572b
git_last_commit_date: 2025-10-29 11:15:54 -0500
nebbiolo2Linux (Ubuntu 24.04.3 LTS) / x86_64  OK    OK    ERROR  
taishanLinux (openEuler 24.03 LTS) / aarch64  OK    OK    ERROR  
Package 242/296HostnameOS / ArchINSTALLBUILDCHECKBUILD BIN
seqArchRplus 1.10.0  (landing page)
Sarvesh Nikumbh
git_last_commit: 7ad13f0
git_last_commit_date: 2025-10-29 11:20:15 -0500
nebbiolo2Linux (Ubuntu 24.04.3 LTS) / x86_64  OK    OK    ERROR  
taishanLinux (openEuler 24.03 LTS) / aarch64  OK    OK    WARNINGS  
Package 243/296HostnameOS / ArchINSTALLBUILDCHECKBUILD BIN
SeqArray 1.50.0  (landing page)
Xiuwen Zheng
git_last_commit: e6376f0
git_last_commit_date: 2025-10-29 10:14:07 -0500
nebbiolo2Linux (Ubuntu 24.04.3 LTS) / x86_64  OK    OK    OK  UNNEEDED, same version is already published
taishanLinux (openEuler 24.03 LTS) / aarch64  OK    OK    OK  
Package 244/296HostnameOS / ArchINSTALLBUILDCHECKBUILD BIN
seqPattern 1.42.0  (landing page)
Vanja Haberle
git_last_commit: 0101858
git_last_commit_date: 2025-10-29 10:23:35 -0500
nebbiolo2Linux (Ubuntu 24.04.3 LTS) / x86_64  OK    OK    OK  UNNEEDED, same version is already published
taishanLinux (openEuler 24.03 LTS) / aarch64  OK    OK    OK  
Package 245/296HostnameOS / ArchINSTALLBUILDCHECKBUILD BIN
SGSeq 1.44.0  (landing page)
Leonard Goldstein
git_last_commit: 2a90d1b
git_last_commit_date: 2025-10-29 10:22:27 -0500
nebbiolo2Linux (Ubuntu 24.04.3 LTS) / x86_64  OK    OK    OK  UNNEEDED, same version is already published
taishanLinux (openEuler 24.03 LTS) / aarch64  OK    OK    OK  
Package 246/296HostnameOS / ArchINSTALLBUILDCHECKBUILD BIN
ShortRead 1.68.0  (landing page)
Bioconductor Package Maintainer
git_last_commit: df90c87
git_last_commit_date: 2025-10-29 10:00:34 -0500
nebbiolo2Linux (Ubuntu 24.04.3 LTS) / x86_64  OK    OK    WARNINGS  UNNEEDED, same version is already published
taishanLinux (openEuler 24.03 LTS) / aarch64  OK    OK    ERROR  
Package 247/296HostnameOS / ArchINSTALLBUILDCHECKBUILD BIN
SICtools 1.40.0  (landing page)
Xiaobin Xing
git_last_commit: 88c4203
git_last_commit_date: 2025-10-29 10:28:10 -0500
nebbiolo2Linux (Ubuntu 24.04.3 LTS) / x86_64  OK    OK    WARNINGS  UNNEEDED, same version is already published
taishanLinux (openEuler 24.03 LTS) / aarch64  OK    OK    WARNINGS  
Package 248/296HostnameOS / ArchINSTALLBUILDCHECKBUILD BIN
signeR 2.12.0  (landing page)
Renan Valieris
git_last_commit: 7b4a6ab
git_last_commit_date: 2025-10-29 10:34:16 -0500
nebbiolo2Linux (Ubuntu 24.04.3 LTS) / x86_64  OK    OK    OK  UNNEEDED, same version is already published
taishanLinux (openEuler 24.03 LTS) / aarch64  OK    OK    OK  
Package 249/296HostnameOS / ArchINSTALLBUILDCHECKBUILD BIN
SigsPack 1.24.0  (landing page)
Franziska Schumann
git_last_commit: 13120a5
git_last_commit_date: 2025-10-29 10:53:42 -0500
nebbiolo2Linux (Ubuntu 24.04.3 LTS) / x86_64  OK    OK    OK  UNNEEDED, same version is already published
taishanLinux (openEuler 24.03 LTS) / aarch64  OK    OK    OK  
Package 250/296HostnameOS / ArchINSTALLBUILDCHECKBUILD BIN
SimFFPE 1.22.0  (landing page)
Lanying Wei
git_last_commit: 9123bff
git_last_commit_date: 2025-10-29 10:56:29 -0500
nebbiolo2Linux (Ubuntu 24.04.3 LTS) / x86_64  OK    OK    OK  UNNEEDED, same version is already published
taishanLinux (openEuler 24.03 LTS) / aarch64  OK    OK    OK  
Package 251/296HostnameOS / ArchINSTALLBUILDCHECKBUILD BIN
SingleMoleculeFootprinting 2.4.0  (landing page)
Guido Barzaghi
git_last_commit: a905f25
git_last_commit_date: 2025-10-29 11:10:00 -0500
nebbiolo2Linux (Ubuntu 24.04.3 LTS) / x86_64  ERROR    ERROR  skipped
taishanLinux (openEuler 24.03 LTS) / aarch64  ERROR    ERROR  skipped
Package 252/296HostnameOS / ArchINSTALLBUILDCHECKBUILD BIN
sitadela 1.18.0  (landing page)
Panagiotis Moulos
git_last_commit: 84fdb44
git_last_commit_date: 2025-10-29 11:07:04 -0500
nebbiolo2Linux (Ubuntu 24.04.3 LTS) / x86_64  OK    OK    OK  UNNEEDED, same version is already published
taishanLinux (openEuler 24.03 LTS) / aarch64  OK    OK    OK  
Package 253/296HostnameOS / ArchINSTALLBUILDCHECKBUILD BIN
SNPhood 1.40.0  (landing page)
Christian Arnold
git_last_commit: 60c689c
git_last_commit_date: 2025-10-29 10:28:24 -0500
nebbiolo2Linux (Ubuntu 24.04.3 LTS) / x86_64  OK    OK    OK  UNNEEDED, same version is already published
taishanLinux (openEuler 24.03 LTS) / aarch64  OK    OK    OK  
Package 254/296HostnameOS / ArchINSTALLBUILDCHECKBUILD BIN
soGGi 1.42.0  (landing page)
Tom Carroll
git_last_commit: 857d021
git_last_commit_date: 2025-10-29 10:25:37 -0500
nebbiolo2Linux (Ubuntu 24.04.3 LTS) / x86_64  OK    OK    ERROR  
taishanLinux (openEuler 24.03 LTS) / aarch64  OK    OK    ERROR  
Package 255/296HostnameOS / ArchINSTALLBUILDCHECKBUILD BIN
SomaticSignatures 2.46.0  (landing page)
Julian Gehring
git_last_commit: 7058eda
git_last_commit_date: 2025-10-29 10:17:57 -0500
nebbiolo2Linux (Ubuntu 24.04.3 LTS) / x86_64  OK    OK    OK  UNNEEDED, same version is already published
taishanLinux (openEuler 24.03 LTS) / aarch64  OK    OK    OK  
Package 256/296HostnameOS / ArchINSTALLBUILDCHECKBUILD BIN
SparseSignatures 2.20.0  (landing page)
Luca De Sano
git_last_commit: 9b8de11
git_last_commit_date: 2025-10-29 10:44:43 -0500
nebbiolo2Linux (Ubuntu 24.04.3 LTS) / x86_64  OK    OK    OK  UNNEEDED, same version is already published
taishanLinux (openEuler 24.03 LTS) / aarch64  OK    OK    OK  
Package 257/296HostnameOS / ArchINSTALLBUILDCHECKBUILD BIN
spiky 1.16.0  (landing page)
Tim Triche
git_last_commit: e4c8b36
git_last_commit_date: 2025-10-29 11:10:11 -0500
nebbiolo2Linux (Ubuntu 24.04.3 LTS) / x86_64  OK    OK    OK  UNNEEDED, same version is already published
taishanLinux (openEuler 24.03 LTS) / aarch64  OK    OK    OK  
Package 258/296HostnameOS / ArchINSTALLBUILDCHECKBUILD BIN
SpliceWiz 1.12.0  (landing page)
Alex Chit Hei Wong
git_last_commit: 1767347
git_last_commit_date: 2025-10-29 11:17:35 -0500
nebbiolo2Linux (Ubuntu 24.04.3 LTS) / x86_64  OK    OK    WARNINGS  UNNEEDED, same version is already published
taishanLinux (openEuler 24.03 LTS) / aarch64  OK    OK    WARNINGS  
Package 259/296HostnameOS / ArchINSTALLBUILDCHECKBUILD BIN
SPLINTER 1.36.0  (landing page)
Diana Low
git_last_commit: 00c62ac
git_last_commit_date: 2025-10-29 10:34:37 -0500
nebbiolo2Linux (Ubuntu 24.04.3 LTS) / x86_64  OK    OK    OK  UNNEEDED, same version is already published
taishanLinux (openEuler 24.03 LTS) / aarch64  OK    ERROR  skipped
Package 260/296HostnameOS / ArchINSTALLBUILDCHECKBUILD BIN
sscu 2.40.0  (landing page)
Yu Sun
git_last_commit: 76c9295
git_last_commit_date: 2025-10-29 10:31:07 -0500
nebbiolo2Linux (Ubuntu 24.04.3 LTS) / x86_64  OK    OK    WARNINGS  UNNEEDED, same version is already published
taishanLinux (openEuler 24.03 LTS) / aarch64  OK    OK    WARNINGS  
Package 261/296HostnameOS / ArchINSTALLBUILDCHECKBUILD BIN
ssviz 1.44.0  (landing page)
Diana Low
git_last_commit: e7f05f5
git_last_commit_date: 2025-10-29 10:20:02 -0500
nebbiolo2Linux (Ubuntu 24.04.3 LTS) / x86_64  OK    OK    OK  UNNEEDED, same version is already published
taishanLinux (openEuler 24.03 LTS) / aarch64  OK    OK    OK  
Package 262/296HostnameOS / ArchINSTALLBUILDCHECKBUILD BIN
Structstrings 1.26.0  (landing page)
Felix G.M. Ernst
git_last_commit: bb58b12
git_last_commit_date: 2025-10-29 10:50:44 -0500
nebbiolo2Linux (Ubuntu 24.04.3 LTS) / x86_64  OK    OK    OK  UNNEEDED, same version is already published
taishanLinux (openEuler 24.03 LTS) / aarch64  OK    OK    OK  
Package 263/296HostnameOS / ArchINSTALLBUILDCHECKBUILD BIN
StructuralVariantAnnotation 1.26.0  (landing page)
Daniel Cameron
git_last_commit: 328c319
git_last_commit_date: 2025-10-29 10:52:25 -0500
nebbiolo2Linux (Ubuntu 24.04.3 LTS) / x86_64  OK    OK    OK  UNNEEDED, same version is already published
taishanLinux (openEuler 24.03 LTS) / aarch64  OK    OK    OK  
Package 264/296HostnameOS / ArchINSTALLBUILDCHECKBUILD BIN
supersigs 1.18.0  (landing page)
Albert Kuo
git_last_commit: 44913f5
git_last_commit_date: 2025-10-29 11:08:53 -0500
nebbiolo2Linux (Ubuntu 24.04.3 LTS) / x86_64  OK    OK    WARNINGS  UNNEEDED, same version is already published
taishanLinux (openEuler 24.03 LTS) / aarch64  OK    OK    WARNINGS  
Package 265/296HostnameOS / ArchINSTALLBUILDCHECKBUILD BIN
surfaltr 1.16.0  (landing page)
Pooja Gangras
git_last_commit: b68ffe3
git_last_commit_date: 2025-10-29 11:12:34 -0500
nebbiolo2Linux (Ubuntu 24.04.3 LTS) / x86_64  OK    OK    OK  UNNEEDED, same version is already published
taishanLinux (openEuler 24.03 LTS) / aarch64  OK    OK    OK  
Package 266/296HostnameOS / ArchINSTALLBUILDCHECKBUILD BIN
svaNUMT 1.16.0  (landing page)
Ruining Dong
git_last_commit: 87701e2
git_last_commit_date: 2025-10-29 11:10:38 -0500
nebbiolo2Linux (Ubuntu 24.04.3 LTS) / x86_64  OK    OK    OK  UNNEEDED, same version is already published
taishanLinux (openEuler 24.03 LTS) / aarch64  OK    OK    OK  
Package 267/296HostnameOS / ArchINSTALLBUILDCHECKBUILD BIN
svaRetro 1.16.0  (landing page)
Ruining Dong
git_last_commit: 11afdf0
git_last_commit_date: 2025-10-29 11:11:45 -0500
nebbiolo2Linux (Ubuntu 24.04.3 LTS) / x86_64  OK    ERROR  skipped
taishanLinux (openEuler 24.03 LTS) / aarch64  OK    ERROR  skipped
Package 268/296HostnameOS / ArchINSTALLBUILDCHECKBUILD BIN
SynExtend 1.22.0  (landing page)
Nicholas Cooley
git_last_commit: 9df95cb
git_last_commit_date: 2025-10-29 10:59:12 -0500
nebbiolo2Linux (Ubuntu 24.04.3 LTS) / x86_64  OK    OK    OK  UNNEEDED, same version is already published
taishanLinux (openEuler 24.03 LTS) / aarch64  OK    OK    OK  
Package 269/296HostnameOS / ArchINSTALLBUILDCHECKBUILD BIN
SynMut 1.26.0  (landing page)
Haogao Gu
git_last_commit: 910fcab
git_last_commit_date: 2025-10-29 10:51:59 -0500
nebbiolo2Linux (Ubuntu 24.04.3 LTS) / x86_64  OK    OK    OK  UNNEEDED, same version is already published
taishanLinux (openEuler 24.03 LTS) / aarch64  OK    OK    OK  
Package 270/296HostnameOS / ArchINSTALLBUILDCHECKBUILD BIN
syntenet 1.12.0  (landing page)
Fabrício Almeida-Silva
git_last_commit: 113a35a
git_last_commit_date: 2025-10-29 11:17:22 -0500
nebbiolo2Linux (Ubuntu 24.04.3 LTS) / x86_64  OK    OK    OK  UNNEEDED, same version is already published
taishanLinux (openEuler 24.03 LTS) / aarch64  OK    OK    OK  
Package 271/296HostnameOS / ArchINSTALLBUILDCHECKBUILD BIN
systemPipeR 2.16.0  (landing page)
Thomas Girke
git_last_commit: 4c55692
git_last_commit_date: 2025-10-29 10:21:27 -0500
nebbiolo2Linux (Ubuntu 24.04.3 LTS) / x86_64  OK    OK    OK  UNNEEDED, same version is already published
taishanLinux (openEuler 24.03 LTS) / aarch64  OK    OK    OK  
Package 272/296HostnameOS / ArchINSTALLBUILDCHECKBUILD BIN
TAPseq 1.22.0  (landing page)
Andreas R. Gschwind
git_last_commit: d0aad39
git_last_commit_date: 2025-10-29 10:57:19 -0500
nebbiolo2Linux (Ubuntu 24.04.3 LTS) / x86_64  OK    OK    WARNINGS  UNNEEDED, same version is already published
taishanLinux (openEuler 24.03 LTS) / aarch64  OK    OK    WARNINGS  
Package 273/296HostnameOS / ArchINSTALLBUILDCHECKBUILD BIN
TENET 1.2.0  (landing page)
Rhie Lab at the University of Southern California
git_last_commit: b0a4fcf
git_last_commit_date: 2025-10-29 11:34:59 -0500
nebbiolo2Linux (Ubuntu 24.04.3 LTS) / x86_64  OK    OK    OK  UNNEEDED, same version is already published
taishanLinux (openEuler 24.03 LTS) / aarch64  OK    OK    OK  
Package 274/296HostnameOS / ArchINSTALLBUILDCHECKBUILD BIN
TFBSTools 1.48.0  (landing page)
Ge Tan
git_last_commit: 77e9a0e
git_last_commit_date: 2025-10-29 10:16:59 -0500
nebbiolo2Linux (Ubuntu 24.04.3 LTS) / x86_64  OK    OK    OK  UNNEEDED, same version is already published
taishanLinux (openEuler 24.03 LTS) / aarch64  OK    OK    OK  
Package 275/296HostnameOS / ArchINSTALLBUILDCHECKBUILD BIN
topdownr 1.32.0  (landing page)
Sebastian Gibb
git_last_commit: 7bbdc4a
git_last_commit_date: 2025-10-29 10:41:42 -0500
nebbiolo2Linux (Ubuntu 24.04.3 LTS) / x86_64  OK    OK    OK  UNNEEDED, same version is already published
taishanLinux (openEuler 24.03 LTS) / aarch64  OK    OK    OK  
Package 276/296HostnameOS / ArchINSTALLBUILDCHECKBUILD BIN
transite 1.28.0  (landing page)
Konstantin Krismer
git_last_commit: 9a7574c
git_last_commit_date: 2025-10-29 10:48:14 -0500
nebbiolo2Linux (Ubuntu 24.04.3 LTS) / x86_64  OK    OK    OK  UNNEEDED, same version is already published
taishanLinux (openEuler 24.03 LTS) / aarch64  OK    OK    OK  
Package 277/296HostnameOS / ArchINSTALLBUILDCHECKBUILD BIN
transmogR 1.6.0  (landing page)
Stevie Pederson
git_last_commit: 7065211
git_last_commit_date: 2025-10-29 11:27:49 -0500
nebbiolo2Linux (Ubuntu 24.04.3 LTS) / x86_64  OK    OK    OK  UNNEEDED, same version is already published
taishanLinux (openEuler 24.03 LTS) / aarch64  OK    OK    OK  
Package 278/296HostnameOS / ArchINSTALLBUILDCHECKBUILD BIN
TreeSummarizedExperiment 2.18.0  (landing page)
Ruizhu Huang
git_last_commit: f463a1d
git_last_commit_date: 2025-10-29 10:52:27 -0500
nebbiolo2Linux (Ubuntu 24.04.3 LTS) / x86_64  OK    OK    OK  UNNEEDED, same version is already published
taishanLinux (openEuler 24.03 LTS) / aarch64  OK    OK    TIMEOUT  
Package 279/296HostnameOS / ArchINSTALLBUILDCHECKBUILD BIN
triplex 1.50.0  (landing page)
Jiri Hon
git_last_commit: 29318c0
git_last_commit_date: 2025-10-29 10:14:42 -0500
nebbiolo2Linux (Ubuntu 24.04.3 LTS) / x86_64  OK    OK    WARNINGS  UNNEEDED, same version is already published
taishanLinux (openEuler 24.03 LTS) / aarch64  OK    OK    WARNINGS  
Package 280/296HostnameOS / ArchINSTALLBUILDCHECKBUILD BIN
tRNA 1.28.0  (landing page)
Felix GM Ernst
git_last_commit: 3266a22
git_last_commit_date: 2025-10-29 10:48:20 -0500
nebbiolo2Linux (Ubuntu 24.04.3 LTS) / x86_64  OK    OK    OK  UNNEEDED, same version is already published
taishanLinux (openEuler 24.03 LTS) / aarch64  OK    OK    OK  
Package 281/296HostnameOS / ArchINSTALLBUILDCHECKBUILD BIN
tRNAdbImport 1.28.0  (landing page)
Felix G.M. Ernst
git_last_commit: 73aeefe
git_last_commit_date: 2025-10-29 10:48:38 -0500
nebbiolo2Linux (Ubuntu 24.04.3 LTS) / x86_64  OK    OK    OK  UNNEEDED, same version is already published
taishanLinux (openEuler 24.03 LTS) / aarch64  OK    OK    OK  
Package 282/296HostnameOS / ArchINSTALLBUILDCHECKBUILD BIN
tRNAscanImport 1.30.0  (landing page)
Felix G.M. Ernst
git_last_commit: ac13675
git_last_commit_date: 2025-10-29 10:43:40 -0500
nebbiolo2Linux (Ubuntu 24.04.3 LTS) / x86_64  OK    OK    OK  UNNEEDED, same version is already published
taishanLinux (openEuler 24.03 LTS) / aarch64  OK    OK    OK  
Package 283/296HostnameOS / ArchINSTALLBUILDCHECKBUILD BIN
TVTB 1.36.0  (landing page)
Kevin Rue-Albrecht
git_last_commit: f5471e1
git_last_commit_date: 2025-10-29 10:35:21 -0500
nebbiolo2Linux (Ubuntu 24.04.3 LTS) / x86_64  OK    OK    OK  UNNEEDED, same version is already published
taishanLinux (openEuler 24.03 LTS) / aarch64  OK    OK    OK  
Package 284/296HostnameOS / ArchINSTALLBUILDCHECKBUILD BIN
txcutr 1.16.0  (landing page)
Mervin Fansler
git_last_commit: c2ea2a8
git_last_commit_date: 2025-10-29 11:13:37 -0500
nebbiolo2Linux (Ubuntu 24.04.3 LTS) / x86_64  OK    OK    OK  UNNEEDED, same version is already published
taishanLinux (openEuler 24.03 LTS) / aarch64  OK    OK    OK  
Package 285/296HostnameOS / ArchINSTALLBUILDCHECKBUILD BIN
tximeta 1.28.0  (landing page)
Michael Love
git_last_commit: 4479514
git_last_commit_date: 2025-10-29 10:47:16 -0500
nebbiolo2Linux (Ubuntu 24.04.3 LTS) / x86_64  OK    OK    OK  UNNEEDED, same version is already published
taishanLinux (openEuler 24.03 LTS) / aarch64  OK    OK    OK  
Package 286/296HostnameOS / ArchINSTALLBUILDCHECKBUILD BIN
Ularcirc 1.28.0  (landing page)
David Humphreys
git_last_commit: e6f04b4
git_last_commit_date: 2025-10-29 10:45:47 -0500
nebbiolo2Linux (Ubuntu 24.04.3 LTS) / x86_64  OK    OK    WARNINGS  UNNEEDED, same version is already published
taishanLinux (openEuler 24.03 LTS) / aarch64  OK    OK    WARNINGS  
Package 287/296HostnameOS / ArchINSTALLBUILDCHECKBUILD BIN
UMI4Cats 1.20.0  (landing page)
Mireia Ramos-Rodriguez
git_last_commit: ddc6b2d
git_last_commit_date: 2025-10-29 11:01:19 -0500
nebbiolo2Linux (Ubuntu 24.04.3 LTS) / x86_64  OK    OK    OK  UNNEEDED, same version is already published
taishanLinux (openEuler 24.03 LTS) / aarch64  OK    OK    OK  
Package 288/296HostnameOS / ArchINSTALLBUILDCHECKBUILD BIN
universalmotif 1.28.0  (landing page)
Benjamin Jean-Marie Tremblay
git_last_commit: 428965b
git_last_commit_date: 2025-10-29 10:48:50 -0500
nebbiolo2Linux (Ubuntu 24.04.3 LTS) / x86_64  OK    OK    OK  UNNEEDED, same version is already published
taishanLinux (openEuler 24.03 LTS) / aarch64  OK    OK    OK  
Package 289/296HostnameOS / ArchINSTALLBUILDCHECKBUILD BIN
VarCon 1.18.0  (landing page)
Johannes Ptok
git_last_commit: 5d3f112
git_last_commit_date: 2025-10-29 11:04:47 -0500
nebbiolo2Linux (Ubuntu 24.04.3 LTS) / x86_64  OK    OK    OK  UNNEEDED, same version is already published
taishanLinux (openEuler 24.03 LTS) / aarch64  OK    OK    OK  
Package 290/296HostnameOS / ArchINSTALLBUILDCHECKBUILD BIN
VariantAnnotation 1.56.0  (landing page)
Bioconductor Package Maintainer
git_last_commit: dc8ecd1
git_last_commit_date: 2025-10-29 10:08:24 -0500
nebbiolo2Linux (Ubuntu 24.04.3 LTS) / x86_64  OK    OK    WARNINGS  UNNEEDED, same version is already published
taishanLinux (openEuler 24.03 LTS) / aarch64  OK    OK    WARNINGS  
Package 291/296HostnameOS / ArchINSTALLBUILDCHECKBUILD BIN
VariantExperiment 1.24.0  (landing page)
Qian Liu
git_last_commit: 4846558
git_last_commit_date: 2025-10-29 10:53:44 -0500
nebbiolo2Linux (Ubuntu 24.04.3 LTS) / x86_64  OK    OK    OK  UNNEEDED, same version is already published
taishanLinux (openEuler 24.03 LTS) / aarch64  OK    OK    OK  
Package 292/296HostnameOS / ArchINSTALLBUILDCHECKBUILD BIN
VariantFiltering 1.46.0  (landing page)
Robert Castelo
git_last_commit: 958023b
git_last_commit_date: 2025-10-29 10:19:08 -0500
nebbiolo2Linux (Ubuntu 24.04.3 LTS) / x86_64  OK    OK    OK  UNNEEDED, same version is already published
taishanLinux (openEuler 24.03 LTS) / aarch64  OK    OK    OK  
Package 293/296HostnameOS / ArchINSTALLBUILDCHECKBUILD BIN
VariantTools 1.52.0  (landing page)
Michael Lawrence
git_last_commit: a3304e5
git_last_commit_date: 2025-10-29 10:12:36 -0500
nebbiolo2Linux (Ubuntu 24.04.3 LTS) / x86_64  OK    ERROR  skipped
taishanLinux (openEuler 24.03 LTS) / aarch64  OK    ERROR  skipped
Package 294/296HostnameOS / ArchINSTALLBUILDCHECKBUILD BIN
wavClusteR 2.44.0  (landing page)
Federico Comoglio
git_last_commit: 767728a
git_last_commit_date: 2025-10-29 10:19:49 -0500
nebbiolo2Linux (Ubuntu 24.04.3 LTS) / x86_64  OK    OK    OK  UNNEEDED, same version is already published
taishanLinux (openEuler 24.03 LTS) / aarch64  OK    OK    OK  
Package 295/296HostnameOS / ArchINSTALLBUILDCHECKBUILD BIN
XNAString 1.18.0  (landing page)
Marianna Plucinska
git_last_commit: 1e9b17f
git_last_commit_date: 2025-10-29 11:09:27 -0500
nebbiolo2Linux (Ubuntu 24.04.3 LTS) / x86_64  ERROR    ERROR  skipped
taishanLinux (openEuler 24.03 LTS) / aarch64  ERROR    ERROR  skipped
Package 296/296HostnameOS / ArchINSTALLBUILDCHECKBUILD BIN
YAPSA 1.36.0  (landing page)
Zuguang Gu
git_last_commit: 568357f
git_last_commit_date: 2025-10-29 10:34:03 -0500
nebbiolo2Linux (Ubuntu 24.04.3 LTS) / x86_64  OK    OK    OK  UNNEEDED, same version is already published
taishanLinux (openEuler 24.03 LTS) / aarch64  OK    OK    OK