| Back to Multiple platform build/check report for BioC 3.22: simplified long |
|
This page was generated on 2025-11-01 12:05 -0400 (Sat, 01 Nov 2025).
| Hostname | OS | Arch (*) | R version | Installed pkgs |
|---|---|---|---|---|
| nebbiolo2 | Linux (Ubuntu 24.04.3 LTS) | x86_64 | 4.5.1 Patched (2025-08-23 r88802) -- "Great Square Root" | 4901 |
| lconway | macOS 12.7.6 Monterey | x86_64 | 4.5.1 Patched (2025-09-10 r88807) -- "Great Square Root" | 4691 |
| kjohnson3 | macOS 13.7.7 Ventura | arm64 | 4.5.1 Patched (2025-09-10 r88807) -- "Great Square Root" | 4637 |
| Click on any hostname to see more info about the system (e.g. compilers) (*) as reported by 'uname -p', except on Windows and Mac OS X | ||||
| Package 1390/2361 | Hostname | OS / Arch | INSTALL | BUILD | CHECK | BUILD BIN | ||||||||
| MSnID 1.44.0 (landing page) Vlad Petyuk
| nebbiolo2 | Linux (Ubuntu 24.04.3 LTS) / x86_64 | OK | OK | OK | |||||||||
| lconway | macOS 12.7.6 Monterey / x86_64 | OK | OK | OK | OK | |||||||||
| kjohnson3 | macOS 13.7.7 Ventura / arm64 | OK | OK | ERROR | OK | |||||||||
|
To the developers/maintainers of the MSnID package: - Allow up to 24 hours (and sometimes 48 hours) for your latest push to git@git.bioconductor.org:packages/MSnID.git to reflect on this report. See Troubleshooting Build Report for more information. - Use the following Renviron settings to reproduce errors and warnings. - If 'R CMD check' started to fail recently on the Linux builder(s) over a missing dependency, add the missing dependency to 'Suggests:' in your DESCRIPTION file. See Renviron.bioc for more information. |
| Package: MSnID |
| Version: 1.44.0 |
| Command: /Library/Frameworks/R.framework/Resources/bin/R CMD check --install=check:MSnID.install-out.txt --library=/Library/Frameworks/R.framework/Resources/library --no-vignettes --timings MSnID_1.44.0.tar.gz |
| StartedAt: 2025-10-31 20:59:29 -0400 (Fri, 31 Oct 2025) |
| EndedAt: 2025-10-31 21:02:20 -0400 (Fri, 31 Oct 2025) |
| EllapsedTime: 171.0 seconds |
| RetCode: 1 |
| Status: ERROR |
| CheckDir: MSnID.Rcheck |
| Warnings: NA |
##############################################################################
##############################################################################
###
### Running command:
###
### /Library/Frameworks/R.framework/Resources/bin/R CMD check --install=check:MSnID.install-out.txt --library=/Library/Frameworks/R.framework/Resources/library --no-vignettes --timings MSnID_1.44.0.tar.gz
###
##############################################################################
##############################################################################
* using log directory ‘/Users/biocbuild/bbs-3.22-bioc/meat/MSnID.Rcheck’
* using R version 4.5.1 Patched (2025-09-10 r88807)
* using platform: aarch64-apple-darwin20
* R was compiled by
Apple clang version 16.0.0 (clang-1600.0.26.6)
GNU Fortran (GCC) 14.2.0
* running under: macOS Ventura 13.7.7
* using session charset: UTF-8
* using option ‘--no-vignettes’
* checking for file ‘MSnID/DESCRIPTION’ ... OK
* checking extension type ... Package
* this is package ‘MSnID’ version ‘1.44.0’
* checking package namespace information ... OK
* checking package dependencies ... INFO
Imports includes 25 non-default packages.
Importing from so many packages makes the package vulnerable to any of
them becoming unavailable. Move as many as possible to Suggests and
use conditionally.
* checking if this is a source package ... OK
* checking if there is a namespace ... OK
* checking for hidden files and directories ... OK
* checking for portable file names ... OK
* checking for sufficient/correct file permissions ... OK
* checking whether package ‘MSnID’ can be installed ... OK
* checking installed package size ... OK
* checking package directory ... OK
* checking ‘build’ directory ... OK
* checking DESCRIPTION meta-information ... OK
* checking top-level files ... OK
* checking for left-over files ... OK
* checking index information ... OK
* checking package subdirectories ... OK
* checking code files for non-ASCII characters ... OK
* checking R files for syntax errors ... OK
* checking whether the package can be loaded ... OK
* checking whether the package can be loaded with stated dependencies ... OK
* checking whether the package can be unloaded cleanly ... OK
* checking whether the namespace can be loaded with stated dependencies ... OK
* checking whether the namespace can be unloaded cleanly ... OK
* checking dependencies in R code ... NOTE
Namespaces in Imports field not imported from:
‘BiocGenerics’ ‘BiocStyle’ ‘RUnit’ ‘ggplot2’ ‘msmsTests’ ‘xtable’
All declared Imports should be used.
* checking S3 generic/method consistency ... OK
* checking replacement functions ... OK
* checking foreign function calls ... OK
* checking R code for possible problems ... NOTE
.read_mzIDs.mzR.engine.single.file: no visible binding for global
variable ‘peptideRef’
Undefined global functions or variables:
peptideRef
* checking Rd files ... OK
* checking Rd metadata ... OK
* checking Rd cross-references ... NOTE
Found the following Rd file(s) with Rd \link{} targets missing package
anchors:
MSnID-class.Rd: MSnSet
MSnID-package.Rd: mzID
Please provide package anchors for all Rd \link{} targets not in the
package itself and the base packages.
* checking for missing documentation entries ... OK
* checking for code/documentation mismatches ... OK
* checking Rd \usage sections ... OK
* checking Rd contents ... OK
* checking for unstated dependencies in examples ... OK
* checking contents of ‘data’ directory ... OK
* checking data for non-ASCII characters ... OK
* checking LazyData ... OK
* checking data for ASCII and uncompressed saves ... OK
* checking sizes of PDF files under ‘inst/doc’ ... OK
* checking files in ‘vignettes’ ... OK
* checking examples ... OK
Examples with CPU (user + system) or elapsed time > 5s
user system elapsed
fetch_conversion_table 4.672 0.390 5.761
optimize_filter 1.669 0.057 8.488
* checking for unstated dependencies in ‘tests’ ... OK
* checking tests ...
Running ‘runTests.R’
ERROR
Running the tests in ‘tests/runTests.R’ failed.
Last 13 lines of output:
1 Test Suite :
MSnID RUnit Tests - 19 test functions, 0 errors, 1 failure
FAILURE in test_data_load: Error in checkIdentical(psms(msnidObj), psms(msnid2)) : FALSE
Test files with failing tests
test_data_load.R
test_data_load
Error in BiocGenerics:::testPackage("MSnID") :
unit tests failed for package MSnID
Execution halted
* checking for unstated dependencies in vignettes ... OK
* checking package vignettes ... OK
* checking running R code from vignettes ... SKIPPED
* checking re-building of vignette outputs ... SKIPPED
* checking PDF version of manual ... OK
* DONE
Status: 1 ERROR, 3 NOTEs
See
‘/Users/biocbuild/bbs-3.22-bioc/meat/MSnID.Rcheck/00check.log’
for details.
MSnID.Rcheck/00install.out
############################################################################## ############################################################################## ### ### Running command: ### ### /Library/Frameworks/R.framework/Resources/bin/R CMD INSTALL MSnID ### ############################################################################## ############################################################################## * installing to library ‘/Library/Frameworks/R.framework/Versions/4.5-arm64/Resources/library’ * installing *source* package ‘MSnID’ ... ** this is package ‘MSnID’ version ‘1.44.0’ ** using staged installation ** R ** data *** moving datasets to lazyload DB ** demo ** inst ** byte-compile and prepare package for lazy loading ** help *** installing help indices ** building package indices ** installing vignettes ** testing if installed package can be loaded from temporary location ** testing if installed package can be loaded from final location ** testing if installed package keeps a record of temporary installation path * DONE (MSnID)
MSnID.Rcheck/tests/runTests.Rout.fail
R version 4.5.1 Patched (2025-09-10 r88807) -- "Great Square Root"
Copyright (C) 2025 The R Foundation for Statistical Computing
Platform: aarch64-apple-darwin20
R is free software and comes with ABSOLUTELY NO WARRANTY.
You are welcome to redistribute it under certain conditions.
Type 'license()' or 'licence()' for distribution details.
R is a collaborative project with many contributors.
Type 'contributors()' for more information and
'citation()' on how to cite R or R packages in publications.
Type 'demo()' for some demos, 'help()' for on-line help, or
'help.start()' for an HTML browser interface to help.
Type 'q()' to quit R.
> BiocGenerics:::testPackage("MSnID")
Note, the anticipated/suggested columns in the
peptide-to-spectrum matching results are:
-----------------------------------------------
accession
calculatedMassToCharge
chargeState
experimentalMassToCharge
isDecoy
peptide
spectrumFile
spectrumID
Reading from mzIdentMLs ...
reading c_elegans.mzid.gz... DONE!
Reading from mzIdentMLs ...
Timing stopped at: 0.033 0.004 0.036
Error in checkIdentical(psms(msnidObj), psms(msnid2)) : FALSE
In addition: There were 12 warnings (use warnings() to see them)
RUNIT TEST PROTOCOL -- Fri Oct 31 21:02:17 2025
***********************************************
Number of test functions: 19
Number of errors: 0
Number of failures: 1
1 Test Suite :
MSnID RUnit Tests - 19 test functions, 0 errors, 1 failure
FAILURE in test_data_load: Error in checkIdentical(psms(msnidObj), psms(msnid2)) : FALSE
Test files with failing tests
test_data_load.R
test_data_load
Error in BiocGenerics:::testPackage("MSnID") :
unit tests failed for package MSnID
Execution halted
MSnID.Rcheck/MSnID-Ex.timings
| name | user | system | elapsed | |
| MSnID-class | 0 | 0 | 0 | |
| MSnIDFilter-class | 0.521 | 0.006 | 0.521 | |
| accessions | 0.026 | 0.002 | 0.027 | |
| add_mod_symbol | 0.524 | 0.004 | 0.529 | |
| apply_filter | 0.114 | 0.005 | 0.102 | |
| assess_missed_cleavages | 0.053 | 0.003 | 0.057 | |
| assess_termini | 0.068 | 0.004 | 0.075 | |
| correct_peak_selection | 0.032 | 0.003 | 0.034 | |
| data | 0.056 | 0.003 | 0.054 | |
| evaluate_filter | 0.090 | 0.005 | 0.165 | |
| fetch_conversion_table | 4.672 | 0.390 | 5.761 | |
| id_quality | 0.118 | 0.004 | 0.117 | |
| infer_parsimonious_accessions | 0.361 | 0.041 | 0.393 | |
| map_mod_sites | 0.743 | 0.021 | 0.767 | |
| mass_measurement_error | 0.027 | 0.001 | 0.029 | |
| optimize_filter | 1.669 | 0.057 | 8.488 | |
| peptides | 0.023 | 0.001 | 0.025 | |
| psms | 0.033 | 0.002 | 0.035 | |
| read_mzIDs | 0 | 0 | 0 | |
| recalibrate | 0.029 | 0.002 | 0.030 | |
| remap_accessions-method | 2.791 | 0.206 | 3.171 | |
| remap_fasta_entry_names | 2.783 | 0.187 | 3.116 | |
| report_mods | 0.556 | 0.008 | 0.564 | |