Back to Multiple platform build/check report for BioC 3.21:   simplified   long
ABCDEFGHIJKLMNOPQ[R]STUVWXYZ

This page was generated on 2025-10-13 11:38 -0400 (Mon, 13 Oct 2025).

HostnameOSArch (*)R versionInstalled pkgs
nebbiolo1Linux (Ubuntu 24.04.3 LTS)x86_644.5.1 (2025-06-13) -- "Great Square Root" 4833
merida1macOS 12.7.5 Montereyx86_644.5.1 RC (2025-06-05 r88288) -- "Great Square Root" 4614
kjohnson1macOS 13.6.6 Venturaarm644.5.1 Patched (2025-06-14 r88325) -- "Great Square Root" 4555
kunpeng2Linux (openEuler 24.03 LTS)aarch64R Under development (unstable) (2025-02-19 r87757) -- "Unsuffered Consequences" 4586
Click on any hostname to see more info about the system (e.g. compilers)      (*) as reported by 'uname -p', except on Windows and Mac OS X

Package 1717/2341HostnameOS / ArchINSTALLBUILDCHECKBUILD BIN
Rcpi 1.44.0  (landing page)
Nan Xiao
Snapshot Date: 2025-10-09 13:40 -0400 (Thu, 09 Oct 2025)
git_url: https://git.bioconductor.org/packages/Rcpi
git_branch: RELEASE_3_21
git_last_commit: a5056ba
git_last_commit_date: 2025-04-15 10:29:42 -0400 (Tue, 15 Apr 2025)
nebbiolo1Linux (Ubuntu 24.04.3 LTS) / x86_64  OK    OK    OK  UNNEEDED, same version is already published
merida1macOS 12.7.5 Monterey / x86_64  OK    OK    OK    OK  UNNEEDED, same version is already published
kjohnson1macOS 13.6.6 Ventura / arm64  OK    OK    OK    OK  UNNEEDED, same version is already published
kunpeng2Linux (openEuler 24.03 LTS) / aarch64  OK    OK    OK  


CHECK results for Rcpi on nebbiolo1

To the developers/maintainers of the Rcpi package:
- Allow up to 24 hours (and sometimes 48 hours) for your latest push to git@git.bioconductor.org:packages/Rcpi.git to reflect on this report. See Troubleshooting Build Report for more information.
- Use the following Renviron settings to reproduce errors and warnings.
- If 'R CMD check' started to fail recently on the Linux builder(s) over a missing dependency, add the missing dependency to 'Suggests:' in your DESCRIPTION file. See Renviron.bioc for more information.

raw results


Summary

Package: Rcpi
Version: 1.44.0
Command: /home/biocbuild/bbs-3.21-bioc/R/bin/R CMD check --install=check:Rcpi.install-out.txt --library=/home/biocbuild/bbs-3.21-bioc/R/site-library --timings Rcpi_1.44.0.tar.gz
StartedAt: 2025-10-13 02:45:23 -0400 (Mon, 13 Oct 2025)
EndedAt: 2025-10-13 02:47:14 -0400 (Mon, 13 Oct 2025)
EllapsedTime: 111.2 seconds
RetCode: 0
Status:   OK  
CheckDir: Rcpi.Rcheck
Warnings: 0

Command output

##############################################################################
##############################################################################
###
### Running command:
###
###   /home/biocbuild/bbs-3.21-bioc/R/bin/R CMD check --install=check:Rcpi.install-out.txt --library=/home/biocbuild/bbs-3.21-bioc/R/site-library --timings Rcpi_1.44.0.tar.gz
###
##############################################################################
##############################################################################


* using log directory ‘/home/biocbuild/bbs-3.21-bioc/meat/Rcpi.Rcheck’
* using R version 4.5.1 (2025-06-13)
* using platform: x86_64-pc-linux-gnu
* R was compiled by
    gcc (Ubuntu 13.3.0-6ubuntu2~24.04) 13.3.0
    GNU Fortran (Ubuntu 13.3.0-6ubuntu2~24.04) 13.3.0
* running under: Ubuntu 24.04.3 LTS
* using session charset: UTF-8
* checking for file ‘Rcpi/DESCRIPTION’ ... OK
* checking extension type ... Package
* this is package ‘Rcpi’ version ‘1.44.0’
* package encoding: UTF-8
* checking package namespace information ... OK
* checking package dependencies ... OK
* checking if this is a source package ... OK
* checking if there is a namespace ... OK
* checking for hidden files and directories ... OK
* checking for portable file names ... OK
* checking for sufficient/correct file permissions ... OK
* checking whether package ‘Rcpi’ can be installed ... OK
* checking installed package size ... OK
* checking package directory ... OK
* checking ‘build’ directory ... OK
* checking DESCRIPTION meta-information ... OK
* checking top-level files ... OK
* checking for left-over files ... OK
* checking index information ... OK
* checking package subdirectories ... OK
* checking code files for non-ASCII characters ... OK
* checking R files for syntax errors ... OK
* checking whether the package can be loaded ... OK
* checking whether the package can be loaded with stated dependencies ... OK
* checking whether the package can be unloaded cleanly ... OK
* checking whether the namespace can be loaded with stated dependencies ... OK
* checking whether the namespace can be unloaded cleanly ... OK
* checking loading without being on the library search path ... OK
* checking dependencies in R code ... OK
* checking S3 generic/method consistency ... OK
* checking replacement functions ... OK
* checking foreign function calls ... OK
* checking R code for possible problems ... OK
* checking Rd files ... OK
* checking Rd metadata ... OK
* checking Rd cross-references ... OK
* checking for missing documentation entries ... OK
* checking for code/documentation mismatches ... OK
* checking Rd \usage sections ... OK
* checking Rd contents ... OK
* checking for unstated dependencies in examples ... OK
* checking contents of ‘data’ directory ... OK
* checking data for non-ASCII characters ... OK
* checking LazyData ... OK
* checking data for ASCII and uncompressed saves ... OK
* checking files in ‘vignettes’ ... OK
* checking examples ... OK
* checking for unstated dependencies in ‘tests’ ... OK
* checking tests ...
  Running ‘testthat.R’
 OK
* checking for unstated dependencies in vignettes ... OK
* checking package vignettes ... OK
* checking re-building of vignette outputs ... OK
* checking PDF version of manual ... OK
* DONE

Status: OK


Installation output

Rcpi.Rcheck/00install.out

##############################################################################
##############################################################################
###
### Running command:
###
###   /home/biocbuild/bbs-3.21-bioc/R/bin/R CMD INSTALL Rcpi
###
##############################################################################
##############################################################################


* installing to library ‘/home/biocbuild/bbs-3.21-bioc/R/site-library’
* installing *source* package ‘Rcpi’ ...
** this is package ‘Rcpi’ version ‘1.44.0’
** using staged installation
** R
** data
*** moving datasets to lazyload DB
** inst
** byte-compile and prepare package for lazy loading
** help
*** installing help indices
*** copying figures
** building package indices
** installing vignettes
** testing if installed package can be loaded from temporary location
** testing if installed package can be loaded from final location
** testing if installed package keeps a record of temporary installation path
* DONE (Rcpi)

Tests output

Rcpi.Rcheck/tests/testthat.Rout


R version 4.5.1 (2025-06-13) -- "Great Square Root"
Copyright (C) 2025 The R Foundation for Statistical Computing
Platform: x86_64-pc-linux-gnu

R is free software and comes with ABSOLUTELY NO WARRANTY.
You are welcome to redistribute it under certain conditions.
Type 'license()' or 'licence()' for distribution details.

R is a collaborative project with many contributors.
Type 'contributors()' for more information and
'citation()' on how to cite R or R packages in publications.

Type 'demo()' for some demos, 'help()' for on-line help, or
'help.start()' for an HTML browser interface to help.
Type 'q()' to quit R.

> library(testthat)
> library(Rcpi)

> 
> test_check("Rcpi")
[ FAIL 0 | WARN 0 | SKIP 5 | PASS 17 ]

══ Skipped tests (5) ═══════════════════════════════════════════════════════════
• {rcdk} is not installed (5): 'test_extractDrugALOGP.R:2:5',
  'test_extractDrugECI.R:2:5', 'test_extractDrugRuleOfFive.R:2:5',
  'test_extractDrugTPSA.R:2:5', 'test_extractDrugXLogP.R:2:5'

[ FAIL 0 | WARN 0 | SKIP 5 | PASS 17 ]
> 
> proc.time()
   user  system elapsed 
  4.103   0.282   4.372 

Example timings

Rcpi.Rcheck/Rcpi-Ex.timings

nameusersystemelapsed
AA2DACOR0.0010.0000.002
AA3DMoRSE0.0010.0000.001
AAACF0.0000.0000.001
AABLOSUM1000.0000.0000.001
AABLOSUM450.0010.0000.000
AABLOSUM500.0000.0000.001
AABLOSUM620.0010.0010.001
AABLOSUM800.0000.0000.001
AABurden000
AACPSA0.0010.0000.000
AAConn0.0000.0000.001
AAConst0.0010.0000.001
AADescAll0.0000.0000.001
AAEdgeAdj0.0010.0000.000
AAEigIdx0.0000.0000.001
AAFGC0.0010.0000.001
AAGETAWAY0.0010.0000.001
AAGeom0.0000.0000.001
AAInfo000
AAMOE2D0.0010.0000.000
AAMOE3D0.0010.0000.001
AAMetaInfo0.0010.0000.001
AAMolProp0.0000.0000.001
AAPAM1200.0010.0000.000
AAPAM2500.0010.0000.000
AAPAM300.0010.0000.001
AAPAM400.0000.0010.001
AAPAM700.0000.0000.001
AARDF0.0000.0000.001
AARandic0.0010.0000.000
AATopo0.0000.0000.001
AATopoChg0.0000.0010.001
AAWHIM0.0000.0010.001
AAWalk0.0010.0010.001
AAindex0.0010.0000.000
OptAA3d000
acc0.0050.0060.011
calcDrugFPSim000
calcDrugMCSSim0.0030.0050.009
calcParProtGOSim000
calcParProtSeqSim0.0060.0000.007
calcTwoProtGOSim0.0010.0000.001
calcTwoProtSeqSim0.0030.0000.003
checkProt0.0010.0010.002
convMolFormat0.0010.0000.002
extractDrugAIO0.0010.0000.001
extractDrugALOGP0.0010.0000.001
extractDrugAminoAcidCount0.0010.0010.001
extractDrugApol0.0000.0010.002
extractDrugAromaticAtomsCount0.0020.0000.002
extractDrugAromaticBondsCount0.0010.0010.002
extractDrugAtomCount0.0020.0000.002
extractDrugAutocorrelationCharge0.0020.0000.002
extractDrugAutocorrelationMass0.0020.0000.002
extractDrugAutocorrelationPolarizability0.0000.0010.001
extractDrugBCUT0.0020.0000.002
extractDrugBPol0.0020.0000.002
extractDrugBondCount0.0010.0010.002
extractDrugCPSA0.0020.0000.002
extractDrugCarbonTypes0.0020.0000.002
extractDrugChiChain0.0000.0020.001
extractDrugChiCluster0.0010.0000.001
extractDrugChiPath0.0010.0000.001
extractDrugChiPathCluster0.0010.0000.001
extractDrugDescOB0.0210.0110.032
extractDrugECI0.0010.0010.002
extractDrugEstate0.0020.0000.001
extractDrugEstateComplete0.0010.0000.001
extractDrugExtended0.0010.0000.002
extractDrugExtendedComplete0.0010.0000.002
extractDrugFMF0.0010.0000.001
extractDrugFragmentComplexity0.0010.0000.001
extractDrugGraph0.0010.0000.001
extractDrugGraphComplete0.0000.0010.001
extractDrugGravitationalIndex0.0010.0000.001
extractDrugHBondAcceptorCount0.0010.0000.001
extractDrugHBondDonorCount0.0010.0000.001
extractDrugHybridization0.0000.0000.001
extractDrugHybridizationComplete0.0010.0000.000
extractDrugHybridizationRatio0.0000.0000.001
extractDrugIPMolecularLearning0.0010.0000.001
extractDrugKR0.0010.0000.001
extractDrugKRComplete0.0010.0000.000
extractDrugKappaShapeIndices0.0000.0000.001
extractDrugKierHallSmarts0.0000.0000.001
extractDrugLargestChain0.0010.0010.001
extractDrugLargestPiSystem0.0010.0000.000
extractDrugLengthOverBreadth0.0010.0000.000
extractDrugLongestAliphaticChain0.0000.0000.001
extractDrugMACCS0.0010.0000.001
extractDrugMACCSComplete0.0010.0000.001
extractDrugMDE0.0010.0000.000
extractDrugMannholdLogP0.0010.0000.001
extractDrugMomentOfInertia0.0010.0000.001
extractDrugOBFP20.0030.0070.010
extractDrugOBFP30.0050.0050.010
extractDrugOBFP40.0750.0090.084
extractDrugOBMACCS0.0040.0060.011
extractDrugPetitjeanNumber0.0010.0000.001
extractDrugPetitjeanShapeIndex0.0010.0000.001
extractDrugPubChem0.0010.0000.001
extractDrugPubChemComplete0.0010.0000.001
extractDrugRotatableBondsCount0.0000.0010.001
extractDrugRuleOfFive0.0000.0010.001
extractDrugShortestPath0.0010.0010.001
extractDrugShortestPathComplete0.0010.0000.000
extractDrugStandard0.0000.0010.001
extractDrugStandardComplete0.0010.0000.001
extractDrugTPSA0.0010.0000.001
extractDrugVABC0.0010.0000.000
extractDrugVAdjMa0.0000.0000.001
extractDrugWHIM0.0000.0000.001
extractDrugWeight0.0010.0000.001
extractDrugWeightedPath0.0010.0000.000
extractDrugWienerNumbers0.0000.0010.001
extractDrugXLogP0.0000.0000.001
extractDrugZagrebIndex0.0010.0010.001
extractPCMBLOSUM0.0080.0010.008
extractPCMDescScales0.0100.0000.009
extractPCMFAScales0.0160.0040.021
extractPCMMDSScales0.0080.0010.009
extractPCMPropScales0.0090.0000.010
extractPCMScales0.0130.0000.014
extractProtAAC0.0020.0000.003
extractProtAPAAC0.6780.0240.702
extractProtCTDC0.0020.0010.003
extractProtCTDD0.0050.0010.005
extractProtCTDT0.0050.0000.005
extractProtCTriad0.0680.0130.081
extractProtDC0.0030.0050.008
extractProtGeary0.0890.0090.098
extractProtMoran0.0890.0100.099
extractProtMoreauBroto0.0940.0070.101
extractProtPAAC0.3250.0030.328
extractProtPSSM0.0010.0000.001
extractProtPSSMAcc0.0000.0010.001
extractProtPSSMFeature0.0000.0010.001
extractProtQSO0.5980.0020.602
extractProtSOCN0.5790.0020.581
extractProtTC0.0260.0930.119
getCPI0.0020.0020.003
getDrug000
getFASTAFromKEGG000
getFASTAFromUniProt000
getMolFromCAS000
getMolFromChEMBL0.0000.0010.001
getMolFromDrugBank0.0010.0000.000
getMolFromKEGG000
getMolFromPubChem000
getPDBFromRCSBPDB000
getPPI0.0020.0020.005
getProt000
getSeqFromKEGG000
getSeqFromRCSBPDB0.0000.0000.001
getSeqFromUniProt000
getSmiFromChEMBL000
getSmiFromDrugBank0.0000.0010.001
getSmiFromKEGG0.0010.0000.000
getSmiFromPubChem000
readFASTA0.0010.0000.001
readMolFromSDF0.0020.0000.002
readMolFromSmi0.0010.0000.000
readPDB0.6660.0030.670
searchDrug0.0010.0000.001
segProt0.0020.0010.003