Back to Multiple platform build/check report for BioC 3.21:   simplified   long
ABCDEFGHIJKL[M]NOPQRSTUVWXYZ

This page was generated on 2025-10-16 11:38 -0400 (Thu, 16 Oct 2025).

HostnameOSArch (*)R versionInstalled pkgs
nebbiolo1Linux (Ubuntu 24.04.3 LTS)x86_644.5.1 (2025-06-13) -- "Great Square Root" 4833
merida1macOS 12.7.6 Montereyx86_644.5.1 RC (2025-06-05 r88288) -- "Great Square Root" 4614
kjohnson1macOS 13.7.5 Venturaarm644.5.1 Patched (2025-06-14 r88325) -- "Great Square Root" 4555
kunpeng2Linux (openEuler 24.03 LTS)aarch64R Under development (unstable) (2025-02-19 r87757) -- "Unsuffered Consequences" 4586
Click on any hostname to see more info about the system (e.g. compilers)      (*) as reported by 'uname -p', except on Windows and Mac OS X

Package 1412/2341HostnameOS / ArchINSTALLBUILDCHECKBUILD BIN
MutationalPatterns 3.18.0  (landing page)
Mark van Roosmalen
Snapshot Date: 2025-10-13 13:40 -0400 (Mon, 13 Oct 2025)
git_url: https://git.bioconductor.org/packages/MutationalPatterns
git_branch: RELEASE_3_21
git_last_commit: d19e340
git_last_commit_date: 2025-04-15 11:06:23 -0400 (Tue, 15 Apr 2025)
nebbiolo1Linux (Ubuntu 24.04.3 LTS) / x86_64  OK    OK    OK  UNNEEDED, same version is already published
merida1macOS 12.7.6 Monterey / x86_64  OK    ERROR  skippedskipped
kjohnson1macOS 13.7.5 Ventura / arm64  OK    ERROR  skippedskipped
kunpeng2Linux (openEuler 24.03 LTS) / aarch64  OK    OK    OK  


CHECK results for MutationalPatterns on nebbiolo1

To the developers/maintainers of the MutationalPatterns package:
- Allow up to 24 hours (and sometimes 48 hours) for your latest push to git@git.bioconductor.org:packages/MutationalPatterns.git to reflect on this report. See Troubleshooting Build Report for more information.
- Use the following Renviron settings to reproduce errors and warnings.
- If 'R CMD check' started to fail recently on the Linux builder(s) over a missing dependency, add the missing dependency to 'Suggests:' in your DESCRIPTION file. See Renviron.bioc for more information.

raw results


Summary

Package: MutationalPatterns
Version: 3.18.0
Command: /home/biocbuild/bbs-3.21-bioc/R/bin/R CMD check --install=check:MutationalPatterns.install-out.txt --library=/home/biocbuild/bbs-3.21-bioc/R/site-library --timings MutationalPatterns_3.18.0.tar.gz
StartedAt: 2025-10-16 01:34:34 -0400 (Thu, 16 Oct 2025)
EndedAt: 2025-10-16 01:54:46 -0400 (Thu, 16 Oct 2025)
EllapsedTime: 1211.9 seconds
RetCode: 0
Status:   OK  
CheckDir: MutationalPatterns.Rcheck
Warnings: 0

Command output

##############################################################################
##############################################################################
###
### Running command:
###
###   /home/biocbuild/bbs-3.21-bioc/R/bin/R CMD check --install=check:MutationalPatterns.install-out.txt --library=/home/biocbuild/bbs-3.21-bioc/R/site-library --timings MutationalPatterns_3.18.0.tar.gz
###
##############################################################################
##############################################################################


* using log directory ‘/home/biocbuild/bbs-3.21-bioc/meat/MutationalPatterns.Rcheck’
* using R version 4.5.1 (2025-06-13)
* using platform: x86_64-pc-linux-gnu
* R was compiled by
    gcc (Ubuntu 13.3.0-6ubuntu2~24.04) 13.3.0
    GNU Fortran (Ubuntu 13.3.0-6ubuntu2~24.04) 13.3.0
* running under: Ubuntu 24.04.3 LTS
* using session charset: UTF-8
* checking for file ‘MutationalPatterns/DESCRIPTION’ ... OK
* checking extension type ... Package
* this is package ‘MutationalPatterns’ version ‘3.18.0’
* package encoding: UTF-8
* checking package namespace information ... OK
* checking package dependencies ... OK
* checking if this is a source package ... OK
* checking if there is a namespace ... OK
* checking for hidden files and directories ... OK
* checking for portable file names ... OK
* checking for sufficient/correct file permissions ... OK
* checking whether package ‘MutationalPatterns’ can be installed ... OK
* checking installed package size ... OK
* checking package directory ... OK
* checking ‘build’ directory ... OK
* checking DESCRIPTION meta-information ... NOTE
License stub is invalid DCF.
* checking top-level files ... OK
* checking for left-over files ... OK
* checking index information ... OK
* checking package subdirectories ... OK
* checking code files for non-ASCII characters ... OK
* checking R files for syntax errors ... OK
* checking whether the package can be loaded ... OK
* checking whether the package can be loaded with stated dependencies ... OK
* checking whether the package can be unloaded cleanly ... OK
* checking whether the namespace can be loaded with stated dependencies ... OK
* checking whether the namespace can be unloaded cleanly ... OK
* checking loading without being on the library search path ... OK
* checking dependencies in R code ... OK
* checking S3 generic/method consistency ... OK
* checking replacement functions ... OK
* checking foreign function calls ... OK
* checking R code for possible problems ... OK
* checking Rd files ... OK
* checking Rd metadata ... OK
* checking Rd cross-references ... OK
* checking for missing documentation entries ... OK
* checking for code/documentation mismatches ... OK
* checking Rd \usage sections ... OK
* checking Rd contents ... OK
* checking for unstated dependencies in examples ... OK
* checking files in ‘vignettes’ ... OK
* checking examples ... OK
Examples with CPU (user + system) or elapsed time > 5s
                                    user system elapsed
read_vcfs_as_granges              21.413  3.957  29.408
context_potential_damage_analysis 20.563  0.687  21.254
plot_lesion_segregation           16.090  0.097  16.188
get_mut_type                      10.974  0.007  10.981
genomic_distribution              10.598  0.272  10.876
calculate_lesion_segregation      10.356  0.383  10.739
plot_compare_indels               10.599  0.026  10.625
bin_mutation_density               9.536  0.824  10.361
plot_indel_contexts                9.568  0.057   9.625
get_indel_context                  6.374  0.923   7.298
plot_compare_dbs                   7.086  0.093   7.179
fit_to_signatures_bootstrapped     6.999  0.086   7.086
plot_dbs_contexts                  6.187  0.105   6.292
plot_spectrum_region               5.877  0.155   6.033
plot_spectrum                      5.673  0.226   5.903
plot_profile_heatmap               5.642  0.069   5.710
split_muts_region                  5.531  0.173   5.704
plot_river                         5.278  0.003   5.282
* checking for unstated dependencies in ‘tests’ ... OK
* checking tests ...
  Running ‘testthat.R’
 OK
* checking for unstated dependencies in vignettes ... OK
* checking package vignettes ... OK
* checking re-building of vignette outputs ... OK
* checking PDF version of manual ... OK
* DONE

Status: 1 NOTE
See
  ‘/home/biocbuild/bbs-3.21-bioc/meat/MutationalPatterns.Rcheck/00check.log’
for details.


Installation output

MutationalPatterns.Rcheck/00install.out

##############################################################################
##############################################################################
###
### Running command:
###
###   /home/biocbuild/bbs-3.21-bioc/R/bin/R CMD INSTALL MutationalPatterns
###
##############################################################################
##############################################################################


* installing to library ‘/home/biocbuild/bbs-3.21-bioc/R/site-library’
* installing *source* package ‘MutationalPatterns’ ...
** this is package ‘MutationalPatterns’ version ‘3.18.0’
** using staged installation
** R
** inst
** byte-compile and prepare package for lazy loading
** help
*** installing help indices
** building package indices
** installing vignettes
** testing if installed package can be loaded from temporary location
** testing if installed package can be loaded from final location
** testing if installed package keeps a record of temporary installation path
* DONE (MutationalPatterns)

Tests output

MutationalPatterns.Rcheck/tests/testthat.Rout


R version 4.5.1 (2025-06-13) -- "Great Square Root"
Copyright (C) 2025 The R Foundation for Statistical Computing
Platform: x86_64-pc-linux-gnu

R is free software and comes with ABSOLUTELY NO WARRANTY.
You are welcome to redistribute it under certain conditions.
Type 'license()' or 'licence()' for distribution details.

R is a collaborative project with many contributors.
Type 'contributors()' for more information and
'citation()' on how to cite R or R packages in publications.

Type 'demo()' for some demos, 'help()' for on-line help, or
'help.start()' for an HTML browser interface to help.
Type 'q()' to quit R.

> library(testthat)
> library(MutationalPatterns)
Loading required package: GenomicRanges
Loading required package: stats4
Loading required package: BiocGenerics
Loading required package: generics

Attaching package: 'generics'

The following objects are masked from 'package:base':

    as.difftime, as.factor, as.ordered, intersect, is.element, setdiff,
    setequal, union


Attaching package: 'BiocGenerics'

The following objects are masked from 'package:stats':

    IQR, mad, sd, var, xtabs

The following objects are masked from 'package:base':

    Filter, Find, Map, Position, Reduce, anyDuplicated, aperm, append,
    as.data.frame, basename, cbind, colnames, dirname, do.call,
    duplicated, eval, evalq, get, grep, grepl, is.unsorted, lapply,
    mapply, match, mget, order, paste, pmax, pmax.int, pmin, pmin.int,
    rank, rbind, rownames, sapply, saveRDS, table, tapply, unique,
    unsplit, which.max, which.min

Loading required package: S4Vectors

Attaching package: 'S4Vectors'

The following object is masked from 'package:utils':

    findMatches

The following objects are masked from 'package:base':

    I, expand.grid, unname

Loading required package: IRanges
Loading required package: GenomeInfoDb
Loading required package: NMF
Loading required package: registry
Loading required package: rngtools
Loading required package: cluster
NMF - BioConductor layer [OK] | Shared memory capabilities [NO: bigmemory] | Cores 2/2
  To enable shared memory capabilities, try: install.extras('
NMF
')

Attaching package: 'NMF'

The following object is masked from 'package:S4Vectors':

    nrun

The following object is masked from 'package:generics':

    fit

The following object is masked from 'package:testthat':

    compare

> 
> test_check("MutationalPatterns")
[ FAIL 0 | WARN 39 | SKIP 0 | PASS 474 ]

[ FAIL 0 | WARN 39 | SKIP 0 | PASS 474 ]
> 
> proc.time()
   user  system elapsed 
210.670  10.799 231.934 

Example timings

MutationalPatterns.Rcheck/MutationalPatterns-Ex.timings

nameusersystemelapsed
bin_mutation_density 9.536 0.82410.361
binomial_test0.0080.0020.009
calculate_lesion_segregation10.356 0.38310.739
cluster_signatures0.0400.0030.044
context_potential_damage_analysis20.563 0.68721.254
convert_sigs_to_ref0.0340.0040.039
cos_sim0.0010.0000.000
cos_sim_matrix0.0170.0040.021
count_dbs_contexts0.0820.0010.083
count_indel_contexts0.0900.0040.094
count_mbs_contexts0.0690.0010.070
determine_regional_similarity2.7860.4053.195
enrichment_depletion_test0.1320.0000.132
extract_signatures0.0010.0000.001
fit_to_signatures0.0910.0050.096
fit_to_signatures_bootstrapped6.9990.0867.086
fit_to_signatures_strict4.0150.0324.047
genomic_distribution10.598 0.27210.876
get_dbs_context0.2350.0060.242
get_indel_context6.3740.9237.298
get_known_signatures0.2230.4390.666
get_mut_type10.974 0.00710.981
lengthen_mut_matrix0.0080.0090.017
merge_signatures1.1470.1331.280
mut_context1.0340.1991.233
mut_matrix1.8770.2892.166
mut_matrix_stranded3.9670.4314.398
mut_strand0.9260.0090.934
mut_type0.0290.0010.030
mut_type_occurrences0.8910.1271.019
mutations_from_vcf0.0280.0000.028
plot_192_profile3.5570.0283.585
plot_96_profile2.8550.0102.865
plot_bootstrapped_contribution2.6110.0252.636
plot_compare_dbs7.0860.0937.179
plot_compare_indels10.599 0.02610.625
plot_compare_mbs1.3580.0031.361
plot_compare_profiles2.6580.0012.659
plot_contribution2.2730.0182.292
plot_contribution_heatmap2.3960.0102.407
plot_correlation_bootstrap1.7660.0061.772
plot_cosine_heatmap2.8560.0272.883
plot_dbs_contexts6.1870.1056.292
plot_enrichment_depletion4.3820.0424.425
plot_indel_contexts9.5680.0579.625
plot_lesion_segregation16.090 0.09716.188
plot_main_dbs_contexts0.7640.0040.768
plot_main_indel_contexts0.8450.0010.846
plot_mbs_contexts0.7810.0010.782
plot_original_vs_reconstructed0.8680.0020.870
plot_profile_heatmap5.6420.0695.710
plot_profile_region1.1880.0021.190
plot_rainfall2.0260.0052.030
plot_regional_similarity2.4250.0022.427
plot_river5.2780.0035.282
plot_signature_strand_bias1.0350.0011.037
plot_spectrum5.6730.2265.903
plot_spectrum_region5.8770.1556.033
plot_strand0.3510.0010.352
plot_strand_bias0.9850.0020.987
pool_mut_mat0.0480.0020.050
read_vcfs_as_granges21.413 3.95729.408
rename_nmf_signatures0.0310.0310.062
signature_potential_damage_analysis0.0900.0080.098
split_muts_region5.5310.1735.704
strand_bias_test0.1080.0020.110
strand_occurrences0.1490.0060.155
type_context1.2370.1961.434