| Back to Multiple platform build/check report for BioC 3.21: simplified long |
|
This page was generated on 2025-10-16 11:38 -0400 (Thu, 16 Oct 2025).
| Hostname | OS | Arch (*) | R version | Installed pkgs |
|---|---|---|---|---|
| nebbiolo1 | Linux (Ubuntu 24.04.3 LTS) | x86_64 | 4.5.1 (2025-06-13) -- "Great Square Root" | 4833 |
| merida1 | macOS 12.7.6 Monterey | x86_64 | 4.5.1 RC (2025-06-05 r88288) -- "Great Square Root" | 4614 |
| kjohnson1 | macOS 13.7.5 Ventura | arm64 | 4.5.1 Patched (2025-06-14 r88325) -- "Great Square Root" | 4555 |
| kunpeng2 | Linux (openEuler 24.03 LTS) | aarch64 | R Under development (unstable) (2025-02-19 r87757) -- "Unsuffered Consequences" | 4586 |
| Click on any hostname to see more info about the system (e.g. compilers) (*) as reported by 'uname -p', except on Windows and Mac OS X | ||||
| Package 1278/2341 | Hostname | OS / Arch | INSTALL | BUILD | CHECK | BUILD BIN | ||||||||
| microbiome 1.30.0 (landing page) Leo Lahti
| nebbiolo1 | Linux (Ubuntu 24.04.3 LTS) / x86_64 | OK | OK | OK | |||||||||
| merida1 | macOS 12.7.6 Monterey / x86_64 | OK | OK | OK | OK | |||||||||
| kjohnson1 | macOS 13.7.5 Ventura / arm64 | OK | OK | ERROR | OK | |||||||||
| kunpeng2 | Linux (openEuler 24.03 LTS) / aarch64 | OK | OK | OK | ||||||||||
|
To the developers/maintainers of the microbiome package: - Allow up to 24 hours (and sometimes 48 hours) for your latest push to git@git.bioconductor.org:packages/microbiome.git to reflect on this report. See Troubleshooting Build Report for more information. - Use the following Renviron settings to reproduce errors and warnings. - If 'R CMD check' started to fail recently on the Linux builder(s) over a missing dependency, add the missing dependency to 'Suggests:' in your DESCRIPTION file. See Renviron.bioc for more information. |
| Package: microbiome |
| Version: 1.30.0 |
| Command: /home/biocbuild/bbs-3.21-bioc/R/bin/R CMD check --install=check:microbiome.install-out.txt --library=/home/biocbuild/bbs-3.21-bioc/R/site-library --timings microbiome_1.30.0.tar.gz |
| StartedAt: 2025-10-16 01:01:06 -0400 (Thu, 16 Oct 2025) |
| EndedAt: 2025-10-16 01:04:36 -0400 (Thu, 16 Oct 2025) |
| EllapsedTime: 210.2 seconds |
| RetCode: 0 |
| Status: OK |
| CheckDir: microbiome.Rcheck |
| Warnings: 0 |
##############################################################################
##############################################################################
###
### Running command:
###
### /home/biocbuild/bbs-3.21-bioc/R/bin/R CMD check --install=check:microbiome.install-out.txt --library=/home/biocbuild/bbs-3.21-bioc/R/site-library --timings microbiome_1.30.0.tar.gz
###
##############################################################################
##############################################################################
* using log directory ‘/home/biocbuild/bbs-3.21-bioc/meat/microbiome.Rcheck’
* using R version 4.5.1 (2025-06-13)
* using platform: x86_64-pc-linux-gnu
* R was compiled by
gcc (Ubuntu 13.3.0-6ubuntu2~24.04) 13.3.0
GNU Fortran (Ubuntu 13.3.0-6ubuntu2~24.04) 13.3.0
* running under: Ubuntu 24.04.3 LTS
* using session charset: UTF-8
* checking for file ‘microbiome/DESCRIPTION’ ... OK
* checking extension type ... Package
* this is package ‘microbiome’ version ‘1.30.0’
* package encoding: UTF-8
* checking package namespace information ... OK
* checking package dependencies ... OK
* checking if this is a source package ... OK
* checking if there is a namespace ... OK
* checking for hidden files and directories ... OK
* checking for portable file names ... OK
* checking for sufficient/correct file permissions ... OK
* checking whether package ‘microbiome’ can be installed ... OK
* checking installed package size ... OK
* checking package directory ... OK
* checking ‘build’ directory ... OK
* checking DESCRIPTION meta-information ... OK
* checking top-level files ... OK
* checking for left-over files ... OK
* checking index information ... OK
* checking package subdirectories ... NOTE
Problems with news in ‘NEWS’:
Cannot process chunk/lines:
CHANGES IN VERSION 0.1.2
# New features
o Added plot_abundances function
o Added Chao1 index in richness function
o In atlas1006 data set, pseudocount of +1 in otu table has been
removed to facilitate comparison with sequencing data sets and to
avoid confusion
o In atlas1006 data set, only a single replicate per subject-time
combination is chosen (at random)
o New function collapse_replicates has been added
# Major changes
o Abundance matrices (otu tables) for all example data sets now
starting from 0 without pseudocount
# Minor changes
o Changed the default for the detection argument in the richness function to
detection=0
o Color order in plot_landscape legend now follows the factor levels
of the col argument
o Various minor fixes; see github commits for many more details
* checking code files for non-ASCII characters ... OK
* checking R files for syntax errors ... OK
* checking whether the package can be loaded ... OK
* checking whether the package can be loaded with stated dependencies ... OK
* checking whether the package can be unloaded cleanly ... OK
* checking whether the namespace can be loaded with stated dependencies ... OK
* checking whether the namespace can be unloaded cleanly ... OK
* checking loading without being on the library search path ... OK
* checking whether startup messages can be suppressed ... OK
* checking dependencies in R code ... OK
* checking S3 generic/method consistency ... OK
* checking replacement functions ... OK
* checking foreign function calls ... OK
* checking R code for possible problems ... OK
* checking Rd files ... NOTE
checkRd: (-1) bimodality.Rd:51-52: Lost braces in \itemize; meant \describe ?
checkRd: (-1) bimodality.Rd:53-54: Lost braces in \itemize; meant \describe ?
checkRd: (-1) bimodality.Rd:55-58: Lost braces in \itemize; meant \describe ?
checkRd: (-1) bimodality.Rd:38-39: Lost braces in \itemize; \value handles \item{}{} directly
checkRd: (-1) bimodality.Rd:40-41: Lost braces in \itemize; \value handles \item{}{} directly
checkRd: (-1) bimodality.Rd:42-43: Lost braces in \itemize; \value handles \item{}{} directly
checkRd: (-1) bimodality.Rd:91-93: Lost braces in \itemize; meant \describe ?
checkRd: (-1) bimodality.Rd:94-95: Lost braces in \itemize; meant \describe ?
checkRd: (-1) bimodality.Rd:96: Lost braces in \itemize; meant \describe ?
checkRd: (-1) bimodality.Rd:97: Lost braces in \itemize; meant \describe ?
checkRd: (-1) bimodality.Rd:98: Lost braces in \itemize; meant \describe ?
checkRd: (-1) bimodality.Rd:99: Lost braces in \itemize; meant \describe ?
checkRd: (-1) bimodality_sarle.Rd:45: Lost braces in \itemize; meant \describe ?
checkRd: (-1) bimodality_sarle.Rd:46: Lost braces in \itemize; meant \describe ?
checkRd: (-1) bimodality_sarle.Rd:47: Lost braces in \itemize; meant \describe ?
checkRd: (-1) bimodality_sarle.Rd:48: Lost braces in \itemize; meant \describe ?
checkRd: (-1) diversity.Rd:28-29: Lost braces in \itemize; meant \describe ?
checkRd: (-1) diversity.Rd:30-32: Lost braces in \itemize; meant \describe ?
checkRd: (-1) diversity.Rd:33: Lost braces in \itemize; meant \describe ?
checkRd: (-1) diversity.Rd:34: Lost braces in \itemize; meant \describe ?
checkRd: (-1) diversity.Rd:35-36: Lost braces in \itemize; meant \describe ?
checkRd: (-1) dominance.Rd:39-43: Lost braces in \itemize; meant \describe ?
checkRd: (-1) dominance.Rd:44-45: Lost braces in \itemize; meant \describe ?
checkRd: (-1) dominance.Rd:46-48: Lost braces in \itemize; meant \describe ?
checkRd: (-1) dominance.Rd:49-51: Lost braces in \itemize; meant \describe ?
checkRd: (-1) dominance.Rd:52-58: Lost braces in \itemize; meant \describe ?
checkRd: (-1) dominance.Rd:59-60: Lost braces in \itemize; meant \describe ?
checkRd: (-1) dominance.Rd:61-62: Lost braces in \itemize; meant \describe ?
checkRd: (-1) multimodality.Rd:33-34: Lost braces in \itemize; \value handles \item{}{} directly
checkRd: (-1) multimodality.Rd:35-36: Lost braces in \itemize; \value handles \item{}{} directly
checkRd: (-1) multimodality.Rd:37-38: Lost braces in \itemize; \value handles \item{}{} directly
checkRd: (-1) multimodality.Rd:55-57: Lost braces in \itemize; meant \describe ?
checkRd: (-1) multimodality.Rd:58-59: Lost braces in \itemize; meant \describe ?
checkRd: (-1) potential_analysis.Rd:30-31: Lost braces in \itemize; \value handles \item{}{} directly
checkRd: (-1) potential_analysis.Rd:32-33: Lost braces in \itemize; \value handles \item{}{} directly
checkRd: (-1) potential_analysis.Rd:34-35: Lost braces in \itemize; \value handles \item{}{} directly
checkRd: (-1) potential_analysis.Rd:36-37: Lost braces in \itemize; \value handles \item{}{} directly
checkRd: (-1) potential_analysis.Rd:38: Lost braces in \itemize; \value handles \item{}{} directly
checkRd: (-1) potential_analysis.Rd:61-63: Lost braces in \itemize; meant \describe ?
checkRd: (-1) potential_analysis.Rd:64-65: Lost braces in \itemize; meant \describe ?
checkRd: (-1) potential_univariate.Rd:50: Lost braces in \itemize; \value handles \item{}{} directly
checkRd: (-1) potential_univariate.Rd:51-52: Lost braces in \itemize; \value handles \item{}{} directly
checkRd: (-1) potential_univariate.Rd:53: Lost braces in \itemize; \value handles \item{}{} directly
checkRd: (-1) potential_univariate.Rd:54-55: Lost braces in \itemize; \value handles \item{}{} directly
checkRd: (-1) potential_univariate.Rd:56-57: Lost braces in \itemize; \value handles \item{}{} directly
checkRd: (-1) potential_univariate.Rd:58: Lost braces in \itemize; \value handles \item{}{} directly
checkRd: (-1) potential_univariate.Rd:59-60: Lost braces in \itemize; \value handles \item{}{} directly
checkRd: (-1) potential_univariate.Rd:61-62: Lost braces in \itemize; \value handles \item{}{} directly
checkRd: (-1) potential_univariate.Rd:73-75: Lost braces in \itemize; meant \describe ?
checkRd: (-1) potential_univariate.Rd:76-78: Lost braces in \itemize; meant \describe ?
checkRd: (-1) rarity.Rd:35-41: Lost braces in \itemize; meant \describe ?
checkRd: (-1) rarity.Rd:42-44: Lost braces in \itemize; meant \describe ?
checkRd: (-1) rarity.Rd:45-48: Lost braces in \itemize; meant \describe ?
* checking Rd metadata ... OK
* checking Rd cross-references ... NOTE
Found the following Rd file(s) with Rd \link{} targets missing package
anchors:
TibbleUtilites.Rd: phyloseq-class
abundances.Rd: phyloseq-class
add_besthit.Rd: phyloseq-class
add_refseq.Rd: phyloseq-class
aggregate_rare.Rd: phyloseq-class
aggregate_taxa.Rd: phyloseq-class
alpha.Rd: phyloseq-class, estimate_richness
atlas1006.Rd: phyloseq-class
baseline.Rd: phyloseq
boxplot_abundance.Rd: phyloseq-class, ggplot
boxplot_alpha.Rd: phyloseq-class, ggplot
collapse_replicates.Rd: phyloseq-class
core.Rd: phyloseq-class
core_abundance.Rd: phyloseq-class
core_matrix.Rd: phyloseq
core_members.Rd: phyloseq-class
coverage.Rd: phyloseq-class
dietswap.Rd: phyloseq-class
diversity.Rd: phyloseq-class
dominance.Rd: phyloseq-class
dominant.Rd: phyloseq-class
evenness.Rd: phyloseq-class
hotplot.Rd: phyloseq-class, ggplot
inequality.Rd: phyloseq-class
is_compositional.Rd: phyloseq-class
low_abundance.Rd: phyloseq-class
map_levels.Rd: phyloseq, taxonomyTable-class
merge_taxa2.Rd: phyloseq-class
meta.Rd: sample_data
neat.Rd: vegdist
neatsort.Rd: phyloseq-class, ordinate
overlap.Rd: phyloseq-class
peerj32.Rd: phyloseq-class
plot_composition.Rd: phyloseq-class, ggplot
plot_core.Rd: phyloseq
plot_density.Rd: phyloseq-class, ggplot
plot_frequencies.Rd: ggplot
plot_landscape.Rd: phyloseq-class, ggplot
plot_taxa_prevalence.Rd: phyloseq-class, ggplot
plot_tipping.Rd: phyloseq-class, ggplot
prevalence.Rd: phyloseq
psmelt2.Rd: phyloseq-class
rare.Rd: phyloseq-class
rare_abundance.Rd: phyloseq-class
rare_members.Rd: phyloseq-class
rarity.Rd: phyloseq-class
read_biom2phyloseq.Rd: phyloseq-class
read_csv2phyloseq.Rd: phyloseq-class
read_mothur2phyloseq.Rd: phyloseq-class
read_phyloseq.Rd: phyloseq-class
readcount.Rd: phyloseq-class
remove_samples.Rd: phyloseq-class
remove_taxa.Rd: phyloseq-class
richness.Rd: phyloseq-class
spreadplot.Rd: phyloseq-class
summarize_phyloseq.Rd: phyloseq-class
taxa.Rd: phyloseq-class
transform.Rd: phyloseq-class, phyloseq
Please provide package anchors for all Rd \link{} targets not in the
package itself and the base packages.
* checking for missing documentation entries ... OK
* checking for code/documentation mismatches ... OK
* checking Rd \usage sections ... OK
* checking Rd contents ... OK
* checking for unstated dependencies in examples ... OK
* checking contents of ‘data’ directory ... OK
* checking data for non-ASCII characters ... OK
* checking data for ASCII and uncompressed saves ... OK
* checking files in ‘vignettes’ ... OK
* checking examples ... OK
Examples with CPU (user + system) or elapsed time > 5s
user system elapsed
overlap 15.068 0.145 15.213
* checking for unstated dependencies in ‘tests’ ... OK
* checking tests ...
Running ‘testthat.R’
OK
* checking for unstated dependencies in vignettes ... OK
* checking package vignettes ... OK
* checking re-building of vignette outputs ... OK
* checking PDF version of manual ... OK
* DONE
Status: 3 NOTEs
See
‘/home/biocbuild/bbs-3.21-bioc/meat/microbiome.Rcheck/00check.log’
for details.
microbiome.Rcheck/00install.out
############################################################################## ############################################################################## ### ### Running command: ### ### /home/biocbuild/bbs-3.21-bioc/R/bin/R CMD INSTALL microbiome ### ############################################################################## ############################################################################## * installing to library ‘/home/biocbuild/bbs-3.21-bioc/R/site-library’ * installing *source* package ‘microbiome’ ... ** this is package ‘microbiome’ version ‘1.30.0’ ** using staged installation ** R ** data ** inst ** byte-compile and prepare package for lazy loading ** help *** installing help indices ** building package indices ** installing vignettes ** testing if installed package can be loaded from temporary location ** testing if installed package can be loaded from final location ** testing if installed package keeps a record of temporary installation path * DONE (microbiome)
microbiome.Rcheck/tests/testthat.Rout
R version 4.5.1 (2025-06-13) -- "Great Square Root"
Copyright (C) 2025 The R Foundation for Statistical Computing
Platform: x86_64-pc-linux-gnu
R is free software and comes with ABSOLUTELY NO WARRANTY.
You are welcome to redistribute it under certain conditions.
Type 'license()' or 'licence()' for distribution details.
R is a collaborative project with many contributors.
Type 'contributors()' for more information and
'citation()' on how to cite R or R packages in publications.
Type 'demo()' for some demos, 'help()' for on-line help, or
'help.start()' for an HTML browser interface to help.
Type 'q()' to quit R.
> library(testthat)
> test_check("microbiome")
Loading required package: microbiome
Loading required package: phyloseq
Loading required package: ggplot2
microbiome R package (microbiome.github.com)
Copyright (C) 2011-2022 Leo Lahti,
Sudarshan Shetty et al. <microbiome.github.io>
Attaching package: 'microbiome'
The following object is masked from 'package:ggplot2':
alpha
The following object is masked from 'package:base':
transform
[ FAIL 0 | WARN 3 | SKIP 1 | PASS 83 ]
══ Skipped tests (1) ═══════════════════════════════════════════════════════════
• On Bioconductor (1): 'test_divergence.R:5:3'
[ FAIL 0 | WARN 3 | SKIP 1 | PASS 83 ]
>
> proc.time()
user system elapsed
11.270 0.571 11.832
microbiome.Rcheck/microbiome-Ex.timings
| name | user | system | elapsed | |
| TibbleUtilites | 0.158 | 0.030 | 0.188 | |
| abundances | 0.005 | 0.002 | 0.008 | |
| add_besthit | 0.000 | 0.000 | 0.001 | |
| add_refseq | 0.000 | 0.000 | 0.001 | |
| aggregate_rare | 0.295 | 0.020 | 0.317 | |
| aggregate_taxa | 0.092 | 0.000 | 0.092 | |
| alpha | 0.012 | 0.000 | 0.012 | |
| associate | 0.034 | 0.000 | 0.035 | |
| baseline | 0.034 | 0.002 | 0.038 | |
| bimodality | 0.000 | 0.002 | 0.001 | |
| bimodality_sarle | 0 | 0 | 0 | |
| boxplot_abundance | 0.231 | 0.003 | 0.234 | |
| boxplot_alpha | 0.588 | 0.016 | 0.604 | |
| chunk_reorder | 0.000 | 0.000 | 0.001 | |
| cmat2table | 0.061 | 0.010 | 0.071 | |
| collapse_replicates | 0.045 | 0.003 | 0.048 | |
| core | 0.684 | 0.052 | 0.737 | |
| core_abundance | 0.030 | 0.000 | 0.031 | |
| core_matrix | 0.000 | 0.001 | 0.000 | |
| core_members | 0.007 | 0.001 | 0.009 | |
| coverage | 0.025 | 0.001 | 0.026 | |
| default_colors | 0.000 | 0.000 | 0.001 | |
| densityplot | 0 | 0 | 0 | |
| divergence | 0.424 | 0.002 | 0.426 | |
| diversity | 0.009 | 0.002 | 0.011 | |
| dominance | 0.007 | 0.002 | 0.010 | |
| dominant | 0.007 | 0.002 | 0.009 | |
| estimate_stability | 0 | 0 | 0 | |
| evenness | 0.008 | 0.000 | 0.007 | |
| find_optima | 0.001 | 0.000 | 0.001 | |
| gktau | 0.010 | 0.002 | 0.012 | |
| group_age | 0.019 | 0.004 | 0.023 | |
| group_bmi | 0.000 | 0.001 | 0.000 | |
| heat | 0.056 | 0.002 | 0.059 | |
| hotplot | 0.17 | 0.02 | 0.19 | |
| inequality | 0.017 | 0.007 | 0.024 | |
| intermediate_stability | 0.379 | 0.006 | 0.385 | |
| is_compositional | 0.053 | 0.000 | 0.053 | |
| log_modulo_skewness | 0.094 | 0.000 | 0.093 | |
| low_abundance | 0.012 | 0.001 | 0.012 | |
| map_levels | 0.04 | 0.00 | 0.04 | |
| merge_taxa2 | 0.022 | 0.001 | 0.023 | |
| meta | 0.006 | 0.000 | 0.006 | |
| microbiome-package | 0.008 | 0.001 | 0.009 | |
| multimodality | 0 | 0 | 0 | |
| neat | 0.066 | 0.001 | 0.067 | |
| neatsort | 0.101 | 0.002 | 0.103 | |
| overlap | 15.068 | 0.145 | 15.213 | |
| plot_atlas | 0.074 | 0.003 | 0.077 | |
| plot_composition | 0.213 | 0.012 | 0.226 | |
| plot_core | 0.093 | 0.006 | 0.099 | |
| plot_density | 0.046 | 0.002 | 0.048 | |
| plot_frequencies | 0.028 | 0.001 | 0.030 | |
| plot_landscape | 0.868 | 0.010 | 0.878 | |
| plot_regression | 0.189 | 0.014 | 0.203 | |
| plot_taxa_prevalence | 0.520 | 0.032 | 0.551 | |
| plot_tipping | 0.124 | 0.006 | 0.130 | |
| potential_analysis | 0.038 | 0.000 | 0.038 | |
| potential_univariate | 0 | 0 | 0 | |
| prevalence | 0.011 | 0.001 | 0.012 | |
| psmelt2 | 0.089 | 0.005 | 0.094 | |
| quiet | 0.000 | 0.000 | 0.001 | |
| rare | 0.019 | 0.000 | 0.019 | |
| rare_abundance | 0.03 | 0.00 | 0.03 | |
| rare_members | 0.008 | 0.000 | 0.009 | |
| rarity | 0.063 | 0.000 | 0.063 | |
| read_biom2phyloseq | 0 | 0 | 0 | |
| read_csv2phyloseq | 0 | 0 | 0 | |
| read_mothur2phyloseq | 0.001 | 0.000 | 0.000 | |
| read_phyloseq | 0 | 0 | 0 | |
| readcount | 0.005 | 0.002 | 0.008 | |
| remove_samples | 0.014 | 0.000 | 0.015 | |
| remove_taxa | 0.016 | 0.000 | 0.016 | |
| richness | 0.010 | 0.000 | 0.009 | |
| spreadplot | 0.062 | 0.002 | 0.063 | |
| summarize_phyloseq | 0.016 | 0.000 | 0.015 | |
| taxa | 0.006 | 0.000 | 0.006 | |
| time_normalize | 0.031 | 0.000 | 0.030 | |
| time_sort | 0.112 | 0.002 | 0.114 | |
| timesplit | 0.090 | 0.003 | 0.094 | |
| top | 0.007 | 0.000 | 0.008 | |
| top_taxa | 0.008 | 0.000 | 0.007 | |
| transform | 0.290 | 0.018 | 0.308 | |
| ztransform | 0.000 | 0.000 | 0.001 | |