Back to Build/check report for BioC 3.23:   simplified   long
A[B]CDEFGHIJKLMNOPQRSTUVWXYZ

This page was generated on 2025-10-31 08:33 -0400 (Fri, 31 Oct 2025).

HostnameOSArch (*)R versionInstalled pkgs
nebbiolo1Linux (Ubuntu 24.04.3 LTS)x86_64R Under development (unstable) (2025-10-20 r88955) -- "Unsuffered Consequences" 4428
Click on any hostname to see more info about the system (e.g. compilers)      (*) as reported by 'uname -p', except on Windows and Mac OS X

All results for package BiocFileCache


To the developers/maintainers of the BiocFileCache package:
- Allow up to 24 hours (and sometimes 48 hours) for your latest push to git@git.bioconductor.org:packages/BiocFileCache.git to reflect on this report. See Troubleshooting Build Report for more information.
- Use the following Renviron settings to reproduce errors and warnings.
- If 'R CMD check' started to fail recently on the Linux builder(s) over a missing dependency, add the missing dependency to 'Suggests:' in your DESCRIPTION file. See Renviron.bioc for more information.

raw results

Package 187/2321HostnameOS / ArchINSTALLBUILDCHECKBUILD BIN
BiocFileCache 3.1.0  (landing page)
Lori Shepherd
Snapshot Date: 2025-10-30 13:40 -0400 (Thu, 30 Oct 2025)
git_url: https://git.bioconductor.org/packages/BiocFileCache
git_branch: devel
git_last_commit: c4f8ba6
git_last_commit_date: 2025-10-29 10:37:29 -0400 (Wed, 29 Oct 2025)
nebbiolo1Linux (Ubuntu 24.04.3 LTS) / x86_64  OK    OK    OK  YES



Results for Bioconductor software packages that depend directly on package BiocFileCache

QUICK STATSOS / ArchINSTALLBUILDCHECKBUILD BIN
nebbiolo1Linux (Ubuntu 24.04.3 LTS) / x86_64
0475
02158
014539
Package 1/79HostnameOS / ArchINSTALLBUILDCHECKBUILD BIN
AlphaMissenseR 1.7.0  (landing page)
Martin Morgan
git_last_commit: 3b50759
git_last_commit_date: 2025-10-29 11:27:01 -0400
nebbiolo1Linux (Ubuntu 24.04.3 LTS) / x86_64  OK    OK    OK  YES
Package 2/79HostnameOS / ArchINSTALLBUILDCHECKBUILD BIN
AMARETTO 1.27.0  (landing page)
Olivier Gevaert
git_last_commit: 87c41a4
git_last_commit_date: 2025-10-29 10:50:47 -0400
nebbiolo1Linux (Ubuntu 24.04.3 LTS) / x86_64  OK    OK    WARNINGS  NO, package depends on 'ComplexHeatmap' which is not available
Package 3/79HostnameOS / ArchINSTALLBUILDCHECKBUILD BIN
AnnotationHub 4.1.0  (landing page)
Bioconductor Package Maintainer
git_last_commit: 027c4b7
git_last_commit_date: 2025-10-29 10:14:23 -0400
nebbiolo1Linux (Ubuntu 24.04.3 LTS) / x86_64  OK    OK    OK  NO, package depends on 'AnnotationDbi' which is not available
Package 4/79HostnameOS / ArchINSTALLBUILDCHECKBUILD BIN
atSNP 1.27.0  (landing page)
Sunyoung Shin
git_last_commit: 0b80e8a
git_last_commit_date: 2025-10-29 10:50:02 -0400
nebbiolo1Linux (Ubuntu 24.04.3 LTS) / x86_64  OK    OK    OK  NO, package depends on 'BSgenome' which is not available
Package 5/79HostnameOS / ArchINSTALLBUILDCHECKBUILD BIN
autonomics 1.19.0  (landing page)
Aditya Bhagwat
git_last_commit: 9fc1276
git_last_commit_date: 2025-10-29 11:06:51 -0400
nebbiolo1Linux (Ubuntu 24.04.3 LTS) / x86_64  OK    OK    ERROR  
Package 6/79HostnameOS / ArchINSTALLBUILDCHECKBUILD BIN
BayesSpace 1.21.0  (landing page)
Senbai Kang
git_last_commit: 47c1795
git_last_commit_date: 2025-10-29 11:03:05 -0400
nebbiolo1Linux (Ubuntu 24.04.3 LTS) / x86_64  OK    OK    OK  NO, package depends on 'SingleCellExperiment' which is not available
Package 7/79HostnameOS / ArchINSTALLBUILDCHECKBUILD BIN
bedbaser 1.3.0  (landing page)
Andres Wokaty
git_last_commit: c5c189a
git_last_commit_date: 2025-10-29 11:34:32 -0400
nebbiolo1Linux (Ubuntu 24.04.3 LTS) / x86_64  OK    ERROR  skipped
Package 8/79HostnameOS / ArchINSTALLBUILDCHECKBUILD BIN
BiocCheck 1.47.0  (landing page)
Marcel Ramos
git_last_commit: 09886ed
git_last_commit_date: 2025-10-29 19:20:08 -0400
nebbiolo1Linux (Ubuntu 24.04.3 LTS) / x86_64  OK    OK    ERROR  
Package 9/79HostnameOS / ArchINSTALLBUILDCHECKBUILD BIN
BiocHail 1.11.0  (landing page)
Vincent Carey
git_last_commit: 87779e5
git_last_commit_date: 2025-10-29 11:23:05 -0400
nebbiolo1Linux (Ubuntu 24.04.3 LTS) / x86_64  OK    OK    OK  YES
Package 10/79HostnameOS / ArchINSTALLBUILDCHECKBUILD BIN
BiocPkgTools 1.29.0  (landing page)
Sean Davis
git_last_commit: a2f816c
git_last_commit_date: 2025-10-29 10:47:30 -0400
nebbiolo1Linux (Ubuntu 24.04.3 LTS) / x86_64  OK    ERROR  skipped
Package 11/79HostnameOS / ArchINSTALLBUILDCHECKBUILD BIN
biomaRt 2.67.0  (landing page)
Hugo Gruson
git_last_commit: 1c6179c
git_last_commit_date: 2025-10-29 09:56:01 -0400
nebbiolo1Linux (Ubuntu 24.04.3 LTS) / x86_64  OK    OK    OK  NO, package depends on 'AnnotationDbi' which is not available
Package 12/79HostnameOS / ArchINSTALLBUILDCHECKBUILD BIN
brendaDb 1.25.0  (landing page)
Yi Zhou
git_last_commit: 171bc74
git_last_commit_date: 2025-10-29 10:53:47 -0400
nebbiolo1Linux (Ubuntu 24.04.3 LTS) / x86_64  OK    OK    OK  YES
Package 13/79HostnameOS / ArchINSTALLBUILDCHECKBUILD BIN
bugsigdbr 1.17.0  (landing page)
Ludwig Geistlinger
git_last_commit: 5a6fb55
git_last_commit_date: 2025-10-29 11:11:42 -0400
nebbiolo1Linux (Ubuntu 24.04.3 LTS) / x86_64  OK    OK    OK  YES
Package 14/79HostnameOS / ArchINSTALLBUILDCHECKBUILD BIN
BulkSignalR 1.3.0  (landing page)
Jean-Philippe Villemin
git_last_commit: 9cefe87
git_last_commit_date: 2025-10-29 11:33:26 -0400
nebbiolo1Linux (Ubuntu 24.04.3 LTS) / x86_64  OK    OK    OK  NO, package depends on 'orthogene' which is not available
Package 15/79HostnameOS / ArchINSTALLBUILDCHECKBUILD BIN
cbaf 1.33.0  (landing page)
Arman Shahrisa
git_last_commit: a0e1959
git_last_commit_date: 2025-10-29 10:41:05 -0400
nebbiolo1Linux (Ubuntu 24.04.3 LTS) / x86_64  ERROR    ERROR  skipped
Package 16/79HostnameOS / ArchINSTALLBUILDCHECKBUILD BIN
cBioPortalData 2.23.0  (landing page)
Marcel Ramos
git_last_commit: eaed633
git_last_commit_date: 2025-10-29 10:59:37 -0400
nebbiolo1Linux (Ubuntu 24.04.3 LTS) / x86_64  ERROR    ERROR  skipped
Package 17/79HostnameOS / ArchINSTALLBUILDCHECKBUILD BIN
CBNplot 1.11.0  (landing page)
Noriaki Sato
git_last_commit: a7bbf54
git_last_commit_date: 2025-10-29 11:22:40 -0400
nebbiolo1Linux (Ubuntu 24.04.3 LTS) / x86_64  OK    OK    ERROR  
Package 18/79HostnameOS / ArchINSTALLBUILDCHECKBUILD BIN
CellBench 1.27.0  (landing page)
Shian Su
git_last_commit: ecbe643
git_last_commit_date: 2025-10-29 10:50:23 -0400
nebbiolo1Linux (Ubuntu 24.04.3 LTS) / x86_64  OK    OK    OK  NO, package depends on 'SingleCellExperiment' which is not available
Package 19/79HostnameOS / ArchINSTALLBUILDCHECKBUILD BIN
CTDquerier 2.19.0  (landing page)
Xavier EscribĂ -Montagut
git_last_commit: 7edaaa1
git_last_commit_date: 2025-10-29 11:06:54 -0400
nebbiolo1Linux (Ubuntu 24.04.3 LTS) / x86_64  OK    OK    WARNINGS  YES
Package 20/79HostnameOS / ArchINSTALLBUILDCHECKBUILD BIN
customCMPdb 1.21.0  (landing page)
Yuzhu Duan
git_last_commit: 5a0a0a6
git_last_commit_date: 2025-10-29 11:03:08 -0400
nebbiolo1Linux (Ubuntu 24.04.3 LTS) / x86_64  OK    OK    OK  NO, package depends on 'AnnotationHub' which is not available
Package 21/79HostnameOS / ArchINSTALLBUILDCHECKBUILD BIN
CytoPipeline 1.11.0  (landing page)
Philippe Hauchamps
git_last_commit: 54ed268
git_last_commit_date: 2025-10-29 11:20:49 -0400
nebbiolo1Linux (Ubuntu 24.04.3 LTS) / x86_64  OK    OK    OK  NO, package depends on 'ggcyto' which is not available
Package 22/79HostnameOS / ArchINSTALLBUILDCHECKBUILD BIN
DeconvoBuddies 1.3.0  (landing page)
Louise Huuki-Myers
git_last_commit: a72d7d5
git_last_commit_date: 2025-10-29 11:35:32 -0400
nebbiolo1Linux (Ubuntu 24.04.3 LTS) / x86_64  OK    OK    OK  NO, package depends on 'AnnotationHub' which is not available
Package 23/79HostnameOS / ArchINSTALLBUILDCHECKBUILD BIN
drugTargetInteractions 1.19.0  (landing page)
Thomas Girke
git_last_commit: a35b336
git_last_commit_date: 2025-10-29 11:07:31 -0400
nebbiolo1Linux (Ubuntu 24.04.3 LTS) / x86_64  OK    ERROR  skipped
Package 24/79HostnameOS / ArchINSTALLBUILDCHECKBUILD BIN
easylift 1.9.0  (landing page)
Abdullah Al Nahid
git_last_commit: d7927b5
git_last_commit_date: 2025-10-29 11:25:08 -0400
nebbiolo1Linux (Ubuntu 24.04.3 LTS) / x86_64  OK    OK    OK  NO, package depends on 'GenomicRanges' which is not available
Package 25/79HostnameOS / ArchINSTALLBUILDCHECKBUILD BIN
easyRNASeq 2.47.0  (landing page)
Nicolas Delhomme
git_last_commit: 1cb9a73
git_last_commit_date: 2025-10-29 10:10:00 -0400
nebbiolo1Linux (Ubuntu 24.04.3 LTS) / x86_64  OK    OK    ERROR  
Package 26/79HostnameOS / ArchINSTALLBUILDCHECKBUILD BIN
enhancerHomologSearch 1.17.0  (landing page)
Jianhong Ou
git_last_commit: aec9810
git_last_commit_date: 2025-10-29 11:11:19 -0400
nebbiolo1Linux (Ubuntu 24.04.3 LTS) / x86_64  OK    ERROR  skipped
Package 27/79HostnameOS / ArchINSTALLBUILDCHECKBUILD BIN
EnMCB 1.23.0  (landing page)
Xin Yu
git_last_commit: 8ef58ef
git_last_commit_date: 2025-10-29 10:56:09 -0400
nebbiolo1Linux (Ubuntu 24.04.3 LTS) / x86_64  OK    OK    ERROR  
Package 28/79HostnameOS / ArchINSTALLBUILDCHECKBUILD BIN
EnrichmentBrowser 2.41.0  (landing page)
Ludwig Geistlinger
git_last_commit: eb4505a
git_last_commit_date: 2025-10-29 10:21:30 -0400
nebbiolo1Linux (Ubuntu 24.04.3 LTS) / x86_64  OK    ERROR  skipped
Package 29/79HostnameOS / ArchINSTALLBUILDCHECKBUILD BIN
EpiTxDb 1.23.0  (landing page)
Felix G.M. Ernst
git_last_commit: 23585ca
git_last_commit_date: 2025-10-29 10:57:35 -0400
nebbiolo1Linux (Ubuntu 24.04.3 LTS) / x86_64  OK    ERROR  skipped
Package 30/79HostnameOS / ArchINSTALLBUILDCHECKBUILD BIN
ExperimentHub 3.1.0  (landing page)
Bioconductor Package Maintainer
git_last_commit: 9d5eefe
git_last_commit_date: 2025-10-29 10:30:19 -0400
nebbiolo1Linux (Ubuntu 24.04.3 LTS) / x86_64  OK    OK    WARNINGS  NO, package depends on 'AnnotationHub' which is not available
Package 31/79HostnameOS / ArchINSTALLBUILDCHECKBUILD BIN
fenr 1.9.0  (landing page)
Marek Gierlinski
git_last_commit: 86128b1
git_last_commit_date: 2025-10-29 11:25:52 -0400
nebbiolo1Linux (Ubuntu 24.04.3 LTS) / x86_64  OK    OK    OK  YES
Package 32/79HostnameOS / ArchINSTALLBUILDCHECKBUILD BIN
fgga 1.19.0  (landing page)
Flavio Spetale
git_last_commit: dbdfaea
git_last_commit_date: 2025-10-29 11:09:03 -0400
nebbiolo1Linux (Ubuntu 24.04.3 LTS) / x86_64  OK    OK    OK  YES
Package 33/79HostnameOS / ArchINSTALLBUILDCHECKBUILD BIN
GeDi 1.7.0  (landing page)
Annekathrin Nedwed
git_last_commit: 5d8ba6c
git_last_commit_date: 2025-10-29 11:29:41 -0400
nebbiolo1Linux (Ubuntu 24.04.3 LTS) / x86_64  OK    OK    ERROR  
Package 34/79HostnameOS / ArchINSTALLBUILDCHECKBUILD BIN
GenomicScores 2.23.0  (landing page)
Robert Castelo
git_last_commit: fce182e
git_last_commit_date: 2025-10-29 10:38:07 -0400
nebbiolo1Linux (Ubuntu 24.04.3 LTS) / x86_64  OK    ERROR  skipped
Package 35/79HostnameOS / ArchINSTALLBUILDCHECKBUILD BIN
GenomicSuperSignature 1.19.0  (landing page)
Sehyun Oh
git_last_commit: 7a9c399
git_last_commit_date: 2025-10-29 11:09:57 -0400
nebbiolo1Linux (Ubuntu 24.04.3 LTS) / x86_64  OK    OK    WARNINGS  NO, package depends on 'SummarizedExperiment' which is not available
Package 36/79HostnameOS / ArchINSTALLBUILDCHECKBUILD BIN
ggkegg 1.9.0  (landing page)
Noriaki Sato
git_last_commit: cfbc2f3
git_last_commit_date: 2025-10-29 11:24:48 -0400
nebbiolo1Linux (Ubuntu 24.04.3 LTS) / x86_64  OK    OK    OK  YES
Package 37/79HostnameOS / ArchINSTALLBUILDCHECKBUILD BIN
GSEABenchmarkeR 1.31.0  (landing page)
Ludwig Geistlinger
git_last_commit: 129d655
git_last_commit_date: 2025-10-29 10:44:06 -0400
nebbiolo1Linux (Ubuntu 24.04.3 LTS) / x86_64  OK    ERROR  skipped
Package 38/79HostnameOS / ArchINSTALLBUILDCHECKBUILD BIN
gwascat 2.43.0  (landing page)
VJ Carey
git_last_commit: ec24f27
git_last_commit_date: 2025-10-29 10:10:23 -0400
nebbiolo1Linux (Ubuntu 24.04.3 LTS) / x86_64  OK    ERROR  skipped
Package 39/79HostnameOS / ArchINSTALLBUILDCHECKBUILD BIN
hca 1.19.0  (landing page)
Martin Morgan
git_last_commit: dfd1518
git_last_commit_date: 2025-10-29 11:06:33 -0400
nebbiolo1Linux (Ubuntu 24.04.3 LTS) / x86_64  OK    ERROR  skipped
Package 40/79HostnameOS / ArchINSTALLBUILDCHECKBUILD BIN
iSEEindex 1.9.0  (landing page)
Kevin Rue-Albrecht
git_last_commit: 8de1724
git_last_commit_date: 2025-10-29 11:23:59 -0400
nebbiolo1Linux (Ubuntu 24.04.3 LTS) / x86_64  OK    OK    OK  NO, package depends on 'SummarizedExperiment' which is not available
Package 41/79HostnameOS / ArchINSTALLBUILDCHECKBUILD BIN
MBQN 2.23.0  (landing page)
Eva Brombacher
git_last_commit: 6c11f8c
git_last_commit_date: 2025-10-29 10:55:13 -0400
nebbiolo1Linux (Ubuntu 24.04.3 LTS) / x86_64  OK    OK    OK  NO, package depends on 'SummarizedExperiment' which is not available
Package 42/79HostnameOS / ArchINSTALLBUILDCHECKBUILD BIN
MIRit 1.7.0  (landing page)
Jacopo Ronchi
git_last_commit: 624060e
git_last_commit_date: 2025-10-29 11:27:39 -0400
nebbiolo1Linux (Ubuntu 24.04.3 LTS) / x86_64  OK    OK    ERROR  
Package 43/79HostnameOS / ArchINSTALLBUILDCHECKBUILD BIN
motifbreakR 2.25.0  (landing page)
Simon Gert Coetzee
git_last_commit: 21e6965
git_last_commit_date: 2025-10-29 10:27:43 -0400
nebbiolo1Linux (Ubuntu 24.04.3 LTS) / x86_64  OK    ERROR  skipped
Package 44/79HostnameOS / ArchINSTALLBUILDCHECKBUILD BIN
MotifPeeker 1.3.0  (landing page)
Hiranyamaya Dash
git_last_commit: fc93dac
git_last_commit_date: 2025-10-29 11:33:15 -0400
nebbiolo1Linux (Ubuntu 24.04.3 LTS) / x86_64  OK    OK    ERROR  
Package 45/79HostnameOS / ArchINSTALLBUILDCHECKBUILD BIN
MsBackendMetaboLights 1.5.0  (landing page)
Johannes Rainer
git_last_commit: 6566108
git_last_commit_date: 2025-10-29 11:32:30 -0400
nebbiolo1Linux (Ubuntu 24.04.3 LTS) / x86_64  OK    OK    ERROR  
Package 46/79HostnameOS / ArchINSTALLBUILDCHECKBUILD BIN
OmicsMLRepoR 1.5.0  (landing page)
Sehyun Oh
git_last_commit: a6fb0be
git_last_commit_date: 2025-10-29 11:32:50 -0400
nebbiolo1Linux (Ubuntu 24.04.3 LTS) / x86_64  OK    ERROR  skipped
Package 47/79HostnameOS / ArchINSTALLBUILDCHECKBUILD BIN
ontoProc 2.5.0  (landing page)
Vincent Carey
git_last_commit: a09f239
git_last_commit_date: 2025-10-29 19:20:08 -0400
nebbiolo1Linux (Ubuntu 24.04.3 LTS) / x86_64  OK    OK    ERROR  
Package 48/79HostnameOS / ArchINSTALLBUILDCHECKBUILD BIN
ORFik 1.31.0  (landing page)
Haakon Tjeldnes
git_last_commit: 1c0375d
git_last_commit_date: 2025-10-29 10:45:22 -0400
nebbiolo1Linux (Ubuntu 24.04.3 LTS) / x86_64  OK    ERROR  skipped
Package 49/79HostnameOS / ArchINSTALLBUILDCHECKBUILD BIN
Organism.dplyr 1.39.0  (landing page)
Martin Morgan
git_last_commit: 538153f
git_last_commit_date: 2025-10-29 10:37:10 -0400
nebbiolo1Linux (Ubuntu 24.04.3 LTS) / x86_64  OK    OK    ERROR  
Package 50/79HostnameOS / ArchINSTALLBUILDCHECKBUILD BIN
OSTA.data 1.3.0  (landing page)
Yixing E. Dong
git_last_commit: e225783
git_last_commit_date: 2025-10-29 11:34:45 -0400
nebbiolo1Linux (Ubuntu 24.04.3 LTS) / x86_64  OK    ERROR  skipped
Package 51/79HostnameOS / ArchINSTALLBUILDCHECKBUILD BIN
PhIPData 1.19.0  (landing page)
Athena Chen
git_last_commit: 82391da
git_last_commit_date: 2025-10-29 11:06:46 -0400
nebbiolo1Linux (Ubuntu 24.04.3 LTS) / x86_64  OK    OK    OK  NO, package depends on 'SummarizedExperiment' which is not available
Package 52/79HostnameOS / ArchINSTALLBUILDCHECKBUILD BIN
PMScanR 1.1.0  (landing page)
Jan Pawel Jastrzebski
git_last_commit: 1e526c3
git_last_commit_date: 2025-10-29 11:38:20 -0400
nebbiolo1Linux (Ubuntu 24.04.3 LTS) / x86_64  OK    OK    OK  NO, package depends on 'rtracklayer' which is not available
Package 53/79HostnameOS / ArchINSTALLBUILDCHECKBUILD BIN
psichomics 1.37.0  (landing page)
Nuno Saraiva-Agostinho
git_last_commit: a7c8792
git_last_commit_date: 2025-10-29 10:35:05 -0400
nebbiolo1Linux (Ubuntu 24.04.3 LTS) / x86_64  OK    OK    OK  NO, package depends on 'AnnotationDbi' which is not available
Package 54/79HostnameOS / ArchINSTALLBUILDCHECKBUILD BIN
rBLAST 1.7.0  (landing page)
Michael Hahsler
git_last_commit: dcc0f85
git_last_commit_date: 2025-10-29 11:29:56 -0400
nebbiolo1Linux (Ubuntu 24.04.3 LTS) / x86_64  OK    OK    OK  NO, package depends on 'Biostrings' which is not available
Package 55/79HostnameOS / ArchINSTALLBUILDCHECKBUILD BIN
RcwlPipelines 1.27.0  (landing page)
Qiang Hu
git_last_commit: d418067
git_last_commit_date: 2025-10-29 10:50:42 -0400
nebbiolo1Linux (Ubuntu 24.04.3 LTS) / x86_64  OK    OK    OK  YES
Package 56/79HostnameOS / ArchINSTALLBUILDCHECKBUILD BIN
recount3 1.21.0  (landing page)
Leonardo Collado-Torres
git_last_commit: 2b63576
git_last_commit_date: 2025-10-29 11:03:22 -0400
nebbiolo1Linux (Ubuntu 24.04.3 LTS) / x86_64  OK    OK    OK  NO, package depends on 'SummarizedExperiment' which is not available
Package 57/79HostnameOS / ArchINSTALLBUILDCHECKBUILD BIN
recountmethylation 1.21.0  (landing page)
Sean K Maden
git_last_commit: 7346a8e
git_last_commit_date: 2025-10-29 11:01:55 -0400
nebbiolo1Linux (Ubuntu 24.04.3 LTS) / x86_64  OK    ERROR  skipped
Package 58/79HostnameOS / ArchINSTALLBUILDCHECKBUILD BIN
regutools 1.23.0  (landing page)
Joselyn Chavez
git_last_commit: a894ec8
git_last_commit_date: 2025-10-29 10:59:10 -0400
nebbiolo1Linux (Ubuntu 24.04.3 LTS) / x86_64  OK    OK    OK  NO, package depends on 'AnnotationDbi' which is not available
Package 59/79HostnameOS / ArchINSTALLBUILDCHECKBUILD BIN
ReUseData 1.11.0  (landing page)
Qian Liu
git_last_commit: 4a5d06b
git_last_commit_date: 2025-10-29 11:20:44 -0400
nebbiolo1Linux (Ubuntu 24.04.3 LTS) / x86_64  OK    OK    OK  YES
Package 60/79HostnameOS / ArchINSTALLBUILDCHECKBUILD BIN
RiboDiPA 1.19.0  (landing page)
Ji-Ping Wang
git_last_commit: 2487cc4
git_last_commit_date: 2025-10-29 11:05:49 -0400
nebbiolo1Linux (Ubuntu 24.04.3 LTS) / x86_64  OK    OK    OK  NO, package depends on 'Rsamtools' which is not available
Package 61/79HostnameOS / ArchINSTALLBUILDCHECKBUILD BIN
rpx 2.19.0  (landing page)
Laurent Gatto
git_last_commit: 70deff4
git_last_commit_date: 2025-10-29 10:18:32 -0400
nebbiolo1Linux (Ubuntu 24.04.3 LTS) / x86_64  OK    OK    ERROR  
Package 62/79HostnameOS / ArchINSTALLBUILDCHECKBUILD BIN
scviR 1.11.0  (landing page)
Vincent Carey
git_last_commit: 4329942
git_last_commit_date: 2025-10-29 11:21:42 -0400
nebbiolo1Linux (Ubuntu 24.04.3 LTS) / x86_64  OK    OK    OK  NO, package depends on 'SingleCellExperiment' which is not available
Package 63/79HostnameOS / ArchINSTALLBUILDCHECKBUILD BIN
sesame 1.29.0  (landing page)
Wanding Zhou
git_last_commit: 92283cb
git_last_commit_date: 2025-10-29 10:46:05 -0400
nebbiolo1Linux (Ubuntu 24.04.3 LTS) / x86_64  OK    OK    OK  NO, package depends on 'GenomicRanges' which is not available
Package 64/79HostnameOS / ArchINSTALLBUILDCHECKBUILD BIN
signeR 2.13.0  (landing page)
Renan Valieris
git_last_commit: 54b8b4d
git_last_commit_date: 2025-10-29 10:34:16 -0400
nebbiolo1Linux (Ubuntu 24.04.3 LTS) / x86_64  OK    OK    ERROR  
Package 65/79HostnameOS / ArchINSTALLBUILDCHECKBUILD BIN
spacexr 1.3.0  (landing page)
Gabriel Grajeda
git_last_commit: ea2a493
git_last_commit_date: 2025-10-29 11:35:40 -0400
nebbiolo1Linux (Ubuntu 24.04.3 LTS) / x86_64  OK    OK    OK  NO, package depends on 'SummarizedExperiment' which is not available
Package 66/79HostnameOS / ArchINSTALLBUILDCHECKBUILD BIN
SpatialExperiment 1.21.0  (landing page)
Dario Righelli
git_last_commit: 0414e3b
git_last_commit_date: 2025-10-29 11:00:55 -0400
nebbiolo1Linux (Ubuntu 24.04.3 LTS) / x86_64  OK    OK    OK  NO, package depends on 'SingleCellExperiment' which is not available
Package 67/79HostnameOS / ArchINSTALLBUILDCHECKBUILD BIN
SpatialOmicsOverlay 1.11.0  (landing page)
Maddy Griswold
git_last_commit: 5b92d66
git_last_commit_date: 2025-10-29 11:22:27 -0400
nebbiolo1Linux (Ubuntu 24.04.3 LTS) / x86_64  OK    OK    OK  NO, package depends on 'GeomxTools' which is not available
Package 68/79HostnameOS / ArchINSTALLBUILDCHECKBUILD BIN
SpliceWiz 1.13.0  (landing page)
Alex Chit Hei Wong
git_last_commit: 73b017a
git_last_commit_date: 2025-10-29 11:17:35 -0400
nebbiolo1Linux (Ubuntu 24.04.3 LTS) / x86_64  OK    OK    WARNINGS  NO, package depends on 'AnnotationHub' which is not available
Package 69/79HostnameOS / ArchINSTALLBUILDCHECKBUILD BIN
SurfR 1.7.0  (landing page)
Aurora Maurizio
git_last_commit: 90bbf06
git_last_commit_date: 2025-10-29 11:27:44 -0400
nebbiolo1Linux (Ubuntu 24.04.3 LTS) / x86_64  OK    OK    OK  NO, package depends on 'SPsimSeq' which is not available
Package 70/79HostnameOS / ArchINSTALLBUILDCHECKBUILD BIN
tenXplore 1.33.0  (landing page)
VJ Carey
git_last_commit: 5fe43eb
git_last_commit_date: 2025-10-29 10:42:05 -0400
nebbiolo1Linux (Ubuntu 24.04.3 LTS) / x86_64  ERROR    ERROR  skipped
Package 71/79HostnameOS / ArchINSTALLBUILDCHECKBUILD BIN
terraTCGAdata 1.15.0  (landing page)
Marcel Ramos
git_last_commit: 752f735
git_last_commit_date: 2025-10-29 11:16:25 -0400
nebbiolo1Linux (Ubuntu 24.04.3 LTS) / x86_64  OK    OK    OK  NO, package depends on 'MultiAssayExperiment' which is not available
Package 72/79HostnameOS / ArchINSTALLBUILDCHECKBUILD BIN
TFutils 1.31.0  (landing page)
Vincent Carey
git_last_commit: 775ebfc
git_last_commit_date: 2025-10-29 10:44:40 -0400
nebbiolo1Linux (Ubuntu 24.04.3 LTS) / x86_64  OK    OK    ERROR  
Package 73/79HostnameOS / ArchINSTALLBUILDCHECKBUILD BIN
tomoseqr 1.15.0  (landing page)
Ryosuke Matsuzawa
git_last_commit: 5f3f9ac
git_last_commit_date: 2025-10-29 11:16:02 -0400
nebbiolo1Linux (Ubuntu 24.04.3 LTS) / x86_64  OK    OK    OK  YES
Package 74/79HostnameOS / ArchINSTALLBUILDCHECKBUILD BIN
tximeta 1.29.0  (landing page)
Michael Love
git_last_commit: 43586e1
git_last_commit_date: 2025-10-29 10:47:17 -0400
nebbiolo1Linux (Ubuntu 24.04.3 LTS) / x86_64  OK    ERROR  skipped
Package 75/79HostnameOS / ArchINSTALLBUILDCHECKBUILD BIN
UMI4Cats 1.21.0  (landing page)
Mireia Ramos-Rodriguez
git_last_commit: f049a0a
git_last_commit_date: 2025-10-29 11:01:19 -0400
nebbiolo1Linux (Ubuntu 24.04.3 LTS) / x86_64  OK    ERROR  skipped
Package 76/79HostnameOS / ArchINSTALLBUILDCHECKBUILD BIN
uncoverappLib 1.21.0  (landing page)
Emanuela Iovino
git_last_commit: 99c7088
git_last_commit_date: 2025-10-29 11:01:16 -0400
nebbiolo1Linux (Ubuntu 24.04.3 LTS) / x86_64  ERROR    ERROR  skipped
Package 77/79HostnameOS / ArchINSTALLBUILDCHECKBUILD BIN
UniProt.ws 2.51.0  (landing page)
Marcel Ramos
git_last_commit: 0cc8c13
git_last_commit_date: 2025-10-29 10:12:47 -0400
nebbiolo1Linux (Ubuntu 24.04.3 LTS) / x86_64  OK    OK    OK  NO, package depends on 'AnnotationDbi' which is not available
Package 78/79HostnameOS / ArchINSTALLBUILDCHECKBUILD BIN
waddR 1.25.0  (landing page)
Julian Flesch
git_last_commit: e6c53eb
git_last_commit_date: 2025-10-29 10:55:06 -0400
nebbiolo1Linux (Ubuntu 24.04.3 LTS) / x86_64  OK    OK    OK  NO, package depends on 'SingleCellExperiment' which is not available
Package 79/79HostnameOS / ArchINSTALLBUILDCHECKBUILD BIN
xenLite 1.5.0  (landing page)
Vincent Carey
git_last_commit: 504f4e0
git_last_commit_date: 2025-10-29 11:31:51 -0400
nebbiolo1Linux (Ubuntu 24.04.3 LTS) / x86_64  OK    OK    OK  NO, package depends on 'SpatialExperiment' which is not available