Back to Multiple platform build/check report for BioC 3.22:   simplified   long
ABCDEFGHIJKL[M]NOPQRSTUVWXYZ

This page was generated on 2025-10-20 12:06 -0400 (Mon, 20 Oct 2025).

HostnameOSArch (*)R versionInstalled pkgs
nebbiolo2Linux (Ubuntu 24.04.3 LTS)x86_644.5.1 Patched (2025-08-23 r88802) -- "Great Square Root" 4887
lconwaymacOS 12.7.6 Montereyx86_644.5.1 Patched (2025-09-10 r88807) -- "Great Square Root" 4677
kjohnson3macOS 13.7.7 Venturaarm644.5.1 Patched (2025-09-10 r88807) -- "Great Square Root" 4622
taishanLinux (openEuler 24.03 LTS)aarch644.5.0 (2025-04-11) -- "How About a Twenty-Six" 4632
Click on any hostname to see more info about the system (e.g. compilers)      (*) as reported by 'uname -p', except on Windows and Mac OS X

Package 1369/2353HostnameOS / ArchINSTALLBUILDCHECKBUILD BIN
MsBackendMetaboLights 1.3.1  (landing page)
Johannes Rainer
Snapshot Date: 2025-10-19 13:45 -0400 (Sun, 19 Oct 2025)
git_url: https://git.bioconductor.org/packages/MsBackendMetaboLights
git_branch: devel
git_last_commit: 11ea78a
git_last_commit_date: 2025-04-30 02:41:33 -0400 (Wed, 30 Apr 2025)
nebbiolo2Linux (Ubuntu 24.04.3 LTS) / x86_64  OK    OK    OK  UNNEEDED, same version is already published
lconwaymacOS 12.7.6 Monterey / x86_64  OK    OK    OK    OK  UNNEEDED, same version is already published
kjohnson3macOS 13.7.7 Ventura / arm64  OK    OK    OK    OK  UNNEEDED, same version is already published
taishanLinux (openEuler 24.03 LTS) / aarch64  OK    OK    TIMEOUT  


CHECK results for MsBackendMetaboLights on kjohnson3

To the developers/maintainers of the MsBackendMetaboLights package:
- Allow up to 24 hours (and sometimes 48 hours) for your latest push to git@git.bioconductor.org:packages/MsBackendMetaboLights.git to reflect on this report. See Troubleshooting Build Report for more information.
- Use the following Renviron settings to reproduce errors and warnings.
- If 'R CMD check' started to fail recently on the Linux builder(s) over a missing dependency, add the missing dependency to 'Suggests:' in your DESCRIPTION file. See Renviron.bioc for more information.

raw results


Summary

Package: MsBackendMetaboLights
Version: 1.3.1
Command: /Library/Frameworks/R.framework/Resources/bin/R CMD check --install=check:MsBackendMetaboLights.install-out.txt --library=/Library/Frameworks/R.framework/Resources/library --no-vignettes --timings MsBackendMetaboLights_1.3.1.tar.gz
StartedAt: 2025-10-19 20:51:52 -0400 (Sun, 19 Oct 2025)
EndedAt: 2025-10-19 20:57:57 -0400 (Sun, 19 Oct 2025)
EllapsedTime: 365.5 seconds
RetCode: 0
Status:   OK  
CheckDir: MsBackendMetaboLights.Rcheck
Warnings: 0

Command output

##############################################################################
##############################################################################
###
### Running command:
###
###   /Library/Frameworks/R.framework/Resources/bin/R CMD check --install=check:MsBackendMetaboLights.install-out.txt --library=/Library/Frameworks/R.framework/Resources/library --no-vignettes --timings MsBackendMetaboLights_1.3.1.tar.gz
###
##############################################################################
##############################################################################


* using log directory ‘/Users/biocbuild/bbs-3.22-bioc/meat/MsBackendMetaboLights.Rcheck’
* using R version 4.5.1 Patched (2025-09-10 r88807)
* using platform: aarch64-apple-darwin20
* R was compiled by
    Apple clang version 16.0.0 (clang-1600.0.26.6)
    GNU Fortran (GCC) 14.2.0
* running under: macOS Ventura 13.7.7
* using session charset: UTF-8
* using option ‘--no-vignettes’
* checking for file ‘MsBackendMetaboLights/DESCRIPTION’ ... OK
* this is package ‘MsBackendMetaboLights’ version ‘1.3.1’
* package encoding: UTF-8
* checking package namespace information ... OK
* checking package dependencies ... OK
* checking if this is a source package ... OK
* checking if there is a namespace ... OK
* checking for hidden files and directories ... OK
* checking for portable file names ... OK
* checking for sufficient/correct file permissions ... OK
* checking whether package ‘MsBackendMetaboLights’ can be installed ... OK
* checking installed package size ... OK
* checking package directory ... OK
* checking ‘build’ directory ... OK
* checking DESCRIPTION meta-information ... OK
* checking top-level files ... OK
* checking for left-over files ... OK
* checking index information ... OK
* checking package subdirectories ... OK
* checking code files for non-ASCII characters ... OK
* checking R files for syntax errors ... OK
* checking whether the package can be loaded ... OK
* checking whether the package can be loaded with stated dependencies ... OK
* checking whether the package can be unloaded cleanly ... OK
* checking whether the namespace can be loaded with stated dependencies ... OK
* checking whether the namespace can be unloaded cleanly ... OK
* checking dependencies in R code ... OK
* checking S3 generic/method consistency ... OK
* checking replacement functions ... OK
* checking foreign function calls ... OK
* checking R code for possible problems ... OK
* checking Rd files ... OK
* checking Rd metadata ... OK
* checking Rd cross-references ... OK
* checking for missing documentation entries ... OK
* checking for code/documentation mismatches ... OK
* checking Rd \usage sections ... OK
* checking Rd contents ... OK
* checking for unstated dependencies in examples ... OK
* checking files in ‘vignettes’ ... OK
* checking examples ... OK
Examples with CPU (user + system) or elapsed time > 5s
                       user system elapsed
MsBackendMetaboLights 2.873  0.535   9.672
MetaboLights-utils    0.133  0.015   6.679
* checking for unstated dependencies in ‘tests’ ... OK
* checking tests ...
  Running ‘testthat.R’
 OK
* checking for unstated dependencies in vignettes ... OK
* checking package vignettes ... OK
* checking running R code from vignettes ... SKIPPED
* checking re-building of vignette outputs ... SKIPPED
* checking PDF version of manual ... OK
* DONE

Status: OK


Installation output

MsBackendMetaboLights.Rcheck/00install.out

##############################################################################
##############################################################################
###
### Running command:
###
###   /Library/Frameworks/R.framework/Resources/bin/R CMD INSTALL MsBackendMetaboLights
###
##############################################################################
##############################################################################


* installing to library ‘/Library/Frameworks/R.framework/Versions/4.5-arm64/Resources/library’
* installing *source* package ‘MsBackendMetaboLights’ ...
** this is package ‘MsBackendMetaboLights’ version ‘1.3.1’
** using staged installation
** R
** byte-compile and prepare package for lazy loading
** help
*** installing help indices
*** copying figures
** building package indices
** installing vignettes
** testing if installed package can be loaded from temporary location
** testing if installed package can be loaded from final location
** testing if installed package keeps a record of temporary installation path
* DONE (MsBackendMetaboLights)

Tests output

MsBackendMetaboLights.Rcheck/tests/testthat.Rout


R version 4.5.1 Patched (2025-09-10 r88807) -- "Great Square Root"
Copyright (C) 2025 The R Foundation for Statistical Computing
Platform: aarch64-apple-darwin20

R is free software and comes with ABSOLUTELY NO WARRANTY.
You are welcome to redistribute it under certain conditions.
Type 'license()' or 'licence()' for distribution details.

R is a collaborative project with many contributors.
Type 'contributors()' for more information and
'citation()' on how to cite R or R packages in publications.

Type 'demo()' for some demos, 'help()' for on-line help, or
'help.start()' for an HTML browser interface to help.
Type 'q()' to quit R.

> #' MetaboLights ID: MTBLS8735
> #' ftp://ftp.ebi.ac.uk/pub/databases/metabolights/studies/public/MTBLS8735
> 
> library(testthat)
> library(MsBackendMetaboLights)
Loading required package: Spectra
Loading required package: S4Vectors
Loading required package: stats4
Loading required package: BiocGenerics
Loading required package: generics

Attaching package: 'generics'

The following objects are masked from 'package:base':

    as.difftime, as.factor, as.ordered, intersect, is.element, setdiff,
    setequal, union


Attaching package: 'BiocGenerics'

The following objects are masked from 'package:stats':

    IQR, mad, sd, var, xtabs

The following objects are masked from 'package:base':

    Filter, Find, Map, Position, Reduce, anyDuplicated, aperm, append,
    as.data.frame, basename, cbind, colnames, dirname, do.call,
    duplicated, eval, evalq, get, grep, grepl, is.unsorted, lapply,
    mapply, match, mget, order, paste, pmax, pmax.int, pmin, pmin.int,
    rank, rbind, rownames, sapply, saveRDS, table, tapply, unique,
    unsplit, which.max, which.min


Attaching package: 'S4Vectors'

The following object is masked from 'package:utils':

    findMatches

The following objects are masked from 'package:base':

    I, expand.grid, unname

Loading required package: BiocParallel
> 
> test_check("MsBackendMetaboLights")
[ FAIL 0 | WARN 0 | SKIP 0 | PASS 74 ]
> 
> ## Run tests with the unit test suite defined in the Spectra package to ensure
> ## compliance with the definitions of the MsBackend interface/class.
> be <- backendInitialize(MsBackendMetaboLights(), mtblsId = "MTBLS39",
+                         filePattern = "63A.cdf")
Used data files from the assay's column "Raw Spectral Data File" since none were available in column "Derived Spectral Data File".
> 
> library(Spectra)
> test_suite <- system.file("test_backends", "test_MsBackend",
+                           package = "Spectra")
> res <- test_dir(test_suite, stop_on_failure = TRUE)
✔ | F W  S  OK | Context

⠏ |          0 | peaks_variables                                                
⠙ |          2 | peaks_variables                                                
⠸ |          4 | peaks_variables                                                
✔ |          4 | peaks_variables

⠏ |          0 | spectra_subsetting                                             
⠋ |          1 | spectra_subsetting                                             
⠧ |         38 | spectra_subsetting                                             
⠴ |         76 | spectra_subsetting                                             
⠙ |        112 | spectra_subsetting                                             
⠋ |        151 | spectra_subsetting                                             
⠏ |        190 | spectra_subsetting                                             
⠇ |        229 | spectra_subsetting                                             
⠧ |        268 | spectra_subsetting                                             
⠋ |        301 | spectra_subsetting                                             
⠸ |        334 | spectra_subsetting                                             
⠋ |        371 | spectra_subsetting                                             
⠴ |        406 | spectra_subsetting                                             
⠼ |        445 | spectra_subsetting                                             
⠋ |        481 | spectra_subsetting                                             
⠦ |        517 | spectra_subsetting                                             
⠹ |        553 | spectra_subsetting                                             
⠇ |        589 | spectra_subsetting                                             
⠧ |        628 | spectra_subsetting                                             
⠦ |        667 | spectra_subsetting                                             
⠴ |        706 | spectra_subsetting                                             
⠙ |        742 | spectra_subsetting                                             
⠋ |        781 | spectra_subsetting                                             
⠏ |        820 | spectra_subsetting                                             
⠇ |        859 | spectra_subsetting                                             
⠧ |        898 | spectra_subsetting                                             
⠦ |        937 | spectra_subsetting                                             
⠴ |        976 | spectra_subsetting                                             
⠼ |        1015 | spectra_subsetting                                            
⠸ |        1054 | spectra_subsetting                                            
⠹ |        1093 | spectra_subsetting                                            
⠙ |        1132 | spectra_subsetting                                            
⠏ |        1160 | spectra_subsetting                                            
⠧ |        1198 | spectra_subsetting                                            
⠸ |        1234 | spectra_subsetting                                            
⠏ |        1270 | spectra_subsetting                                            
⠇ |        1309 | spectra_subsetting                                            
⠧ |        1348 | spectra_subsetting                                            
⠼ |        1385 | spectra_subsetting                                            
⠏ |        1420 | spectra_subsetting                                            
⠇ |        1459 | spectra_subsetting                                            
⠴ |        1496 | spectra_subsetting                                            
⠋ |        1531 | spectra_subsetting                                            
⠏ |        1570 | spectra_subsetting                                            
⠦ |        1607 | spectra_subsetting                                            
⠙ |        1642 | spectra_subsetting                                            
⠼ |        1675 | spectra_subsetting                                            
⠋ |        1711 | spectra_subsetting                                            
⠦ |        1747 | spectra_subsetting                                            
⠹ |        1783 | spectra_subsetting                                            
⠙ |        1822 | spectra_subsetting                                            
⠋ |        1861 | spectra_subsetting                                            
⠦ |        1897 | spectra_subsetting                                            
⠏ |        1930 | spectra_subsetting                                            
⠏ |        1960 | spectra_subsetting                                            
⠴ |        1996 | spectra_subsetting                                            
⠇ |        2029 | spectra_subsetting                                            
⠼ |        2065 | spectra_subsetting                                            
⠋ |        2101 | spectra_subsetting                                            
⠸ |        2134 | spectra_subsetting                                            
⠏ |        2170 | spectra_subsetting                                            
⠹ |        2203 | spectra_subsetting                                            
⠇ |        2239 | spectra_subsetting                                            
⠼ |        2275 | spectra_subsetting                                            
⠴ |        2306 | spectra_subsetting                                            
⠋ |        2341 | spectra_subsetting                                            
⠹ |        2373 | spectra_subsetting                                            
⠦ |        2407 | spectra_subsetting                                            
⠧ |        2438 | spectra_subsetting                                            
⠼ |        2475 | spectra_subsetting                                            
⠙ |        2512 | spectra_subsetting                                            
⠋ |        2551 | spectra_subsetting                                            
⠏ |        2590 | spectra_subsetting                                            
⠴ |        2626 | spectra_subsetting                                            
⠹ |        2663 | spectra_subsetting                                            
⠧ |        2698 | spectra_subsetting                                            
⠼ |        2735 | spectra_subsetting                                            
⠹ |        2773 | spectra_subsetting                                            
⠇ |        2809 | spectra_subsetting                                            
⠧ |        2848 | spectra_subsetting                                            
⠴ |        2886 | spectra_subsetting                                            
⠹ |        2923 | spectra_subsetting                                            
⠙ |        2962 | spectra_subsetting                                            
⠧ |        2998 | spectra_subsetting                                            
⠦ |        3037 | spectra_subsetting                                            
⠹ |        3073 | spectra_subsetting                                            
⠇ |        3109 | spectra_subsetting                                            
⠧ |        3148 | spectra_subsetting                                            
⠼ |        3185 | spectra_subsetting                                            
⠏ |        3220 | spectra_subsetting                                            
⠇ |        3259 | spectra_subsetting                                            
⠼ |        3295 | spectra_subsetting                                            
⠸ |        3334 | spectra_subsetting                                            
⠹ |        3373 | spectra_subsetting                                            
⠙ |        3412 | spectra_subsetting                                            
⠋ |        3451 | spectra_subsetting                                            
⠦ |        3487 | spectra_subsetting                                            
⠹ |        3523 | spectra_subsetting                                            
⠙ |        3562 | spectra_subsetting                                            
⠋ |        3601 | spectra_subsetting                                            
⠏ |        3640 | spectra_subsetting                                            
⠇ |        3679 | spectra_subsetting                                            
⠙ |        3712 | spectra_subsetting                                            
⠋ |        3751 | spectra_subsetting                                            
⠦ |        3787 | spectra_subsetting                                            
⠸ |        3824 | spectra_subsetting                                            
⠏ |        3860 | spectra_subsetting                                            
⠧ |        3898 | spectra_subsetting                                            
⠦ |        3937 | spectra_subsetting                                            
⠹ |        3973 | spectra_subsetting                                            
⠇ |        4009 | spectra_subsetting                                            
⠧ |        4048 | spectra_subsetting                                            
⠋ |        4081 | spectra_subsetting                                            
⠏ |        4120 | spectra_subsetting                                            
⠴ |        4156 | spectra_subsetting                                            
⠙ |        4192 | spectra_subsetting                                            
⠋ |        4231 | spectra_subsetting                                            
⠦ |        4267 | spectra_subsetting                                            
⠴ |        4306 | spectra_subsetting                                            
⠼ |        4345 | spectra_subsetting                                            
⠹ |        4383 | spectra_subsetting                                            
⠏ |        4420 | spectra_subsetting                                            
⠧ |        4458 | spectra_subsetting                                            
⠙ |        4492 | spectra_subsetting                                            
⠇ |        4529 | spectra_subsetting                                            
⠦ |        4567 | spectra_subsetting                                            
⠴ |        4606 | spectra_subsetting                                            
⠼ |        4645 | spectra_subsetting                                            
⠋ |        4681 | spectra_subsetting                                            
⠏ |        4720 | spectra_subsetting                                            
⠴ |        4756 | spectra_subsetting                                            
⠹ |        4793 | spectra_subsetting                                            
⠙ |        4832 | spectra_subsetting                                            
⠼ |        4865 | spectra_subsetting                                            
⠹ |        4903 | spectra_subsetting                                            
⠙ |        4942 | spectra_subsetting                                            
⠼ |        4975 | spectra_subsetting                                            
⠦ |        4997 | spectra_subsetting                                            
⠇ |        4999 | spectra_subsetting                                            
⠋ |        5001 | spectra_subsetting                                            
⠹ |        5003 | spectra_subsetting                                            
⠼ |        5005 | spectra_subsetting                                            
⠦ |        5007 | spectra_subsetting                                            
⠇ |        5009 | spectra_subsetting                                            
⠋ |        5011 | spectra_subsetting                                            
⠹ |        5013 | spectra_subsetting                                            
⠼ |        5015 | spectra_subsetting                                            
⠴ |        5016 | spectra_subsetting                                            
⠧ |        5018 | spectra_subsetting                                            
⠏ |        5020 | spectra_subsetting                                            
⠙ |        5022 | spectra_subsetting                                            
⠸ |        5024 | spectra_subsetting                                            
⠴ |        5026 | spectra_subsetting                                            
⠧ |        5028 | spectra_subsetting                                            
⠏ |        5030 | spectra_subsetting                                            
⠙ |        5032 | spectra_subsetting                                            
⠸ |        5034 | spectra_subsetting                                            
⠴ |        5036 | spectra_subsetting                                            
⠧ |        5038 | spectra_subsetting                                            
⠏ |        5040 | spectra_subsetting                                            
⠙ |        5042 | spectra_subsetting                                            
⠸ |        5044 | spectra_subsetting                                            
⠴ |        5046 | spectra_subsetting                                            
⠦ |        5047 | spectra_subsetting                                            
⠇ |        5049 | spectra_subsetting                                            
⠋ |        5051 | spectra_subsetting                                            
⠹ |        5053 | spectra_subsetting                                            
⠼ |        5055 | spectra_subsetting                                            
⠦ |        5057 | spectra_subsetting                                            
⠇ |        5059 | spectra_subsetting                                            
⠋ |        5061 | spectra_subsetting                                            
⠹ |        5063 | spectra_subsetting                                            
⠼ |        5065 | spectra_subsetting                                            
⠦ |        5067 | spectra_subsetting                                            
⠇ |        5069 | spectra_subsetting                                            
⠋ |        5071 | spectra_subsetting                                            
⠹ |        5073 | spectra_subsetting                                            
⠼ |        5075 | spectra_subsetting                                            
⠦ |        5077 | spectra_subsetting                                            
⠇ |        5079 | spectra_subsetting                                            
⠋ |        5081 | spectra_subsetting                                            
⠹ |        5083 | spectra_subsetting                                            
⠼ |        5085 | spectra_subsetting                                            
⠦ |        5087 | spectra_subsetting                                            
⠇ |        5089 | spectra_subsetting                                            
⠋ |        5091 | spectra_subsetting                                            
⠹ |        5093 | spectra_subsetting                                            
⠼ |        5095 | spectra_subsetting                                            
⠦ |        5097 | spectra_subsetting                                            
⠇ |        5099 | spectra_subsetting                                            
⠋ |        5101 | spectra_subsetting                                            
⠹ |        5103 | spectra_subsetting                                            
⠼ |        5105 | spectra_subsetting                                            
⠦ |        5107 | spectra_subsetting                                            
⠇ |        5109 | spectra_subsetting                                            
⠋ |        5111 | spectra_subsetting                                            
⠹ |        5113 | spectra_subsetting                                            
⠼ |        5115 | spectra_subsetting                                            
⠦ |        5117 | spectra_subsetting                                            
⠇ |        5119 | spectra_subsetting                                            
⠋ |        5121 | spectra_subsetting                                            
⠹ |        5123 | spectra_subsetting                                            
⠼ |        5125 | spectra_subsetting                                            
⠦ |        5127 | spectra_subsetting                                            
⠇ |        5129 | spectra_subsetting                                            
⠋ |        5131 | spectra_subsetting                                            
⠹ |        5133 | spectra_subsetting                                            
⠼ |        5135 | spectra_subsetting                                            
⠦ |        5137 | spectra_subsetting                                            
⠇ |        5139 | spectra_subsetting                                            
⠋ |        5141 | spectra_subsetting                                            
⠹ |        5143 | spectra_subsetting                                            
⠼ |        5145 | spectra_subsetting                                            
⠦ |        5147 | spectra_subsetting                                            
⠇ |        5149 | spectra_subsetting                                            
⠋ |        5151 | spectra_subsetting                                            
⠹ |        5153 | spectra_subsetting                                            
⠼ |        5155 | spectra_subsetting                                            
⠦ |        5157 | spectra_subsetting                                            
⠇ |        5159 | spectra_subsetting                                            
⠋ |        5161 | spectra_subsetting                                            
⠹ |        5163 | spectra_subsetting                                            
⠼ |        5165 | spectra_subsetting                                            
⠦ |        5167 | spectra_subsetting                                            
⠇ |        5169 | spectra_subsetting                                            
⠋ |        5171 | spectra_subsetting                                            
⠹ |        5173 | spectra_subsetting                                            
⠼ |        5175 | spectra_subsetting                                            
⠦ |        5177 | spectra_subsetting                                            
⠇ |        5179 | spectra_subsetting                                            
⠋ |        5181 | spectra_subsetting                                            
⠹ |        5183 | spectra_subsetting                                            
⠼ |        5185 | spectra_subsetting                                            
⠦ |        5187 | spectra_subsetting                                            
⠇ |        5189 | spectra_subsetting                                            
⠋ |        5191 | spectra_subsetting                                            
⠹ |        5193 | spectra_subsetting                                            
⠼ |        5195 | spectra_subsetting                                            
⠦ |        5197 | spectra_subsetting                                            
⠧ |        5198 | spectra_subsetting                                            
⠏ |        5200 | spectra_subsetting                                            
⠙ |        5202 | spectra_subsetting                                            
⠸ |        5204 | spectra_subsetting                                            
⠴ |        5206 | spectra_subsetting                                            
⠧ |        5208 | spectra_subsetting                                            
⠏ |        5210 | spectra_subsetting                                            
⠙ |        5212 | spectra_subsetting                                            
⠸ |        5214 | spectra_subsetting                                            
⠴ |        5216 | spectra_subsetting                                            
⠧ |        5218 | spectra_subsetting                                            
⠏ |        5220 | spectra_subsetting                                            
⠙ |        5222 | spectra_subsetting                                            
⠸ |        5224 | spectra_subsetting                                            
⠴ |        5226 | spectra_subsetting                                            
⠧ |        5228 | spectra_subsetting                                            
⠏ |        5230 | spectra_subsetting                                            
⠙ |        5232 | spectra_subsetting                                            
⠸ |        5234 | spectra_subsetting                                            
⠴ |        5236 | spectra_subsetting                                            
⠧ |        5238 | spectra_subsetting                                            
⠏ |        5240 | spectra_subsetting                                            
⠙ |        5242 | spectra_subsetting                                            
⠸ |        5244 | spectra_subsetting                                            
⠴ |        5246 | spectra_subsetting                                            
⠧ |        5248 | spectra_subsetting                                            
⠏ |        5250 | spectra_subsetting                                            
⠙ |        5252 | spectra_subsetting                                            
⠸ |        5254 | spectra_subsetting                                            
⠴ |        5256 | spectra_subsetting                                            
⠧ |        5258 | spectra_subsetting                                            
⠏ |        5260 | spectra_subsetting                                            
⠙ |        5262 | spectra_subsetting                                            
⠸ |        5264 | spectra_subsetting                                            
⠴ |        5266 | spectra_subsetting                                            
⠧ |        5268 | spectra_subsetting                                            
⠇ |        5269 | spectra_subsetting                                            
⠋ |        5271 | spectra_subsetting                                            
⠹ |        5273 | spectra_subsetting                                            
⠼ |        5275 | spectra_subsetting                                            
⠦ |        5277 | spectra_subsetting                                            
⠇ |        5279 | spectra_subsetting                                            
⠋ |        5281 | spectra_subsetting                                            
⠹ |        5283 | spectra_subsetting                                            
⠼ |        5285 | spectra_subsetting                                            
⠦ |        5287 | spectra_subsetting                                            
⠇ |        5289 | spectra_subsetting                                            
⠋ |        5291 | spectra_subsetting                                            
⠹ |        5293 | spectra_subsetting                                            
⠼ |        5295 | spectra_subsetting                                            
⠴ |        5296 | spectra_subsetting                                            
⠧ |        5298 | spectra_subsetting                                            
⠏ |        5300 | spectra_subsetting                                            
⠙ |        5302 | spectra_subsetting                                            
⠸ |        5304 | spectra_subsetting                                            
⠴ |        5306 | spectra_subsetting                                            
⠧ |        5308 | spectra_subsetting                                            
⠏ |        5310 | spectra_subsetting                                            
⠙ |        5312 | spectra_subsetting                                            
⠸ |        5314 | spectra_subsetting                                            
⠴ |        5316 | spectra_subsetting                                            
⠧ |        5318 | spectra_subsetting                                            
⠏ |        5320 | spectra_subsetting                                            
⠙ |        5322 | spectra_subsetting                                            
⠸ |        5324 | spectra_subsetting                                            
⠴ |        5326 | spectra_subsetting                                            
⠧ |        5328 | spectra_subsetting                                            
⠏ |        5330 | spectra_subsetting                                            
⠙ |        5332 | spectra_subsetting                                            
⠸ |        5334 | spectra_subsetting                                            
⠴ |        5336 | spectra_subsetting                                            
⠧ |        5338 | spectra_subsetting                                            
⠏ |        5340 | spectra_subsetting                                            
⠙ |        5342 | spectra_subsetting                                            
⠸ |        5344 | spectra_subsetting                                            
⠴ |        5346 | spectra_subsetting                                            
⠧ |        5348 | spectra_subsetting                                            
⠏ |        5350 | spectra_subsetting                                            
⠋ |        5351 | spectra_subsetting                                            
⠹ |        5353 | spectra_subsetting                                            
⠼ |        5355 | spectra_subsetting                                            
⠦ |        5357 | spectra_subsetting                                            
⠇ |        5359 | spectra_subsetting                                            
⠋ |        5361 | spectra_subsetting                                            
⠹ |        5363 | spectra_subsetting                                            
⠼ |        5365 | spectra_subsetting                                            
⠦ |        5367 | spectra_subsetting                                            
⠇ |        5369 | spectra_subsetting                                            
⠋ |        5371 | spectra_subsetting                                            
⠹ |        5373 | spectra_subsetting                                            
⠼ |        5375 | spectra_subsetting                                            
⠦ |        5377 | spectra_subsetting                                            
⠇ |        5379 | spectra_subsetting                                            
⠋ |        5381 | spectra_subsetting                                            
⠹ |        5383 | spectra_subsetting                                            
⠼ |        5385 | spectra_subsetting                                            
⠦ |        5387 | spectra_subsetting                                            
⠇ |        5389 | spectra_subsetting                                            
⠋ |        5391 | spectra_subsetting                                            
⠹ |        5393 | spectra_subsetting                                            
⠼ |        5395 | spectra_subsetting                                            
⠦ |        5397 | spectra_subsetting                                            
⠇ |        5399 | spectra_subsetting                                            
⠋ |        5401 | spectra_subsetting                                            
⠹ |        5403 | spectra_subsetting                                            
⠼ |        5405 | spectra_subsetting                                            
⠦ |        5407 | spectra_subsetting                                            
⠧ |        5408 | spectra_subsetting                                            
⠏ |        5410 | spectra_subsetting                                            
⠙ |        5412 | spectra_subsetting                                            
⠸ |        5414 | spectra_subsetting                                            
⠴ |        5416 | spectra_subsetting                                            
⠧ |        5418 | spectra_subsetting                                            
⠏ |        5420 | spectra_subsetting                                            
⠙ |        5422 | spectra_subsetting                                            
⠸ |        5424 | spectra_subsetting                                            
⠴ |        5426 | spectra_subsetting                                            
⠧ |        5428 | spectra_subsetting                                            
⠏ |        5430 | spectra_subsetting                                            
⠙ |        5432 | spectra_subsetting                                            
⠸ |        5434 | spectra_subsetting                                            
⠴ |        5436 | spectra_subsetting                                            
⠧ |        5438 | spectra_subsetting                                            
⠏ |        5440 | spectra_subsetting                                            
⠙ |        5442 | spectra_subsetting                                            
⠸ |        5444 | spectra_subsetting                                            
⠴ |        5446 | spectra_subsetting                                            
⠧ |        5448 | spectra_subsetting                                            
⠏ |        5450 | spectra_subsetting                                            
⠙ |        5452 | spectra_subsetting                                            
⠸ |        5454 | spectra_subsetting                                            
⠴ |        5456 | spectra_subsetting                                            
⠧ |        5458 | spectra_subsetting                                            
⠏ |        5460 | spectra_subsetting                                            
⠙ |        5462 | spectra_subsetting                                            
⠸ |        5464 | spectra_subsetting                                            
⠴ |        5466 | spectra_subsetting                                            
⠦ |        5467 | spectra_subsetting                                            
⠇ |        5469 | spectra_subsetting                                            
⠋ |        5471 | spectra_subsetting                                            
⠹ |        5473 | spectra_subsetting                                            
⠼ |        5475 | spectra_subsetting                                            
⠦ |        5477 | spectra_subsetting                                            
⠇ |        5479 | spectra_subsetting                                            
⠋ |        5481 | spectra_subsetting                                            
⠹ |        5483 | spectra_subsetting                                            
⠼ |        5485 | spectra_subsetting                                            
⠦ |        5487 | spectra_subsetting                                            
⠇ |        5489 | spectra_subsetting                                            
⠋ |        5491 | spectra_subsetting                                            
⠹ |        5493 | spectra_subsetting                                            
⠼ |        5495 | spectra_subsetting                                            
⠦ |        5497 | spectra_subsetting                                            
⠇ |        5499 | spectra_subsetting                                            
⠋ |        5501 | spectra_subsetting                                            
⠹ |        5503 | spectra_subsetting                                            
⠼ |        5505 | spectra_subsetting                                            
⠦ |        5507 | spectra_subsetting                                            
⠇ |        5509 | spectra_subsetting                                            
⠋ |        5511 | spectra_subsetting                                            
⠹ |        5513 | spectra_subsetting                                            
⠼ |        5515 | spectra_subsetting                                            
⠦ |        5517 | spectra_subsetting                                            
⠇ |        5519 | spectra_subsetting                                            
⠋ |        5521 | spectra_subsetting                                            
⠹ |        5523 | spectra_subsetting                                            
⠼ |        5525 | spectra_subsetting                                            
⠦ |        5527 | spectra_subsetting                                            
⠇ |        5529 | spectra_subsetting                                            
⠋ |        5531 | spectra_subsetting                                            
⠹ |        5533 | spectra_subsetting                                            
⠼ |        5535 | spectra_subsetting                                            
⠦ |        5537 | spectra_subsetting                                            
⠇ |        5539 | spectra_subsetting                                            
⠋ |        5541 | spectra_subsetting                                            
⠹ |        5543 | spectra_subsetting                                            
⠼ |        5545 | spectra_subsetting                                            
⠦ |        5547 | spectra_subsetting                                            
⠇ |        5549 | spectra_subsetting                                            
⠋ |        5551 | spectra_subsetting                                            
⠹ |        5553 | spectra_subsetting                                            
⠼ |        5555 | spectra_subsetting                                            
⠴ |        5556 | spectra_subsetting                                            
⠧ |        5558 | spectra_subsetting                                            
⠏ |        5560 | spectra_subsetting                                            
⠙ |        5562 | spectra_subsetting                                            
⠸ |        5564 | spectra_subsetting                                            
⠴ |        5566 | spectra_subsetting                                            
⠧ |        5568 | spectra_subsetting                                            
⠏ |        5570 | spectra_subsetting                                            
⠙ |        5572 | spectra_subsetting                                            
⠸ |        5574 | spectra_subsetting                                            
⠴ |        5576 | spectra_subsetting                                            
⠧ |        5578 | spectra_subsetting                                            
⠏ |        5580 | spectra_subsetting                                            
⠙ |        5582 | spectra_subsetting                                            
⠸ |        5584 | spectra_subsetting                                            
⠴ |        5586 | spectra_subsetting                                            
⠧ |        5588 | spectra_subsetting                                            
⠏ |        5590 | spectra_subsetting                                            
⠙ |        5592 | spectra_subsetting                                            
⠸ |        5594 | spectra_subsetting                                            
⠴ |        5596 | spectra_subsetting                                            
⠧ |        5598 | spectra_subsetting                                            
⠏ |        5600 | spectra_subsetting                                            
⠙ |        5602 | spectra_subsetting                                            
⠸ |        5604 | spectra_subsetting                                            
⠴ |        5606 | spectra_subsetting                                            
⠦ |        5607 | spectra_subsetting                                            
⠇ |        5609 | spectra_subsetting                                            
⠋ |        5611 | spectra_subsetting                                            
⠹ |        5613 | spectra_subsetting                                            
⠼ |        5615 | spectra_subsetting                                            
⠦ |        5617 | spectra_subsetting                                            
⠇ |        5619 | spectra_subsetting                                            
⠋ |        5621 | spectra_subsetting                                            
⠹ |        5623 | spectra_subsetting                                            
⠼ |        5625 | spectra_subsetting                                            
⠦ |        5627 | spectra_subsetting                                            
⠇ |        5629 | spectra_subsetting                                            
⠋ |        5631 | spectra_subsetting                                            
⠙ |        5632 | spectra_subsetting                                            
⠸ |        5634 | spectra_subsetting                                            
⠴ |        5636 | spectra_subsetting                                            
⠧ |        5638 | spectra_subsetting                                            
⠏ |        5640 | spectra_subsetting                                            
⠙ |        5642 | spectra_subsetting                                            
⠸ |        5644 | spectra_subsetting                                            
⠴ |        5646 | spectra_subsetting                                            
⠧ |        5648 | spectra_subsetting                                            
⠏ |        5650 | spectra_subsetting                                            
⠙ |        5652 | spectra_subsetting                                            
⠸ |        5654 | spectra_subsetting                                            
⠴ |        5656 | spectra_subsetting                                            
⠧ |        5658 | spectra_subsetting                                            
⠏ |        5660 | spectra_subsetting                                            
⠙ |        5662 | spectra_subsetting                                            
⠸ |        5664 | spectra_subsetting                                            
⠴ |        5666 | spectra_subsetting                                            
⠧ |        5668 | spectra_subsetting                                            
⠏ |        5670 | spectra_subsetting                                            
⠙ |        5672 | spectra_subsetting                                            
⠸ |        5674 | spectra_subsetting                                            
⠴ |        5676 | spectra_subsetting                                            
⠧ |        5678 | spectra_subsetting                                            
⠏ |        5680 | spectra_subsetting                                            
⠙ |        5682 | spectra_subsetting                                            
⠸ |        5684 | spectra_subsetting                                            
⠴ |        5686 | spectra_subsetting                                            
⠧ |        5688 | spectra_subsetting                                            
⠏ |        5690 | spectra_subsetting                                            
⠙ |        5692 | spectra_subsetting                                            
⠸ |        5694 | spectra_subsetting                                            
⠼ |        5695 | spectra_subsetting                                            
⠦ |        5697 | spectra_subsetting                                            
⠇ |        5699 | spectra_subsetting                                            
⠋ |        5701 | spectra_subsetting                                            
⠹ |        5703 | spectra_subsetting                                            
⠼ |        5705 | spectra_subsetting                                            
⠦ |        5707 | spectra_subsetting                                            
⠇ |        5709 | spectra_subsetting                                            
⠋ |        5711 | spectra_subsetting                                            
⠹ |        5713 | spectra_subsetting                                            
⠼ |        5715 | spectra_subsetting                                            
⠦ |        5717 | spectra_subsetting                                            
⠇ |        5719 | spectra_subsetting                                            
⠋ |        5721 | spectra_subsetting                                            
⠹ |        5723 | spectra_subsetting                                            
⠼ |        5725 | spectra_subsetting                                            
⠦ |        5727 | spectra_subsetting                                            
⠇ |        5729 | spectra_subsetting                                            
⠋ |        5731 | spectra_subsetting                                            
⠹ |        5733 | spectra_subsetting                                            
⠼ |        5735 | spectra_subsetting                                            
⠦ |        5737 | spectra_subsetting                                            
⠇ |        5739 | spectra_subsetting                                            
⠋ |        5741 | spectra_subsetting                                            
⠹ |        5743 | spectra_subsetting                                            
⠼ |        5745 | spectra_subsetting                                            
⠦ |        5747 | spectra_subsetting                                            
⠇ |        5749 | spectra_subsetting                                            
⠋ |        5751 | spectra_subsetting                                            
⠹ |        5753 | spectra_subsetting                                            
⠼ |        5755 | spectra_subsetting                                            
⠦ |        5757 | spectra_subsetting                                            
⠧ |        5758 | spectra_subsetting                                            
⠏ |        5760 | spectra_subsetting                                            
⠙ |        5762 | spectra_subsetting                                            
⠸ |        5764 | spectra_subsetting                                            
⠴ |        5766 | spectra_subsetting                                            
⠧ |        5768 | spectra_subsetting                                            
⠏ |        5770 | spectra_subsetting                                            
⠙ |        5772 | spectra_subsetting                                            
⠸ |        5774 | spectra_subsetting                                            
⠴ |        5776 | spectra_subsetting                                            
⠧ |        5778 | spectra_subsetting                                            
⠏ |        5780 | spectra_subsetting                                            
⠙ |        5782 | spectra_subsetting                                            
⠸ |        5784 | spectra_subsetting                                            
⠴ |        5786 | spectra_subsetting                                            
⠧ |        5788 | spectra_subsetting                                            
⠇ |        5789 | spectra_subsetting                                            
⠋ |        5791 | spectra_subsetting                                            
⠹ |        5793 | spectra_subsetting                                            
⠼ |        5795 | spectra_subsetting                                            
⠦ |        5797 | spectra_subsetting                                            
⠇ |        5799 | spectra_subsetting                                            
⠋ |        5801 | spectra_subsetting                                            
⠹ |        5803 | spectra_subsetting                                            
⠼ |        5805 | spectra_subsetting                                            
⠦ |        5807 | spectra_subsetting                                            
⠇ |        5809 | spectra_subsetting                                            
⠋ |        5811 | spectra_subsetting                                            
⠹ |        5813 | spectra_subsetting                                            
⠼ |        5815 | spectra_subsetting                                            
⠦ |        5817 | spectra_subsetting                                            
⠇ |        5819 | spectra_subsetting                                            
⠋ |        5821 | spectra_subsetting                                            
⠹ |        5823 | spectra_subsetting                                            
⠼ |        5825 | spectra_subsetting                                            
⠦ |        5827 | spectra_subsetting                                            
⠇ |        5829 | spectra_subsetting                                            
⠋ |        5831 | spectra_subsetting                                            
⠹ |        5833 | spectra_subsetting                                            
⠼ |        5835 | spectra_subsetting                                            
⠦ |        5837 | spectra_subsetting                                            
⠇ |        5839 | spectra_subsetting                                            
⠏ |        5840 | spectra_subsetting                                            
⠙ |        5842 | spectra_subsetting                                            
⠸ |        5844 | spectra_subsetting                                            
⠴ |        5846 | spectra_subsetting                                            
⠧ |        5848 | spectra_subsetting                                            
⠏ |        5850 | spectra_subsetting                                            
⠙ |        5852 | spectra_subsetting                                            
⠸ |        5854 | spectra_subsetting                                            
⠴ |        5856 | spectra_subsetting                                            
⠧ |        5858 | spectra_subsetting                                            
⠏ |        5860 | spectra_subsetting                                            
⠙ |        5862 | spectra_subsetting                                            
⠸ |        5864 | spectra_subsetting                                            
⠴ |        5866 | spectra_subsetting                                            
⠧ |        5868 | spectra_subsetting                                            
⠏ |        5870 | spectra_subsetting                                            
⠙ |        5872 | spectra_subsetting                                            
⠸ |        5874 | spectra_subsetting                                            
⠴ |        5876 | spectra_subsetting                                            
⠧ |        5878 | spectra_subsetting                                            
⠏ |        5880 | spectra_subsetting                                            
⠙ |        5882 | spectra_subsetting                                            
⠸ |        5884 | spectra_subsetting                                            
⠴ |        5886 | spectra_subsetting                                            
⠧ |        5888 | spectra_subsetting                                            
⠏ |        5890 | spectra_subsetting                                            
⠙ |        5892 | spectra_subsetting                                            
⠹ |        5893 | spectra_subsetting                                            
⠼ |        5895 | spectra_subsetting                                            
⠦ |        5897 | spectra_subsetting                                            
⠇ |        5899 | spectra_subsetting                                            
⠋ |        5901 | spectra_subsetting                                            
⠹ |        5903 | spectra_subsetting                                            
⠼ |        5905 | spectra_subsetting                                            
⠦ |        5907 | spectra_subsetting                                            
⠇ |        5909 | spectra_subsetting                                            
⠋ |        5911 | spectra_subsetting                                            
⠹ |        5913 | spectra_subsetting                                            
⠼ |        5915 | spectra_subsetting                                            
⠦ |        5917 | spectra_subsetting                                            
⠇ |        5919 | spectra_subsetting                                            
⠋ |        5921 | spectra_subsetting                                            
⠹ |        5923 | spectra_subsetting                                            
⠼ |        5925 | spectra_subsetting                                            
⠦ |        5927 | spectra_subsetting                                            
⠇ |        5929 | spectra_subsetting                                            
⠋ |        5931 | spectra_subsetting                                            
⠹ |        5933 | spectra_subsetting                                            
⠼ |        5935 | spectra_subsetting                                            
⠴ |        5936 | spectra_subsetting                                            
⠧ |        5938 | spectra_subsetting                                            
⠏ |        5940 | spectra_subsetting                                            
⠙ |        5942 | spectra_subsetting                                            
⠸ |        5944 | spectra_subsetting                                            
⠴ |        5946 | spectra_subsetting                                            
⠦ |        5947 | spectra_subsetting                                            
⠇ |        5949 | spectra_subsetting                                            
⠋ |        5951 | spectra_subsetting                                            
⠹ |        5953 | spectra_subsetting                                            
⠼ |        5955 | spectra_subsetting                                            
⠦ |        5957 | spectra_subsetting                                            
⠇ |        5959 | spectra_subsetting                                            
⠋ |        5961 | spectra_subsetting                                            
⠹ |        5963 | spectra_subsetting                                            
⠼ |        5965 | spectra_subsetting                                            
⠦ |        5967 | spectra_subsetting                                            
⠇ |        5969 | spectra_subsetting                                            
⠋ |        5971 | spectra_subsetting                                            
⠹ |        5973 | spectra_subsetting                                            
⠼ |        5975 | spectra_subsetting                                            
⠦ |        5977 | spectra_subsetting                                            
⠇ |        5979 | spectra_subsetting                                            
⠋ |        5981 | spectra_subsetting                                            
⠹ |        5983 | spectra_subsetting                                            
⠼ |        5985 | spectra_subsetting                                            
⠦ |        5987 | spectra_subsetting                                            
⠧ |        5988 | spectra_subsetting                                            
⠏ |        5990 | spectra_subsetting                                            
⠙ |        5992 | spectra_subsetting                                            
⠸ |        5994 | spectra_subsetting                                            
⠴ |        5996 | spectra_subsetting                                            
⠦ |        5997 | spectra_subsetting                                            
⠇ |        5999 | spectra_subsetting                                            
⠋ |        6001 | spectra_subsetting                                            
⠹ |        6003 | spectra_subsetting                                            
⠼ |        6005 | spectra_subsetting                                            
⠦ |        6007 | spectra_subsetting                                            
⠇ |        6009 | spectra_subsetting                                            
⠋ |        6011 | spectra_subsetting                                            
⠹ |        6013 | spectra_subsetting                                            
⠼ |        6015 | spectra_subsetting                                            
⠦ |        6017 | spectra_subsetting                                            
⠇ |        6019 | spectra_subsetting                                            
⠋ |        6021 | spectra_subsetting                                            
⠹ |        6023 | spectra_subsetting                                            
⠼ |        6025 | spectra_subsetting                                            
⠦ |        6027 | spectra_subsetting                                            
⠇ |        6029 | spectra_subsetting                                            
⠋ |        6031 | spectra_subsetting                                            
⠹ |        6033 | spectra_subsetting                                            
⠼ |        6035 | spectra_subsetting                                            
⠦ |        6037 | spectra_subsetting                                            
⠇ |        6039 | spectra_subsetting                                            
⠋ |        6041 | spectra_subsetting                                            
⠹ |        6043 | spectra_subsetting                                            
⠼ |        6045 | spectra_subsetting                                            
⠦ |        6047 | spectra_subsetting                                            
⠇ |        6049 | spectra_subsetting                                            
⠋ |        6051 | spectra_subsetting                                            
⠙ |        6052 | spectra_subsetting                                            
⠸ |        6054 | spectra_subsetting                                            
⠴ |        6056 | spectra_subsetting                                            
⠧ |        6058 | spectra_subsetting                                            
⠏ |        6060 | spectra_subsetting                                            
⠙ |        6062 | spectra_subsetting                                            
⠸ |        6064 | spectra_subsetting                                            
⠴ |        6066 | spectra_subsetting                                            
⠧ |        6068 | spectra_subsetting                                            
⠏ |        6070 | spectra_subsetting                                            
⠙ |        6072 | spectra_subsetting                                            
⠸ |        6074 | spectra_subsetting                                            
⠴ |        6076 | spectra_subsetting                                            
⠧ |        6078 | spectra_subsetting                                            
⠏ |        6080 | spectra_subsetting                                            
⠙ |        6082 | spectra_subsetting                                            
⠸ |        6084 | spectra_subsetting                                            
⠴ |        6086 | spectra_subsetting                                            
⠧ |        6088 | spectra_subsetting                                            
⠏ |        6090 | spectra_subsetting                                            
⠙ |        6092 | spectra_subsetting                                            
⠸ |        6094 | spectra_subsetting                                            
⠴ |        6096 | spectra_subsetting                                            
⠧ |        6098 | spectra_subsetting                                            
⠏ |        6100 | spectra_subsetting                                            
⠙ |        6102 | spectra_subsetting                                            
⠸ |        6104 | spectra_subsetting                                            
⠴ |        6106 | spectra_subsetting                                            
⠦ |        6107 | spectra_subsetting                                            
⠇ |        6109 | spectra_subsetting                                            
⠋ |        6111 | spectra_subsetting                                            
⠹ |        6113 | spectra_subsetting                                            
⠼ |        6115 | spectra_subsetting                                            
⠦ |        6117 | spectra_subsetting                                            
⠇ |        6119 | spectra_subsetting                                            
⠋ |        6121 | spectra_subsetting                                            
⠹ |        6123 | spectra_subsetting                                            
⠼ |        6125 | spectra_subsetting                                            
⠦ |        6127 | spectra_subsetting                                            
⠇ |        6129 | spectra_subsetting                                            
⠋ |        6131 | spectra_subsetting                                            
⠹ |        6133 | spectra_subsetting                                            
⠼ |        6135 | spectra_subsetting                                            
⠦ |        6137 | spectra_subsetting                                            
⠇ |        6139 | spectra_subsetting                                            
⠋ |        6141 | spectra_subsetting                                            
⠹ |        6143 | spectra_subsetting                                            
⠼ |        6145 | spectra_subsetting                                            
⠦ |        6147 | spectra_subsetting                                            
⠇ |        6149 | spectra_subsetting                                            
⠋ |        6151 | spectra_subsetting                                            
⠹ |        6153 | spectra_subsetting                                            
⠼ |        6155 | spectra_subsetting                                            
⠦ |        6157 | spectra_subsetting                                            
⠇ |        6159 | spectra_subsetting                                            
⠋ |        6161 | spectra_subsetting                                            
⠹ |        6163 | spectra_subsetting                                            
⠼ |        6165 | spectra_subsetting                                            
⠦ |        6167 | spectra_subsetting                                            
⠇ |        6169 | spectra_subsetting                                            
⠋ |        6171 | spectra_subsetting                                            
⠹ |        6173 | spectra_subsetting                                            
⠼ |        6175 | spectra_subsetting                                            
⠦ |        6177 | spectra_subsetting                                            
⠇ |        6179 | spectra_subsetting                                            
⠋ |        6181 | spectra_subsetting                                            
⠹ |        6183 | spectra_subsetting                                            
⠼ |        6185 | spectra_subsetting                                            
⠦ |        6187 | spectra_subsetting                                            
⠇ |        6189 | spectra_subsetting                                            
⠋ |        6191 | spectra_subsetting                                            
⠹ |        6193 | spectra_subsetting                                            
⠼ |        6195 | spectra_subsetting                                            
⠦ |        6197 | spectra_subsetting                                            
⠇ |        6199 | spectra_subsetting                                            
⠋ |        6201 | spectra_subsetting                                            
⠹ |        6203 | spectra_subsetting                                            
⠼ |        6205 | spectra_subsetting                                            
⠦ |        6207 | spectra_subsetting                                            
⠇ |        6209 | spectra_subsetting                                            
⠋ |        6211 | spectra_subsetting                                            
⠹ |        6213 | spectra_subsetting                                            
⠼ |        6215 | spectra_subsetting                                            
⠦ |        6217 | spectra_subsetting                                            
⠇ |        6219 | spectra_subsetting                                            
⠋ |        6221 | spectra_subsetting                                            
⠹ |        6223 | spectra_subsetting                                            
⠼ |        6225 | spectra_subsetting                                            
⠦ |        6227 | spectra_subsetting                                            
⠇ |        6229 | spectra_subsetting                                            
⠋ |        6231 | spectra_subsetting                                            
⠹ |        6233 | spectra_subsetting                                            
⠼ |        6235 | spectra_subsetting                                            
⠦ |        6237 | spectra_subsetting                                            
⠇ |        6239 | spectra_subsetting                                            
⠋ |        6241 | spectra_subsetting                                            
⠹ |        6243 | spectra_subsetting                                            
⠼ |        6245 | spectra_subsetting                                            
⠦ |        6247 | spectra_subsetting                                            
⠇ |        6249 | spectra_subsetting                                            
⠋ |        6251 | spectra_subsetting                                            
⠹ |        6253 | spectra_subsetting                                            
⠼ |        6255 | spectra_subsetting                                            
⠦ |        6257 | spectra_subsetting                                            
⠇ |        6259 | spectra_subsetting                                            
⠋ |        6261 | spectra_subsetting                                            
⠹ |        6263 | spectra_subsetting                                            
⠼ |        6265 | spectra_subsetting                                            
⠦ |        6267 | spectra_subsetting                                            
⠇ |        6269 | spectra_subsetting                                            
⠋ |        6271 | spectra_subsetting                                            
⠹ |        6273 | spectra_subsetting                                            
⠼ |        6275 | spectra_subsetting                                            
⠦ |        6277 | spectra_subsetting                                            
⠇ |        6279 | spectra_subsetting                                            
⠋ |        6281 | spectra_subsetting                                            
⠹ |        6283 | spectra_subsetting                                            
⠼ |        6285 | spectra_subsetting                                            
⠦ |        6287 | spectra_subsetting                                            
⠇ |        6289 | spectra_subsetting                                            
⠋ |        6291 | spectra_subsetting                                            
⠹ |        6293 | spectra_subsetting                                            
⠼ |        6295 | spectra_subsetting                                            
⠦ |        6297 | spectra_subsetting                                            
⠇ |        6299 | spectra_subsetting                                            
⠋ |        6301 | spectra_subsetting                                            
⠹ |        6303 | spectra_subsetting                                            
⠼ |        6305 | spectra_subsetting                                            
⠦ |        6307 | spectra_subsetting                                            
⠇ |        6309 | spectra_subsetting                                            
⠋ |        6311 | spectra_subsetting                                            
⠹ |        6313 | spectra_subsetting                                            
⠼ |        6315 | spectra_subsetting                                            
⠦ |        6317 | spectra_subsetting                                            
⠇ |        6319 | spectra_subsetting                                            
⠋ |        6321 | spectra_subsetting                                            
⠹ |        6323 | spectra_subsetting                                            
⠼ |        6325 | spectra_subsetting                                            
⠦ |        6327 | spectra_subsetting                                            
⠇ |        6329 | spectra_subsetting                                            
⠋ |        6331 | spectra_subsetting                                            
⠹ |        6333 | spectra_subsetting                                            
⠼ |        6335 | spectra_subsetting                                            
⠦ |        6337 | spectra_subsetting                                            
⠧ |        6338 | spectra_subsetting                                            
⠏ |        6340 | spectra_subsetting                                            
⠙ |        6342 | spectra_subsetting                                            
⠸ |        6344 | spectra_subsetting                                            
⠴ |        6346 | spectra_subsetting                                            
⠧ |        6348 | spectra_subsetting                                            
⠏ |        6350 | spectra_subsetting                                            
⠙ |        6352 | spectra_subsetting                                            
⠸ |        6354 | spectra_subsetting                                            
⠴ |        6356 | spectra_subsetting                                            
⠧ |        6358 | spectra_subsetting                                            
⠏ |        6360 | spectra_subsetting                                            
⠙ |        6362 | spectra_subsetting                                            
⠸ |        6364 | spectra_subsetting                                            
⠴ |        6366 | spectra_subsetting                                            
⠧ |        6368 | spectra_subsetting                                            
⠏ |        6370 | spectra_subsetting                                            
⠙ |        6372 | spectra_subsetting                                            
⠸ |        6374 | spectra_subsetting                                            
⠴ |        6376 | spectra_subsetting                                            
⠧ |        6378 | spectra_subsetting                                            
⠏ |        6380 | spectra_subsetting                                            
⠙ |        6382 | spectra_subsetting                                            
⠸ |        6384 | spectra_subsetting                                            
⠴ |        6386 | spectra_subsetting                                            
⠧ |        6388 | spectra_subsetting                                            
⠏ |        6390 | spectra_subsetting                                            
⠙ |        6392 | spectra_subsetting                                            
⠸ |        6394 | spectra_subsetting                                            
⠴ |        6396 | spectra_subsetting                                            
⠧ |        6398 | spectra_subsetting                                            
⠏ |        6400 | spectra_subsetting                                            
⠙ |        6402 | spectra_subsetting                                            
⠸ |        6404 | spectra_subsetting                                            
⠴ |        6406 | spectra_subsetting                                            
⠧ |        6408 | spectra_subsetting                                            
⠏ |        6410 | spectra_subsetting                                            
⠙ |        6412 | spectra_subsetting                                            
⠸ |        6414 | spectra_subsetting                                            
⠴ |        6416 | spectra_subsetting                                            
⠧ |        6418 | spectra_subsetting                                            
⠏ |        6420 | spectra_subsetting                                            
⠙ |        6422 | spectra_subsetting                                            
⠸ |        6424 | spectra_subsetting                                            
⠴ |        6426 | spectra_subsetting                                            
⠧ |        6428 | spectra_subsetting                                            
⠏ |        6430 | spectra_subsetting                                            
⠙ |        6432 | spectra_subsetting                                            
⠸ |        6434 | spectra_subsetting                                            
⠴ |        6436 | spectra_subsetting                                            
⠧ |        6438 | spectra_subsetting                                            
⠏ |        6440 | spectra_subsetting                                            
⠙ |        6442 | spectra_subsetting                                            
⠸ |        6444 | spectra_subsetting                                            
⠴ |        6446 | spectra_subsetting                                            
⠧ |        6448 | spectra_subsetting                                            
⠏ |        6450 | spectra_subsetting                                            
⠙ |        6452 | spectra_subsetting                                            
⠸ |        6454 | spectra_subsetting                                            
⠴ |        6456 | spectra_subsetting                                            
⠧ |        6458 | spectra_subsetting                                            
⠏ |        6460 | spectra_subsetting                                            
⠙ |        6462 | spectra_subsetting                                            
⠸ |        6464 | spectra_subsetting                                            
⠴ |        6466 | spectra_subsetting                                            
⠧ |        6468 | spectra_subsetting                                            
⠏ |        6470 | spectra_subsetting                                            
⠙ |        6472 | spectra_subsetting                                            
⠸ |        6474 | spectra_subsetting                                            
⠴ |        6476 | spectra_subsetting                                            
⠧ |        6478 | spectra_subsetting                                            
⠏ |        6480 | spectra_subsetting                                            
⠙ |        6482 | spectra_subsetting                                            
⠸ |        6484 | spectra_subsetting                                            
⠴ |        6486 | spectra_subsetting                                            
⠦ |        6487 | spectra_subsetting                                            
⠇ |        6489 | spectra_subsetting                                            
⠋ |        6491 | spectra_subsetting                                            
⠹ |        6493 | spectra_subsetting                                            
⠼ |        6495 | spectra_subsetting                                            
⠦ |        6497 | spectra_subsetting                                            
⠇ |        6499 | spectra_subsetting                                            
⠋ |        6501 | spectra_subsetting                                            
⠹ |        6503 | spectra_subsetting                                            
⠼ |        6505 | spectra_subsetting                                            
⠦ |        6507 | spectra_subsetting                                            
⠇ |        6509 | spectra_subsetting                                            
⠋ |        6511 | spectra_subsetting                                            
⠹ |        6513 | spectra_subsetting                                            
⠼ |        6515 | spectra_subsetting                                            
⠦ |        6517 | spectra_subsetting                                            
⠇ |        6519 | spectra_subsetting                                            
⠋ |        6521 | spectra_subsetting                                            
⠹ |        6523 | spectra_subsetting                                            
⠼ |        6525 | spectra_subsetting                                            
⠦ |        6527 | spectra_subsetting                                            
⠇ |        6529 | spectra_subsetting                                            
⠋ |        6531 | spectra_subsetting                                            
⠹ |        6533 | spectra_subsetting                                            
⠼ |        6535 | spectra_subsetting                                            
⠦ |        6537 | spectra_subsetting                                            
⠇ |        6539 | spectra_subsetting                                            
⠋ |        6541 | spectra_subsetting                                            
⠹ |        6543 | spectra_subsetting                                            
⠼ |        6545 | spectra_subsetting                                            
⠴ |        6546 | spectra_subsetting                                            
⠧ |        6548 | spectra_subsetting                                            
⠏ |        6550 | spectra_subsetting                                            
⠙ |        6552 | spectra_subsetting                                            
⠸ |        6554 | spectra_subsetting                                            
⠴ |        6556 | spectra_subsetting                                            
⠧ |        6558 | spectra_subsetting                                            
⠏ |        6560 | spectra_subsetting                                            
⠙ |        6562 | spectra_subsetting                                            
⠸ |        6564 | spectra_subsetting                                            
⠴ |        6566 | spectra_subsetting                                            
⠧ |        6568 | spectra_subsetting                                            
⠏ |        6570 | spectra_subsetting                                            
⠙ |        6572 | spectra_subsetting                                            
⠸ |        6574 | spectra_subsetting                                            
⠴ |        6576 | spectra_subsetting                                            
⠧ |        6578 | spectra_subsetting                                            
⠏ |        6580 | spectra_subsetting                                            
⠙ |        6582 | spectra_subsetting                                            
⠸ |        6584 | spectra_subsetting                                            
⠴ |        6586 | spectra_subsetting                                            
⠧ |        6588 | spectra_subsetting                                            
⠏ |        6590 | spectra_subsetting                                            
⠙ |        6592 | spectra_subsetting                                            
⠸ |        6594 | spectra_subsetting                                            
⠴ |        6596 | spectra_subsetting                                            
⠦ |        6597 | spectra_subsetting                                            
⠇ |        6599 | spectra_subsetting                                            
⠋ |        6601 | spectra_subsetting                                            
⠹ |        6603 | spectra_subsetting                                            
⠼ |        6605 | spectra_subsetting                                            
⠦ |        6607 | spectra_subsetting                                            
⠇ |        6609 | spectra_subsetting                                            
⠋ |        6611 | spectra_subsetting                                            
⠹ |        6613 | spectra_subsetting                                            
⠼ |        6615 | spectra_subsetting                                            
⠦ |        6617 | spectra_subsetting                                            
⠇ |        6619 | spectra_subsetting                                            
⠋ |        6621 | spectra_subsetting                                            
⠹ |        6623 | spectra_subsetting                                            
⠼ |        6625 | spectra_subsetting                                            
⠦ |        6627 | spectra_subsetting                                            
⠇ |        6629 | spectra_subsetting                                            
⠋ |        6631 | spectra_subsetting                                            
⠹ |        6633 | spectra_subsetting                                            
⠼ |        6635 | spectra_subsetting                                            
⠦ |        6637 | spectra_subsetting                                            
⠇ |        6639 | spectra_subsetting                                            
⠋ |        6641 | spectra_subsetting                                            
⠹ |        6643 | spectra_subsetting                                            
⠼ |        6645 | spectra_subsetting                                            
⠦ |        6647 | spectra_subsetting                                            
⠇ |        6649 | spectra_subsetting                                            
⠋ |        6651 | spectra_subsetting                                            
⠹ |        6653 | spectra_subsetting                                            
⠼ |        6655 | spectra_subsetting                                            
⠦ |        6657 | spectra_subsetting                                            
⠇ |        6659 | spectra_subsetting                                            
⠹ |        6663 | spectra_subsetting                                            
⠇ |        6669 | spectra_subsetting                                            
⠹ |        6673 | spectra_subsetting                                            
⠇ |        6679 | spectra_subsetting                                            
⠸ |        6694 | spectra_subsetting                                            
⠋ |        6701 | spectra_subsetting                                            
✔ |        6702 | spectra_subsetting [158.1s]

⠏ |          0 | spectra_variables                                              
⠙ |         12 | spectra_variables                                              
⠸ |         14 | spectra_variables                                              
⠴ |         16 | spectra_variables                                              
⠦ |         27 | spectra_variables                                              
⠇ |         29 | spectra_variables                                              
⠋ |         31 | spectra_variables                                              
⠹ |         43 | spectra_variables                                              
⠸ |         54 | spectra_variables                                              
✔ |      1  62 | spectra_variables [2.0s]

══ Results ═════════════════════════════════════════════════════════════════════
Duration: 160.5 s

── Skipped tests (1) ───────────────────────────────────────────────────────────
• empty test (1): 'test_spectra_variables.R:262:1'

[ FAIL 0 | WARN 0 | SKIP 1 | PASS 6768 ]
> 
> proc.time()
   user  system elapsed 
154.092  11.313 314.232 

Example timings

MsBackendMetaboLights.Rcheck/MsBackendMetaboLights-Ex.timings

nameusersystemelapsed
MetaboLights-utils0.1330.0156.679
MsBackendMetaboLights2.8730.5359.672