Back to Multiple platform build/check report for BioC 3.23:   simplified   long
ABCDEFGHIJKLMNOPQR[S]TUVWXYZ

This page was generated on 2025-11-21 11:40 -0500 (Fri, 21 Nov 2025).

HostnameOSArch (*)R versionInstalled pkgs
nebbiolo1Linux (Ubuntu 24.04.3 LTS)x86_64R Under development (unstable) (2025-10-20 r88955) -- "Unsuffered Consequences" 4829
lconwaymacOS 12.7.6 Montereyx86_64R Under development (unstable) (2025-10-21 r88958) -- "Unsuffered Consequences" 4602
kjohnson3macOS 13.7.7 Venturaarm64R Under development (unstable) (2025-11-04 r88984) -- "Unsuffered Consequences" 4566
Click on any hostname to see more info about the system (e.g. compilers)      (*) as reported by 'uname -p', except on Windows and Mac OS X

Package 1962/2327HostnameOS / ArchINSTALLBUILDCHECKBUILD BIN
sesame 1.29.0  (landing page)
Wanding Zhou
Snapshot Date: 2025-11-20 13:40 -0500 (Thu, 20 Nov 2025)
git_url: https://git.bioconductor.org/packages/sesame
git_branch: devel
git_last_commit: 92283cb
git_last_commit_date: 2025-10-29 10:46:05 -0500 (Wed, 29 Oct 2025)
nebbiolo1Linux (Ubuntu 24.04.3 LTS) / x86_64  OK    OK    OK  UNNEEDED, same version is already published
lconwaymacOS 12.7.6 Monterey / x86_64  OK    OK    OK    OK  NO, package depends on 'GenomicRanges' which is only available as a source package that needs compilation
kjohnson3macOS 13.7.7 Ventura / arm64  OK    OK    OK    OK  NO, package depends on 'GenomicRanges' which is only available as a source package that needs compilation


CHECK results for sesame on kjohnson3

To the developers/maintainers of the sesame package:
- Allow up to 24 hours (and sometimes 48 hours) for your latest push to git@git.bioconductor.org:packages/sesame.git to reflect on this report. See Troubleshooting Build Report for more information.
- Use the following Renviron settings to reproduce errors and warnings.
- If 'R CMD check' started to fail recently on the Linux builder(s) over a missing dependency, add the missing dependency to 'Suggests:' in your DESCRIPTION file. See Renviron.bioc for more information.

raw results


Summary

Package: sesame
Version: 1.29.0
Command: /Library/Frameworks/R.framework/Resources/bin/R CMD check --install=check:sesame.install-out.txt --library=/Library/Frameworks/R.framework/Resources/library --no-vignettes --timings sesame_1.29.0.tar.gz
StartedAt: 2025-11-20 22:28:19 -0500 (Thu, 20 Nov 2025)
EndedAt: 2025-11-20 22:33:39 -0500 (Thu, 20 Nov 2025)
EllapsedTime: 320.2 seconds
RetCode: 0
Status:   OK  
CheckDir: sesame.Rcheck
Warnings: 0

Command output

##############################################################################
##############################################################################
###
### Running command:
###
###   /Library/Frameworks/R.framework/Resources/bin/R CMD check --install=check:sesame.install-out.txt --library=/Library/Frameworks/R.framework/Resources/library --no-vignettes --timings sesame_1.29.0.tar.gz
###
##############################################################################
##############################################################################


* using log directory ‘/Users/biocbuild/bbs-3.23-bioc/meat/sesame.Rcheck’
* using R Under development (unstable) (2025-11-04 r88984)
* using platform: aarch64-apple-darwin20
* R was compiled by
    Apple clang version 16.0.0 (clang-1600.0.26.6)
    GNU Fortran (GCC) 14.2.0
* running under: macOS Ventura 13.7.8
* using session charset: UTF-8
* using option ‘--no-vignettes’
* checking for file ‘sesame/DESCRIPTION’ ... OK
* checking extension type ... Package
* this is package ‘sesame’ version ‘1.29.0’
* package encoding: UTF-8
* checking package namespace information ... OK
* checking package dependencies ... OK
* checking if this is a source package ... OK
* checking if there is a namespace ... OK
* checking for hidden files and directories ... OK
* checking for portable file names ... OK
* checking for sufficient/correct file permissions ... OK
* checking whether package ‘sesame’ can be installed ... OK
* checking installed package size ... OK
* checking package directory ... OK
* checking ‘build’ directory ... OK
* checking DESCRIPTION meta-information ... OK
* checking top-level files ... OK
* checking for left-over files ... OK
* checking index information ... OK
* checking package subdirectories ... OK
* checking code files for non-ASCII characters ... OK
* checking R files for syntax errors ... OK
* checking whether the package can be loaded ... OK
* checking whether the package can be loaded with stated dependencies ... OK
* checking whether the package can be unloaded cleanly ... OK
* checking whether the namespace can be loaded with stated dependencies ... OK
* checking whether the namespace can be unloaded cleanly ... OK
* checking whether startup messages can be suppressed ... OK
* checking dependencies in R code ... OK
* checking S3 generic/method consistency ... OK
* checking replacement functions ... OK
* checking foreign function calls ... OK
* checking R code for possible problems ... OK
* checking Rd files ... OK
* checking Rd metadata ... OK
* checking Rd cross-references ... OK
* checking for missing documentation entries ... OK
* checking for code/documentation mismatches ... OK
* checking Rd \usage sections ... OK
* checking Rd contents ... OK
* checking for unstated dependencies in examples ... OK
* checking files in ‘vignettes’ ... OK
* checking examples ... OK
Examples with CPU (user + system) or elapsed time > 5s
                                user system elapsed
imputeBetasByGenomicNeighbors 15.250  0.640  16.796
inferSex                       9.792  0.522  10.993
sesameQC_calcStats             8.528  0.860  10.174
sesameQC_plotHeatSNPs          8.045  0.832   9.418
imputeBetas                    7.621  0.655   9.082
sesameQC_plotBar               7.211  0.225   7.984
ELBAR                          5.858  1.366   7.677
inferSpecies                   6.723  0.329   7.437
getRefSet                      6.069  0.192   6.674
diffRefSet                     5.980  0.267   6.702
matchDesign                    4.709  0.297   5.154
compareReference               4.644  0.243   5.087
getMask                        2.446  0.209   5.638
* checking for unstated dependencies in ‘tests’ ... OK
* checking tests ...
  Running ‘testthat.R’
 OK
* checking for unstated dependencies in vignettes ... OK
* checking package vignettes ... OK
* checking running R code from vignettes ... SKIPPED
* checking re-building of vignette outputs ... SKIPPED
* checking PDF version of manual ... OK
* DONE

Status: OK


Installation output

sesame.Rcheck/00install.out

##############################################################################
##############################################################################
###
### Running command:
###
###   /Library/Frameworks/R.framework/Resources/bin/R CMD INSTALL sesame
###
##############################################################################
##############################################################################


* installing to library ‘/Library/Frameworks/R.framework/Versions/4.6-arm64/Resources/library’
* installing *source* package ‘sesame’ ...
** this is package ‘sesame’ version ‘1.29.0’
** using staged installation
** R
** inst
** byte-compile and prepare package for lazy loading
** help
*** installing help indices
** building package indices
** installing vignettes
** testing if installed package can be loaded from temporary location
** testing if installed package can be loaded from final location
** testing if installed package keeps a record of temporary installation path
* DONE (sesame)

Tests output

sesame.Rcheck/tests/testthat.Rout


R Under development (unstable) (2025-11-04 r88984) -- "Unsuffered Consequences"
Copyright (C) 2025 The R Foundation for Statistical Computing
Platform: aarch64-apple-darwin20

R is free software and comes with ABSOLUTELY NO WARRANTY.
You are welcome to redistribute it under certain conditions.
Type 'license()' or 'licence()' for distribution details.

R is a collaborative project with many contributors.
Type 'contributors()' for more information and
'citation()' on how to cite R or R packages in publications.

Type 'demo()' for some demos, 'help()' for on-line help, or
'help.start()' for an HTML browser interface to help.
Type 'q()' to quit R.

> library(testthat)
> library(sesame)
Loading required package: sesameData
Loading required package: ExperimentHub
Loading required package: BiocGenerics
Loading required package: generics

Attaching package: 'generics'

The following objects are masked from 'package:base':

    as.difftime, as.factor, as.ordered, intersect, is.element, setdiff,
    setequal, union


Attaching package: 'BiocGenerics'

The following objects are masked from 'package:stats':

    IQR, mad, sd, var, xtabs

The following objects are masked from 'package:base':

    Filter, Find, Map, Position, Reduce, anyDuplicated, aperm, append,
    as.data.frame, basename, cbind, colnames, dirname, do.call,
    duplicated, eval, evalq, get, grep, grepl, is.unsorted, lapply,
    mapply, match, mget, order, paste, pmax, pmax.int, pmin, pmin.int,
    rank, rbind, rownames, sapply, saveRDS, table, tapply, unique,
    unsplit, which.max, which.min

Loading required package: AnnotationHub
Loading required package: BiocFileCache
Loading required package: dbplyr
Loading sesameData.

----------------------------------------------------------
| SEnsible Step-wise Analysis of DNA MEthylation (SeSAMe)
| --------------------------------------------------------
| Please cache auxiliary data by "sesameDataCache()".
| This needs to be done only once per SeSAMe installation.
----------------------------------------------------------

> 
> test_check("sesame")
[ FAIL 0 | WARN 0 | SKIP 0 | PASS 5 ]
> 
> proc.time()
   user  system elapsed 
  8.187   0.301   8.987 

Example timings

sesame.Rcheck/sesame-Ex.timings

nameusersystemelapsed
BetaValueToMValue0.0000.0010.000
DML2.2710.0802.564
DMLpredict0.4120.0390.497
DMR3.2770.0833.628
ELBAR5.8581.3667.677
MValueToBetaValue000
SigDF0.0990.0240.131
addMask0.0430.0110.056
betasCollapseToPfx0.0050.0000.005
bisConversionControl2.2040.0862.466
calcEffectSize0.4130.0590.516
checkLevels1.6830.0771.888
cnSegmentation0.0920.0220.120
compareMouseStrainReference4.0780.1664.435
compareMouseTissueReference000
compareReference4.6440.2435.087
controls0.7630.0760.874
createUCSCtrack2.2990.1092.545
deIdentify2.1240.1502.433
detectionPnegEcdf0.4700.0100.485
diffRefSet5.9800.2676.702
dmContrasts0.7650.0920.928
dyeBiasCorr1.0870.1271.285
dyeBiasCorrMostBalanced3.4390.1383.965
dyeBiasL0.9810.0751.124
dyeBiasNL2.0360.2232.474
estimateLeukocyte2.8390.1653.233
formatVCF0.8440.0801.020
getAFTypeIbySumAlleles0.5850.0770.757
getAFs0.4130.0600.514
getBetas0.2890.0450.363
getMask2.4460.2095.638
getRefSet6.0690.1926.674
imputeBetas7.6210.6559.082
imputeBetasByGenomicNeighbors15.250 0.64016.796
imputeBetasMatrixByMean0.0000.0000.001
inferEthnicity0.0010.0000.001
inferInfiniumIChannel0.1400.1920.346
inferSex 9.792 0.52210.993
inferSpecies6.7230.3297.437
inferStrain3.6560.2474.023
inferTissue2.4570.3532.985
initFileSet0.3560.0640.449
listAvailableMasks0.4170.0600.515
mLiftOver0.0000.0000.002
mapFileSet0.0170.0010.019
mapToMammal400.8460.1231.033
matchDesign4.7090.2975.154
meanIntensity1.0150.1461.197
medianTotalIntensity0.2750.0410.335
noMasked1.3220.0971.479
noob0.8430.0850.942
openSesame1.8460.2652.219
openSesameToFile0.6080.0700.704
pOOBAH0.5430.0340.586
palgen0.0160.0020.019
parseGEOsignalMU1.2590.0931.400
predictAge1.0850.0801.225
predictAgeHorvath353000
predictAgeSkinBlood000
predictMouseAgeInMonth0.0000.0010.000
prefixMask0.2040.0020.209
prefixMaskButC0.0710.0020.072
prefixMaskButCG0.0170.0000.018
prepSesame1.2780.1361.466
prepSesameList000
print.DMLSummary1.3980.1821.705
print.fileSet0.3780.0720.473
probeID_designType0.0000.0010.000
probeSuccessRate2.1390.1792.455
qualityMask0.5600.0890.704
reIdentify1.7180.0691.853
readFileSet0.0280.0040.031
readIDATpair0.0510.0040.055
recommendedMaskNames0.0000.0010.000
resetMask0.1260.0290.160
scrub0.9580.1581.161
scrubSoft1.4690.3701.938
sdfPlatform0.0980.0200.122
sdf_read_table3.8950.2024.192
sdf_write_table1.1020.0671.197
searchIDATprefixes0.0020.0010.004
sesame-package1.1550.0971.285
sesameAnno_attachManifest000
sesameAnno_buildAddressFile000
sesameAnno_buildManifestGRanges000
sesameAnno_download0.0000.0010.000
sesameAnno_readManifestTSV000
sesameQC_calcStats 8.528 0.86010.174
sesameQC_getStats0.8540.0360.931
sesameQC_plotBar7.2110.2257.984
sesameQC_plotBetaByDesign3.7460.5044.573
sesameQC_plotHeatSNPs8.0450.8329.418
sesameQC_plotIntensVsBetas0.5810.0980.705
sesameQC_plotRedGrnQQ0.5720.1110.747
sesameQC_rankStats1.0390.1671.251
sesameQCtoDF0.9440.0711.062
sesame_checkVersion0.0010.0010.002
sesamize000
setMask0.0230.0000.023
signalMU0.2590.0270.318
sliceFileSet0.0150.0010.017
summaryExtractTest1.2930.1641.625
totalIntensities0.9540.1121.134
updateSigDF1.1630.1581.350
visualizeGene3.8980.2414.376
visualizeProbes0.5020.0200.535
visualizeRegion0.1260.0080.134
visualizeSegments0.9110.0791.087