| Back to Build/check report for BioC 3.23: simplified long | 
  | 
This page was generated on 2025-11-03 11:33 -0500 (Mon, 03 Nov 2025).
| Hostname | OS | Arch (*) | R version | Installed pkgs | 
|---|---|---|---|---|
| nebbiolo1 | Linux (Ubuntu 24.04.3 LTS) | x86_64 | R Under development (unstable) (2025-10-20 r88955) -- "Unsuffered Consequences" | 4775 | 
| Click on any hostname to see more info about the system (e.g. compilers) (*) as reported by 'uname -p', except on Windows and Mac OS X | ||||
| Package 1957/2321 | Hostname | OS / Arch | INSTALL | BUILD | CHECK | BUILD BIN | ||||||||
| sesame 1.29.0  (landing page) Wanding Zhou 
  | nebbiolo1 | Linux (Ubuntu 24.04.3 LTS) / x86_64 | OK | OK | OK | |||||||||
| 
To the developers/maintainers of the sesame package: - Allow up to 24 hours (and sometimes 48 hours) for your latest push to git@git.bioconductor.org:packages/sesame.git to reflect on this report. See Troubleshooting Build Report for more information. - Use the following Renviron settings to reproduce errors and warnings. - If 'R CMD check' started to fail recently on the Linux builder(s) over a missing dependency, add the missing dependency to 'Suggests:' in your DESCRIPTION file. See Renviron.bioc for more information.  | 
| Package: sesame | 
| Version: 1.29.0 | 
| Command: /home/biocbuild/bbs-3.23-bioc/R/bin/R CMD check --install=check:sesame.install-out.txt --library=/home/biocbuild/bbs-3.23-bioc/R/site-library --timings sesame_1.29.0.tar.gz | 
| StartedAt: 2025-11-03 03:23:02 -0500 (Mon, 03 Nov 2025) | 
| EndedAt: 2025-11-03 03:39:59 -0500 (Mon, 03 Nov 2025) | 
| EllapsedTime: 1016.4 seconds | 
| RetCode: 0 | 
| Status: OK | 
| CheckDir: sesame.Rcheck | 
| Warnings: 0 | 
##############################################################################
##############################################################################
###
### Running command:
###
###   /home/biocbuild/bbs-3.23-bioc/R/bin/R CMD check --install=check:sesame.install-out.txt --library=/home/biocbuild/bbs-3.23-bioc/R/site-library --timings sesame_1.29.0.tar.gz
###
##############################################################################
##############################################################################
* using log directory ‘/home/biocbuild/bbs-3.23-bioc/meat/sesame.Rcheck’
* using R Under development (unstable) (2025-10-20 r88955)
* using platform: x86_64-pc-linux-gnu
* R was compiled by
    gcc (Ubuntu 13.3.0-6ubuntu2~24.04) 13.3.0
    GNU Fortran (Ubuntu 13.3.0-6ubuntu2~24.04) 13.3.0
* running under: Ubuntu 24.04.3 LTS
* using session charset: UTF-8
* checking for file ‘sesame/DESCRIPTION’ ... OK
* checking extension type ... Package
* this is package ‘sesame’ version ‘1.29.0’
* package encoding: UTF-8
* checking package namespace information ... OK
* checking package dependencies ... OK
* checking if this is a source package ... OK
* checking if there is a namespace ... OK
* checking for hidden files and directories ... OK
* checking for portable file names ... OK
* checking for sufficient/correct file permissions ... OK
* checking whether package ‘sesame’ can be installed ... OK
* checking installed package size ... OK
* checking package directory ... OK
* checking ‘build’ directory ... OK
* checking DESCRIPTION meta-information ... OK
* checking top-level files ... OK
* checking for left-over files ... OK
* checking index information ... OK
* checking package subdirectories ... OK
* checking code files for non-ASCII characters ... OK
* checking R files for syntax errors ... OK
* checking whether the package can be loaded ... OK
* checking whether the package can be loaded with stated dependencies ... OK
* checking whether the package can be unloaded cleanly ... OK
* checking whether the namespace can be loaded with stated dependencies ... OK
* checking whether the namespace can be unloaded cleanly ... OK
* checking loading without being on the library search path ... OK
* checking whether startup messages can be suppressed ... OK
* checking dependencies in R code ... OK
* checking S3 generic/method consistency ... OK
* checking replacement functions ... OK
* checking foreign function calls ... OK
* checking R code for possible problems ... OK
* checking Rd files ... OK
* checking Rd metadata ... OK
* checking Rd cross-references ... OK
* checking for missing documentation entries ... OK
* checking for code/documentation mismatches ... OK
* checking Rd \usage sections ... OK
* checking Rd contents ... OK
* checking for unstated dependencies in examples ... OK
* checking files in ‘vignettes’ ... OK
* checking examples ... OK
Examples with CPU (user + system) or elapsed time > 5s
                                user system elapsed
imputeBetasByGenomicNeighbors 32.674  0.826  33.504
inferSex                      22.240  0.289  22.531
sesameQC_calcStats            17.918  0.182  18.100
imputeBetas                   17.231  0.626  17.860
sesameQC_plotHeatSNPs         16.501  0.277  16.778
inferSpecies                  15.582  0.902  16.499
ELBAR                         13.426  0.330  13.762
diffRefSet                    13.121  0.328  13.452
getRefSet                     12.417  0.309  12.727
compareMouseStrainReference   11.553  0.293  11.848
sesameQC_plotBar              10.845  0.334  11.179
matchDesign                   10.878  0.222  11.100
compareReference              10.607  0.298  10.911
sesameQC_plotBetaByDesign     10.267  0.123  10.390
visualizeGene                  9.211  0.384   9.596
inferStrain                    8.541  0.726   9.267
DMR                            8.561  0.521   9.084
DML                            6.616  1.203   7.821
sdf_read_table                 7.222  0.192   7.415
dyeBiasCorrMostBalanced        6.454  0.224   6.679
inferTissue                    6.349  0.271   6.620
dyeBiasNL                      6.401  0.134   6.536
estimateLeukocyte              6.250  0.267   6.519
getMask                        5.938  0.278   6.222
deIdentify                     5.359  0.198   5.560
openSesame                     5.309  0.209   5.522
reIdentify                     5.290  0.092   5.381
probeSuccessRate               5.120  0.261   5.382
createUCSCtrack                5.025  0.324   5.351
* checking for unstated dependencies in ‘tests’ ... OK
* checking tests ...
  Running ‘testthat.R’
 OK
* checking for unstated dependencies in vignettes ... OK
* checking package vignettes ... OK
* checking re-building of vignette outputs ... OK
* checking PDF version of manual ... OK
* DONE
Status: OK
sesame.Rcheck/00install.out
############################################################################## ############################################################################## ### ### Running command: ### ### /home/biocbuild/bbs-3.23-bioc/R/bin/R CMD INSTALL sesame ### ############################################################################## ############################################################################## * installing to library ‘/home/biocbuild/bbs-3.23-bioc/R/site-library’ * installing *source* package ‘sesame’ ... ** this is package ‘sesame’ version ‘1.29.0’ ** using staged installation ** R ** inst ** byte-compile and prepare package for lazy loading ** help *** installing help indices ** building package indices ** installing vignettes ** testing if installed package can be loaded from temporary location ** testing if installed package can be loaded from final location ** testing if installed package keeps a record of temporary installation path * DONE (sesame)
sesame.Rcheck/tests/testthat.Rout
R Under development (unstable) (2025-10-20 r88955) -- "Unsuffered Consequences"
Copyright (C) 2025 The R Foundation for Statistical Computing
Platform: x86_64-pc-linux-gnu
R is free software and comes with ABSOLUTELY NO WARRANTY.
You are welcome to redistribute it under certain conditions.
Type 'license()' or 'licence()' for distribution details.
R is a collaborative project with many contributors.
Type 'contributors()' for more information and
'citation()' on how to cite R or R packages in publications.
Type 'demo()' for some demos, 'help()' for on-line help, or
'help.start()' for an HTML browser interface to help.
Type 'q()' to quit R.
> library(testthat)
> library(sesame)
Loading required package: sesameData
Loading required package: ExperimentHub
Loading required package: BiocGenerics
Loading required package: generics
Attaching package: 'generics'
The following objects are masked from 'package:base':
    as.difftime, as.factor, as.ordered, intersect, is.element, setdiff,
    setequal, union
Attaching package: 'BiocGenerics'
The following objects are masked from 'package:stats':
    IQR, mad, sd, var, xtabs
The following objects are masked from 'package:base':
    Filter, Find, Map, Position, Reduce, anyDuplicated, aperm, append,
    as.data.frame, basename, cbind, colnames, dirname, do.call,
    duplicated, eval, evalq, get, grep, grepl, is.unsorted, lapply,
    mapply, match, mget, order, paste, pmax, pmax.int, pmin, pmin.int,
    rank, rbind, rownames, sapply, saveRDS, table, tapply, unique,
    unsplit, which.max, which.min
Loading required package: AnnotationHub
Loading required package: BiocFileCache
Loading required package: dbplyr
Loading sesameData.
----------------------------------------------------------
| SEnsible Step-wise Analysis of DNA MEthylation (SeSAMe)
| --------------------------------------------------------
| Please cache auxiliary data by "sesameDataCache()".
| This needs to be done only once per SeSAMe installation.
----------------------------------------------------------
> 
> test_check("sesame")
[ FAIL 0 | WARN 0 | SKIP 0 | PASS 5 ]
> 
> proc.time()
   user  system elapsed 
 20.338   1.119  21.444 
sesame.Rcheck/sesame-Ex.timings
| name | user | system | elapsed | |
| BetaValueToMValue | 0.000 | 0.000 | 0.001 | |
| DML | 6.616 | 1.203 | 7.821 | |
| DMLpredict | 1.313 | 0.119 | 1.433 | |
| DMR | 8.561 | 0.521 | 9.084 | |
| ELBAR | 13.426 | 0.330 | 13.762 | |
| MValueToBetaValue | 0 | 0 | 0 | |
| SigDF | 0.300 | 0.055 | 0.355 | |
| addMask | 0.069 | 0.000 | 0.069 | |
| betasCollapseToPfx | 0.010 | 0.002 | 0.012 | |
| bisConversionControl | 4.359 | 0.214 | 4.574 | |
| calcEffectSize | 1.160 | 0.093 | 1.254 | |
| checkLevels | 3.619 | 0.207 | 3.827 | |
| cnSegmentation | 0.287 | 0.049 | 0.336 | |
| compareMouseStrainReference | 11.553 | 0.293 | 11.848 | |
| compareMouseTissueReference | 0.000 | 0.000 | 0.001 | |
| compareReference | 10.607 | 0.298 | 10.911 | |
| controls | 2.025 | 0.128 | 2.154 | |
| createUCSCtrack | 5.025 | 0.324 | 5.351 | |
| deIdentify | 5.359 | 0.198 | 5.560 | |
| detectionPnegEcdf | 0.858 | 0.037 | 0.895 | |
| diffRefSet | 13.121 | 0.328 | 13.452 | |
| dmContrasts | 1.965 | 0.073 | 2.039 | |
| dyeBiasCorr | 2.734 | 0.143 | 2.878 | |
| dyeBiasCorrMostBalanced | 6.454 | 0.224 | 6.679 | |
| dyeBiasL | 2.089 | 0.177 | 2.268 | |
| dyeBiasNL | 6.401 | 0.134 | 6.536 | |
| estimateLeukocyte | 6.250 | 0.267 | 6.519 | |
| formatVCF | 2.073 | 0.115 | 2.189 | |
| getAFTypeIbySumAlleles | 1.642 | 0.113 | 1.756 | |
| getAFs | 0.867 | 0.047 | 0.915 | |
| getBetas | 0.767 | 0.047 | 0.814 | |
| getMask | 5.938 | 0.278 | 6.222 | |
| getRefSet | 12.417 | 0.309 | 12.727 | |
| imputeBetas | 17.231 | 0.626 | 17.860 | |
| imputeBetasByGenomicNeighbors | 32.674 | 0.826 | 33.504 | |
| imputeBetasMatrixByMean | 0.001 | 0.001 | 0.002 | |
| inferEthnicity | 0.001 | 0.000 | 0.001 | |
| inferInfiniumIChannel | 0.251 | 0.543 | 0.794 | |
| inferSex | 22.240 | 0.289 | 22.531 | |
| inferSpecies | 15.582 | 0.902 | 16.499 | |
| inferStrain | 8.541 | 0.726 | 9.267 | |
| inferTissue | 6.349 | 0.271 | 6.620 | |
| initFileSet | 1.189 | 0.061 | 1.250 | |
| listAvailableMasks | 1.337 | 0.077 | 1.414 | |
| mLiftOver | 0.001 | 0.001 | 0.002 | |
| mapFileSet | 0.031 | 0.002 | 0.034 | |
| mapToMammal40 | 2.818 | 0.169 | 2.990 | |
| matchDesign | 10.878 | 0.222 | 11.100 | |
| meanIntensity | 2.737 | 0.139 | 2.876 | |
| medianTotalIntensity | 0.834 | 0.048 | 0.882 | |
| noMasked | 3.547 | 0.185 | 3.732 | |
| noob | 1.796 | 0.041 | 1.836 | |
| openSesame | 5.309 | 0.209 | 5.522 | |
| openSesameToFile | 1.327 | 0.012 | 1.339 | |
| pOOBAH | 1.212 | 0.018 | 1.230 | |
| palgen | 0.038 | 0.002 | 0.040 | |
| parseGEOsignalMU | 2.913 | 0.101 | 3.015 | |
| predictAge | 2.290 | 0.096 | 2.387 | |
| predictAgeHorvath353 | 0 | 0 | 0 | |
| predictAgeSkinBlood | 0.000 | 0.001 | 0.000 | |
| predictMouseAgeInMonth | 0.001 | 0.000 | 0.000 | |
| prefixMask | 0.439 | 0.000 | 0.439 | |
| prefixMaskButC | 0.135 | 0.001 | 0.135 | |
| prefixMaskButCG | 0.059 | 0.000 | 0.058 | |
| prepSesame | 3.608 | 0.087 | 3.695 | |
| prepSesameList | 0.002 | 0.000 | 0.001 | |
| print.DMLSummary | 2.882 | 0.145 | 3.027 | |
| print.fileSet | 1.283 | 0.077 | 1.360 | |
| probeID_designType | 0.000 | 0.000 | 0.001 | |
| probeSuccessRate | 5.120 | 0.261 | 5.382 | |
| qualityMask | 2.266 | 0.133 | 2.399 | |
| reIdentify | 5.290 | 0.092 | 5.381 | |
| readFileSet | 0.052 | 0.000 | 0.051 | |
| readIDATpair | 0.115 | 0.001 | 0.116 | |
| recommendedMaskNames | 0.000 | 0.001 | 0.000 | |
| resetMask | 0.402 | 0.061 | 0.463 | |
| scrub | 2.176 | 0.036 | 2.211 | |
| scrubSoft | 3.037 | 0.081 | 3.118 | |
| sdfPlatform | 0.292 | 0.046 | 0.338 | |
| sdf_read_table | 7.222 | 0.192 | 7.415 | |
| sdf_write_table | 1.647 | 0.090 | 1.849 | |
| searchIDATprefixes | 0.006 | 0.003 | 0.010 | |
| sesame-package | 2.387 | 0.117 | 2.503 | |
| sesameAnno_attachManifest | 0.001 | 0.000 | 0.000 | |
| sesameAnno_buildAddressFile | 0 | 0 | 0 | |
| sesameAnno_buildManifestGRanges | 0.000 | 0.000 | 0.001 | |
| sesameAnno_download | 0 | 0 | 0 | |
| sesameAnno_readManifestTSV | 0.000 | 0.001 | 0.000 | |
| sesameQC_calcStats | 17.918 | 0.182 | 18.100 | |
| sesameQC_getStats | 1.558 | 0.008 | 1.566 | |
| sesameQC_plotBar | 10.845 | 0.334 | 11.179 | |
| sesameQC_plotBetaByDesign | 10.267 | 0.123 | 10.390 | |
| sesameQC_plotHeatSNPs | 16.501 | 0.277 | 16.778 | |
| sesameQC_plotIntensVsBetas | 1.820 | 0.051 | 1.872 | |
| sesameQC_plotRedGrnQQ | 1.669 | 0.068 | 1.737 | |
| sesameQC_rankStats | 3.588 | 0.138 | 3.727 | |
| sesameQCtoDF | 1.602 | 0.001 | 1.604 | |
| sesame_checkVersion | 0.004 | 0.000 | 0.004 | |
| sesamize | 0.000 | 0.000 | 0.001 | |
| setMask | 0.098 | 0.000 | 0.099 | |
| signalMU | 0.926 | 0.047 | 0.973 | |
| sliceFileSet | 0.033 | 0.001 | 0.034 | |
| summaryExtractTest | 2.949 | 0.261 | 3.210 | |
| totalIntensities | 2.572 | 0.129 | 2.701 | |
| updateSigDF | 3.223 | 0.196 | 3.420 | |
| visualizeGene | 9.211 | 0.384 | 9.596 | |
| visualizeProbes | 1.080 | 0.022 | 1.103 | |
| visualizeRegion | 0.321 | 0.003 | 0.324 | |
| visualizeSegments | 1.853 | 0.114 | 1.966 | |