Back to Multiple platform build/check report for BioC 3.22: simplified long |
|
This page was generated on 2025-10-20 12:06 -0400 (Mon, 20 Oct 2025).
Hostname | OS | Arch (*) | R version | Installed pkgs |
---|---|---|---|---|
nebbiolo2 | Linux (Ubuntu 24.04.3 LTS) | x86_64 | 4.5.1 Patched (2025-08-23 r88802) -- "Great Square Root" | 4887 |
lconway | macOS 12.7.6 Monterey | x86_64 | 4.5.1 Patched (2025-09-10 r88807) -- "Great Square Root" | 4677 |
kjohnson3 | macOS 13.7.7 Ventura | arm64 | 4.5.1 Patched (2025-09-10 r88807) -- "Great Square Root" | 4622 |
taishan | Linux (openEuler 24.03 LTS) | aarch64 | 4.5.0 (2025-04-11) -- "How About a Twenty-Six" | 4632 |
Click on any hostname to see more info about the system (e.g. compilers) (*) as reported by 'uname -p', except on Windows and Mac OS X |
Package 1765/2353 | Hostname | OS / Arch | INSTALL | BUILD | CHECK | BUILD BIN | ||||||||
ReUseData 1.9.0 (landing page) Qian Liu
| nebbiolo2 | Linux (Ubuntu 24.04.3 LTS) / x86_64 | OK | OK | OK | ![]() | ||||||||
lconway | macOS 12.7.6 Monterey / x86_64 | OK | OK | OK | OK | ![]() | ||||||||
kjohnson3 | macOS 13.7.7 Ventura / arm64 | OK | OK | OK | OK | ![]() | ||||||||
taishan | Linux (openEuler 24.03 LTS) / aarch64 | OK | OK | OK | ||||||||||
To the developers/maintainers of the ReUseData package: - Allow up to 24 hours (and sometimes 48 hours) for your latest push to git@git.bioconductor.org:packages/ReUseData.git to reflect on this report. See Troubleshooting Build Report for more information. - Use the following Renviron settings to reproduce errors and warnings. - If 'R CMD check' started to fail recently on the Linux builder(s) over a missing dependency, add the missing dependency to 'Suggests:' in your DESCRIPTION file. See Renviron.bioc for more information. |
Package: ReUseData |
Version: 1.9.0 |
Command: /Library/Frameworks/R.framework/Resources/bin/R CMD check --install=check:ReUseData.install-out.txt --library=/Library/Frameworks/R.framework/Resources/library --no-vignettes --timings ReUseData_1.9.0.tar.gz |
StartedAt: 2025-10-19 21:34:31 -0400 (Sun, 19 Oct 2025) |
EndedAt: 2025-10-19 21:35:20 -0400 (Sun, 19 Oct 2025) |
EllapsedTime: 48.5 seconds |
RetCode: 0 |
Status: OK |
CheckDir: ReUseData.Rcheck |
Warnings: 0 |
############################################################################## ############################################################################## ### ### Running command: ### ### /Library/Frameworks/R.framework/Resources/bin/R CMD check --install=check:ReUseData.install-out.txt --library=/Library/Frameworks/R.framework/Resources/library --no-vignettes --timings ReUseData_1.9.0.tar.gz ### ############################################################################## ############################################################################## * using log directory ‘/Users/biocbuild/bbs-3.22-bioc/meat/ReUseData.Rcheck’ * using R version 4.5.1 Patched (2025-09-10 r88807) * using platform: aarch64-apple-darwin20 * R was compiled by Apple clang version 16.0.0 (clang-1600.0.26.6) GNU Fortran (GCC) 14.2.0 * running under: macOS Ventura 13.7.7 * using session charset: UTF-8 * using option ‘--no-vignettes’ * checking for file ‘ReUseData/DESCRIPTION’ ... OK * this is package ‘ReUseData’ version ‘1.9.0’ * package encoding: UTF-8 * checking package namespace information ... OK * checking package dependencies ... OK * checking if this is a source package ... OK * checking if there is a namespace ... OK * checking for hidden files and directories ... NOTE Found the following hidden files and directories: .BBSoptions These were most likely included in error. See section ‘Package structure’ in the ‘Writing R Extensions’ manual. * checking for portable file names ... OK * checking for sufficient/correct file permissions ... OK * checking whether package ‘ReUseData’ can be installed ... OK * checking installed package size ... OK * checking package directory ... OK * checking ‘build’ directory ... OK * checking DESCRIPTION meta-information ... OK * checking top-level files ... OK * checking for left-over files ... OK * checking index information ... OK * checking package subdirectories ... OK * checking code files for non-ASCII characters ... OK * checking R files for syntax errors ... OK * checking whether the package can be loaded ... OK * checking whether the package can be loaded with stated dependencies ... OK * checking whether the package can be unloaded cleanly ... OK * checking whether the namespace can be loaded with stated dependencies ... OK * checking whether the namespace can be unloaded cleanly ... OK * checking dependencies in R code ... OK * checking S3 generic/method consistency ... OK * checking replacement functions ... OK * checking foreign function calls ... OK * checking R code for possible problems ... OK * checking Rd files ... OK * checking Rd metadata ... OK * checking Rd cross-references ... OK * checking for missing documentation entries ... OK * checking for code/documentation mismatches ... OK * checking Rd \usage sections ... OK * checking Rd contents ... OK * checking for unstated dependencies in examples ... OK * checking files in ‘vignettes’ ... OK * checking examples ... OK * checking for unstated dependencies in ‘tests’ ... OK * checking tests ... Running ‘testthat.R’ OK * checking for unstated dependencies in vignettes ... OK * checking package vignettes ... OK * checking running R code from vignettes ... SKIPPED * checking re-building of vignette outputs ... SKIPPED * checking PDF version of manual ... OK * DONE Status: 1 NOTE See ‘/Users/biocbuild/bbs-3.22-bioc/meat/ReUseData.Rcheck/00check.log’ for details.
ReUseData.Rcheck/00install.out
############################################################################## ############################################################################## ### ### Running command: ### ### /Library/Frameworks/R.framework/Resources/bin/R CMD INSTALL ReUseData ### ############################################################################## ############################################################################## * installing to library ‘/Library/Frameworks/R.framework/Versions/4.5-arm64/Resources/library’ * installing *source* package ‘ReUseData’ ... ** this is package ‘ReUseData’ version ‘1.9.0’ ** using staged installation ** R ** inst ** byte-compile and prepare package for lazy loading ** help *** installing help indices ** building package indices ** installing vignettes ** testing if installed package can be loaded from temporary location ** testing if installed package can be loaded from final location ** testing if installed package keeps a record of temporary installation path * DONE (ReUseData)
ReUseData.Rcheck/tests/testthat.Rout
R version 4.5.1 Patched (2025-09-10 r88807) -- "Great Square Root" Copyright (C) 2025 The R Foundation for Statistical Computing Platform: aarch64-apple-darwin20 R is free software and comes with ABSOLUTELY NO WARRANTY. You are welcome to redistribute it under certain conditions. Type 'license()' or 'licence()' for distribution details. R is a collaborative project with many contributors. Type 'contributors()' for more information and 'citation()' on how to cite R or R packages in publications. Type 'demo()' for some demos, 'help()' for on-line help, or 'help.start()' for an HTML browser interface to help. Type 'q()' to quit R. > library(testthat) > library(ReUseData) > > test_check("ReUseData") Note: you need to assign a name for the recipe: rcpName <- recipeLoad('xx') Data recipe loaded! Use inputs() to check required input parameters before evaluation. Check here: https://rcwl.org/dataRecipes/echo_out.html for user instructions (e.g., eligible input values, data source, etc.) }[1;30mINFO[0m Final process status is success Updating data record... outfile.txt added Updating data record... b40e8b2e1f6_GRCh38.primary_assembly.genome.fa.1.bt2 added b40e1810e1f0_GRCh38.primary_assembly.genome.fa.2.bt2 added b40e7c615fe7_GRCh38.primary_assembly.genome.fa.3.bt2 added b40e5cdf767c_GRCh38.primary_assembly.genome.fa.4.bt2 added b40e52dbf686_GRCh38.primary_assembly.genome.fa.rev.1.bt2 added b40e671601e9_GRCh38.primary_assembly.genome.fa.rev.2.bt2 added b40e55d79cde_outfile.txt added b40e3e7bded9_GRCh37_to_GRCh38.chain added b40e3663989b_GRCh37_to_NCBI34.chain added b40e44b80402_GRCh37_to_NCBI35.chain added b40ed0f428d_GRCh37_to_NCBI36.chain added b40e64da3dad_GRCh38_to_GRCh37.chain added b40e34075c95_GRCh38_to_NCBI34.chain added b40e4f4f54e2_GRCh38_to_NCBI35.chain added b40e614dea1b_GRCh38_to_NCBI36.chain added b40e4244c485_NCBI34_to_GRCh37.chain added b40e30c219c0_NCBI34_to_GRCh38.chain added b40e1728a542_NCBI35_to_GRCh37.chain added b40e6d799bee_NCBI35_to_GRCh38.chain added b40e4aec5e68_NCBI36_to_GRCh37.chain added b40e642a2445_NCBI36_to_GRCh38.chain added b40eab36163_GRCm38_to_NCBIM36.chain added b40e6beb012_GRCm38_to_NCBIM37.chain added b40e51197133_NCBIM36_to_GRCm38.chain added b40e5d56f4dd_NCBIM37_to_GRCm38.chain added b40e77e6090a_1000G_omni2.5.b37.vcf.gz added b40e1f5bad05_1000G_omni2.5.b37.vcf.gz.tbi added b40e3bbc3358_Mills_and_1000G_gold_standard.indels.b37.vcf.gz added b40e40cef50b_Mills_and_1000G_gold_standard.indels.b37.vcf.gz.tbi added b40e5339c66a_1000G_omni2.5.hg38.vcf.gz added b40e761183d5_1000G_omni2.5.hg38.vcf.gz.tbi added b40e77e65181_Mills_and_1000G_gold_standard.indels.hg38.vcf.gz added b40e31f129a6_Mills_and_1000G_gold_standard.indels.hg38.vcf.gz.tbi added b40e4fe56ae7_af-only-gnomad.raw.sites.vcf added b40e5ecd8cab_af-only-gnomad.raw.sites.vcf.idx added b40e8ce5f2d_Mutect2-exome-panel.vcf.idx added b40e24ca87df_Mutect2-WGS-panel-b37.vcf added b40e6c9e5457_Mutect2-WGS-panel-b37.vcf.idx added b40eeb35377_small_exac_common_3.vcf added b40e1f2cb12b_small_exac_common_3.vcf.idx added b40e2f238e0a_1000g_pon.hg38.vcf.gz added b40e47424ab3_1000g_pon.hg38.vcf.gz.tbi added b40e51365251_af-only-gnomad.hg38.vcf.gz added b40e45566d7e_af-only-gnomad.hg38.vcf.gz.tbi added b40e2d2e8ec2_small_exac_common_3.hg38.vcf.gz added b40e4b9e79ba_small_exac_common_3.hg38.vcf.gz.tbi added b40e1149c91f_gencode.v41.annotation.gtf added b40e3331b17_gencode.v42.annotation.gtf added b40e103784a5_gencode.vM30.annotation.gtf added b40e2ce574f4_gencode.vM31.annotation.gtf added b40ec615633_gencode.v41.transcripts.fa added b40e4a62349e_gencode.v41.transcripts.fa.fai added b40e756c9738_gencode.v42.transcripts.fa added b40e2c3c19c2_gencode.v42.transcripts.fa.fai added b40e1dbf263e_gencode.vM30.pc_transcripts.fa added b40e7067bfb3_gencode.vM30.pc_transcripts.fa.fai added b40e2b5aba6c_gencode.vM31.pc_transcripts.fa added b40e51851eb0_gencode.vM31.pc_transcripts.fa.fai added b40e7aa1de9f_GRCh38.primary_assembly.genome.fa.1.ht2 added b40e191ed79f_GRCh38.primary_assembly.genome.fa.2.ht2 added b40e37de149b_GRCh38.primary_assembly.genome.fa.3.ht2 added b40e551ae8c4_GRCh38.primary_assembly.genome.fa.4.ht2 added b40e59a7c782_GRCh38.primary_assembly.genome.fa.5.ht2 added b40e161b55ca_GRCh38.primary_assembly.genome.fa.6.ht2 added b40e5c9d4c1c_GRCh38.primary_assembly.genome.fa.7.ht2 added b40e5aeff1c4_GRCh38.primary_assembly.genome.fa.8.ht2 added b40e3ee9a980_GRCh38_full_analysis_set_plus_decoy_hla.fa.fai added b40e5e7732c4_GRCh38_full_analysis_set_plus_decoy_hla.fa.amb added b40e63a6124f_GRCh38_full_analysis_set_plus_decoy_hla.fa.ann added b40e2bfc33a5_GRCh38_full_analysis_set_plus_decoy_hla.fa.bwt added b40e3aa2ac32_GRCh38_full_analysis_set_plus_decoy_hla.fa.pac added b40edd724b1_GRCh38_full_analysis_set_plus_decoy_hla.fa.sa added b40e27a9e790_GRCh38_full_analysis_set_plus_decoy_hla.fa added b40e3a1b348_GRCh38.primary_assembly.genome.fa.fai added b40e6d013dd4_GRCh38.primary_assembly.genome.fa.amb added b40e6c826134_GRCh38.primary_assembly.genome.fa.ann added b40e63bbd493_GRCh38.primary_assembly.genome.fa.bwt added b40e4081320c_GRCh38.primary_assembly.genome.fa.pac added b40e61fcd2e9_GRCh38.primary_assembly.genome.fa.sa added b40e1d7af141_GRCh38.primary_assembly.genome.fa added b40e7274f185_hs37d5.fa.fai added b40e5b9c8d77_hs37d5.fa.amb added b40e30bae9e_hs37d5.fa.ann added b40e73f508a1_hs37d5.fa.bwt added b40e5c09bd80_hs37d5.fa.pac added b40e3784db5_hs37d5.fa.sa added b40e4f35a7da_hs37d5.fa added b40e4b9f01d6_complete_ref_lens.bin added b40e3431af63_ctable.bin added b40e29f1a75a_ctg_offsets.bin added b40e38221b39_duplicate_clusters.tsv added b40e472957f9_info.json added b40e6b4ec0ee_mphf.bin added b40e7f5c804b_pos.bin added b40e11eafd40_pre_indexing.log added b40e5a987df0_rank.bin added b40e51744607_ref_indexing.log added b40e28a19f58_refAccumLengths.bin added b40eae45f3f_reflengths.bin added b40e172926af_refseq.bin added b40eeaab70a_seq.bin added b40e69d6f90b_versionInfo.json added b40e20787776_salmon_index added b40e44eaf4a1_chrLength.txt added b40e1d629960_chrName.txt added b40e34437cb2_chrNameLength.txt added b40e3aafa4ec_chrStart.txt added b40e6174a00d_exonGeTrInfo.tab added b40e2fb7e777_exonInfo.tab added b40e52bd4e1a_geneInfo.tab added b40ea52b766_Genome added b40e3c868ed5_genomeParameters.txt added b40e260b60fe_Log.out added b40e350cd735_SA added b40e5e04f3c8_SAindex added b40e1720ffb1_sjdbInfo.txt added b40e7772c953_sjdbList.fromGTF.out.tab added b40e10ffa569_sjdbList.out.tab added b40e7fc49936_transcriptInfo.tab added b40e4426e9c2_GRCh38.GENCODE.v42_100 added b40e56bce282_knownGene_hg38.sql added b40eabaf14b_knownGene_hg38.txt added b40e7737786d_refGene_hg38.sql added b40e5ac37940_refGene_hg38.txt added b40e574d874d_knownGene_mm39.sql added b40e22edfd02_knownGene_mm39.txt added b40e367da038_refGene_mm39.sql added b40e71a1d87a_refGene_mm39.txt added trying URL 'https://storage.googleapis.com/reusedata/echo/outfile.txt' Content type 'text/plain' length 30 bytes ================================================== downloaded 30 bytes trying URL 'https://storage.googleapis.com/reusedata/echo/echo_out_Hello_World!_outfile.yml' Content type 'application/x-yaml' length 151 bytes ================================================== downloaded 151 bytes trying URL 'https://storage.googleapis.com/reusedata/echo/echo_out_Hello_World!_outfile.cwl' Content type 'application/octet-stream' length 1152 bytes ================================================== downloaded 1152 bytes trying URL 'https://storage.googleapis.com/reusedata/echo/echo_out_Hello_World!_outfile.md5' Content type 'application/octet-stream' length 45 bytes ================================================== downloaded 45 bytes trying URL 'https://storage.googleapis.com/reusedata/echo/echo_out_Hello_World!_outfile.sh' Content type 'application/x-shellscript' length 68 bytes ================================================== downloaded 68 bytes Data is downloaded: /var/folders/r0/l4fjk6cj5xj0j3brt4bplpl40000gt/T//RtmpytKOSI/test_gcpData/outfile.txt }[1;30mINFO[0m Final process status is success NOTE: existing caches will be removed and regenerated! Updating recipes... STAR_index.R added bowtie2_index.R added echo_out.R added ensembl_liftover.R added gcp_broad_gatk_hg19.R added gcp_broad_gatk_hg38.R added gcp_gatk_mutect2_b37.R added gcp_gatk_mutect2_hg38.R added gencode_annotation.R added gencode_genome_grch38.R added gencode_transcripts.R added hisat2_index.R added reference_genome.R added salmon_index.R added ucsc_database.R added Data recipe loaded! Use inputs(ensembl_liftover) to check required input parameters before evaluation. Check here: https://rcwl.org/dataRecipes/ensembl_liftover.html for user instructions (e.g., eligible input values, data source, etc.) [ FAIL 0 | WARN 0 | SKIP 0 | PASS 44 ] > Sys.setenv(cachePath = file.path(tempdir(), "cache")) > > > > proc.time() user system elapsed 6.287 0.678 7.725
ReUseData.Rcheck/ReUseData-Ex.timings
name | user | system | elapsed | |
dataHub-class | 1.867 | 0.208 | 2.086 | |
dataSearch | 0.324 | 0.014 | 0.338 | |
dataUpdate | 0 | 0 | 0 | |
getCloudData | 0.825 | 0.052 | 2.115 | |
getData | 0 | 0 | 0 | |
meta_data | 0.000 | 0.000 | 0.001 | |
recipeHub-class | 0.039 | 0.004 | 0.044 | |
recipeLoad | 0.401 | 0.026 | 0.430 | |
recipeMake | 0 | 0 | 0 | |
recipeSearch | 0.163 | 0.010 | 0.173 | |
recipeUpdate | 0 | 0 | 0 | |