Back to Multiple platform build/check report for BioC 3.22:   simplified   long
ABCDEFGHIJKLMNOPQR[S]TUVWXYZ

This page was generated on 2025-10-24 12:05 -0400 (Fri, 24 Oct 2025).

HostnameOSArch (*)R versionInstalled pkgs
nebbiolo2Linux (Ubuntu 24.04.3 LTS)x86_644.5.1 Patched (2025-08-23 r88802) -- "Great Square Root" 4898
lconwaymacOS 12.7.6 Montereyx86_644.5.1 Patched (2025-09-10 r88807) -- "Great Square Root" 4688
kjohnson3macOS 13.7.7 Venturaarm644.5.1 Patched (2025-09-10 r88807) -- "Great Square Root" 4634
taishanLinux (openEuler 24.03 LTS)aarch644.5.0 (2025-04-11) -- "How About a Twenty-Six" 4658
Click on any hostname to see more info about the system (e.g. compilers)      (*) as reported by 'uname -p', except on Windows and Mac OS X

Package 1990/2359HostnameOS / ArchINSTALLBUILDCHECKBUILD BIN
sesame 1.27.1  (landing page)
Wanding Zhou
Snapshot Date: 2025-10-23 14:17 -0400 (Thu, 23 Oct 2025)
git_url: https://git.bioconductor.org/packages/sesame
git_branch: devel
git_last_commit: e90f911
git_last_commit_date: 2025-06-21 02:29:58 -0400 (Sat, 21 Jun 2025)
nebbiolo2Linux (Ubuntu 24.04.3 LTS) / x86_64  OK    OK    OK  UNNEEDED, same version is already published
lconwaymacOS 12.7.6 Monterey / x86_64  OK    OK    OK    OK  UNNEEDED, same version is already published
kjohnson3macOS 13.7.7 Ventura / arm64  OK    OK    OK    OK  UNNEEDED, same version is already published
taishanLinux (openEuler 24.03 LTS) / aarch64  OK    OK    NA  


CHECK results for sesame on lconway

To the developers/maintainers of the sesame package:
- Allow up to 24 hours (and sometimes 48 hours) for your latest push to git@git.bioconductor.org:packages/sesame.git to reflect on this report. See Troubleshooting Build Report for more information.
- Use the following Renviron settings to reproduce errors and warnings.
- If 'R CMD check' started to fail recently on the Linux builder(s) over a missing dependency, add the missing dependency to 'Suggests:' in your DESCRIPTION file. See Renviron.bioc for more information.

raw results


Summary

Package: sesame
Version: 1.27.1
Command: /Library/Frameworks/R.framework/Resources/bin/R CMD check --install=check:sesame.install-out.txt --library=/Library/Frameworks/R.framework/Resources/library --no-vignettes --timings sesame_1.27.1.tar.gz
StartedAt: 2025-10-24 00:10:09 -0400 (Fri, 24 Oct 2025)
EndedAt: 2025-10-24 00:22:58 -0400 (Fri, 24 Oct 2025)
EllapsedTime: 769.0 seconds
RetCode: 0
Status:   OK  
CheckDir: sesame.Rcheck
Warnings: 0

Command output

##############################################################################
##############################################################################
###
### Running command:
###
###   /Library/Frameworks/R.framework/Resources/bin/R CMD check --install=check:sesame.install-out.txt --library=/Library/Frameworks/R.framework/Resources/library --no-vignettes --timings sesame_1.27.1.tar.gz
###
##############################################################################
##############################################################################


* using log directory ‘/Users/biocbuild/bbs-3.22-bioc/meat/sesame.Rcheck’
* using R version 4.5.1 Patched (2025-09-10 r88807)
* using platform: x86_64-apple-darwin20
* R was compiled by
    Apple clang version 14.0.0 (clang-1400.0.29.202)
    GNU Fortran (GCC) 14.2.0
* running under: macOS Monterey 12.7.6
* using session charset: UTF-8
* using option ‘--no-vignettes’
* checking for file ‘sesame/DESCRIPTION’ ... OK
* checking extension type ... Package
* this is package ‘sesame’ version ‘1.27.1’
* package encoding: UTF-8
* checking package namespace information ... OK
* checking package dependencies ... OK
* checking if this is a source package ... OK
* checking if there is a namespace ... OK
* checking for hidden files and directories ... OK
* checking for portable file names ... OK
* checking for sufficient/correct file permissions ... OK
* checking whether package ‘sesame’ can be installed ... OK
* checking installed package size ... OK
* checking package directory ... OK
* checking ‘build’ directory ... OK
* checking DESCRIPTION meta-information ... OK
* checking top-level files ... OK
* checking for left-over files ... OK
* checking index information ... OK
* checking package subdirectories ... OK
* checking code files for non-ASCII characters ... OK
* checking R files for syntax errors ... OK
* checking whether the package can be loaded ... OK
* checking whether the package can be loaded with stated dependencies ... OK
* checking whether the package can be unloaded cleanly ... OK
* checking whether the namespace can be loaded with stated dependencies ... OK
* checking whether the namespace can be unloaded cleanly ... OK
* checking whether startup messages can be suppressed ... OK
* checking dependencies in R code ... OK
* checking S3 generic/method consistency ... OK
* checking replacement functions ... OK
* checking foreign function calls ... OK
* checking R code for possible problems ... OK
* checking Rd files ... OK
* checking Rd metadata ... OK
* checking Rd cross-references ... OK
* checking for missing documentation entries ... OK
* checking for code/documentation mismatches ... OK
* checking Rd \usage sections ... OK
* checking Rd contents ... OK
* checking for unstated dependencies in examples ... OK
* checking files in ‘vignettes’ ... OK
* checking examples ... OK
Examples with CPU (user + system) or elapsed time > 5s
                                user system elapsed
imputeBetasByGenomicNeighbors 35.003  1.298  36.487
inferSex                      25.355  1.184  26.667
sesameQC_calcStats            22.794  1.748  24.659
sesameQC_plotHeatSNPs         20.328  1.467  21.919
imputeBetas                   18.816  1.471  20.435
ELBAR                         16.956  2.717  19.835
diffRefSet                    17.056  0.606  17.757
inferSpecies                  16.008  0.685  16.795
sesameQC_plotBar              13.739  0.568  14.408
compareMouseStrainReference   12.965  0.494  13.580
getRefSet                     12.445  0.425  12.945
matchDesign                   11.371  0.752  12.205
compareReference              11.226  0.512  11.819
sesameQC_plotBetaByDesign     10.161  1.150  11.369
visualizeGene                  9.045  0.748   9.870
DMR                            9.322  0.269   9.666
sdf_read_table                 8.817  0.387   9.270
inferTissue                    7.527  1.357   8.944
DML                            8.176  0.311   8.554
inferStrain                    7.832  0.631   8.527
estimateLeukocyte              7.337  0.548   7.929
getMask                        6.794  0.622   7.471
dyeBiasCorrMostBalanced        6.843  0.277   7.162
dyeBiasNL                      6.277  0.450   6.755
createUCSCtrack                6.260  0.320   6.615
openSesame                     5.389  0.873   6.324
deIdentify                     5.775  0.293   6.136
probeSuccessRate               5.398  0.412   5.848
bisConversionControl           4.977  0.253   5.288
reIdentify                     4.737  0.253   5.016
* checking for unstated dependencies in ‘tests’ ... OK
* checking tests ...
  Running ‘testthat.R’
 OK
* checking for unstated dependencies in vignettes ... OK
* checking package vignettes ... OK
* checking running R code from vignettes ... SKIPPED
* checking re-building of vignette outputs ... SKIPPED
* checking PDF version of manual ... OK
* DONE

Status: OK


Installation output

sesame.Rcheck/00install.out

##############################################################################
##############################################################################
###
### Running command:
###
###   /Library/Frameworks/R.framework/Resources/bin/R CMD INSTALL sesame
###
##############################################################################
##############################################################################


* installing to library ‘/Library/Frameworks/R.framework/Versions/4.5-x86_64/Resources/library’
* installing *source* package ‘sesame’ ...
** this is package ‘sesame’ version ‘1.27.1’
** using staged installation
** R
** inst
** byte-compile and prepare package for lazy loading
** help
*** installing help indices
** building package indices
** installing vignettes
** testing if installed package can be loaded from temporary location
** testing if installed package can be loaded from final location
** testing if installed package keeps a record of temporary installation path
* DONE (sesame)

Tests output

sesame.Rcheck/tests/testthat.Rout


R version 4.5.1 Patched (2025-09-10 r88807) -- "Great Square Root"
Copyright (C) 2025 The R Foundation for Statistical Computing
Platform: x86_64-apple-darwin20

R is free software and comes with ABSOLUTELY NO WARRANTY.
You are welcome to redistribute it under certain conditions.
Type 'license()' or 'licence()' for distribution details.

R is a collaborative project with many contributors.
Type 'contributors()' for more information and
'citation()' on how to cite R or R packages in publications.

Type 'demo()' for some demos, 'help()' for on-line help, or
'help.start()' for an HTML browser interface to help.
Type 'q()' to quit R.

> library(testthat)
> library(sesame)
Loading required package: sesameData
Loading required package: ExperimentHub
Loading required package: BiocGenerics
Loading required package: generics

Attaching package: 'generics'

The following objects are masked from 'package:base':

    as.difftime, as.factor, as.ordered, intersect, is.element, setdiff,
    setequal, union


Attaching package: 'BiocGenerics'

The following objects are masked from 'package:stats':

    IQR, mad, sd, var, xtabs

The following objects are masked from 'package:base':

    Filter, Find, Map, Position, Reduce, anyDuplicated, aperm, append,
    as.data.frame, basename, cbind, colnames, dirname, do.call,
    duplicated, eval, evalq, get, grep, grepl, is.unsorted, lapply,
    mapply, match, mget, order, paste, pmax, pmax.int, pmin, pmin.int,
    rank, rbind, rownames, sapply, saveRDS, table, tapply, unique,
    unsplit, which.max, which.min

Loading required package: AnnotationHub
Loading required package: BiocFileCache
Loading required package: dbplyr
Loading sesameData.

----------------------------------------------------------
| SEnsible Step-wise Analysis of DNA MEthylation (SeSAMe)
| --------------------------------------------------------
| Please cache auxiliary data by "sesameDataCache()".
| This needs to be done only once per SeSAMe installation.
----------------------------------------------------------

> 
> test_check("sesame")
[ FAIL 0 | WARN 0 | SKIP 0 | PASS 5 ]
> 
> proc.time()
   user  system elapsed 
 21.018   1.004  22.126 

Example timings

sesame.Rcheck/sesame-Ex.timings

nameusersystemelapsed
BetaValueToMValue000
DML8.1760.3118.554
DMLpredict1.3830.1211.521
DMR9.3220.2699.666
ELBAR16.956 2.71719.835
MValueToBetaValue0.0000.0000.001
SigDF0.3440.0890.452
addMask0.2030.0180.223
betasCollapseToPfx0.0170.0010.018
bisConversionControl4.9770.2535.288
calcEffectSize1.2520.1451.411
checkLevels3.2880.2553.572
cnSegmentation0.3040.0730.381
compareMouseStrainReference12.965 0.49413.580
compareMouseTissueReference000
compareReference11.226 0.51211.819
controls2.0740.2092.298
createUCSCtrack6.2600.3206.615
deIdentify5.7750.2936.136
detectionPnegEcdf1.2680.0161.291
diffRefSet17.056 0.60617.757
dmContrasts2.0630.2392.317
dyeBiasCorr2.8050.2123.033
dyeBiasCorrMostBalanced6.8430.2777.162
dyeBiasL2.4500.1562.618
dyeBiasNL6.2770.4506.755
estimateLeukocyte7.3370.5487.929
formatVCF2.1830.2462.446
getAFTypeIbySumAlleles1.8590.1962.069
getAFs1.3590.1351.501
getBetas0.8440.0720.923
getMask6.7940.6227.471
getRefSet12.445 0.42512.945
imputeBetas18.816 1.47120.435
imputeBetasByGenomicNeighbors35.003 1.29836.487
imputeBetasMatrixByMean0.0010.0000.001
inferEthnicity0.0000.0000.001
inferInfiniumIChannel0.3800.4360.822
inferSex25.355 1.18426.667
inferSpecies16.008 0.68516.795
inferStrain7.8320.6318.527
inferTissue7.5271.3578.944
initFileSet1.2430.2631.519
listAvailableMasks1.2920.1801.478
mLiftOver0.0010.0020.003
mapFileSet0.0350.0020.038
mapToMammal402.6810.3853.105
matchDesign11.371 0.75212.205
meanIntensity2.6860.2062.908
medianTotalIntensity0.9230.0610.991
noMasked4.0370.5324.593
noob2.0760.0382.126
openSesame5.3890.8736.324
openSesameToFile1.6490.1521.809
pOOBAH1.4710.0061.481
palgen0.0400.0070.048
parseGEOsignalMU3.0510.1513.225
predictAge2.4460.1222.590
predictAgeHorvath353000
predictAgeSkinBlood000
predictMouseAgeInMonth000
prefixMask0.6840.0030.690
prefixMaskButC0.1890.0010.192
prefixMaskButCG0.0740.0000.075
prepSesame3.9250.4284.387
prepSesameList0.0020.0010.003
print.DMLSummary3.0410.6583.739
print.fileSet1.1890.2051.404
probeID_designType000
probeSuccessRate5.3980.4125.848
qualityMask1.8410.2102.064
reIdentify4.7370.2535.016
readFileSet0.0520.0060.058
readIDATpair0.1560.0020.160
recommendedMaskNames0.0000.0000.001
resetMask0.4350.0600.498
scrub2.4290.4802.931
scrubSoft3.2500.4503.713
sdfPlatform0.2890.0680.362
sdf_read_table8.8170.3879.270
sdf_write_table2.3700.1422.525
searchIDATprefixes0.0040.0030.009
sesame-package2.2830.5182.817
sesameAnno_attachManifest000
sesameAnno_buildAddressFile000
sesameAnno_buildManifestGRanges000
sesameAnno_download0.0000.0000.001
sesameAnno_readManifestTSV0.0000.0010.001
sesameQC_calcStats22.794 1.74824.659
sesameQC_getStats2.3850.4122.817
sesameQC_plotBar13.739 0.56814.408
sesameQC_plotBetaByDesign10.161 1.15011.369
sesameQC_plotHeatSNPs20.328 1.46721.919
sesameQC_plotIntensVsBetas2.1590.5222.699
sesameQC_plotRedGrnQQ1.0780.1251.214
sesameQC_rankStats3.3710.3083.711
sesameQCtoDF2.4240.1262.563
sesame_checkVersion0.0050.0010.006
sesamize000
setMask0.1210.0010.121
signalMU0.8690.0680.943
sliceFileSet0.0310.0020.034
summaryExtractTest2.9840.9203.945
totalIntensities2.4740.2732.767
updateSigDF4.0960.5684.707
visualizeGene9.0450.7489.870
visualizeProbes1.3230.0221.352
visualizeRegion0.3770.0110.392
visualizeSegments1.7940.3882.215