| Back to Multiple platform build/check report for BioC 3.22: simplified long |
|
This page was generated on 2025-10-24 12:07 -0400 (Fri, 24 Oct 2025).
| Hostname | OS | Arch (*) | R version | Installed pkgs |
|---|---|---|---|---|
| nebbiolo2 | Linux (Ubuntu 24.04.3 LTS) | x86_64 | 4.5.1 Patched (2025-08-23 r88802) -- "Great Square Root" | 4898 |
| lconway | macOS 12.7.6 Monterey | x86_64 | 4.5.1 Patched (2025-09-10 r88807) -- "Great Square Root" | 4688 |
| kjohnson3 | macOS 13.7.7 Ventura | arm64 | 4.5.1 Patched (2025-09-10 r88807) -- "Great Square Root" | 4634 |
| taishan | Linux (openEuler 24.03 LTS) | aarch64 | 4.5.0 (2025-04-11) -- "How About a Twenty-Six" | 4658 |
| Click on any hostname to see more info about the system (e.g. compilers) (*) as reported by 'uname -p', except on Windows and Mac OS X | ||||
| Package 1990/2359 | Hostname | OS / Arch | INSTALL | BUILD | CHECK | BUILD BIN | ||||||||
| sesame 1.27.1 (landing page) Wanding Zhou
| nebbiolo2 | Linux (Ubuntu 24.04.3 LTS) / x86_64 | OK | OK | OK | |||||||||
| lconway | macOS 12.7.6 Monterey / x86_64 | OK | OK | OK | OK | |||||||||
| kjohnson3 | macOS 13.7.7 Ventura / arm64 | OK | OK | OK | OK | |||||||||
| taishan | Linux (openEuler 24.03 LTS) / aarch64 | OK | OK | NA | ||||||||||
|
To the developers/maintainers of the sesame package: - Allow up to 24 hours (and sometimes 48 hours) for your latest push to git@git.bioconductor.org:packages/sesame.git to reflect on this report. See Troubleshooting Build Report for more information. - Use the following Renviron settings to reproduce errors and warnings. - If 'R CMD check' started to fail recently on the Linux builder(s) over a missing dependency, add the missing dependency to 'Suggests:' in your DESCRIPTION file. See Renviron.bioc for more information. |
| Package: sesame |
| Version: 1.27.1 |
| Command: /Library/Frameworks/R.framework/Resources/bin/R CMD check --install=check:sesame.install-out.txt --library=/Library/Frameworks/R.framework/Resources/library --no-vignettes --timings sesame_1.27.1.tar.gz |
| StartedAt: 2025-10-23 22:10:16 -0400 (Thu, 23 Oct 2025) |
| EndedAt: 2025-10-23 22:15:00 -0400 (Thu, 23 Oct 2025) |
| EllapsedTime: 284.6 seconds |
| RetCode: 0 |
| Status: OK |
| CheckDir: sesame.Rcheck |
| Warnings: 0 |
##############################################################################
##############################################################################
###
### Running command:
###
### /Library/Frameworks/R.framework/Resources/bin/R CMD check --install=check:sesame.install-out.txt --library=/Library/Frameworks/R.framework/Resources/library --no-vignettes --timings sesame_1.27.1.tar.gz
###
##############################################################################
##############################################################################
* using log directory ‘/Users/biocbuild/bbs-3.22-bioc/meat/sesame.Rcheck’
* using R version 4.5.1 Patched (2025-09-10 r88807)
* using platform: aarch64-apple-darwin20
* R was compiled by
Apple clang version 16.0.0 (clang-1600.0.26.6)
GNU Fortran (GCC) 14.2.0
* running under: macOS Ventura 13.7.7
* using session charset: UTF-8
* using option ‘--no-vignettes’
* checking for file ‘sesame/DESCRIPTION’ ... OK
* checking extension type ... Package
* this is package ‘sesame’ version ‘1.27.1’
* package encoding: UTF-8
* checking package namespace information ... OK
* checking package dependencies ... OK
* checking if this is a source package ... OK
* checking if there is a namespace ... OK
* checking for hidden files and directories ... OK
* checking for portable file names ... OK
* checking for sufficient/correct file permissions ... OK
* checking whether package ‘sesame’ can be installed ... OK
* checking installed package size ... OK
* checking package directory ... OK
* checking ‘build’ directory ... OK
* checking DESCRIPTION meta-information ... OK
* checking top-level files ... OK
* checking for left-over files ... OK
* checking index information ... OK
* checking package subdirectories ... OK
* checking code files for non-ASCII characters ... OK
* checking R files for syntax errors ... OK
* checking whether the package can be loaded ... OK
* checking whether the package can be loaded with stated dependencies ... OK
* checking whether the package can be unloaded cleanly ... OK
* checking whether the namespace can be loaded with stated dependencies ... OK
* checking whether the namespace can be unloaded cleanly ... OK
* checking whether startup messages can be suppressed ... OK
* checking dependencies in R code ... OK
* checking S3 generic/method consistency ... OK
* checking replacement functions ... OK
* checking foreign function calls ... OK
* checking R code for possible problems ... OK
* checking Rd files ... OK
* checking Rd metadata ... OK
* checking Rd cross-references ... OK
* checking for missing documentation entries ... OK
* checking for code/documentation mismatches ... OK
* checking Rd \usage sections ... OK
* checking Rd contents ... OK
* checking for unstated dependencies in examples ... OK
* checking files in ‘vignettes’ ... OK
* checking examples ... OK
Examples with CPU (user + system) or elapsed time > 5s
user system elapsed
imputeBetasByGenomicNeighbors 14.103 0.553 14.854
inferSex 9.332 0.453 9.858
sesameQC_calcStats 8.629 0.876 9.704
sesameQC_plotHeatSNPs 8.533 0.762 9.424
imputeBetas 7.358 0.565 8.043
ELBAR 5.971 1.334 7.476
inferSpecies 6.857 0.297 7.232
sesameQC_plotBar 6.736 0.219 7.082
diffRefSet 6.304 0.272 6.673
getRefSet 5.331 0.166 5.531
* checking for unstated dependencies in ‘tests’ ... OK
* checking tests ...
Running ‘testthat.R’
OK
* checking for unstated dependencies in vignettes ... OK
* checking package vignettes ... OK
* checking running R code from vignettes ... SKIPPED
* checking re-building of vignette outputs ... SKIPPED
* checking PDF version of manual ... OK
* DONE
Status: OK
sesame.Rcheck/00install.out
############################################################################## ############################################################################## ### ### Running command: ### ### /Library/Frameworks/R.framework/Resources/bin/R CMD INSTALL sesame ### ############################################################################## ############################################################################## * installing to library ‘/Library/Frameworks/R.framework/Versions/4.5-arm64/Resources/library’ * installing *source* package ‘sesame’ ... ** this is package ‘sesame’ version ‘1.27.1’ ** using staged installation ** R ** inst ** byte-compile and prepare package for lazy loading ** help *** installing help indices ** building package indices ** installing vignettes ** testing if installed package can be loaded from temporary location ** testing if installed package can be loaded from final location ** testing if installed package keeps a record of temporary installation path * DONE (sesame)
sesame.Rcheck/tests/testthat.Rout
R version 4.5.1 Patched (2025-09-10 r88807) -- "Great Square Root"
Copyright (C) 2025 The R Foundation for Statistical Computing
Platform: aarch64-apple-darwin20
R is free software and comes with ABSOLUTELY NO WARRANTY.
You are welcome to redistribute it under certain conditions.
Type 'license()' or 'licence()' for distribution details.
R is a collaborative project with many contributors.
Type 'contributors()' for more information and
'citation()' on how to cite R or R packages in publications.
Type 'demo()' for some demos, 'help()' for on-line help, or
'help.start()' for an HTML browser interface to help.
Type 'q()' to quit R.
> library(testthat)
> library(sesame)
Loading required package: sesameData
Loading required package: ExperimentHub
Loading required package: BiocGenerics
Loading required package: generics
Attaching package: 'generics'
The following objects are masked from 'package:base':
as.difftime, as.factor, as.ordered, intersect, is.element, setdiff,
setequal, union
Attaching package: 'BiocGenerics'
The following objects are masked from 'package:stats':
IQR, mad, sd, var, xtabs
The following objects are masked from 'package:base':
Filter, Find, Map, Position, Reduce, anyDuplicated, aperm, append,
as.data.frame, basename, cbind, colnames, dirname, do.call,
duplicated, eval, evalq, get, grep, grepl, is.unsorted, lapply,
mapply, match, mget, order, paste, pmax, pmax.int, pmin, pmin.int,
rank, rbind, rownames, sapply, saveRDS, table, tapply, unique,
unsplit, which.max, which.min
Loading required package: AnnotationHub
Loading required package: BiocFileCache
Loading required package: dbplyr
Loading sesameData.
----------------------------------------------------------
| SEnsible Step-wise Analysis of DNA MEthylation (SeSAMe)
| --------------------------------------------------------
| Please cache auxiliary data by "sesameDataCache()".
| This needs to be done only once per SeSAMe installation.
----------------------------------------------------------
>
> test_check("sesame")
[ FAIL 0 | WARN 0 | SKIP 0 | PASS 5 ]
>
> proc.time()
user system elapsed
7.650 0.257 7.945
sesame.Rcheck/sesame-Ex.timings
| name | user | system | elapsed | |
| BetaValueToMValue | 0 | 0 | 0 | |
| DML | 2.497 | 0.080 | 2.591 | |
| DMLpredict | 0.381 | 0.031 | 0.412 | |
| DMR | 2.978 | 0.075 | 3.060 | |
| ELBAR | 5.971 | 1.334 | 7.476 | |
| MValueToBetaValue | 0 | 0 | 0 | |
| SigDF | 0.097 | 0.015 | 0.116 | |
| addMask | 0.049 | 0.004 | 0.053 | |
| betasCollapseToPfx | 0.005 | 0.000 | 0.005 | |
| bisConversionControl | 2.113 | 0.063 | 2.227 | |
| calcEffectSize | 0.345 | 0.036 | 0.393 | |
| checkLevels | 1.316 | 0.079 | 1.438 | |
| cnSegmentation | 0.085 | 0.017 | 0.104 | |
| compareMouseStrainReference | 3.552 | 0.206 | 3.762 | |
| compareMouseTissueReference | 0 | 0 | 0 | |
| compareReference | 3.950 | 0.190 | 4.189 | |
| controls | 0.722 | 0.118 | 0.840 | |
| createUCSCtrack | 2.292 | 0.145 | 2.465 | |
| deIdentify | 1.876 | 0.103 | 2.037 | |
| detectionPnegEcdf | 0.449 | 0.009 | 0.459 | |
| diffRefSet | 6.304 | 0.272 | 6.673 | |
| dmContrasts | 0.722 | 0.069 | 0.797 | |
| dyeBiasCorr | 0.966 | 0.090 | 1.060 | |
| dyeBiasCorrMostBalanced | 3.284 | 0.105 | 3.428 | |
| dyeBiasL | 0.928 | 0.069 | 1.016 | |
| dyeBiasNL | 2.054 | 0.200 | 2.344 | |
| estimateLeukocyte | 2.585 | 0.168 | 2.779 | |
| formatVCF | 0.746 | 0.108 | 0.856 | |
| getAFTypeIbySumAlleles | 0.516 | 0.103 | 0.627 | |
| getAFs | 0.390 | 0.065 | 0.475 | |
| getBetas | 0.278 | 0.037 | 0.327 | |
| getMask | 2.102 | 0.143 | 2.298 | |
| getRefSet | 5.331 | 0.166 | 5.531 | |
| imputeBetas | 7.358 | 0.565 | 8.043 | |
| imputeBetasByGenomicNeighbors | 14.103 | 0.553 | 14.854 | |
| imputeBetasMatrixByMean | 0.001 | 0.001 | 0.001 | |
| inferEthnicity | 0.000 | 0.000 | 0.001 | |
| inferInfiniumIChannel | 0.146 | 0.158 | 0.320 | |
| inferSex | 9.332 | 0.453 | 9.858 | |
| inferSpecies | 6.857 | 0.297 | 7.232 | |
| inferStrain | 2.904 | 0.250 | 3.225 | |
| inferTissue | 2.667 | 0.318 | 3.042 | |
| initFileSet | 0.353 | 0.053 | 0.420 | |
| listAvailableMasks | 0.380 | 0.074 | 0.457 | |
| mLiftOver | 0 | 0 | 0 | |
| mapFileSet | 0.015 | 0.003 | 0.019 | |
| mapToMammal40 | 0.753 | 0.119 | 0.884 | |
| matchDesign | 4.554 | 0.308 | 4.902 | |
| meanIntensity | 0.910 | 0.103 | 1.031 | |
| medianTotalIntensity | 0.287 | 0.042 | 0.339 | |
| noMasked | 1.359 | 0.116 | 1.486 | |
| noob | 0.816 | 0.086 | 0.919 | |
| openSesame | 1.703 | 0.206 | 1.922 | |
| openSesameToFile | 0.567 | 0.059 | 0.626 | |
| pOOBAH | 0.521 | 0.033 | 0.554 | |
| palgen | 0.014 | 0.002 | 0.017 | |
| parseGEOsignalMU | 1.205 | 0.081 | 1.302 | |
| predictAge | 1.060 | 0.057 | 1.129 | |
| predictAgeHorvath353 | 0 | 0 | 0 | |
| predictAgeSkinBlood | 0 | 0 | 0 | |
| predictMouseAgeInMonth | 0 | 0 | 0 | |
| prefixMask | 0.283 | 0.002 | 0.285 | |
| prefixMaskButC | 0.080 | 0.001 | 0.080 | |
| prefixMaskButCG | 0.032 | 0.000 | 0.033 | |
| prepSesame | 1.246 | 0.115 | 1.376 | |
| prepSesameList | 0.000 | 0.000 | 0.001 | |
| print.DMLSummary | 1.161 | 0.154 | 1.361 | |
| print.fileSet | 0.337 | 0.051 | 0.391 | |
| probeID_designType | 0 | 0 | 0 | |
| probeSuccessRate | 1.892 | 0.195 | 2.103 | |
| qualityMask | 0.528 | 0.063 | 0.595 | |
| reIdentify | 1.491 | 0.070 | 1.572 | |
| readFileSet | 0.026 | 0.002 | 0.028 | |
| readIDATpair | 0.039 | 0.004 | 0.043 | |
| recommendedMaskNames | 0 | 0 | 0 | |
| resetMask | 0.105 | 0.018 | 0.123 | |
| scrub | 0.986 | 0.169 | 1.158 | |
| scrubSoft | 1.355 | 0.259 | 1.635 | |
| sdfPlatform | 0.084 | 0.012 | 0.114 | |
| sdf_read_table | 3.301 | 0.154 | 3.494 | |
| sdf_write_table | 1.044 | 0.052 | 1.137 | |
| searchIDATprefixes | 0.002 | 0.000 | 0.003 | |
| sesame-package | 0.851 | 0.089 | 0.974 | |
| sesameAnno_attachManifest | 0 | 0 | 0 | |
| sesameAnno_buildAddressFile | 0 | 0 | 0 | |
| sesameAnno_buildManifestGRanges | 0.000 | 0.000 | 0.001 | |
| sesameAnno_download | 0 | 0 | 0 | |
| sesameAnno_readManifestTSV | 0 | 0 | 0 | |
| sesameQC_calcStats | 8.629 | 0.876 | 9.704 | |
| sesameQC_getStats | 0.877 | 0.060 | 0.974 | |
| sesameQC_plotBar | 6.736 | 0.219 | 7.082 | |
| sesameQC_plotBetaByDesign | 3.845 | 0.550 | 4.618 | |
| sesameQC_plotHeatSNPs | 8.533 | 0.762 | 9.424 | |
| sesameQC_plotIntensVsBetas | 0.679 | 0.117 | 0.803 | |
| sesameQC_plotRedGrnQQ | 0.446 | 0.064 | 0.526 | |
| sesameQC_rankStats | 1.177 | 0.167 | 1.351 | |
| sesameQCtoDF | 0.832 | 0.030 | 0.871 | |
| sesame_checkVersion | 0.002 | 0.001 | 0.002 | |
| sesamize | 0 | 0 | 0 | |
| setMask | 0.028 | 0.002 | 0.031 | |
| signalMU | 0.365 | 0.094 | 0.461 | |
| sliceFileSet | 0.016 | 0.001 | 0.017 | |
| summaryExtractTest | 1.065 | 0.118 | 1.203 | |
| totalIntensities | 0.860 | 0.101 | 0.976 | |
| updateSigDF | 1.063 | 0.159 | 1.238 | |
| visualizeGene | 3.485 | 0.171 | 3.682 | |
| visualizeProbes | 0.377 | 0.012 | 0.392 | |
| visualizeRegion | 0.112 | 0.008 | 0.122 | |
| visualizeSegments | 0.796 | 0.074 | 0.897 | |