| Back to Multiple platform build/check report for BioC 3.22: simplified long |
This page was generated on 2025-10-24 12:02 -0400 (Fri, 24 Oct 2025).
| Hostname: | kjohnson3 |
| OS: | macOS 13.7.7 Ventura |
| Arch: | arm64 |
| Platform: | arm64-apple-darwin22.6.0 |
| R version: | 4.5.1 Patched (2025-09-10 r88807) -- "Great Square Root" |
| R environment variables: | Renviron.bioc |
| R variable (VAR) | Value ('R CMD config <VAR>' output) |
| CC | clang -arch arm64 -std=gnu2x |
| CFLAGS | -falign-functions=64 -Wall -g -O2 |
| CPICFLAGS | -fPIC |
| Please refer to 'R CMD config -h' for the meaning of these variables | |
Compiler version ('clang -arch arm64 -std=gnu2x --version' output):
Apple clang version 15.0.0 (clang-1500.1.0.2.5) Target: arm64-apple-darwin22.6.0 Thread model: posix InstalledDir: /Library/Developer/CommandLineTools/usr/bin
| R variable (VAR) | Value ('R CMD config <VAR>' output) |
| CXX | clang++ -arch arm64 -std=gnu++17 |
| CXXFLAGS | -falign-functions=64 -Wall -g -O2 |
| CXXPICFLAGS | -fPIC |
| Please refer to 'R CMD config -h' for the meaning of these variables | |
Compiler version ('clang++ -arch arm64 -std=gnu++17 --version' output):
Apple clang version 15.0.0 (clang-1500.1.0.2.5) Target: arm64-apple-darwin22.6.0 Thread model: posix InstalledDir: /Library/Developer/CommandLineTools/usr/bin
| R variable (VAR) | Value ('R CMD config <VAR>' output) |
| CXX11 | clang++ -arch arm64 |
| CXX11FLAGS | -falign-functions=64 -Wall -g -O2 |
| CXX11PICFLAGS | -fPIC |
| CXX11STD | -std=gnu++11 |
| Please refer to 'R CMD config -h' for the meaning of these variables | |
Compiler version ('clang++ -arch arm64 --version' output):
Apple clang version 15.0.0 (clang-1500.1.0.2.5) Target: arm64-apple-darwin22.6.0 Thread model: posix InstalledDir: /Library/Developer/CommandLineTools/usr/bin
| R variable (VAR) | Value ('R CMD config <VAR>' output) |
| CXX14 | clang++ -arch arm64 |
| CXX14FLAGS | -falign-functions=64 -Wall -g -O2 |
| CXX14PICFLAGS | -fPIC |
| CXX14STD | -std=gnu++14 |
| Please refer to 'R CMD config -h' for the meaning of these variables | |
Compiler version ('clang++ -arch arm64 --version' output):
Apple clang version 15.0.0 (clang-1500.1.0.2.5) Target: arm64-apple-darwin22.6.0 Thread model: posix InstalledDir: /Library/Developer/CommandLineTools/usr/bin
| R variable (VAR) | Value ('R CMD config <VAR>' output) |
| CXX17 | clang++ -arch arm64 |
| CXX17FLAGS | -falign-functions=64 -Wall -g -O2 |
| CXX17PICFLAGS | -fPIC |
| CXX17STD | -std=gnu++17 |
| Please refer to 'R CMD config -h' for the meaning of these variables | |
Compiler version ('clang++ -arch arm64 --version' output):
Apple clang version 15.0.0 (clang-1500.1.0.2.5) Target: arm64-apple-darwin22.6.0 Thread model: posix InstalledDir: /Library/Developer/CommandLineTools/usr/bin
java version ('java --version' output):
openjdk 21 2023-09-19 OpenJDK Runtime Environment (build 21+35-2513) OpenJDK 64-Bit Server VM (build 21+35-2513, mixed mode, sharing)
pandoc version ('pandoc --version' output):
pandoc 3.1.12.3 Features: +server +lua Scripting engine: Lua 5.4 User data directory: /Users/biocbuild/.local/share/pandoc Copyright (C) 2006-2023 John MacFarlane. Web: https://pandoc.org This is free software; see the source for copying conditions. There is no warranty, not even for merchantability or fitness for a particular purpose.
nvcc version ('nvcc --version' output):
/bin/sh: nvcc: command not found
nvidia-smi version ('nvidia-smi --version' output):
/bin/sh: nvidia-smi: command not found
More information might be added in the future...