| Back to Multiple platform build/check report for BioC 3.22: simplified long |
This page was generated on 2025-10-24 12:02 -0400 (Fri, 24 Oct 2025).
| Hostname: | lconway |
| OS: | macOS 12.7.6 Monterey |
| Arch: | x86_64 |
| Platform: | x86_64-apple-darwin21.6.0 |
| R version: | 4.5.1 Patched (2025-09-10 r88807) -- "Great Square Root" |
| R environment variables: | Renviron.bioc |
| R variable (VAR) | Value ('R CMD config <VAR>' output) |
| CC | clang -arch x86_64 |
| CFLAGS | -falign-functions=64 -Wall -g -O2 |
| CPICFLAGS | -fPIC |
| Please refer to 'R CMD config -h' for the meaning of these variables | |
Compiler version ('clang -arch x86_64 --version' output):
Apple clang version 14.0.0 (clang-1400.0.29.202) Target: x86_64-apple-darwin21.6.0 Thread model: posix InstalledDir: /Library/Developer/CommandLineTools/usr/bin
| R variable (VAR) | Value ('R CMD config <VAR>' output) |
| CXX | clang++ -arch x86_64 -std=gnu++17 |
| CXXFLAGS | -falign-functions=64 -Wall -g -O2 |
| CXXPICFLAGS | -fPIC |
| Please refer to 'R CMD config -h' for the meaning of these variables | |
Compiler version ('clang++ -arch x86_64 -std=gnu++17 --version' output):
Apple clang version 14.0.0 (clang-1400.0.29.202) Target: x86_64-apple-darwin21.6.0 Thread model: posix InstalledDir: /Library/Developer/CommandLineTools/usr/bin
| R variable (VAR) | Value ('R CMD config <VAR>' output) |
| CXX11 | clang++ -arch x86_64 |
| CXX11FLAGS | -falign-functions=64 -Wall -g -O2 |
| CXX11PICFLAGS | -fPIC |
| CXX11STD | -std=gnu++11 |
| Please refer to 'R CMD config -h' for the meaning of these variables | |
Compiler version ('clang++ -arch x86_64 --version' output):
Apple clang version 14.0.0 (clang-1400.0.29.202) Target: x86_64-apple-darwin21.6.0 Thread model: posix InstalledDir: /Library/Developer/CommandLineTools/usr/bin
| R variable (VAR) | Value ('R CMD config <VAR>' output) |
| CXX14 | clang++ -arch x86_64 |
| CXX14FLAGS | -falign-functions=64 -Wall -g -O2 |
| CXX14PICFLAGS | -fPIC |
| CXX14STD | -std=gnu++14 |
| Please refer to 'R CMD config -h' for the meaning of these variables | |
Compiler version ('clang++ -arch x86_64 --version' output):
Apple clang version 14.0.0 (clang-1400.0.29.202) Target: x86_64-apple-darwin21.6.0 Thread model: posix InstalledDir: /Library/Developer/CommandLineTools/usr/bin
| R variable (VAR) | Value ('R CMD config <VAR>' output) |
| CXX17 | clang++ -arch x86_64 |
| CXX17FLAGS | -falign-functions=64 -Wall -g -O2 |
| CXX17PICFLAGS | -fPIC |
| CXX17STD | -std=gnu++17 |
| Please refer to 'R CMD config -h' for the meaning of these variables | |
Compiler version ('clang++ -arch x86_64 --version' output):
Apple clang version 14.0.0 (clang-1400.0.29.202) Target: x86_64-apple-darwin21.6.0 Thread model: posix InstalledDir: /Library/Developer/CommandLineTools/usr/bin
java version ('java --version' output):
openjdk 21 2023-09-19 OpenJDK Runtime Environment (build 21+35-2513) OpenJDK 64-Bit Server VM (build 21+35-2513, mixed mode, sharing)
pandoc version ('pandoc --version' output):
pandoc 2.7.3 Compiled with pandoc-types 1.17.5.4, texmath 0.11.2.2, skylighting 0.8.1 Default user data directory: /Users/biocbuild/.local/share/pandoc or /Users/biocbuild/.pandoc Copyright (C) 2006-2019 John MacFarlane Web: http://pandoc.org This is free software; see the source for copying conditions. There is no warranty, not even for merchantability or fitness for a particular purpose.
nvcc version ('nvcc --version' output):
/bin/sh: nvcc: command not found
nvidia-smi version ('nvidia-smi --version' output):
/bin/sh: nvidia-smi: command not found
More information might be added in the future...