| Back to Multiple platform build/check report for BioC 3.22: simplified long |
|
This page was generated on 2025-08-15 12:07 -0400 (Fri, 15 Aug 2025).
| Hostname | OS | Arch (*) | R version | Installed pkgs |
|---|---|---|---|---|
| nebbiolo2 | Linux (Ubuntu 24.04.3 LTS) | x86_64 | 4.5.1 (2025-06-13) -- "Great Square Root" | 4818 |
| palomino8 | Windows Server 2022 Datacenter | x64 | 4.5.1 (2025-06-13 ucrt) -- "Great Square Root" | 4554 |
| lconway | macOS 12.7.1 Monterey | x86_64 | 4.5.1 (2025-06-13) -- "Great Square Root" | 4595 |
| kjohnson3 | macOS 13.7.7 Ventura | arm64 | 4.5.1 Patched (2025-06-14 r88325) -- "Great Square Root" | 4537 |
| taishan | Linux (openEuler 24.03 LTS) | aarch64 | 4.5.0 (2025-04-11) -- "How About a Twenty-Six" | 4535 |
| Click on any hostname to see more info about the system (e.g. compilers) (*) as reported by 'uname -p', except on Windows and Mac OS X | ||||
| Package 1918/2317 | Hostname | OS / Arch | INSTALL | BUILD | CHECK | BUILD BIN | ||||||||
| ScreenR 1.11.0 (landing page) Emanuel Michele Soda
| nebbiolo2 | Linux (Ubuntu 24.04.3 LTS) / x86_64 | OK | OK | OK | |||||||||
| palomino8 | Windows Server 2022 Datacenter / x64 | OK | OK | OK | OK | |||||||||
| lconway | macOS 12.7.1 Monterey / x86_64 | OK | OK | OK | OK | |||||||||
| kjohnson3 | macOS 13.7.7 Ventura / arm64 | OK | OK | OK | OK | |||||||||
| taishan | Linux (openEuler 24.03 LTS) / aarch64 | OK | OK | OK | ||||||||||
|
To the developers/maintainers of the ScreenR package: - Allow up to 24 hours (and sometimes 48 hours) for your latest push to git@git.bioconductor.org:packages/ScreenR.git to reflect on this report. See Troubleshooting Build Report for more information. - Use the following Renviron settings to reproduce errors and warnings. - If 'R CMD check' started to fail recently on the Linux builder(s) over a missing dependency, add the missing dependency to 'Suggests:' in your DESCRIPTION file. See Renviron.bioc for more information. |
| Package: ScreenR |
| Version: 1.11.0 |
| Command: F:\biocbuild\bbs-3.22-bioc\R\bin\R.exe CMD check --no-multiarch --install=check:ScreenR.install-out.txt --library=F:\biocbuild\bbs-3.22-bioc\R\library --no-vignettes --timings ScreenR_1.11.0.tar.gz |
| StartedAt: 2025-08-15 07:41:27 -0400 (Fri, 15 Aug 2025) |
| EndedAt: 2025-08-15 07:45:45 -0400 (Fri, 15 Aug 2025) |
| EllapsedTime: 257.5 seconds |
| RetCode: 0 |
| Status: OK |
| CheckDir: ScreenR.Rcheck |
| Warnings: 0 |
##############################################################################
##############################################################################
###
### Running command:
###
### F:\biocbuild\bbs-3.22-bioc\R\bin\R.exe CMD check --no-multiarch --install=check:ScreenR.install-out.txt --library=F:\biocbuild\bbs-3.22-bioc\R\library --no-vignettes --timings ScreenR_1.11.0.tar.gz
###
##############################################################################
##############################################################################
* using log directory 'F:/biocbuild/bbs-3.22-bioc/meat/ScreenR.Rcheck'
* using R version 4.5.1 (2025-06-13 ucrt)
* using platform: x86_64-w64-mingw32
* R was compiled by
gcc.exe (GCC) 14.2.0
GNU Fortran (GCC) 14.2.0
* running under: Windows Server 2022 x64 (build 20348)
* using session charset: UTF-8
* using option '--no-vignettes'
* checking for file 'ScreenR/DESCRIPTION' ... OK
* checking extension type ... Package
* this is package 'ScreenR' version '1.11.0'
* package encoding: UTF-8
* checking package namespace information ... OK
* checking package dependencies ... OK
* checking if this is a source package ... OK
* checking if there is a namespace ... OK
* checking for hidden files and directories ... OK
* checking for portable file names ... OK
* checking whether package 'ScreenR' can be installed ... OK
* checking installed package size ... OK
* checking package directory ... OK
* checking 'build' directory ... OK
* checking DESCRIPTION meta-information ... OK
* checking top-level files ... OK
* checking for left-over files ... OK
* checking index information ... OK
* checking package subdirectories ... OK
* checking code files for non-ASCII characters ... OK
* checking R files for syntax errors ... OK
* checking whether the package can be loaded ... OK
* checking whether the package can be loaded with stated dependencies ... OK
* checking whether the package can be unloaded cleanly ... OK
* checking whether the namespace can be loaded with stated dependencies ... OK
* checking whether the namespace can be unloaded cleanly ... OK
* checking whether startup messages can be suppressed ... OK
* checking dependencies in R code ... OK
* checking S3 generic/method consistency ... OK
* checking replacement functions ... OK
* checking foreign function calls ... OK
* checking R code for possible problems ... OK
* checking Rd files ... NOTE
checkRd: (-1) annotation_table.Rd:25: Lost braces
25 | \url{https://cellecta.com/}{cellecta}}
| ^
* checking Rd metadata ... OK
* checking Rd cross-references ... OK
* checking for missing documentation entries ... OK
* checking for code/documentation mismatches ... OK
* checking Rd \usage sections ... NOTE
Documented arguments not in \usage in Rd file 'compute_camera.Rd':
'...'
Documented arguments not in \usage in Rd file 'select_number_barcode.Rd':
'...'
Documented arguments not in \usage in Rd file 'unique_gene_symbols.Rd':
'...'
Functions with \usage entries need to have the appropriate \alias
entries, and all their arguments documented.
The \usage entries must correspond to syntactically valid R code.
See chapter 'Writing R documentation files' in the 'Writing R
Extensions' manual.
* checking Rd contents ... OK
* checking for unstated dependencies in examples ... OK
* checking contents of 'data' directory ... OK
* checking data for non-ASCII characters ... OK
* checking data for ASCII and uncompressed saves ... OK
* checking R/sysdata.rda ... OK
* checking files in 'vignettes' ... OK
* checking examples ... OK
Examples with CPU (user + system) or elapsed time > 5s
user system elapsed
plot_barcode_trend 34.89 5.82 40.56
plot_zscore_distribution 33.02 4.22 37.06
compute_metrics 19.94 1.75 21.68
find_zscore_hit 16.45 2.70 19.13
find_robust_zscore_hit 15.50 2.60 18.09
* checking for unstated dependencies in 'tests' ... OK
* checking tests ...
Running 'testthat.R'
OK
* checking for unstated dependencies in vignettes ... OK
* checking package vignettes ... OK
* checking running R code from vignettes ... SKIPPED
* checking re-building of vignette outputs ... SKIPPED
* checking PDF version of manual ... OK
* DONE
Status: 2 NOTEs
See
'F:/biocbuild/bbs-3.22-bioc/meat/ScreenR.Rcheck/00check.log'
for details.
ScreenR.Rcheck/00install.out
############################################################################## ############################################################################## ### ### Running command: ### ### F:\biocbuild\bbs-3.22-bioc\R\bin\R.exe CMD INSTALL ScreenR ### ############################################################################## ############################################################################## * installing to library 'F:/biocbuild/bbs-3.22-bioc/R/library' * installing *source* package 'ScreenR' ... ** this is package 'ScreenR' version '1.11.0' ** using staged installation ** R ** data ** inst ** byte-compile and prepare package for lazy loading ** help *** installing help indices *** copying figures ** building package indices ** installing vignettes ** testing if installed package can be loaded from temporary location ** testing if installed package can be loaded from final location ** testing if installed package keeps a record of temporary installation path * DONE (ScreenR)
ScreenR.Rcheck/tests/testthat.Rout
R version 4.5.1 (2025-06-13 ucrt) -- "Great Square Root"
Copyright (C) 2025 The R Foundation for Statistical Computing
Platform: x86_64-w64-mingw32/x64
R is free software and comes with ABSOLUTELY NO WARRANTY.
You are welcome to redistribute it under certain conditions.
Type 'license()' or 'licence()' for distribution details.
R is a collaborative project with many contributors.
Type 'contributors()' for more information and
'citation()' on how to cite R or R packages in publications.
Type 'demo()' for some demos, 'help()' for on-line help, or
'help.start()' for an HTML browser interface to help.
Type 'q()' to quit R.
> library(testthat)
> library(ScreenR)
Welcome to ScreenR
--------------------------
See ?ScreenR for a list of
available functions.
Enjoy!
>
> test_check("ScreenR")
ScreenR count table containing:
5320 rows
15 columns
ScreenR annotation table containing:
5320 rows
5 columns
ScreenR normalized count table containing:
5320 rows
15 columns
ScreenR normalized data table containing:
74480 rows
9 columns
ScreenR annotation table containing:
5320 rows
5 columns
ScreenR annotation table containing:
5320 rows
5 columns
ScreenR count table containing:
5320 rows
15 columns
ScreenR count table containing:
5320 rows
15 columns
ScreenR normalized count table containing:
5320 rows
15 columns
ScreenR normalized count table containing:
5320 rows
15 columns
ScreenR normalized data table containing:
74480 rows
9 columns
ScreenR normalized data table containing:
74480 rows
9 columns
Using classic mode.
[ FAIL 0 | WARN 253 | SKIP 0 | PASS 64 ]
[ FAIL 0 | WARN 253 | SKIP 0 | PASS 64 ]
>
> proc.time()
user system elapsed
34.04 1.85 35.89
ScreenR.Rcheck/ScreenR-Ex.timings
| name | user | system | elapsed | |
| barcode_lost | 0.14 | 0.02 | 0.16 | |
| compute_data_table | 0.28 | 0.01 | 0.30 | |
| compute_explained_variance | 0.03 | 0.00 | 0.03 | |
| compute_metrics | 19.94 | 1.75 | 21.68 | |
| compute_slope | 0.04 | 0.02 | 0.07 | |
| count_mapped_reads | 0.04 | 0.00 | 0.05 | |
| create_edger_obj | 0.05 | 0.00 | 0.05 | |
| create_screenr_object | 0.06 | 0.00 | 0.06 | |
| filter_by_slope | 0.19 | 0.00 | 0.19 | |
| filter_by_variance | 2.02 | 0.11 | 2.12 | |
| find_camera_hit | 2.03 | 0.09 | 2.13 | |
| find_common_hit | 0.03 | 0.00 | 0.03 | |
| find_roast_hit | 2.72 | 0.12 | 2.84 | |
| find_robust_zscore_hit | 15.50 | 2.60 | 18.09 | |
| find_zscore_hit | 16.45 | 2.70 | 19.13 | |
| get_annotation_table | 0.02 | 0.00 | 0.02 | |
| get_count_table | 0.18 | 0.08 | 0.26 | |
| get_data_table | 0.05 | 0.00 | 0.05 | |
| get_groups | 0 | 0 | 0 | |
| get_normalized_count_table | 0.06 | 0.00 | 0.06 | |
| get_replicates | 0 | 0 | 0 | |
| mapped_reads | 0.08 | 0.00 | 0.08 | |
| normalize_data | 0.08 | 0.00 | 0.08 | |
| plot_barcode_hit | 1.78 | 0.12 | 1.90 | |
| plot_barcode_lost | 0.53 | 0.08 | 0.61 | |
| plot_barcode_lost_for_gene | 1.74 | 0.00 | 1.74 | |
| plot_barcode_trend | 34.89 | 5.82 | 40.56 | |
| plot_boxplot | 0.51 | 0.00 | 0.51 | |
| plot_common_hit | 0.19 | 0.04 | 0.27 | |
| plot_explained_variance | 0.49 | 0.02 | 0.50 | |
| plot_mapped_reads | 0.21 | 0.00 | 0.22 | |
| plot_mapped_reads_distribution | 1.99 | 0.09 | 2.06 | |
| plot_mds | 0.31 | 0.00 | 0.31 | |
| plot_trend | 1.72 | 0.44 | 2.16 | |
| plot_zscore_distribution | 33.02 | 4.22 | 37.06 | |
| remove_all_zero_row | 0.01 | 0.00 | 0.02 | |
| set_annotation_table | 0.17 | 0.00 | 0.17 | |
| set_count_table | 0.11 | 0.01 | 0.13 | |
| set_data_table | 0.11 | 0.02 | 0.12 | |
| set_groups | 0.11 | 0.00 | 0.11 | |
| set_normalized_count_table | 0.19 | 0.01 | 0.20 | |
| set_replicates | 0.17 | 0.02 | 0.19 | |