| Back to Multiple platform build/check report for BioC 3.22: simplified long |
|
This page was generated on 2025-10-24 12:05 -0400 (Fri, 24 Oct 2025).
| Hostname | OS | Arch (*) | R version | Installed pkgs |
|---|---|---|---|---|
| nebbiolo2 | Linux (Ubuntu 24.04.3 LTS) | x86_64 | 4.5.1 Patched (2025-08-23 r88802) -- "Great Square Root" | 4898 |
| lconway | macOS 12.7.6 Monterey | x86_64 | 4.5.1 Patched (2025-09-10 r88807) -- "Great Square Root" | 4688 |
| kjohnson3 | macOS 13.7.7 Ventura | arm64 | 4.5.1 Patched (2025-09-10 r88807) -- "Great Square Root" | 4634 |
| taishan | Linux (openEuler 24.03 LTS) | aarch64 | 4.5.0 (2025-04-11) -- "How About a Twenty-Six" | 4658 |
| Click on any hostname to see more info about the system (e.g. compilers) (*) as reported by 'uname -p', except on Windows and Mac OS X | ||||
| Package 1952/2359 | Hostname | OS / Arch | INSTALL | BUILD | CHECK | BUILD BIN | ||||||||
| ScreenR 1.11.0 (landing page) Emanuel Michele Soda
| nebbiolo2 | Linux (Ubuntu 24.04.3 LTS) / x86_64 | OK | OK | ERROR | |||||||||
| lconway | macOS 12.7.6 Monterey / x86_64 | OK | OK | ERROR | OK | |||||||||
| kjohnson3 | macOS 13.7.7 Ventura / arm64 | OK | OK | ERROR | OK | |||||||||
| taishan | Linux (openEuler 24.03 LTS) / aarch64 | OK | OK | NA | ||||||||||
|
To the developers/maintainers of the ScreenR package: - Allow up to 24 hours (and sometimes 48 hours) for your latest push to git@git.bioconductor.org:packages/ScreenR.git to reflect on this report. See Troubleshooting Build Report for more information. - Use the following Renviron settings to reproduce errors and warnings. - If 'R CMD check' started to fail recently on the Linux builder(s) over a missing dependency, add the missing dependency to 'Suggests:' in your DESCRIPTION file. See Renviron.bioc for more information. |
| Package: ScreenR |
| Version: 1.11.0 |
| Command: /Library/Frameworks/R.framework/Resources/bin/R CMD check --install=check:ScreenR.install-out.txt --library=/Library/Frameworks/R.framework/Resources/library --no-vignettes --timings ScreenR_1.11.0.tar.gz |
| StartedAt: 2025-10-24 00:03:41 -0400 (Fri, 24 Oct 2025) |
| EndedAt: 2025-10-24 00:07:31 -0400 (Fri, 24 Oct 2025) |
| EllapsedTime: 230.2 seconds |
| RetCode: 1 |
| Status: ERROR |
| CheckDir: ScreenR.Rcheck |
| Warnings: NA |
##############################################################################
##############################################################################
###
### Running command:
###
### /Library/Frameworks/R.framework/Resources/bin/R CMD check --install=check:ScreenR.install-out.txt --library=/Library/Frameworks/R.framework/Resources/library --no-vignettes --timings ScreenR_1.11.0.tar.gz
###
##############################################################################
##############################################################################
* using log directory ‘/Users/biocbuild/bbs-3.22-bioc/meat/ScreenR.Rcheck’
* using R version 4.5.1 Patched (2025-09-10 r88807)
* using platform: x86_64-apple-darwin20
* R was compiled by
Apple clang version 14.0.0 (clang-1400.0.29.202)
GNU Fortran (GCC) 14.2.0
* running under: macOS Monterey 12.7.6
* using session charset: UTF-8
* using option ‘--no-vignettes’
* checking for file ‘ScreenR/DESCRIPTION’ ... OK
* checking extension type ... Package
* this is package ‘ScreenR’ version ‘1.11.0’
* package encoding: UTF-8
* checking package namespace information ... OK
* checking package dependencies ... OK
* checking if this is a source package ... OK
* checking if there is a namespace ... OK
* checking for hidden files and directories ... OK
* checking for portable file names ... OK
* checking for sufficient/correct file permissions ... OK
* checking whether package ‘ScreenR’ can be installed ... OK
* checking installed package size ... OK
* checking package directory ... OK
* checking ‘build’ directory ... OK
* checking DESCRIPTION meta-information ... OK
* checking top-level files ... OK
* checking for left-over files ... OK
* checking index information ... OK
* checking package subdirectories ... OK
* checking code files for non-ASCII characters ... OK
* checking R files for syntax errors ... OK
* checking whether the package can be loaded ... OK
* checking whether the package can be loaded with stated dependencies ... OK
* checking whether the package can be unloaded cleanly ... OK
* checking whether the namespace can be loaded with stated dependencies ... OK
* checking whether the namespace can be unloaded cleanly ... OK
* checking whether startup messages can be suppressed ... OK
* checking dependencies in R code ... OK
* checking S3 generic/method consistency ... OK
* checking replacement functions ... OK
* checking foreign function calls ... OK
* checking R code for possible problems ... OK
* checking Rd files ... NOTE
checkRd: (-1) annotation_table.Rd:25: Lost braces
25 | \url{https://cellecta.com/}{cellecta}}
| ^
* checking Rd metadata ... OK
* checking Rd cross-references ... OK
* checking for missing documentation entries ... OK
* checking for code/documentation mismatches ... OK
* checking Rd \usage sections ... NOTE
Documented arguments not in \usage in Rd file 'compute_camera.Rd':
‘...’
Documented arguments not in \usage in Rd file 'select_number_barcode.Rd':
‘...’
Documented arguments not in \usage in Rd file 'unique_gene_symbols.Rd':
‘...’
Functions with \usage entries need to have the appropriate \alias
entries, and all their arguments documented.
The \usage entries must correspond to syntactically valid R code.
See chapter ‘Writing R documentation files’ in the ‘Writing R
Extensions’ manual.
* checking Rd contents ... OK
* checking for unstated dependencies in examples ... OK
* checking contents of ‘data’ directory ... OK
* checking data for non-ASCII characters ... OK
* checking data for ASCII and uncompressed saves ... OK
* checking R/sysdata.rda ... OK
* checking files in ‘vignettes’ ... OK
* checking examples ... OK
Examples with CPU (user + system) or elapsed time > 5s
user system elapsed
plot_zscore_distribution 30.026 3.042 33.272
plot_barcode_trend 30.593 1.453 32.299
compute_metrics 17.850 1.155 19.101
find_robust_zscore_hit 13.919 1.553 15.554
find_zscore_hit 14.074 1.161 15.314
* checking for unstated dependencies in ‘tests’ ... OK
* checking tests ...
Running ‘testthat.R’
ERROR
Running the tests in ‘tests/testthat.R’ failed.
Last 13 lines of output:
`expected`: "gg"
── Failure ('test-visualization.R:179:5'): plot_zscore_distribution ────────────
class(p)[1] (`actual`) not equal to "gg" (`expected`).
`actual`: "ggplot2::ggplot"
`expected`: "gg"
── Failure ('test-visualization.R:263:5'): Plot common Hit ─────────────────────
"gg" (`actual`) not equal to class(plot)[1] (`expected`).
`actual`: "gg"
`expected`: "ggplot2::ggplot"
[ FAIL 11 | WARN 253 | SKIP 0 | PASS 53 ]
Error: Test failures
Execution halted
* checking for unstated dependencies in vignettes ... OK
* checking package vignettes ... OK
* checking running R code from vignettes ... SKIPPED
* checking re-building of vignette outputs ... SKIPPED
* checking PDF version of manual ... OK
* DONE
Status: 1 ERROR, 2 NOTEs
See
‘/Users/biocbuild/bbs-3.22-bioc/meat/ScreenR.Rcheck/00check.log’
for details.
ScreenR.Rcheck/00install.out
############################################################################## ############################################################################## ### ### Running command: ### ### /Library/Frameworks/R.framework/Resources/bin/R CMD INSTALL ScreenR ### ############################################################################## ############################################################################## * installing to library ‘/Library/Frameworks/R.framework/Versions/4.5-x86_64/Resources/library’ * installing *source* package ‘ScreenR’ ... ** this is package ‘ScreenR’ version ‘1.11.0’ ** using staged installation ** R ** data ** inst ** byte-compile and prepare package for lazy loading ** help *** installing help indices *** copying figures ** building package indices ** installing vignettes ** testing if installed package can be loaded from temporary location ** testing if installed package can be loaded from final location ** testing if installed package keeps a record of temporary installation path * DONE (ScreenR)
ScreenR.Rcheck/tests/testthat.Rout.fail
R version 4.5.1 Patched (2025-09-10 r88807) -- "Great Square Root"
Copyright (C) 2025 The R Foundation for Statistical Computing
Platform: x86_64-apple-darwin20
R is free software and comes with ABSOLUTELY NO WARRANTY.
You are welcome to redistribute it under certain conditions.
Type 'license()' or 'licence()' for distribution details.
R is a collaborative project with many contributors.
Type 'contributors()' for more information and
'citation()' on how to cite R or R packages in publications.
Type 'demo()' for some demos, 'help()' for on-line help, or
'help.start()' for an HTML browser interface to help.
Type 'q()' to quit R.
> library(testthat)
> library(ScreenR)
Welcome to ScreenR
--------------------------
See ?ScreenR for a list of
available functions.
Enjoy!
>
> test_check("ScreenR")
ScreenR count table containing:
5320 rows
15 columns
ScreenR annotation table containing:
5320 rows
5 columns
ScreenR normalized count table containing:
5320 rows
15 columns
ScreenR normalized data table containing:
74480 rows
9 columns
ScreenR annotation table containing:
5320 rows
5 columns
ScreenR annotation table containing:
5320 rows
5 columns
ScreenR count table containing:
5320 rows
15 columns
ScreenR count table containing:
5320 rows
15 columns
ScreenR normalized count table containing:
5320 rows
15 columns
ScreenR normalized count table containing:
5320 rows
15 columns
ScreenR normalized data table containing:
74480 rows
9 columns
ScreenR normalized data table containing:
74480 rows
9 columns
Using classic mode.
[ FAIL 11 | WARN 253 | SKIP 0 | PASS 53 ]
══ Failed tests ════════════════════════════════════════════════════════════════
── Failure ('test-MDS.R:52:5'): plot_mds NULL ──────────────────────────────────
class(plot)[1] (`actual`) not equal to "gg" (`expected`).
`actual`: "ggplot2::ggplot"
`expected`: "gg"
── Failure ('test-MDS.R:61:5'): plot_mds ───────────────────────────────────────
class(plot)[1] (`actual`) not equal to "gg" (`expected`).
`actual`: "ggplot2::ggplot"
`expected`: "gg"
── Failure ('test-MDS.R:70:5'): plot_explained_variance ────────────────────────
class(plot)[[1]] (`actual`) not equal to "gg" (`expected`).
`actual`: "ggplot2::ggplot"
`expected`: "gg"
── Failure ('test-MDS.R:81:5'): plot_explained_variance CUM ────────────────────
class(plot)[[1]] (`actual`) not equal to "gg" (`expected`).
`actual`: "ggplot2::ggplot"
`expected`: "gg"
── Failure ('test-visualization.R:57:5'): plot trend hit ───────────────────────
class(plot)[[1]] (`actual`) not equal to "gg" (`expected`).
`actual`: "ggplot2::ggplot"
`expected`: "gg"
── Failure ('test-visualization.R:71:5'): Plot Boxplot violinplot ──────────────
class(p)[1] (`actual`) not equal to "gg" (`expected`).
`actual`: "ggplot2::ggplot"
`expected`: "gg"
── Failure ('test-visualization.R:85:5'): Plot Boxplot boxplot ─────────────────
class(p)[1] (`actual`) not equal to "gg" (`expected`).
`actual`: "ggplot2::ggplot"
`expected`: "gg"
── Failure ('test-visualization.R:102:5'): plot_barcode_lost_for_gene ──────────
class(p)[1] (`actual`) not equal to "gg" (`expected`).
`actual`: "ggplot2::ggplot"
`expected`: "gg"
── Failure ('test-visualization.R:108:5'): plot_barcode_lost_for_gene ──────────
class(p)[1] (`actual`) not equal to "gg" (`expected`).
`actual`: "ggplot2::ggplot"
`expected`: "gg"
── Failure ('test-visualization.R:179:5'): plot_zscore_distribution ────────────
class(p)[1] (`actual`) not equal to "gg" (`expected`).
`actual`: "ggplot2::ggplot"
`expected`: "gg"
── Failure ('test-visualization.R:263:5'): Plot common Hit ─────────────────────
"gg" (`actual`) not equal to class(plot)[1] (`expected`).
`actual`: "gg"
`expected`: "ggplot2::ggplot"
[ FAIL 11 | WARN 253 | SKIP 0 | PASS 53 ]
Error: Test failures
Execution halted
ScreenR.Rcheck/ScreenR-Ex.timings
| name | user | system | elapsed | |
| barcode_lost | 0.192 | 0.018 | 0.210 | |
| compute_data_table | 0.259 | 0.008 | 0.268 | |
| compute_explained_variance | 0.018 | 0.003 | 0.021 | |
| compute_metrics | 17.850 | 1.155 | 19.101 | |
| compute_slope | 0.055 | 0.001 | 0.057 | |
| count_mapped_reads | 0.038 | 0.001 | 0.039 | |
| create_edger_obj | 0.026 | 0.002 | 0.027 | |
| create_screenr_object | 0.052 | 0.002 | 0.053 | |
| filter_by_slope | 0.140 | 0.005 | 0.146 | |
| filter_by_variance | 1.174 | 0.033 | 1.213 | |
| find_camera_hit | 1.274 | 0.031 | 1.330 | |
| find_common_hit | 0.038 | 0.000 | 0.040 | |
| find_roast_hit | 1.821 | 0.060 | 1.892 | |
| find_robust_zscore_hit | 13.919 | 1.553 | 15.554 | |
| find_zscore_hit | 14.074 | 1.161 | 15.314 | |
| get_annotation_table | 0.017 | 0.001 | 0.017 | |
| get_count_table | 0.091 | 0.003 | 0.094 | |
| get_data_table | 0.029 | 0.000 | 0.029 | |
| get_groups | 0.001 | 0.000 | 0.001 | |
| get_normalized_count_table | 0.050 | 0.001 | 0.051 | |
| get_replicates | 0.000 | 0.001 | 0.000 | |
| mapped_reads | 0.048 | 0.000 | 0.049 | |
| normalize_data | 0.054 | 0.000 | 0.054 | |
| plot_barcode_hit | 1.245 | 0.011 | 1.263 | |
| plot_barcode_lost | 0.479 | 0.011 | 0.491 | |
| plot_barcode_lost_for_gene | 1.773 | 0.008 | 1.787 | |
| plot_barcode_trend | 30.593 | 1.453 | 32.299 | |
| plot_boxplot | 0.480 | 0.006 | 0.488 | |
| plot_common_hit | 0.258 | 0.003 | 0.264 | |
| plot_explained_variance | 0.525 | 0.005 | 0.534 | |
| plot_mapped_reads | 0.238 | 0.002 | 0.244 | |
| plot_mapped_reads_distribution | 1.838 | 0.027 | 1.876 | |
| plot_mds | 0.389 | 0.011 | 0.402 | |
| plot_trend | 1.788 | 1.506 | 3.332 | |
| plot_zscore_distribution | 30.026 | 3.042 | 33.272 | |
| remove_all_zero_row | 0.014 | 0.001 | 0.014 | |
| set_annotation_table | 0.156 | 0.002 | 0.158 | |
| set_count_table | 0.157 | 0.002 | 0.159 | |
| set_data_table | 0.165 | 0.002 | 0.171 | |
| set_groups | 0.148 | 0.001 | 0.149 | |
| set_normalized_count_table | 0.192 | 0.002 | 0.195 | |
| set_replicates | 0.154 | 0.002 | 0.156 | |