| Back to Multiple platform build/check report for BioC 3.22: simplified long |
|
This page was generated on 2025-08-15 12:06 -0400 (Fri, 15 Aug 2025).
| Hostname | OS | Arch (*) | R version | Installed pkgs |
|---|---|---|---|---|
| nebbiolo2 | Linux (Ubuntu 24.04.3 LTS) | x86_64 | 4.5.1 (2025-06-13) -- "Great Square Root" | 4818 |
| palomino8 | Windows Server 2022 Datacenter | x64 | 4.5.1 (2025-06-13 ucrt) -- "Great Square Root" | 4554 |
| lconway | macOS 12.7.1 Monterey | x86_64 | 4.5.1 (2025-06-13) -- "Great Square Root" | 4595 |
| kjohnson3 | macOS 13.7.7 Ventura | arm64 | 4.5.1 Patched (2025-06-14 r88325) -- "Great Square Root" | 4537 |
| taishan | Linux (openEuler 24.03 LTS) | aarch64 | 4.5.0 (2025-04-11) -- "How About a Twenty-Six" | 4535 |
| Click on any hostname to see more info about the system (e.g. compilers) (*) as reported by 'uname -p', except on Windows and Mac OS X | ||||
| Package 1060/2317 | Hostname | OS / Arch | INSTALL | BUILD | CHECK | BUILD BIN | ||||||||
| ISAnalytics 1.19.3 (landing page) Francesco Gazzo
| nebbiolo2 | Linux (Ubuntu 24.04.3 LTS) / x86_64 | OK | OK | OK | |||||||||
| palomino8 | Windows Server 2022 Datacenter / x64 | OK | OK | OK | OK | |||||||||
| lconway | macOS 12.7.1 Monterey / x86_64 | OK | OK | OK | OK | |||||||||
| kjohnson3 | macOS 13.7.7 Ventura / arm64 | OK | OK | OK | OK | |||||||||
| taishan | Linux (openEuler 24.03 LTS) / aarch64 | OK | OK | OK | ||||||||||
|
To the developers/maintainers of the ISAnalytics package: - Allow up to 24 hours (and sometimes 48 hours) for your latest push to git@git.bioconductor.org:packages/ISAnalytics.git to reflect on this report. See Troubleshooting Build Report for more information. - Use the following Renviron settings to reproduce errors and warnings. - If 'R CMD check' started to fail recently on the Linux builder(s) over a missing dependency, add the missing dependency to 'Suggests:' in your DESCRIPTION file. See Renviron.bioc for more information. |
| Package: ISAnalytics |
| Version: 1.19.3 |
| Command: F:\biocbuild\bbs-3.22-bioc\R\bin\R.exe CMD check --no-multiarch --install=check:ISAnalytics.install-out.txt --library=F:\biocbuild\bbs-3.22-bioc\R\library --no-vignettes --timings ISAnalytics_1.19.3.tar.gz |
| StartedAt: 2025-08-15 04:24:03 -0400 (Fri, 15 Aug 2025) |
| EndedAt: 2025-08-15 04:34:37 -0400 (Fri, 15 Aug 2025) |
| EllapsedTime: 634.6 seconds |
| RetCode: 0 |
| Status: OK |
| CheckDir: ISAnalytics.Rcheck |
| Warnings: 0 |
##############################################################################
##############################################################################
###
### Running command:
###
### F:\biocbuild\bbs-3.22-bioc\R\bin\R.exe CMD check --no-multiarch --install=check:ISAnalytics.install-out.txt --library=F:\biocbuild\bbs-3.22-bioc\R\library --no-vignettes --timings ISAnalytics_1.19.3.tar.gz
###
##############################################################################
##############################################################################
* using log directory 'F:/biocbuild/bbs-3.22-bioc/meat/ISAnalytics.Rcheck'
* using R version 4.5.1 (2025-06-13 ucrt)
* using platform: x86_64-w64-mingw32
* R was compiled by
gcc.exe (GCC) 14.2.0
GNU Fortran (GCC) 14.2.0
* running under: Windows Server 2022 x64 (build 20348)
* using session charset: UTF-8
* using option '--no-vignettes'
* checking for file 'ISAnalytics/DESCRIPTION' ... OK
* this is package 'ISAnalytics' version '1.19.3'
* package encoding: UTF-8
* checking package namespace information ... OK
* checking package dependencies ... INFO
Imports includes 22 non-default packages.
Importing from so many packages makes the package vulnerable to any of
them becoming unavailable. Move as many as possible to Suggests and
use conditionally.
* checking if this is a source package ... OK
* checking if there is a namespace ... OK
* checking for hidden files and directories ... OK
* checking for portable file names ... OK
* checking whether package 'ISAnalytics' can be installed ... OK
* checking installed package size ... INFO
installed size is 8.3Mb
sub-directories of 1Mb or more:
data 5.8Mb
* checking package directory ... OK
* checking 'build' directory ... OK
* checking DESCRIPTION meta-information ... OK
* checking top-level files ... OK
* checking for left-over files ... OK
* checking index information ... OK
* checking package subdirectories ... OK
* checking code files for non-ASCII characters ... OK
* checking R files for syntax errors ... OK
* checking whether the package can be loaded ... OK
* checking whether the package can be loaded with stated dependencies ... OK
* checking whether the package can be unloaded cleanly ... OK
* checking whether the namespace can be loaded with stated dependencies ... OK
* checking whether the namespace can be unloaded cleanly ... OK
* checking whether startup messages can be suppressed ... OK
* checking dependencies in R code ... OK
* checking S3 generic/method consistency ... OK
* checking replacement functions ... OK
* checking foreign function calls ... OK
* checking R code for possible problems ... OK
* checking Rd files ... NOTE
checkRd: (-1) refGenes_hg19.Rd:21: Lost braces; missing escapes or markup?
21 | \item Download from {http://hgdownload.soe.ucsc.edu/goldenPath/hg19/database/}
| ^
* checking Rd metadata ... OK
* checking Rd cross-references ... OK
* checking for missing documentation entries ... OK
* checking for code/documentation mismatches ... OK
* checking Rd \usage sections ... OK
* checking Rd contents ... OK
* checking for unstated dependencies in examples ... OK
* checking contents of 'data' directory ... OK
* checking data for non-ASCII characters ... OK
* checking data for ASCII and uncompressed saves ... OK
* checking files in 'vignettes' ... OK
* checking examples ... OK
Examples with CPU (user + system) or elapsed time > 5s
user system elapsed
integration_alluvial_plot 4.22 0.14 12.80
import_parallel_Vispa2Matrices 3.25 0.36 20.75
import_Vispa2_stats 2.18 0.36 7.72
sharing_venn 2.09 0.12 44.55
top_cis_overtime_heatmap 1.86 0.17 10.33
sharing_heatmap 1.95 0.03 12.14
CIS_grubbs_overtime 1.57 0.26 8.16
is_sharing 1.43 0.08 10.34
remove_collisions 1.37 0.04 6.61
realign_after_collisions 1.37 0.02 7.24
iss_source 1.31 0.05 9.05
HSC_population_plot 1.20 0.00 6.20
HSC_population_size_estimate 1.03 0.04 6.15
compute_near_integrations 0.86 0.05 10.59
* checking for unstated dependencies in 'tests' ... OK
* checking tests ...
Running 'testthat.R'
OK
* checking for unstated dependencies in vignettes ... OK
* checking package vignettes ... OK
* checking running R code from vignettes ... SKIPPED
* checking re-building of vignette outputs ... SKIPPED
* checking PDF version of manual ... OK
* DONE
Status: 1 NOTE
See
'F:/biocbuild/bbs-3.22-bioc/meat/ISAnalytics.Rcheck/00check.log'
for details.
ISAnalytics.Rcheck/00install.out
############################################################################## ############################################################################## ### ### Running command: ### ### F:\biocbuild\bbs-3.22-bioc\R\bin\R.exe CMD INSTALL ISAnalytics ### ############################################################################## ############################################################################## * installing to library 'F:/biocbuild/bbs-3.22-bioc/R/library' * installing *source* package 'ISAnalytics' ... ** this is package 'ISAnalytics' version '1.19.3' ** using staged installation ** R ** data ** inst ** byte-compile and prepare package for lazy loading ** help *** installing help indices *** copying figures ** building package indices ** installing vignettes ** testing if installed package can be loaded from temporary location ** testing if installed package can be loaded from final location ** testing if installed package keeps a record of temporary installation path * DONE (ISAnalytics)
ISAnalytics.Rcheck/tests/testthat.Rout
R version 4.5.1 (2025-06-13 ucrt) -- "Great Square Root"
Copyright (C) 2025 The R Foundation for Statistical Computing
Platform: x86_64-w64-mingw32/x64
R is free software and comes with ABSOLUTELY NO WARRANTY.
You are welcome to redistribute it under certain conditions.
Type 'license()' or 'licence()' for distribution details.
R is a collaborative project with many contributors.
Type 'contributors()' for more information and
'citation()' on how to cite R or R packages in publications.
Type 'demo()' for some demos, 'help()' for on-line help, or
'help.start()' for an HTML browser interface to help.
Type 'q()' to quit R.
> library(testthat)
> library(ISAnalytics)
>
> test_check("ISAnalytics")
Loading required namespace: plotly
Loading required namespace: rmarkdown
Report correctly saved
i Report saved to: F:/biocbuild/bbs-3.22-bioc/tmpdir/RtmpmKutUV/file14c3c26b13afd/2025-08-15_collision_removal_report.html
Report correctly saved
i Report saved to: F:/biocbuild/bbs-3.22-bioc/tmpdir/RtmpmKutUV/file14c3c6f38247f/2025-08-15_outlier_test_pool_fragments_report.html
[ FAIL 0 | WARN 0 | SKIP 0 | PASS 834 ]
>
> proc.time()
user system elapsed
116.73 7.18 340.00
ISAnalytics.Rcheck/ISAnalytics-Ex.timings
| name | user | system | elapsed | |
| CIS_grubbs | 0.98 | 0.05 | 1.05 | |
| CIS_grubbs_overtime | 1.57 | 0.26 | 8.16 | |
| CIS_volcano_plot | 1.35 | 0.04 | 1.38 | |
| HSC_population_plot | 1.2 | 0.0 | 6.2 | |
| HSC_population_size_estimate | 1.03 | 0.04 | 6.15 | |
| NGSdataExplorer | 0 | 0 | 0 | |
| aggregate_metadata | 0.11 | 0.00 | 0.11 | |
| aggregate_values_by_key | 0.08 | 0.00 | 0.08 | |
| annotation_issues | 0.03 | 0.00 | 0.03 | |
| as_sparse_matrix | 0.06 | 0.00 | 0.07 | |
| available_outlier_tests | 0 | 0 | 0 | |
| available_tags | 0.02 | 0.00 | 0.01 | |
| blood_lineages_default | 0.03 | 0.00 | 0.03 | |
| circos_genomic_density | 0 | 0 | 0 | |
| clinical_relevant_suspicious_genes | 0.02 | 0.00 | 0.02 | |
| comparison_matrix | 0.03 | 0.00 | 0.03 | |
| compute_abundance | 0.04 | 0.00 | 0.05 | |
| compute_near_integrations | 0.86 | 0.05 | 10.59 | |
| cumulative_count_union | 0 | 0 | 0 | |
| cumulative_is | 0.19 | 0.02 | 0.20 | |
| date_formats | 0 | 0 | 0 | |
| default_af_transform | 0 | 0 | 0 | |
| default_iss_file_prefixes | 0 | 0 | 0 | |
| default_meta_agg | 0.03 | 0.00 | 0.03 | |
| default_rec_agg_lambdas | 0 | 0 | 0 | |
| default_report_path | 0.02 | 0.00 | 0.02 | |
| default_stats | 1.42 | 0.04 | 1.47 | |
| enable_progress_bars | 0.03 | 0.02 | 0.05 | |
| export_ISA_settings | 0.09 | 0.01 | 0.11 | |
| fisher_scatterplot | 1.22 | 0.11 | 1.32 | |
| gene_frequency_fisher | 1.05 | 0.00 | 1.05 | |
| generate_Vispa2_launch_AF | 0.20 | 0.03 | 0.23 | |
| generate_blank_association_file | 0.02 | 0.00 | 0.02 | |
| generate_default_folder_structure | 0.78 | 0.22 | 0.89 | |
| import_ISA_settings | 0.09 | 0.09 | 0.20 | |
| import_Vispa2_stats | 2.18 | 0.36 | 7.72 | |
| import_association_file | 1.09 | 0.25 | 1.26 | |
| import_parallel_Vispa2Matrices | 3.25 | 0.36 | 20.75 | |
| import_single_Vispa2Matrix | 1.50 | 0.36 | 1.68 | |
| inspect_tags | 0.01 | 0.02 | 0.03 | |
| integration_alluvial_plot | 4.22 | 0.14 | 12.80 | |
| is_sharing | 1.43 | 0.08 | 10.34 | |
| iss_source | 1.31 | 0.05 | 9.05 | |
| known_clinical_oncogenes | 0.01 | 0.00 | 0.02 | |
| mandatory_IS_vars | 0.13 | 0.00 | 0.12 | |
| matching_options | 0 | 0 | 0 | |
| outlier_filter | 0.22 | 0.03 | 0.25 | |
| outliers_by_pool_fragments | 0.17 | 0.01 | 0.19 | |
| pcr_id_column | 0.03 | 0.00 | 0.03 | |
| purity_filter | 0.41 | 0.02 | 0.42 | |
| quantification_types | 0 | 0 | 0 | |
| realign_after_collisions | 1.37 | 0.02 | 7.24 | |
| reduced_AF_columns | 0.05 | 0.00 | 0.04 | |
| refGene_table_cols | 0 | 0 | 0 | |
| remove_collisions | 1.37 | 0.04 | 6.61 | |
| reset_mandatory_IS_vars | 0.05 | 0.05 | 0.10 | |
| sample_statistics | 0.36 | 0.03 | 0.39 | |
| separate_quant_matrices | 0.02 | 0.00 | 0.01 | |
| set_mandatory_IS_vars | 0.12 | 0.03 | 0.16 | |
| set_matrix_file_suffixes | 0.02 | 0.02 | 0.03 | |
| sharing_heatmap | 1.95 | 0.03 | 12.14 | |
| sharing_venn | 2.09 | 0.12 | 44.55 | |
| threshold_filter | 0 | 0 | 0 | |
| top_abund_tableGrob | 0.58 | 0.03 | 0.61 | |
| top_cis_overtime_heatmap | 1.86 | 0.17 | 10.33 | |
| top_integrations | 0.05 | 0.00 | 0.05 | |
| top_targeted_genes | 0.59 | 0.00 | 0.59 | |
| transform_columns | 0.03 | 0.00 | 0.03 | |