| Back to Multiple platform build/check report for BioC 3.22: simplified long |
|
This page was generated on 2025-10-25 12:04 -0400 (Sat, 25 Oct 2025).
| Hostname | OS | Arch (*) | R version | Installed pkgs |
|---|---|---|---|---|
| nebbiolo2 | Linux (Ubuntu 24.04.3 LTS) | x86_64 | 4.5.1 Patched (2025-08-23 r88802) -- "Great Square Root" | 4901 |
| lconway | macOS 12.7.6 Monterey | x86_64 | 4.5.1 Patched (2025-09-10 r88807) -- "Great Square Root" | 4691 |
| kjohnson3 | macOS 13.7.7 Ventura | arm64 | 4.5.1 Patched (2025-09-10 r88807) -- "Great Square Root" | 4637 |
| taishan | Linux (openEuler 24.03 LTS) | aarch64 | 4.5.0 (2025-04-11) -- "How About a Twenty-Six" | 4658 |
| Click on any hostname to see more info about the system (e.g. compilers) (*) as reported by 'uname -p', except on Windows and Mac OS X | ||||
| Package 1081/2361 | Hostname | OS / Arch | INSTALL | BUILD | CHECK | BUILD BIN | ||||||||
| ISAnalytics 1.19.3 (landing page) Francesco Gazzo
| nebbiolo2 | Linux (Ubuntu 24.04.3 LTS) / x86_64 | OK | OK | OK | |||||||||
| lconway | macOS 12.7.6 Monterey / x86_64 | OK | OK | OK | OK | |||||||||
| kjohnson3 | macOS 13.7.7 Ventura / arm64 | OK | OK | OK | OK | |||||||||
| taishan | Linux (openEuler 24.03 LTS) / aarch64 | OK | NA | NA | ||||||||||
|
To the developers/maintainers of the ISAnalytics package: - Allow up to 24 hours (and sometimes 48 hours) for your latest push to git@git.bioconductor.org:packages/ISAnalytics.git to reflect on this report. See Troubleshooting Build Report for more information. - Use the following Renviron settings to reproduce errors and warnings. - If 'R CMD check' started to fail recently on the Linux builder(s) over a missing dependency, add the missing dependency to 'Suggests:' in your DESCRIPTION file. See Renviron.bioc for more information. |
| Package: ISAnalytics |
| Version: 1.19.3 |
| Command: /Library/Frameworks/R.framework/Resources/bin/R CMD check --install=check:ISAnalytics.install-out.txt --library=/Library/Frameworks/R.framework/Resources/library --no-vignettes --timings ISAnalytics_1.19.3.tar.gz |
| StartedAt: 2025-10-24 21:59:00 -0400 (Fri, 24 Oct 2025) |
| EndedAt: 2025-10-24 22:10:12 -0400 (Fri, 24 Oct 2025) |
| EllapsedTime: 671.4 seconds |
| RetCode: 0 |
| Status: OK |
| CheckDir: ISAnalytics.Rcheck |
| Warnings: 0 |
##############################################################################
##############################################################################
###
### Running command:
###
### /Library/Frameworks/R.framework/Resources/bin/R CMD check --install=check:ISAnalytics.install-out.txt --library=/Library/Frameworks/R.framework/Resources/library --no-vignettes --timings ISAnalytics_1.19.3.tar.gz
###
##############################################################################
##############################################################################
* using log directory ‘/Users/biocbuild/bbs-3.22-bioc/meat/ISAnalytics.Rcheck’
* using R version 4.5.1 Patched (2025-09-10 r88807)
* using platform: x86_64-apple-darwin20
* R was compiled by
Apple clang version 14.0.0 (clang-1400.0.29.202)
GNU Fortran (GCC) 14.2.0
* running under: macOS Monterey 12.7.6
* using session charset: UTF-8
* using option ‘--no-vignettes’
* checking for file ‘ISAnalytics/DESCRIPTION’ ... OK
* this is package ‘ISAnalytics’ version ‘1.19.3’
* package encoding: UTF-8
* checking package namespace information ... OK
* checking package dependencies ... INFO
Imports includes 22 non-default packages.
Importing from so many packages makes the package vulnerable to any of
them becoming unavailable. Move as many as possible to Suggests and
use conditionally.
* checking if this is a source package ... OK
* checking if there is a namespace ... OK
* checking for hidden files and directories ... OK
* checking for portable file names ... OK
* checking for sufficient/correct file permissions ... OK
* checking whether package ‘ISAnalytics’ can be installed ... OK
* checking installed package size ... INFO
installed size is 8.3Mb
sub-directories of 1Mb or more:
data 5.8Mb
* checking package directory ... OK
* checking ‘build’ directory ... OK
* checking DESCRIPTION meta-information ... OK
* checking top-level files ... OK
* checking for left-over files ... OK
* checking index information ... OK
* checking package subdirectories ... OK
* checking code files for non-ASCII characters ... OK
* checking R files for syntax errors ... OK
* checking whether the package can be loaded ... OK
* checking whether the package can be loaded with stated dependencies ... OK
* checking whether the package can be unloaded cleanly ... OK
* checking whether the namespace can be loaded with stated dependencies ... OK
* checking whether the namespace can be unloaded cleanly ... OK
* checking whether startup messages can be suppressed ... OK
* checking dependencies in R code ... OK
* checking S3 generic/method consistency ... OK
* checking replacement functions ... OK
* checking foreign function calls ... OK
* checking R code for possible problems ... OK
* checking Rd files ... NOTE
checkRd: (-1) refGenes_hg19.Rd:21: Lost braces; missing escapes or markup?
21 | \item Download from {http://hgdownload.soe.ucsc.edu/goldenPath/hg19/database/}
| ^
* checking Rd metadata ... OK
* checking Rd cross-references ... OK
* checking for missing documentation entries ... OK
* checking for code/documentation mismatches ... OK
* checking Rd \usage sections ... OK
* checking Rd contents ... OK
* checking for unstated dependencies in examples ... OK
* checking contents of ‘data’ directory ... OK
* checking data for non-ASCII characters ... OK
* checking data for ASCII and uncompressed saves ... OK
* checking files in ‘vignettes’ ... OK
* checking examples ... OK
Examples with CPU (user + system) or elapsed time > 5s
user system elapsed
integration_alluvial_plot 4.043 0.123 12.258
import_parallel_Vispa2Matrices 2.868 0.152 19.147
sharing_venn 2.376 0.098 41.328
sharing_heatmap 2.045 0.044 12.845
CIS_grubbs_overtime 1.803 0.223 8.481
import_Vispa2_stats 1.767 0.145 9.068
top_cis_overtime_heatmap 1.762 0.066 11.069
iss_source 1.455 0.033 9.689
is_sharing 1.324 0.038 10.616
HSC_population_plot 1.313 0.030 7.484
realign_after_collisions 1.305 0.029 8.646
remove_collisions 1.295 0.028 8.652
compute_near_integrations 0.987 0.040 12.177
HSC_population_size_estimate 0.876 0.025 6.846
* checking for unstated dependencies in ‘tests’ ... OK
* checking tests ...
Running ‘testthat.R’
OK
* checking for unstated dependencies in vignettes ... OK
* checking package vignettes ... OK
* checking running R code from vignettes ... SKIPPED
* checking re-building of vignette outputs ... SKIPPED
* checking PDF version of manual ... OK
* DONE
Status: 1 NOTE
See
‘/Users/biocbuild/bbs-3.22-bioc/meat/ISAnalytics.Rcheck/00check.log’
for details.
ISAnalytics.Rcheck/00install.out
############################################################################## ############################################################################## ### ### Running command: ### ### /Library/Frameworks/R.framework/Resources/bin/R CMD INSTALL ISAnalytics ### ############################################################################## ############################################################################## * installing to library ‘/Library/Frameworks/R.framework/Versions/4.5-x86_64/Resources/library’ * installing *source* package ‘ISAnalytics’ ... ** this is package ‘ISAnalytics’ version ‘1.19.3’ ** using staged installation ** R ** data ** inst ** byte-compile and prepare package for lazy loading ** help *** installing help indices *** copying figures ** building package indices ** installing vignettes ** testing if installed package can be loaded from temporary location ** testing if installed package can be loaded from final location ** testing if installed package keeps a record of temporary installation path * DONE (ISAnalytics)
ISAnalytics.Rcheck/tests/testthat.Rout
R version 4.5.1 Patched (2025-09-10 r88807) -- "Great Square Root"
Copyright (C) 2025 The R Foundation for Statistical Computing
Platform: x86_64-apple-darwin20
R is free software and comes with ABSOLUTELY NO WARRANTY.
You are welcome to redistribute it under certain conditions.
Type 'license()' or 'licence()' for distribution details.
R is a collaborative project with many contributors.
Type 'contributors()' for more information and
'citation()' on how to cite R or R packages in publications.
Type 'demo()' for some demos, 'help()' for on-line help, or
'help.start()' for an HTML browser interface to help.
Type 'q()' to quit R.
> library(testthat)
> library(ISAnalytics)
>
> test_check("ISAnalytics")
Loading required namespace: plotly
Loading required namespace: rmarkdown
2025-10-24 22:04:59.801 R[42032:640147364] XType: com.apple.fonts is not accessible.
2025-10-24 22:04:59.802 R[42032:640147364] XType: XTFontStaticRegistry is enabled.
Report correctly saved
i Report saved to: /tmp/Rtmplz55sx/filea430150b47c/2025-10-24_collision_removal_report.html
Report correctly saved
i Report saved to: /tmp/Rtmplz55sx/filea430259ce173/2025-10-24_outlier_test_pool_fragments_report.html
[ FAIL 0 | WARN 0 | SKIP 0 | PASS 834 ]
>
> proc.time()
user system elapsed
111.306 5.376 382.403
ISAnalytics.Rcheck/ISAnalytics-Ex.timings
| name | user | system | elapsed | |
| CIS_grubbs | 0.871 | 0.043 | 0.919 | |
| CIS_grubbs_overtime | 1.803 | 0.223 | 8.481 | |
| CIS_volcano_plot | 1.571 | 0.035 | 1.615 | |
| HSC_population_plot | 1.313 | 0.030 | 7.484 | |
| HSC_population_size_estimate | 0.876 | 0.025 | 6.846 | |
| NGSdataExplorer | 0 | 0 | 0 | |
| aggregate_metadata | 0.115 | 0.002 | 0.117 | |
| aggregate_values_by_key | 0.060 | 0.001 | 0.061 | |
| annotation_issues | 0.031 | 0.001 | 0.033 | |
| as_sparse_matrix | 0.052 | 0.001 | 0.055 | |
| available_outlier_tests | 0 | 0 | 0 | |
| available_tags | 0.031 | 0.002 | 0.033 | |
| blood_lineages_default | 0.032 | 0.001 | 0.033 | |
| circos_genomic_density | 0 | 0 | 0 | |
| clinical_relevant_suspicious_genes | 0.015 | 0.001 | 0.015 | |
| comparison_matrix | 0.035 | 0.001 | 0.035 | |
| compute_abundance | 0.039 | 0.002 | 0.041 | |
| compute_near_integrations | 0.987 | 0.040 | 12.177 | |
| cumulative_count_union | 0.000 | 0.001 | 0.000 | |
| cumulative_is | 0.176 | 0.003 | 0.179 | |
| date_formats | 0 | 0 | 0 | |
| default_af_transform | 0.000 | 0.000 | 0.001 | |
| default_iss_file_prefixes | 0.000 | 0.000 | 0.001 | |
| default_meta_agg | 0.019 | 0.000 | 0.019 | |
| default_rec_agg_lambdas | 0.000 | 0.000 | 0.001 | |
| default_report_path | 0.008 | 0.002 | 0.010 | |
| default_stats | 1.174 | 0.035 | 1.213 | |
| enable_progress_bars | 0.018 | 0.003 | 0.020 | |
| export_ISA_settings | 0.081 | 0.002 | 0.083 | |
| fisher_scatterplot | 1.226 | 0.057 | 1.291 | |
| gene_frequency_fisher | 0.889 | 0.012 | 0.904 | |
| generate_Vispa2_launch_AF | 0.224 | 0.019 | 0.255 | |
| generate_blank_association_file | 0.016 | 0.001 | 0.017 | |
| generate_default_folder_structure | 0.789 | 0.092 | 0.826 | |
| import_ISA_settings | 0.082 | 0.004 | 0.086 | |
| import_Vispa2_stats | 1.767 | 0.145 | 9.068 | |
| import_association_file | 0.647 | 0.111 | 0.702 | |
| import_parallel_Vispa2Matrices | 2.868 | 0.152 | 19.147 | |
| import_single_Vispa2Matrix | 0.942 | 0.124 | 1.025 | |
| inspect_tags | 0.015 | 0.000 | 0.015 | |
| integration_alluvial_plot | 4.043 | 0.123 | 12.258 | |
| is_sharing | 1.324 | 0.038 | 10.616 | |
| iss_source | 1.455 | 0.033 | 9.689 | |
| known_clinical_oncogenes | 0.013 | 0.000 | 0.014 | |
| mandatory_IS_vars | 0.104 | 0.003 | 0.109 | |
| matching_options | 0 | 0 | 0 | |
| outlier_filter | 0.180 | 0.009 | 0.189 | |
| outliers_by_pool_fragments | 0.183 | 0.004 | 0.188 | |
| pcr_id_column | 0.023 | 0.000 | 0.023 | |
| purity_filter | 0.397 | 0.006 | 0.407 | |
| quantification_types | 0 | 0 | 0 | |
| realign_after_collisions | 1.305 | 0.029 | 8.646 | |
| reduced_AF_columns | 0.055 | 0.001 | 0.056 | |
| refGene_table_cols | 0.000 | 0.001 | 0.000 | |
| remove_collisions | 1.295 | 0.028 | 8.652 | |
| reset_mandatory_IS_vars | 0.007 | 0.001 | 0.007 | |
| sample_statistics | 0.346 | 0.054 | 0.402 | |
| separate_quant_matrices | 0.016 | 0.001 | 0.018 | |
| set_mandatory_IS_vars | 0.100 | 0.002 | 0.102 | |
| set_matrix_file_suffixes | 0.023 | 0.001 | 0.024 | |
| sharing_heatmap | 2.045 | 0.044 | 12.845 | |
| sharing_venn | 2.376 | 0.098 | 41.328 | |
| threshold_filter | 0.000 | 0.001 | 0.001 | |
| top_abund_tableGrob | 0.635 | 0.010 | 0.651 | |
| top_cis_overtime_heatmap | 1.762 | 0.066 | 11.069 | |
| top_integrations | 0.029 | 0.001 | 0.030 | |
| top_targeted_genes | 0.473 | 0.007 | 0.483 | |
| transform_columns | 0.020 | 0.000 | 0.021 | |