| Back to Multiple platform build/check report for BioC 3.22: simplified long |
|
This page was generated on 2025-10-24 12:06 -0400 (Fri, 24 Oct 2025).
| Hostname | OS | Arch (*) | R version | Installed pkgs |
|---|---|---|---|---|
| nebbiolo2 | Linux (Ubuntu 24.04.3 LTS) | x86_64 | 4.5.1 Patched (2025-08-23 r88802) -- "Great Square Root" | 4898 |
| lconway | macOS 12.7.6 Monterey | x86_64 | 4.5.1 Patched (2025-09-10 r88807) -- "Great Square Root" | 4688 |
| kjohnson3 | macOS 13.7.7 Ventura | arm64 | 4.5.1 Patched (2025-09-10 r88807) -- "Great Square Root" | 4634 |
| taishan | Linux (openEuler 24.03 LTS) | aarch64 | 4.5.0 (2025-04-11) -- "How About a Twenty-Six" | 4658 |
| Click on any hostname to see more info about the system (e.g. compilers) (*) as reported by 'uname -p', except on Windows and Mac OS X | ||||
| Package 1080/2359 | Hostname | OS / Arch | INSTALL | BUILD | CHECK | BUILD BIN | ||||||||
| ISAnalytics 1.19.3 (landing page) Francesco Gazzo
| nebbiolo2 | Linux (Ubuntu 24.04.3 LTS) / x86_64 | OK | OK | OK | |||||||||
| lconway | macOS 12.7.6 Monterey / x86_64 | OK | OK | OK | OK | |||||||||
| kjohnson3 | macOS 13.7.7 Ventura / arm64 | OK | OK | OK | OK | |||||||||
| taishan | Linux (openEuler 24.03 LTS) / aarch64 | OK | OK | NA | ||||||||||
|
To the developers/maintainers of the ISAnalytics package: - Allow up to 24 hours (and sometimes 48 hours) for your latest push to git@git.bioconductor.org:packages/ISAnalytics.git to reflect on this report. See Troubleshooting Build Report for more information. - Use the following Renviron settings to reproduce errors and warnings. - If 'R CMD check' started to fail recently on the Linux builder(s) over a missing dependency, add the missing dependency to 'Suggests:' in your DESCRIPTION file. See Renviron.bioc for more information. |
| Package: ISAnalytics |
| Version: 1.19.3 |
| Command: /Library/Frameworks/R.framework/Resources/bin/R CMD check --install=check:ISAnalytics.install-out.txt --library=/Library/Frameworks/R.framework/Resources/library --no-vignettes --timings ISAnalytics_1.19.3.tar.gz |
| StartedAt: 2025-10-23 20:27:00 -0400 (Thu, 23 Oct 2025) |
| EndedAt: 2025-10-23 20:30:37 -0400 (Thu, 23 Oct 2025) |
| EllapsedTime: 216.8 seconds |
| RetCode: 0 |
| Status: OK |
| CheckDir: ISAnalytics.Rcheck |
| Warnings: 0 |
##############################################################################
##############################################################################
###
### Running command:
###
### /Library/Frameworks/R.framework/Resources/bin/R CMD check --install=check:ISAnalytics.install-out.txt --library=/Library/Frameworks/R.framework/Resources/library --no-vignettes --timings ISAnalytics_1.19.3.tar.gz
###
##############################################################################
##############################################################################
* using log directory ‘/Users/biocbuild/bbs-3.22-bioc/meat/ISAnalytics.Rcheck’
* using R version 4.5.1 Patched (2025-09-10 r88807)
* using platform: aarch64-apple-darwin20
* R was compiled by
Apple clang version 16.0.0 (clang-1600.0.26.6)
GNU Fortran (GCC) 14.2.0
* running under: macOS Ventura 13.7.7
* using session charset: UTF-8
* using option ‘--no-vignettes’
* checking for file ‘ISAnalytics/DESCRIPTION’ ... OK
* this is package ‘ISAnalytics’ version ‘1.19.3’
* package encoding: UTF-8
* checking package namespace information ... OK
* checking package dependencies ... INFO
Imports includes 22 non-default packages.
Importing from so many packages makes the package vulnerable to any of
them becoming unavailable. Move as many as possible to Suggests and
use conditionally.
* checking if this is a source package ... OK
* checking if there is a namespace ... OK
* checking for hidden files and directories ... OK
* checking for portable file names ... OK
* checking for sufficient/correct file permissions ... OK
* checking whether package ‘ISAnalytics’ can be installed ... OK
* checking installed package size ... INFO
installed size is 8.3Mb
sub-directories of 1Mb or more:
data 5.8Mb
* checking package directory ... OK
* checking ‘build’ directory ... OK
* checking DESCRIPTION meta-information ... OK
* checking top-level files ... OK
* checking for left-over files ... OK
* checking index information ... OK
* checking package subdirectories ... OK
* checking code files for non-ASCII characters ... OK
* checking R files for syntax errors ... OK
* checking whether the package can be loaded ... OK
* checking whether the package can be loaded with stated dependencies ... OK
* checking whether the package can be unloaded cleanly ... OK
* checking whether the namespace can be loaded with stated dependencies ... OK
* checking whether the namespace can be unloaded cleanly ... OK
* checking whether startup messages can be suppressed ... OK
* checking dependencies in R code ... OK
* checking S3 generic/method consistency ... OK
* checking replacement functions ... OK
* checking foreign function calls ... OK
* checking R code for possible problems ... OK
* checking Rd files ... NOTE
checkRd: (-1) refGenes_hg19.Rd:21: Lost braces; missing escapes or markup?
21 | \item Download from {http://hgdownload.soe.ucsc.edu/goldenPath/hg19/database/}
| ^
* checking Rd metadata ... OK
* checking Rd cross-references ... OK
* checking for missing documentation entries ... OK
* checking for code/documentation mismatches ... OK
* checking Rd \usage sections ... OK
* checking Rd contents ... OK
* checking for unstated dependencies in examples ... OK
* checking contents of ‘data’ directory ... OK
* checking data for non-ASCII characters ... OK
* checking data for ASCII and uncompressed saves ... OK
* checking files in ‘vignettes’ ... OK
* checking examples ... OK
Examples with CPU (user + system) or elapsed time > 5s
user system elapsed
import_parallel_Vispa2Matrices 1.058 0.087 6.358
sharing_venn 0.926 0.053 11.158
* checking for unstated dependencies in ‘tests’ ... OK
* checking tests ...
Running ‘testthat.R’
OK
* checking for unstated dependencies in vignettes ... OK
* checking package vignettes ... OK
* checking running R code from vignettes ... SKIPPED
* checking re-building of vignette outputs ... SKIPPED
* checking PDF version of manual ... OK
* DONE
Status: 1 NOTE
See
‘/Users/biocbuild/bbs-3.22-bioc/meat/ISAnalytics.Rcheck/00check.log’
for details.
ISAnalytics.Rcheck/00install.out
############################################################################## ############################################################################## ### ### Running command: ### ### /Library/Frameworks/R.framework/Resources/bin/R CMD INSTALL ISAnalytics ### ############################################################################## ############################################################################## * installing to library ‘/Library/Frameworks/R.framework/Versions/4.5-arm64/Resources/library’ * installing *source* package ‘ISAnalytics’ ... ** this is package ‘ISAnalytics’ version ‘1.19.3’ ** using staged installation ** R ** data ** inst ** byte-compile and prepare package for lazy loading ** help *** installing help indices *** copying figures ** building package indices ** installing vignettes ** testing if installed package can be loaded from temporary location ** testing if installed package can be loaded from final location ** testing if installed package keeps a record of temporary installation path * DONE (ISAnalytics)
ISAnalytics.Rcheck/tests/testthat.Rout
R version 4.5.1 Patched (2025-09-10 r88807) -- "Great Square Root"
Copyright (C) 2025 The R Foundation for Statistical Computing
Platform: aarch64-apple-darwin20
R is free software and comes with ABSOLUTELY NO WARRANTY.
You are welcome to redistribute it under certain conditions.
Type 'license()' or 'licence()' for distribution details.
R is a collaborative project with many contributors.
Type 'contributors()' for more information and
'citation()' on how to cite R or R packages in publications.
Type 'demo()' for some demos, 'help()' for on-line help, or
'help.start()' for an HTML browser interface to help.
Type 'q()' to quit R.
> library(testthat)
> library(ISAnalytics)
>
> test_check("ISAnalytics")
Loading required namespace: plotly
Loading required namespace: rmarkdown
2025-10-23 20:28:55.978 R[53954:535354151] XType: Using static font registry.
Report correctly saved
i Report saved to: /var/folders/r0/l4fjk6cj5xj0j3brt4bplpl40000gt/T/RtmpcAWHHx/filed2c245929a20/2025-10-23_collision_removal_report.html
Report correctly saved
i Report saved to: /var/folders/r0/l4fjk6cj5xj0j3brt4bplpl40000gt/T/RtmpcAWHHx/filed2c27f544e4d/2025-10-23_outlier_test_pool_fragments_report.html
[ FAIL 0 | WARN 0 | SKIP 0 | PASS 834 ]
>
> proc.time()
user system elapsed
34.118 1.953 122.722
ISAnalytics.Rcheck/ISAnalytics-Ex.timings
| name | user | system | elapsed | |
| CIS_grubbs | 0.312 | 0.014 | 0.328 | |
| CIS_grubbs_overtime | 0.711 | 0.066 | 2.875 | |
| CIS_volcano_plot | 0.50 | 0.01 | 0.51 | |
| HSC_population_plot | 0.463 | 0.012 | 2.385 | |
| HSC_population_size_estimate | 0.333 | 0.010 | 2.242 | |
| NGSdataExplorer | 0 | 0 | 0 | |
| aggregate_metadata | 0.030 | 0.001 | 0.030 | |
| aggregate_values_by_key | 0.020 | 0.000 | 0.021 | |
| annotation_issues | 0.009 | 0.000 | 0.009 | |
| as_sparse_matrix | 0.015 | 0.000 | 0.017 | |
| available_outlier_tests | 0 | 0 | 0 | |
| available_tags | 0.006 | 0.000 | 0.007 | |
| blood_lineages_default | 0.009 | 0.001 | 0.009 | |
| circos_genomic_density | 0 | 0 | 0 | |
| clinical_relevant_suspicious_genes | 0.003 | 0.000 | 0.004 | |
| comparison_matrix | 0.008 | 0.000 | 0.008 | |
| compute_abundance | 0.012 | 0.001 | 0.012 | |
| compute_near_integrations | 0.386 | 0.016 | 3.912 | |
| cumulative_count_union | 0 | 0 | 0 | |
| cumulative_is | 0.049 | 0.001 | 0.050 | |
| date_formats | 0 | 0 | 0 | |
| default_af_transform | 0 | 0 | 0 | |
| default_iss_file_prefixes | 0.001 | 0.000 | 0.000 | |
| default_meta_agg | 0.004 | 0.000 | 0.005 | |
| default_rec_agg_lambdas | 0 | 0 | 0 | |
| default_report_path | 0.002 | 0.000 | 0.003 | |
| default_stats | 0.450 | 0.012 | 0.474 | |
| enable_progress_bars | 0.005 | 0.001 | 0.006 | |
| export_ISA_settings | 0.023 | 0.001 | 0.023 | |
| fisher_scatterplot | 0.374 | 0.015 | 0.391 | |
| gene_frequency_fisher | 0.284 | 0.004 | 0.292 | |
| generate_Vispa2_launch_AF | 0.061 | 0.009 | 0.068 | |
| generate_blank_association_file | 0.004 | 0.000 | 0.005 | |
| generate_default_folder_structure | 0.286 | 0.067 | 0.311 | |
| import_ISA_settings | 0.019 | 0.002 | 0.021 | |
| import_Vispa2_stats | 0.643 | 0.093 | 2.917 | |
| import_association_file | 0.190 | 0.069 | 0.220 | |
| import_parallel_Vispa2Matrices | 1.058 | 0.087 | 6.358 | |
| import_single_Vispa2Matrix | 0.342 | 0.071 | 0.380 | |
| inspect_tags | 0.004 | 0.000 | 0.003 | |
| integration_alluvial_plot | 1.192 | 0.040 | 3.843 | |
| is_sharing | 0.549 | 0.018 | 3.296 | |
| iss_source | 0.574 | 0.015 | 3.755 | |
| known_clinical_oncogenes | 0.003 | 0.000 | 0.004 | |
| mandatory_IS_vars | 0.026 | 0.003 | 0.033 | |
| matching_options | 0 | 0 | 0 | |
| outlier_filter | 0.048 | 0.004 | 0.052 | |
| outliers_by_pool_fragments | 0.045 | 0.000 | 0.049 | |
| pcr_id_column | 0.006 | 0.000 | 0.006 | |
| purity_filter | 0.098 | 0.001 | 0.102 | |
| quantification_types | 0 | 0 | 0 | |
| realign_after_collisions | 0.518 | 0.013 | 2.891 | |
| reduced_AF_columns | 0.014 | 0.001 | 0.014 | |
| refGene_table_cols | 0 | 0 | 0 | |
| remove_collisions | 0.490 | 0.009 | 2.867 | |
| reset_mandatory_IS_vars | 0.002 | 0.000 | 0.001 | |
| sample_statistics | 0.096 | 0.015 | 0.111 | |
| separate_quant_matrices | 0.006 | 0.001 | 0.007 | |
| set_mandatory_IS_vars | 0.028 | 0.004 | 0.033 | |
| set_matrix_file_suffixes | 0.007 | 0.000 | 0.007 | |
| sharing_heatmap | 0.726 | 0.027 | 3.972 | |
| sharing_venn | 0.926 | 0.053 | 11.158 | |
| threshold_filter | 0.000 | 0.000 | 0.001 | |
| top_abund_tableGrob | 0.203 | 0.003 | 0.215 | |
| top_cis_overtime_heatmap | 0.735 | 0.028 | 3.943 | |
| top_integrations | 0.010 | 0.001 | 0.011 | |
| top_targeted_genes | 0.122 | 0.004 | 0.135 | |
| transform_columns | 0.005 | 0.001 | 0.005 | |