| Back to Mac ARM64 build report for BioC 3.16 |
|
This page was generated on 2023-04-19 11:01:47 -0400 (Wed, 19 Apr 2023).
| Hostname | OS | Arch (*) | R version | Installed pkgs |
|---|---|---|---|---|
| kjohnson | macOS 13.0 Ventura | arm64 | 4.2.2 (2022-10-31) -- "Innocent and Trusting" | 4256 |
| Click on any hostname to see more info about the system (e.g. compilers) (*) as reported by 'uname -p', except on Windows and Mac OS X | ||||
|
To the developers/maintainers of the biomaRt package: Make sure to use the following settings in order to reproduce any error or warning you see on this page. |
| Package 190/2183 | Hostname | OS / Arch | INSTALL | BUILD | BUILD BIN | ||||||||
| biomaRt 2.54.1 (landing page) Mike Smith
| kjohnson | macOS 13.0 Ventura / arm64 | OK | OK | OK | ||||||||
| QUICK STATS | OS / Arch | INSTALL | BUILD | BUILD BIN | |||||||||||||
| kjohnson | macOS 13.0 Ventura / arm64 |
|
|
| |||||||||||||
| Package 1/86 | Hostname | OS / Arch | INSTALL | BUILD | BUILD BIN | ||||||||||||
| ArrayExpressHTS 1.48.0 (landing page) Angela Goncalves
| kjohnson | macOS 13.0 Ventura / arm64 | ERROR | ERROR | skipped | ||||||||||||
| Package 2/86 | Hostname | OS / Arch | INSTALL | BUILD | BUILD BIN | ||||||||||||
| ASpediaFI 1.12.0 (landing page) Doyeong Yu
| kjohnson | macOS 13.0 Ventura / arm64 | ERROR | ERROR | skipped | ||||||||||||
| Package 3/86 | Hostname | OS / Arch | INSTALL | BUILD | BUILD BIN | ||||||||||||
| BadRegionFinder 1.26.0 (landing page) Sarah Sandmann
| kjohnson | macOS 13.0 Ventura / arm64 | OK | OK | OK | ||||||||||||
| Package 4/86 | Hostname | OS / Arch | INSTALL | BUILD | BUILD BIN | ||||||||||||
| BgeeCall 1.14.0 (landing page) Julien Wollbrett
| kjohnson | macOS 13.0 Ventura / arm64 | OK | OK | OK | ||||||||||||
| Package 5/86 | Hostname | OS / Arch | INSTALL | BUILD | BUILD BIN | ||||||||||||
USD Biomedical Engineering
| kjohnson | macOS 13.0 Ventura / arm64 | OK | OK | OK | ||||||||||||
| Package 6/86 | Hostname | OS / Arch | INSTALL | BUILD | BUILD BIN | ||||||||||||
| branchpointer 1.24.0 (landing page) Beth Signal
| kjohnson | macOS 13.0 Ventura / arm64 | OK | OK | OK | ||||||||||||
| Package 7/86 | Hostname | OS / Arch | INSTALL | BUILD | BUILD BIN | ||||||||||||
| BUSpaRse 1.12.2 (landing page) Lambda Moses
| kjohnson | macOS 13.0 Ventura / arm64 | OK | OK | OK | ||||||||||||
| Package 8/86 | Hostname | OS / Arch | INSTALL | BUILD | BUILD BIN | ||||||||||||
| ChIPpeakAnno 3.32.0 (landing page) Jianhong Ou
| kjohnson | macOS 13.0 Ventura / arm64 | OK | OK | OK | ||||||||||||
| Package 9/86 | Hostname | OS / Arch | INSTALL | BUILD | BUILD BIN | ||||||||||||
| chromPlot 1.26.0 (landing page) Karen Y. Orostica
| kjohnson | macOS 13.0 Ventura / arm64 | OK | OK | OK | ||||||||||||
| Package 10/86 | Hostname | OS / Arch | INSTALL | BUILD | BUILD BIN | ||||||||||||
| CHRONOS 1.26.0 (landing page) Panos Balomenos
| kjohnson | macOS 13.0 Ventura / arm64 | OK | ERROR | skipped | ||||||||||||
| Package 11/86 | Hostname | OS / Arch | INSTALL | BUILD | BUILD BIN | ||||||||||||
| coMET 1.30.0 (landing page) Tiphaine Martin
| kjohnson | macOS 13.0 Ventura / arm64 | OK | OK | OK | ||||||||||||
| Package 12/86 | Hostname | OS / Arch | INSTALL | BUILD | BUILD BIN | ||||||||||||
Ilyess Rachedi
| kjohnson | macOS 13.0 Ventura / arm64 | OK | ERROR | skipped | ||||||||||||
| Package 13/86 | Hostname | OS / Arch | INSTALL | BUILD | BUILD BIN | ||||||||||||
| customProDB 1.38.0 (landing page) Xiaojing Wang
| kjohnson | macOS 13.0 Ventura / arm64 | OK | OK | OK | ||||||||||||
| Package 14/86 | Hostname | OS / Arch | INSTALL | BUILD | BUILD BIN | ||||||||||||
| dagLogo 1.36.0 (landing page) Jianhong Ou
| kjohnson | macOS 13.0 Ventura / arm64 | OK | OK | OK | ||||||||||||
| Package 15/86 | Hostname | OS / Arch | INSTALL | BUILD | BUILD BIN | ||||||||||||
| DEXSeq 1.44.0 (landing page) Alejandro Reyes
| kjohnson | macOS 13.0 Ventura / arm64 | OK | OK | OK | ||||||||||||
| Package 16/86 | Hostname | OS / Arch | INSTALL | BUILD | BUILD BIN | ||||||||||||
| DominoEffect 1.18.0 (landing page) Marija Buljan
| kjohnson | macOS 13.0 Ventura / arm64 | OK | OK | OK | ||||||||||||
| Package 17/86 | Hostname | OS / Arch | INSTALL | BUILD | BUILD BIN | ||||||||||||
| drugTargetInteractions 1.6.0 (landing page) Thomas Girke
| kjohnson | macOS 13.0 Ventura / arm64 | OK | OK | OK | ||||||||||||
| Package 18/86 | Hostname | OS / Arch | INSTALL | BUILD | BUILD BIN | ||||||||||||
| DrugVsDisease 2.40.0 (landing page) j. Saez-Rodriguez
| kjohnson | macOS 13.0 Ventura / arm64 | OK | OK | OK | ||||||||||||
| Package 19/86 | Hostname | OS / Arch | INSTALL | BUILD | BUILD BIN | ||||||||||||
| easyRNASeq 2.34.0 (landing page) Nicolas Delhomme
| kjohnson | macOS 13.0 Ventura / arm64 | OK | OK | OK | ||||||||||||
| Package 20/86 | Hostname | OS / Arch | INSTALL | BUILD | BUILD BIN | ||||||||||||
| EDASeq 2.32.0 (landing page) Davide Risso
| kjohnson | macOS 13.0 Ventura / arm64 | OK | OK | OK | ||||||||||||
| Package 21/86 | Hostname | OS / Arch | INSTALL | BUILD | BUILD BIN | ||||||||||||
| ELMER 2.22.0 (landing page) Tiago Chedraoui Silva
| kjohnson | macOS 13.0 Ventura / arm64 | OK | OK | OK | ||||||||||||
| Package 22/86 | Hostname | OS / Arch | INSTALL | BUILD | BUILD BIN | ||||||||||||
| EpiMix 1.0.2 (landing page) Yuanning Zheng
| kjohnson | macOS 13.0 Ventura / arm64 | OK | ERROR | skipped | ||||||||||||
| Package 23/86 | Hostname | OS / Arch | INSTALL | BUILD | BUILD BIN | ||||||||||||
| epimutacions 1.2.0 (landing page) Dolors Pelegri-Siso
| kjohnson | macOS 13.0 Ventura / arm64 | OK | OK | OK | ||||||||||||
| Package 24/86 | Hostname | OS / Arch | INSTALL | BUILD | BUILD BIN | ||||||||||||
| FRASER 1.10.2 (landing page) Christian Mertes
| kjohnson | macOS 13.0 Ventura / arm64 | OK | OK | OK | ||||||||||||
| Package 25/86 | Hostname | OS / Arch | INSTALL | BUILD | BUILD BIN | ||||||||||||
| GDCRNATools 1.18.0 (landing page) Ruidong Li
| kjohnson | macOS 13.0 Ventura / arm64 | OK | OK | OK | ||||||||||||
| Package 26/86 | Hostname | OS / Arch | INSTALL | BUILD | BUILD BIN | ||||||||||||
| GeneAccord 1.16.0 (landing page) Ariane L. Moore
| kjohnson | macOS 13.0 Ventura / arm64 | OK | OK | OK | ||||||||||||
| Package 27/86 | Hostname | OS / Arch | INSTALL | BUILD | BUILD BIN | ||||||||||||
| genefu 2.30.0 (landing page) Benjamin Haibe-Kains
| kjohnson | macOS 13.0 Ventura / arm64 | OK | OK | OK | ||||||||||||
| Package 28/86 | Hostname | OS / Arch | INSTALL | BUILD | BUILD BIN | ||||||||||||
| GenomicFeatures 1.50.4 (landing page) H. Pagès
| kjohnson | macOS 13.0 Ventura / arm64 | OK | OK | OK | ||||||||||||
| Package 29/86 | Hostname | OS / Arch | INSTALL | BUILD | BUILD BIN | ||||||||||||
| GenomicOZone 1.12.0 (landing page) Hua Zhong
| kjohnson | macOS 13.0 Ventura / arm64 | OK | OK | OK | ||||||||||||
| Package 30/86 | Hostname | OS / Arch | INSTALL | BUILD | BUILD BIN | ||||||||||||
| GenVisR 1.30.0 (landing page) Zachary Skidmore
| kjohnson | macOS 13.0 Ventura / arm64 | OK | OK | OK | ||||||||||||
| Package 31/86 | Hostname | OS / Arch | INSTALL | BUILD | BUILD BIN | ||||||||||||
| gespeR 1.30.0 (landing page) Fabian Schmich
| kjohnson | macOS 13.0 Ventura / arm64 | OK | OK | OK | ||||||||||||
| Package 32/86 | Hostname | OS / Arch | INSTALL | BUILD | BUILD BIN | ||||||||||||
| glmSparseNet 1.16.0 (landing page) AndrĂ© VerĂssimo
| kjohnson | macOS 13.0 Ventura / arm64 | OK | OK | OK | ||||||||||||
| Package 33/86 | Hostname | OS / Arch | INSTALL | BUILD | BUILD BIN | ||||||||||||
| GOexpress 1.32.0 (landing page) Kevin Rue-Albrecht
| kjohnson | macOS 13.0 Ventura / arm64 | OK | OK | OK | ||||||||||||
| Package 34/86 | Hostname | OS / Arch | INSTALL | BUILD | BUILD BIN | ||||||||||||
| goSTAG 1.22.0 (landing page) Brian D. Bennett
| kjohnson | macOS 13.0 Ventura / arm64 | OK | OK | OK | ||||||||||||
| Package 35/86 | Hostname | OS / Arch | INSTALL | BUILD | BUILD BIN | ||||||||||||
Sun Ah Kim
| kjohnson | macOS 13.0 Ventura / arm64 | ERROR | ERROR | skipped | ||||||||||||
| Package 36/86 | Hostname | OS / Arch | INSTALL | BUILD | BUILD BIN | ||||||||||||
| GRaNIE 1.2.7 (landing page) Christian Arnold
| kjohnson | macOS 13.0 Ventura / arm64 | OK | OK | OK | ||||||||||||
| Package 37/86 | Hostname | OS / Arch | INSTALL | BUILD | BUILD BIN | ||||||||||||
| Gviz 1.42.1 (landing page) Robert Ivanek
| kjohnson | macOS 13.0 Ventura / arm64 | OK | OK | OK | ||||||||||||
| Package 38/86 | Hostname | OS / Arch | INSTALL | BUILD | BUILD BIN | ||||||||||||
| hermes 1.2.0 (landing page) Daniel Sabanés Bové
| kjohnson | macOS 13.0 Ventura / arm64 | OK | OK | OK | ||||||||||||
| Package 39/86 | Hostname | OS / Arch | INSTALL | BUILD | BUILD BIN | ||||||||||||
| InterCellar 2.4.0 (landing page) Marta Interlandi
| kjohnson | macOS 13.0 Ventura / arm64 | OK | OK | OK | ||||||||||||
| Package 40/86 | Hostname | OS / Arch | INSTALL | BUILD | BUILD BIN | ||||||||||||
| isobar 1.44.0 (landing page) Florian P Breitwieser
| kjohnson | macOS 13.0 Ventura / arm64 | OK | OK | OK | ||||||||||||
| Package 41/86 | Hostname | OS / Arch | INSTALL | BUILD | BUILD BIN | ||||||||||||
| LACE 2.2.0 (landing page) Davide Maspero
| kjohnson | macOS 13.0 Ventura / arm64 | OK | OK | OK | ||||||||||||
| Package 42/86 | Hostname | OS / Arch | INSTALL | BUILD | BUILD BIN | ||||||||||||
| mCSEA 1.18.0 (landing page) Jordi Martorell-MarugĂ¡n
| kjohnson | macOS 13.0 Ventura / arm64 | OK | OK | OK | ||||||||||||
| Package 43/86 | Hostname | OS / Arch | INSTALL | BUILD | BUILD BIN | ||||||||||||
| MEDIPS 1.50.0 (landing page) Lukas Chavez
| kjohnson | macOS 13.0 Ventura / arm64 | OK | OK | OK | ||||||||||||
| Package 44/86 | Hostname | OS / Arch | INSTALL | BUILD | BUILD BIN | ||||||||||||
| MetaboSignal 1.28.0 (landing page) Andrea Rodriguez-Martinez
| kjohnson | macOS 13.0 Ventura / arm64 | OK | OK | OK | ||||||||||||
| Package 45/86 | Hostname | OS / Arch | INSTALL | BUILD | BUILD BIN | ||||||||||||
| metaseqR2 1.10.0 (landing page) Panagiotis Moulos
| kjohnson | macOS 13.0 Ventura / arm64 | OK | OK | OK | ||||||||||||
| Package 46/86 | Hostname | OS / Arch | INSTALL | BUILD | BUILD BIN | ||||||||||||
| MGFR 1.24.0 (landing page) Khadija El Amrani
| kjohnson | macOS 13.0 Ventura / arm64 | OK | OK | OK | ||||||||||||
| Package 47/86 | Hostname | OS / Arch | INSTALL | BUILD | BUILD BIN | ||||||||||||
| MineICA 1.38.0 (landing page) Anne Biton
| kjohnson | macOS 13.0 Ventura / arm64 | OK | OK | OK | ||||||||||||
| Package 48/86 | Hostname | OS / Arch | INSTALL | BUILD | BUILD BIN | ||||||||||||
| MouseFM 1.8.0 (landing page) Matthias Munz
| kjohnson | macOS 13.0 Ventura / arm64 | OK | OK | OK | ||||||||||||
| Package 49/86 | Hostname | OS / Arch | INSTALL | BUILD | BUILD BIN | ||||||||||||
| NetSAM 1.38.0 (landing page) Zhiao Shi
| kjohnson | macOS 13.0 Ventura / arm64 | OK | OK | OK | ||||||||||||
| Package 50/86 | Hostname | OS / Arch | INSTALL | BUILD | BUILD BIN | ||||||||||||
| NoRCE 1.10.0 (landing page) Gulden Olgun
| kjohnson | macOS 13.0 Ventura / arm64 | OK | OK | OK | ||||||||||||
| Package 51/86 | Hostname | OS / Arch | INSTALL | BUILD | BUILD BIN | ||||||||||||
| OncoScore 1.26.0 (landing page) Luca De Sano
| kjohnson | macOS 13.0 Ventura / arm64 | OK | OK | OK | ||||||||||||
| Package 52/86 | Hostname | OS / Arch | INSTALL | BUILD | BUILD BIN | ||||||||||||
| oposSOM 2.16.0 (landing page) Henry Loeffler-Wirth
| kjohnson | macOS 13.0 Ventura / arm64 | OK | OK | OK | ||||||||||||
| Package 53/86 | Hostname | OS / Arch | INSTALL | BUILD | BUILD BIN | ||||||||||||
| ORFik 1.18.2 (landing page) Haakon Tjeldnes
| kjohnson | macOS 13.0 Ventura / arm64 | OK | OK | OK | ||||||||||||
| Package 54/86 | Hostname | OS / Arch | INSTALL | BUILD | BUILD BIN | ||||||||||||
| pcaExplorer 2.24.0 (landing page) Federico Marini
| kjohnson | macOS 13.0 Ventura / arm64 | OK | OK | OK | ||||||||||||
| Package 55/86 | Hostname | OS / Arch | INSTALL | BUILD | BUILD BIN | ||||||||||||
| phenoTest 1.46.0 (landing page) Evarist Planet
| kjohnson | macOS 13.0 Ventura / arm64 | OK | OK | OK | ||||||||||||
| Package 56/86 | Hostname | OS / Arch | INSTALL | BUILD | BUILD BIN | ||||||||||||
| PPInfer 1.24.2 (landing page) Dongmin Jung
| kjohnson | macOS 13.0 Ventura / arm64 | OK | OK | OK | ||||||||||||
| Package 57/86 | Hostname | OS / Arch | INSTALL | BUILD | BUILD BIN | ||||||||||||
| PrecisionTrialDrawer 1.14.0 (landing page) Giorgio Melloni
| kjohnson | macOS 13.0 Ventura / arm64 | OK | ERROR | skipped | ||||||||||||
| Package 58/86 | Hostname | OS / Arch | INSTALL | BUILD | BUILD BIN | ||||||||||||
| pRoloc 1.38.2 (landing page) Laurent Gatto
| kjohnson | macOS 13.0 Ventura / arm64 | OK | OK | OK | ||||||||||||
| Package 59/86 | Hostname | OS / Arch | INSTALL | BUILD | BUILD BIN | ||||||||||||
| ProteoMM 1.16.0 (landing page) Yuliya V Karpievitch
| kjohnson | macOS 13.0 Ventura / arm64 | OK | OK | OK | ||||||||||||
| Package 60/86 | Hostname | OS / Arch | INSTALL | BUILD | BUILD BIN | ||||||||||||
| psygenet2r 1.30.0 (landing page) Alba Gutierrez-Sacristan
| kjohnson | macOS 13.0 Ventura / arm64 | OK | TIMEOUT | skipped | ||||||||||||
| Package 61/86 | Hostname | OS / Arch | INSTALL | BUILD | BUILD BIN | ||||||||||||
| pwOmics 1.30.0 (landing page) Maren Sitte
| kjohnson | macOS 13.0 Ventura / arm64 | OK | OK | OK | ||||||||||||
| Package 62/86 | Hostname | OS / Arch | INSTALL | BUILD | BUILD BIN | ||||||||||||
| R453Plus1Toolbox 1.48.0 (landing page) Hans-Ulrich Klein
| kjohnson | macOS 13.0 Ventura / arm64 | OK | OK | OK | ||||||||||||
| Package 63/86 | Hostname | OS / Arch | INSTALL | BUILD | BUILD BIN | ||||||||||||
| ramwas 1.22.0 (landing page) Andrey A Shabalin
| kjohnson | macOS 13.0 Ventura / arm64 | OK | OK | OK | ||||||||||||
| Package 64/86 | Hostname | OS / Arch | INSTALL | BUILD | BUILD BIN | ||||||||||||
| recoup 1.26.0 (landing page) Panagiotis Moulos
| kjohnson | macOS 13.0 Ventura / arm64 | OK | OK | OK | ||||||||||||
| Package 65/86 | Hostname | OS / Arch | INSTALL | BUILD | BUILD BIN | ||||||||||||
| RepViz 1.14.0 (landing page) Thomas Faux, Asta Laiho
| kjohnson | macOS 13.0 Ventura / arm64 | OK | OK | OK | ||||||||||||
| Package 66/86 | Hostname | OS / Arch | INSTALL | BUILD | BUILD BIN | ||||||||||||
| rgsepd 1.30.0 (landing page) Karl Stamm
| kjohnson | macOS 13.0 Ventura / arm64 | OK | OK | OK | ||||||||||||
| Package 67/86 | Hostname | OS / Arch | INSTALL | BUILD | BUILD BIN | ||||||||||||
| RIPAT 1.8.0 (landing page) Min-Jeong Baek
| kjohnson | macOS 13.0 Ventura / arm64 | OK | OK | OK | ||||||||||||
| Package 68/86 | Hostname | OS / Arch | INSTALL | BUILD | BUILD BIN | ||||||||||||
| RnaSeqSampleSize 2.8.0 (landing page) Shilin Zhao Developer
| kjohnson | macOS 13.0 Ventura / arm64 | OK | OK | OK | ||||||||||||
| Package 69/86 | Hostname | OS / Arch | INSTALL | BUILD | BUILD BIN | ||||||||||||
| scPipe 1.20.6 (landing page) Shian Su
| kjohnson | macOS 13.0 Ventura / arm64 | OK | OK | OK | ||||||||||||
| Package 70/86 | Hostname | OS / Arch | INSTALL | BUILD | BUILD BIN | ||||||||||||
| seq2pathway 1.30.0 (landing page) Arjun Kinstlick
| kjohnson | macOS 13.0 Ventura / arm64 | OK | OK | OK | ||||||||||||
| Package 71/86 | Hostname | OS / Arch | INSTALL | BUILD | BUILD BIN | ||||||||||||
| SeqGSEA 1.38.0 (landing page) Xi Wang
| kjohnson | macOS 13.0 Ventura / arm64 | OK | OK | OK | ||||||||||||
| Package 72/86 | Hostname | OS / Arch | INSTALL | BUILD | BUILD BIN | ||||||||||||
| sitadela 1.6.0 (landing page) Panagiotis Moulos
| kjohnson | macOS 13.0 Ventura / arm64 | OK | OK | OK | ||||||||||||
| Package 73/86 | Hostname | OS / Arch | INSTALL | BUILD | BUILD BIN | ||||||||||||
| SPLINTER 1.24.0 (landing page) Diana Low
| kjohnson | macOS 13.0 Ventura / arm64 | OK | OK | OK | ||||||||||||
| Package 74/86 | Hostname | OS / Arch | INSTALL | BUILD | BUILD BIN | ||||||||||||
| SPONGE 1.20.0 (landing page) Markus List
| kjohnson | macOS 13.0 Ventura / arm64 | OK | OK | OK | ||||||||||||
| Package 75/86 | Hostname | OS / Arch | INSTALL | BUILD | BUILD BIN | ||||||||||||
| surfaltr 1.4.0 (landing page) Pooja Gangras
| kjohnson | macOS 13.0 Ventura / arm64 | OK | OK | OK | ||||||||||||
| Package 76/86 | Hostname | OS / Arch | INSTALL | BUILD | BUILD BIN | ||||||||||||
| SWATH2stats 1.28.0 (landing page) Peter Blattmann
| kjohnson | macOS 13.0 Ventura / arm64 | OK | OK | OK | ||||||||||||
| Package 77/86 | Hostname | OS / Arch | INSTALL | BUILD | BUILD BIN | ||||||||||||
| TCGAbiolinks 2.26.0 (landing page) Tiago Chedraoui Silva
| kjohnson | macOS 13.0 Ventura / arm64 | OK | TIMEOUT | skipped | ||||||||||||
| Package 78/86 | Hostname | OS / Arch | INSTALL | BUILD | BUILD BIN | ||||||||||||
| TEKRABber 1.2.0 (landing page) Yao-Chung Chen
| kjohnson | macOS 13.0 Ventura / arm64 | OK | OK | OK | ||||||||||||
| Package 79/86 | Hostname | OS / Arch | INSTALL | BUILD | BUILD BIN | ||||||||||||
| TFEA.ChIP 1.18.0 (landing page) Laura Puente SantamarĂa
| kjohnson | macOS 13.0 Ventura / arm64 | OK | OK | OK | ||||||||||||
| Package 80/86 | Hostname | OS / Arch | INSTALL | BUILD | BUILD BIN | ||||||||||||
| TimiRGeN 1.8.0 (landing page) Krutik Patel
| kjohnson | macOS 13.0 Ventura / arm64 | OK | OK | OK | ||||||||||||
| Package 81/86 | Hostname | OS / Arch | INSTALL | BUILD | BUILD BIN | ||||||||||||
| transcriptogramer 1.20.0 (landing page) Diego Morais
| kjohnson | macOS 13.0 Ventura / arm64 | OK | OK | OK | ||||||||||||
| Package 82/86 | Hostname | OS / Arch | INSTALL | BUILD | BUILD BIN | ||||||||||||
| trena 1.20.0 (landing page) Paul Shannon
| kjohnson | macOS 13.0 Ventura / arm64 | OK | OK | OK | ||||||||||||
| Package 83/86 | Hostname | OS / Arch | INSTALL | BUILD | BUILD BIN | ||||||||||||
| VegaMC 3.36.0 (landing page) Sandro Morganella
| kjohnson | macOS 13.0 Ventura / arm64 | OK | OK | OK | ||||||||||||
| Package 84/86 | Hostname | OS / Arch | INSTALL | BUILD | BUILD BIN | ||||||||||||
| ViSEAGO 1.12.0 (landing page) Aurelien Brionne
| kjohnson | macOS 13.0 Ventura / arm64 | OK | OK | OK | ||||||||||||
| Package 85/86 | Hostname | OS / Arch | INSTALL | BUILD | BUILD BIN | ||||||||||||
Renan Sauteraud
| kjohnson | macOS 13.0 Ventura / arm64 | OK | ERROR | skipped | ||||||||||||
| Package 86/86 | Hostname | OS / Arch | INSTALL | BUILD | BUILD BIN | ||||||||||||
| yarn 1.24.0 (landing page) Joseph N Paulson
| kjohnson | macOS 13.0 Ventura / arm64 | OK | OK | OK | ||||||||||||