| Back to Mac ARM64 build report for BioC 3.16 | 
 | 
This page was generated on 2023-04-19 11:01:54 -0400 (Wed, 19 Apr 2023).
| Hostname | OS | Arch (*) | R version | Installed pkgs | 
|---|---|---|---|---|
| kjohnson | macOS 13.0 Ventura | arm64 | 4.2.2 (2022-10-31) -- "Innocent and Trusting" | 4256 | 
| Click on any hostname to see more info about the system (e.g. compilers) (*) as reported by 'uname -p', except on Windows and Mac OS X | ||||
| To the developers/maintainers of the GeneAccord package: Make sure to use the following settings in order to reproduce any error or warning you see on this page. | 
| Package 751/2183 | Hostname | OS / Arch | INSTALL | BUILD | BUILD BIN | ||||||||
| GeneAccord 1.16.0  (landing page) Ariane L. Moore 
 | kjohnson | macOS 13.0 Ventura / arm64 | OK | OK | OK |  | |||||||
| Package: GeneAccord | 
| Version: 1.16.0 | 
| Command: rm -rf GeneAccord.buildbin-libdir && mkdir GeneAccord.buildbin-libdir && /Users/biocbuild/BBS/utils/build-universal.sh GeneAccord_1.16.0.tar.gz /Library/Frameworks/R.framework/Resources/bin/R GeneAccord.buildbin-libdir | 
| StartedAt: 2023-04-18 15:57:55 -0400 (Tue, 18 Apr 2023) | 
| EndedAt: 2023-04-18 15:58:51 -0400 (Tue, 18 Apr 2023) | 
| EllapsedTime: 55.7 seconds | 
| RetCode: 0 | 
| Status: OK | 
| PackageFile: GeneAccord_1.16.0.tgz | 
| PackageFileSize: 3.452 MiB | 
############################################################################## ############################################################################## ### ### Running command: ### ### rm -rf GeneAccord.buildbin-libdir && mkdir GeneAccord.buildbin-libdir && /Users/biocbuild/BBS/utils/build-universal.sh GeneAccord_1.16.0.tar.gz /Library/Frameworks/R.framework/Resources/bin/R GeneAccord.buildbin-libdir ### ############################################################################## ############################################################################## >>>>>>> >>>>>>> INSTALLATION WITH 'R CMD INSTALL --preclean --no-multiarch --library=GeneAccord.buildbin-libdir GeneAccord_1.16.0.tar.gz' >>>>>>> * installing *source* package ‘GeneAccord’ ... ** using staged installation ** R ** data *** moving datasets to lazyload DB ** inst ** byte-compile and prepare package for lazy loading ** help *** installing help indices ** building package indices ** installing vignettes ** testing if installed package can be loaded from temporary location ** testing if installed package can be loaded from final location ** testing if installed package keeps a record of temporary installation path * DONE (GeneAccord)