| Back to Mac ARM64 build report for BioC 3.16 |
|
This page was generated on 2023-04-19 11:01:47 -0400 (Wed, 19 Apr 2023).
| Hostname | OS | Arch (*) | R version | Installed pkgs |
|---|---|---|---|---|
| kjohnson | macOS 13.0 Ventura | arm64 | 4.2.2 (2022-10-31) -- "Innocent and Trusting" | 4256 |
| Click on any hostname to see more info about the system (e.g. compilers) (*) as reported by 'uname -p', except on Windows and Mac OS X | ||||
|
To the developers/maintainers of the Biostrings package: Make sure to use the following settings in order to reproduce any error or warning you see on this page. |
| Package 201/2183 | Hostname | OS / Arch | INSTALL | BUILD | BUILD BIN | ||||||||
| Biostrings 2.66.0 (landing page) H. Pagès
| kjohnson | macOS 13.0 Ventura / arm64 | OK | OK | OK | ||||||||
| QUICK STATS | OS / Arch | INSTALL | BUILD | BUILD BIN | |||||||||||||
| kjohnson | macOS 13.0 Ventura / arm64 |
|
|
| |||||||||||||
| Package 1/289 | Hostname | OS / Arch | INSTALL | BUILD | BUILD BIN | ||||||||||||
Martin Morgan
| kjohnson | macOS 13.0 Ventura / arm64 | OK | OK | OK | ||||||||||||
| Package 2/289 | Hostname | OS / Arch | INSTALL | BUILD | BUILD BIN | ||||||||||||
| AllelicImbalance 1.36.0 (landing page) Jesper R Gadin
| kjohnson | macOS 13.0 Ventura / arm64 | OK | OK | OK | ||||||||||||
| Package 3/289 | Hostname | OS / Arch | INSTALL | BUILD | BUILD BIN | ||||||||||||
| alpine 1.24.0 (landing page) Michael Love
| kjohnson | macOS 13.0 Ventura / arm64 | OK | OK | OK | ||||||||||||
| Package 4/289 | Hostname | OS / Arch | INSTALL | BUILD | BUILD BIN | ||||||||||||
| altcdfenvs 2.60.0 (landing page) Laurent Gautier
| kjohnson | macOS 13.0 Ventura / arm64 | OK | OK | OK | ||||||||||||
| Package 5/289 | Hostname | OS / Arch | INSTALL | BUILD | BUILD BIN | ||||||||||||
| amplican 1.20.0 (landing page) Eivind Valen
| kjohnson | macOS 13.0 Ventura / arm64 | OK | OK | OK | ||||||||||||
| Package 6/289 | Hostname | OS / Arch | INSTALL | BUILD | BUILD BIN | ||||||||||||
| AneuFinder 1.26.0 (landing page) Aaron Taudt
| kjohnson | macOS 13.0 Ventura / arm64 | ERROR | ERROR | skipped | ||||||||||||
| Package 7/289 | Hostname | OS / Arch | INSTALL | BUILD | BUILD BIN | ||||||||||||
| AnnotationHubData 1.28.0 (landing page) Bioconductor Package Maintainer
| kjohnson | macOS 13.0 Ventura / arm64 | OK | OK | OK | ||||||||||||
| Package 8/289 | Hostname | OS / Arch | INSTALL | BUILD | BUILD BIN | ||||||||||||
| appreci8R 1.16.0 (landing page) Sarah Sandmann
| kjohnson | macOS 13.0 Ventura / arm64 | OK | OK | OK | ||||||||||||
| Package 9/289 | Hostname | OS / Arch | INSTALL | BUILD | BUILD BIN | ||||||||||||
| ArrayExpressHTS 1.48.0 (landing page) Angela Goncalves
| kjohnson | macOS 13.0 Ventura / arm64 | ERROR | ERROR | skipped | ||||||||||||
| Package 10/289 | Hostname | OS / Arch | INSTALL | BUILD | BUILD BIN | ||||||||||||
| AssessORF 1.16.0 (landing page) Deepank Korandla
| kjohnson | macOS 13.0 Ventura / arm64 | OK | OK | OK | ||||||||||||
| Package 11/289 | Hostname | OS / Arch | INSTALL | BUILD | BUILD BIN | ||||||||||||
| ATACseqQC 1.22.0 (landing page) Jianhong Ou
| kjohnson | macOS 13.0 Ventura / arm64 | OK | OK | OK | ||||||||||||
| Package 12/289 | Hostname | OS / Arch | INSTALL | BUILD | BUILD BIN | ||||||||||||
| Basic4Cseq 1.34.0 (landing page) Carolin Walter
| kjohnson | macOS 13.0 Ventura / arm64 | OK | OK | OK | ||||||||||||
| Package 13/289 | Hostname | OS / Arch | INSTALL | BUILD | BUILD BIN | ||||||||||||
| BBCAnalyzer 1.28.0 (landing page) Sarah Sandmann
| kjohnson | macOS 13.0 Ventura / arm64 | OK | OK | OK | ||||||||||||
| Package 14/289 | Hostname | OS / Arch | INSTALL | BUILD | BUILD BIN | ||||||||||||
| BCRANK 1.60.0 (landing page) Adam Ameur
| kjohnson | macOS 13.0 Ventura / arm64 | OK | OK | OK | ||||||||||||
| Package 15/289 | Hostname | OS / Arch | INSTALL | BUILD | BUILD BIN | ||||||||||||
| bcSeq 1.20.0 (landing page) Jiaxing Lin
| kjohnson | macOS 13.0 Ventura / arm64 | OK | OK | OK | ||||||||||||
| Package 16/289 | Hostname | OS / Arch | INSTALL | BUILD | BUILD BIN | ||||||||||||
| BEAT 1.36.0 (landing page) Kemal Akman
| kjohnson | macOS 13.0 Ventura / arm64 | OK | OK | OK | ||||||||||||
| Package 17/289 | Hostname | OS / Arch | INSTALL | BUILD | BUILD BIN | ||||||||||||
| BgeeCall 1.14.0 (landing page) Julien Wollbrett
| kjohnson | macOS 13.0 Ventura / arm64 | OK | OK | OK | ||||||||||||
| Package 18/289 | Hostname | OS / Arch | INSTALL | BUILD | BUILD BIN | ||||||||||||
| biovizBase 1.46.0 (landing page) Michael Lawrence
| kjohnson | macOS 13.0 Ventura / arm64 | OK | OK | OK | ||||||||||||
| Package 19/289 | Hostname | OS / Arch | INSTALL | BUILD | BUILD BIN | ||||||||||||
| BRAIN 1.44.0 (landing page) Piotr Dittwald
| kjohnson | macOS 13.0 Ventura / arm64 | OK | OK | OK | ||||||||||||
| Package 20/289 | Hostname | OS / Arch | INSTALL | BUILD | BUILD BIN | ||||||||||||
| brainflowprobes 1.12.0 (landing page) Amanda Price
| kjohnson | macOS 13.0 Ventura / arm64 | OK | OK | OK | ||||||||||||
| Package 21/289 | Hostname | OS / Arch | INSTALL | BUILD | BUILD BIN | ||||||||||||
| branchpointer 1.24.0 (landing page) Beth Signal
| kjohnson | macOS 13.0 Ventura / arm64 | OK | OK | OK | ||||||||||||
| Package 22/289 | Hostname | OS / Arch | INSTALL | BUILD | BUILD BIN | ||||||||||||
| BSgenome 1.66.3 (landing page) Hervé Pagès
| kjohnson | macOS 13.0 Ventura / arm64 | OK | OK | OK | ||||||||||||
| Package 23/289 | Hostname | OS / Arch | INSTALL | BUILD | BUILD BIN | ||||||||||||
| bsseq 1.34.0 (landing page) Kasper Daniel Hansen
| kjohnson | macOS 13.0 Ventura / arm64 | OK | OK | OK | ||||||||||||
| Package 24/289 | Hostname | OS / Arch | INSTALL | BUILD | BUILD BIN | ||||||||||||
| BUMHMM 1.22.0 (landing page) Alina Selega
| kjohnson | macOS 13.0 Ventura / arm64 | OK | OK | OK | ||||||||||||
| Package 25/289 | Hostname | OS / Arch | INSTALL | BUILD | BUILD BIN | ||||||||||||
| BUSpaRse 1.12.2 (landing page) Lambda Moses
| kjohnson | macOS 13.0 Ventura / arm64 | OK | OK | OK | ||||||||||||
| Package 26/289 | Hostname | OS / Arch | INSTALL | BUILD | BUILD BIN | ||||||||||||
| CellaRepertorium 1.8.0 (landing page) Andrew McDavid
| kjohnson | macOS 13.0 Ventura / arm64 | OK | OK | OK | ||||||||||||
| Package 27/289 | Hostname | OS / Arch | INSTALL | BUILD | BUILD BIN | ||||||||||||
| CellBarcode 1.4.0 (landing page) Wenjie Sun
| kjohnson | macOS 13.0 Ventura / arm64 | OK | OK | OK | ||||||||||||
| Package 28/289 | Hostname | OS / Arch | INSTALL | BUILD | BUILD BIN | ||||||||||||
| chimeraviz 1.24.0 (landing page) Stian Lågstad
| kjohnson | macOS 13.0 Ventura / arm64 | OK | OK | OK | ||||||||||||
| Package 29/289 | Hostname | OS / Arch | INSTALL | BUILD | BUILD BIN | ||||||||||||
| ChIPanalyser 1.20.0 (landing page) Patrick C.N. Martin
| kjohnson | macOS 13.0 Ventura / arm64 | OK | OK | OK | ||||||||||||
| Package 30/289 | Hostname | OS / Arch | INSTALL | BUILD | BUILD BIN | ||||||||||||
| ChIPpeakAnno 3.32.0 (landing page) Jianhong Ou
| kjohnson | macOS 13.0 Ventura / arm64 | OK | OK | OK | ||||||||||||
| Package 31/289 | Hostname | OS / Arch | INSTALL | BUILD | BUILD BIN | ||||||||||||
| ChIPseqR 1.52.0 (landing page) Peter Humburg
| kjohnson | macOS 13.0 Ventura / arm64 | OK | OK | OK | ||||||||||||
| Package 32/289 | Hostname | OS / Arch | INSTALL | BUILD | BUILD BIN | ||||||||||||
| ChIPsim 1.52.0 (landing page) Peter Humburg
| kjohnson | macOS 13.0 Ventura / arm64 | OK | OK | OK | ||||||||||||
| Package 33/289 | Hostname | OS / Arch | INSTALL | BUILD | BUILD BIN | ||||||||||||
| chromVAR 1.20.2 (landing page) Alicia Schep
| kjohnson | macOS 13.0 Ventura / arm64 | OK | OK | OK | ||||||||||||
| Package 34/289 | Hostname | OS / Arch | INSTALL | BUILD | BUILD BIN | ||||||||||||
| circRNAprofiler 1.12.2 (landing page) Simona Aufiero
| kjohnson | macOS 13.0 Ventura / arm64 | OK | OK | OK | ||||||||||||
| Package 35/289 | Hostname | OS / Arch | INSTALL | BUILD | BUILD BIN | ||||||||||||
| CircSeqAlignTk 1.0.0 (landing page) Jianqiang Sun
| kjohnson | macOS 13.0 Ventura / arm64 | OK | OK | OK | ||||||||||||
| Package 36/289 | Hostname | OS / Arch | INSTALL | BUILD | BUILD BIN | ||||||||||||
| cleanUpdTSeq 1.36.0 (landing page) Jianhong Ou
| kjohnson | macOS 13.0 Ventura / arm64 | OK | OK | OK | ||||||||||||
| Package 37/289 | Hostname | OS / Arch | INSTALL | BUILD | BUILD BIN | ||||||||||||
| cleaver 1.36.0 (landing page) Sebastian Gibb
| kjohnson | macOS 13.0 Ventura / arm64 | OK | OK | OK | ||||||||||||
| Package 38/289 | Hostname | OS / Arch | INSTALL | BUILD | BUILD BIN | ||||||||||||
| cliProfiler 1.4.0 (landing page) You Zhou
| kjohnson | macOS 13.0 Ventura / arm64 | OK | OK | OK | ||||||||||||
| Package 39/289 | Hostname | OS / Arch | INSTALL | BUILD | BUILD BIN | ||||||||||||
| CNEr 1.34.0 (landing page) Ge Tan
| kjohnson | macOS 13.0 Ventura / arm64 | OK | OK | OK | ||||||||||||
| Package 40/289 | Hostname | OS / Arch | INSTALL | BUILD | BUILD BIN | ||||||||||||
| CNVfilteR 1.12.2 (landing page) Jose Marcos Moreno-Cabrera
| kjohnson | macOS 13.0 Ventura / arm64 | OK | OK | OK | ||||||||||||
| Package 41/289 | Hostname | OS / Arch | INSTALL | BUILD | BUILD BIN | ||||||||||||
| CODEX 1.30.0 (landing page) Yuchao Jiang
| kjohnson | macOS 13.0 Ventura / arm64 | OK | OK | OK | ||||||||||||
| Package 42/289 | Hostname | OS / Arch | INSTALL | BUILD | BUILD BIN | ||||||||||||
| cogeqc 1.2.1 (landing page) Fabrício Almeida-Silva
| kjohnson | macOS 13.0 Ventura / arm64 | OK | OK | OK | ||||||||||||
| Package 43/289 | Hostname | OS / Arch | INSTALL | BUILD | BUILD BIN | ||||||||||||
| compEpiTools 1.32.0 (landing page) Kamal Kishore
| kjohnson | macOS 13.0 Ventura / arm64 | OK | OK | OK | ||||||||||||
| Package 44/289 | Hostname | OS / Arch | INSTALL | BUILD | BUILD BIN | ||||||||||||
| consensusDE 1.16.0 (landing page) Ashley J. Waardenberg
| kjohnson | macOS 13.0 Ventura / arm64 | OK | OK | OK | ||||||||||||
| Package 45/289 | Hostname | OS / Arch | INSTALL | BUILD | BUILD BIN | ||||||||||||
| coRdon 1.16.0 (landing page) Anamaria Elek
| kjohnson | macOS 13.0 Ventura / arm64 | OK | OK | OK | ||||||||||||
| Package 46/289 | Hostname | OS / Arch | INSTALL | BUILD | BUILD BIN | ||||||||||||
| crisprBase 1.2.0 (landing page) Jean-Philippe Fortin
| kjohnson | macOS 13.0 Ventura / arm64 | OK | OK | OK | ||||||||||||
| Package 47/289 | Hostname | OS / Arch | INSTALL | BUILD | BUILD BIN | ||||||||||||
| crisprBowtie 1.2.0 (landing page) Jean-Philippe Fortin
| kjohnson | macOS 13.0 Ventura / arm64 | OK | OK | OK | ||||||||||||
| Package 48/289 | Hostname | OS / Arch | INSTALL | BUILD | BUILD BIN | ||||||||||||
| crisprDesign 1.0.0 (landing page) Jean-Philippe Fortin
| kjohnson | macOS 13.0 Ventura / arm64 | OK | OK | OK | ||||||||||||
| Package 49/289 | Hostname | OS / Arch | INSTALL | BUILD | BUILD BIN | ||||||||||||
| crisprScore 1.2.0 (landing page) Jean-Philippe Fortin
| kjohnson | macOS 13.0 Ventura / arm64 | OK | OK | OK | ||||||||||||
| Package 50/289 | Hostname | OS / Arch | INSTALL | BUILD | BUILD BIN | ||||||||||||
| CRISPRseek 1.38.0 (landing page) Lihua Julie Zhu
| kjohnson | macOS 13.0 Ventura / arm64 | OK | OK | OK | ||||||||||||
| Package 51/289 | Hostname | OS / Arch | INSTALL | BUILD | BUILD BIN | ||||||||||||
| CrispRVariants 1.26.0 (landing page) Helen Lindsay
| kjohnson | macOS 13.0 Ventura / arm64 | OK | OK | OK | ||||||||||||
| Package 52/289 | Hostname | OS / Arch | INSTALL | BUILD | BUILD BIN | ||||||||||||
| crisprViz 1.0.0 (landing page) Jean-Philippe Fortin
| kjohnson | macOS 13.0 Ventura / arm64 | OK | OK | OK | ||||||||||||
| Package 53/289 | Hostname | OS / Arch | INSTALL | BUILD | BUILD BIN | ||||||||||||
| customProDB 1.38.0 (landing page) Xiaojing Wang
| kjohnson | macOS 13.0 Ventura / arm64 | OK | OK | OK | ||||||||||||
| Package 54/289 | Hostname | OS / Arch | INSTALL | BUILD | BUILD BIN | ||||||||||||
| dada2 1.26.0 (landing page) Benjamin Callahan
| kjohnson | macOS 13.0 Ventura / arm64 | OK | OK | OK | ||||||||||||
| Package 55/289 | Hostname | OS / Arch | INSTALL | BUILD | BUILD BIN | ||||||||||||
| dagLogo 1.36.0 (landing page) Jianhong Ou
| kjohnson | macOS 13.0 Ventura / arm64 | OK | OK | OK | ||||||||||||
| Package 56/289 | Hostname | OS / Arch | INSTALL | BUILD | BUILD BIN | ||||||||||||
| DAMEfinder 1.10.1 (landing page) Stephany Orjuela
| kjohnson | macOS 13.0 Ventura / arm64 | OK | OK | OK | ||||||||||||
| Package 57/289 | Hostname | OS / Arch | INSTALL | BUILD | BUILD BIN | ||||||||||||
| DECIPHER 2.26.0 (landing page) Erik Wright
| kjohnson | macOS 13.0 Ventura / arm64 | OK | OK | OK | ||||||||||||
| Package 58/289 | Hostname | OS / Arch | INSTALL | BUILD | BUILD BIN | ||||||||||||
| decompTumor2Sig 2.14.0 (landing page) Rosario M. Piro
| kjohnson | macOS 13.0 Ventura / arm64 | OK | TIMEOUT | skipped | ||||||||||||
| Package 59/289 | Hostname | OS / Arch | INSTALL | BUILD | BUILD BIN | ||||||||||||
| deepSNV 1.44.0 (landing page) Moritz Gerstung
| kjohnson | macOS 13.0 Ventura / arm64 | OK | OK | OK | ||||||||||||
| Package 60/289 | Hostname | OS / Arch | INSTALL | BUILD | BUILD BIN | ||||||||||||
| diffHic 1.30.0 (landing page) Aaron Lun
| kjohnson | macOS 13.0 Ventura / arm64 | OK | OK | OK | ||||||||||||
| Package 61/289 | Hostname | OS / Arch | INSTALL | BUILD | BUILD BIN | ||||||||||||
| DNAshapeR 1.26.0 (landing page) Tsu-Pei Chiu
| kjohnson | macOS 13.0 Ventura / arm64 | OK | OK | OK | ||||||||||||
| Package 62/289 | Hostname | OS / Arch | INSTALL | BUILD | BUILD BIN | ||||||||||||
| DominoEffect 1.18.0 (landing page) Marija Buljan
| kjohnson | macOS 13.0 Ventura / arm64 | OK | OK | OK | ||||||||||||
| Package 63/289 | Hostname | OS / Arch | INSTALL | BUILD | BUILD BIN | ||||||||||||
| easyRNASeq 2.34.0 (landing page) Nicolas Delhomme
| kjohnson | macOS 13.0 Ventura / arm64 | OK | OK | OK | ||||||||||||
| Package 64/289 | Hostname | OS / Arch | INSTALL | BUILD | BUILD BIN | ||||||||||||
| EDASeq 2.32.0 (landing page) Davide Risso
| kjohnson | macOS 13.0 Ventura / arm64 | OK | OK | OK | ||||||||||||
| Package 65/289 | Hostname | OS / Arch | INSTALL | BUILD | BUILD BIN | ||||||||||||
| enhancerHomologSearch 1.4.2 (landing page) Jianhong Ou
| kjohnson | macOS 13.0 Ventura / arm64 | OK | OK | OK | ||||||||||||
| Package 66/289 | Hostname | OS / Arch | INSTALL | BUILD | BUILD BIN | ||||||||||||
| ensembldb 2.22.0 (landing page) Johannes Rainer
| kjohnson | macOS 13.0 Ventura / arm64 | OK | OK | OK | ||||||||||||
| Package 67/289 | Hostname | OS / Arch | INSTALL | BUILD | BUILD BIN | ||||||||||||
| ensemblVEP 1.40.0 (landing page) Bioconductor Package Maintainer
| kjohnson | macOS 13.0 Ventura / arm64 | OK | ERROR | skipped | ||||||||||||
| Package 68/289 | Hostname | OS / Arch | INSTALL | BUILD | BUILD BIN | ||||||||||||
| EpiTxDb 1.10.0 (landing page) Felix G.M. Ernst
| kjohnson | macOS 13.0 Ventura / arm64 | OK | OK | OK | ||||||||||||
| Package 69/289 | Hostname | OS / Arch | INSTALL | BUILD | BUILD BIN | ||||||||||||
| esATAC 1.20.0 (landing page) Zheng Wei
| kjohnson | macOS 13.0 Ventura / arm64 | OK | OK | OK | ||||||||||||
| Package 70/289 | Hostname | OS / Arch | INSTALL | BUILD | BUILD BIN | ||||||||||||
| eudysbiome 1.28.0 (landing page) Xiaoyuan Zhou
| kjohnson | macOS 13.0 Ventura / arm64 | OK | OK | OK | ||||||||||||
| Package 71/289 | Hostname | OS / Arch | INSTALL | BUILD | BUILD BIN | ||||||||||||
| EventPointer 3.6.0 (landing page) Juan A. Ferrer-Bonsoms
| kjohnson | macOS 13.0 Ventura / arm64 | OK | OK | OK | ||||||||||||
| Package 72/289 | Hostname | OS / Arch | INSTALL | BUILD | BUILD BIN | ||||||||||||
| exomePeak2 1.10.0 (landing page) Zhen Wei
| kjohnson | macOS 13.0 Ventura / arm64 | OK | OK | OK | ||||||||||||
| Package 73/289 | Hostname | OS / Arch | INSTALL | BUILD | BUILD BIN | ||||||||||||
| factR 1.0.0 (landing page) Fursham Hamid
| kjohnson | macOS 13.0 Ventura / arm64 | OK | OK | OK | ||||||||||||
| Package 74/289 | Hostname | OS / Arch | INSTALL | BUILD | BUILD BIN | ||||||||||||
| FastqCleaner 1.16.1 (landing page) Leandro Roser
| kjohnson | macOS 13.0 Ventura / arm64 | OK | OK | OK | ||||||||||||
| Package 75/289 | Hostname | OS / Arch | INSTALL | BUILD | BUILD BIN | ||||||||||||
| FLAMES 1.4.3 (landing page) Oliver Voogd
| kjohnson | macOS 13.0 Ventura / arm64 | OK | OK | OK | ||||||||||||
| Package 76/289 | Hostname | OS / Arch | INSTALL | BUILD | BUILD BIN | ||||||||||||
| GA4GHclient 1.22.0 (landing page) Welliton Souza
| kjohnson | macOS 13.0 Ventura / arm64 | OK | OK | OK | ||||||||||||
| Package 77/289 | Hostname | OS / Arch | INSTALL | BUILD | BUILD BIN | ||||||||||||
| gcapc 1.22.0 (landing page) Mingxiang Teng
| kjohnson | macOS 13.0 Ventura / arm64 | OK | OK | OK | ||||||||||||
| Package 78/289 | Hostname | OS / Arch | INSTALL | BUILD | BUILD BIN | ||||||||||||
| gcrma 2.70.0 (landing page) Z. Wu
| kjohnson | macOS 13.0 Ventura / arm64 | OK | OK | OK | ||||||||||||
| Package 79/289 | Hostname | OS / Arch | INSTALL | BUILD | BUILD BIN | ||||||||||||
| genbankr 1.26.0 (landing page) Gabriel Becker
| kjohnson | macOS 13.0 Ventura / arm64 | OK | OK | OK | ||||||||||||
| Package 80/289 | Hostname | OS / Arch | INSTALL | BUILD | BUILD BIN | ||||||||||||
| GeneRegionScan 1.54.0 (landing page) Lasse Folkersen
| kjohnson | macOS 13.0 Ventura / arm64 | OK | OK | OK | ||||||||||||
| Package 81/289 | Hostname | OS / Arch | INSTALL | BUILD | BUILD BIN | ||||||||||||
| GeneStructureTools 1.18.0 (landing page) Beth Signal
| kjohnson | macOS 13.0 Ventura / arm64 | OK | OK | OK | ||||||||||||
| Package 82/289 | Hostname | OS / Arch | INSTALL | BUILD | BUILD BIN | ||||||||||||
| genomation 1.30.0 (landing page) Altuna Akalin
| kjohnson | macOS 13.0 Ventura / arm64 | OK | OK | OK | ||||||||||||
| Package 83/289 | Hostname | OS / Arch | INSTALL | BUILD | BUILD BIN | ||||||||||||
| GenomAutomorphism 1.0.3 (landing page) Robersy Sanchez
| kjohnson | macOS 13.0 Ventura / arm64 | OK | OK | OK | ||||||||||||
| Package 84/289 | Hostname | OS / Arch | INSTALL | BUILD | BUILD BIN | ||||||||||||
| GenomicAlignments 1.34.1 (landing page) Hervé Pagès
| kjohnson | macOS 13.0 Ventura / arm64 | OK | OK | OK | ||||||||||||
| Package 85/289 | Hostname | OS / Arch | INSTALL | BUILD | BUILD BIN | ||||||||||||
| GenomicDistributions 1.6.0 (landing page) Kristyna Kupkova
| kjohnson | macOS 13.0 Ventura / arm64 | OK | OK | OK | ||||||||||||
| Package 86/289 | Hostname | OS / Arch | INSTALL | BUILD | BUILD BIN | ||||||||||||
| GenomicFeatures 1.50.4 (landing page) H. Pagès
| kjohnson | macOS 13.0 Ventura / arm64 | OK | OK | OK | ||||||||||||
| Package 87/289 | Hostname | OS / Arch | INSTALL | BUILD | BUILD BIN | ||||||||||||
| GenomicScores 2.10.0 (landing page) Robert Castelo
| kjohnson | macOS 13.0 Ventura / arm64 | OK | OK | OK | ||||||||||||
| Package 88/289 | Hostname | OS / Arch | INSTALL | BUILD | BUILD BIN | ||||||||||||
| GenVisR 1.30.0 (landing page) Zachary Skidmore
| kjohnson | macOS 13.0 Ventura / arm64 | OK | OK | OK | ||||||||||||
| Package 89/289 | Hostname | OS / Arch | INSTALL | BUILD | BUILD BIN | ||||||||||||
| ggbio 1.46.0 (landing page) Michael Lawrence
| kjohnson | macOS 13.0 Ventura / arm64 | OK | OK | OK | ||||||||||||
| Package 90/289 | Hostname | OS / Arch | INSTALL | BUILD | BUILD BIN | ||||||||||||
| ggmsa 1.4.0 (landing page) Lang Zhou
| kjohnson | macOS 13.0 Ventura / arm64 | OK | OK | OK | ||||||||||||
| Package 91/289 | Hostname | OS / Arch | INSTALL | BUILD | BUILD BIN | ||||||||||||
| girafe 1.50.0 (landing page) J. Toedling
| kjohnson | macOS 13.0 Ventura / arm64 | OK | OK | OK | ||||||||||||
| Package 92/289 | Hostname | OS / Arch | INSTALL | BUILD | BUILD BIN | ||||||||||||
| gmapR 1.40.0 (landing page) Michael Lawrence
| kjohnson | macOS 13.0 Ventura / arm64 | ERROR | ERROR | skipped | ||||||||||||
| Package 93/289 | Hostname | OS / Arch | INSTALL | BUILD | BUILD BIN | ||||||||||||
| gmoviz 1.10.0 (landing page) Kathleen Zeglinski
| kjohnson | macOS 13.0 Ventura / arm64 | OK | OK | OK | ||||||||||||
| Package 94/289 | Hostname | OS / Arch | INSTALL | BUILD | BUILD BIN | ||||||||||||
| GOTHiC 1.34.0 (landing page) Borbala Mifsud
| kjohnson | macOS 13.0 Ventura / arm64 | OK | OK | OK | ||||||||||||
| Package 95/289 | Hostname | OS / Arch | INSTALL | BUILD | BUILD BIN | ||||||||||||
| GRaNIE 1.2.7 (landing page) Christian Arnold
| kjohnson | macOS 13.0 Ventura / arm64 | OK | OK | OK | ||||||||||||
| Package 96/289 | Hostname | OS / Arch | INSTALL | BUILD | BUILD BIN | ||||||||||||
| GUIDEseq 1.28.0 (landing page) Lihua Julie Zhu
| kjohnson | macOS 13.0 Ventura / arm64 | OK | OK | OK | ||||||||||||
| Package 97/289 | Hostname | OS / Arch | INSTALL | BUILD | BUILD BIN | ||||||||||||
| Gviz 1.42.1 (landing page) Robert Ivanek
| kjohnson | macOS 13.0 Ventura / arm64 | OK | OK | OK | ||||||||||||
| Package 98/289 | Hostname | OS / Arch | INSTALL | BUILD | BUILD BIN | ||||||||||||
| gwascat 2.30.0 (landing page) VJ Carey
| kjohnson | macOS 13.0 Ventura / arm64 | OK | OK | OK | ||||||||||||
| Package 99/289 | Hostname | OS / Arch | INSTALL | BUILD | BUILD BIN | ||||||||||||
| h5vc 2.32.0 (landing page) Paul Theodor Pyl
| kjohnson | macOS 13.0 Ventura / arm64 | OK | OK | OK | ||||||||||||
| Package 100/289 | Hostname | OS / Arch | INSTALL | BUILD | BUILD BIN | ||||||||||||
| heatmaps 1.22.0 (landing page) Malcolm Perry
| kjohnson | macOS 13.0 Ventura / arm64 | OK | OK | OK | ||||||||||||
| Package 101/289 | Hostname | OS / Arch | INSTALL | BUILD | BUILD BIN | ||||||||||||
| HelloRanges 1.24.0 (landing page) Michael Lawrence
| kjohnson | macOS 13.0 Ventura / arm64 | OK | OK | OK | ||||||||||||
| Package 102/289 | Hostname | OS / Arch | INSTALL | BUILD | BUILD BIN | ||||||||||||
| HiCDCPlus 1.6.0 (landing page) Merve Sahin
| kjohnson | macOS 13.0 Ventura / arm64 | OK | OK | OK | ||||||||||||
| Package 103/289 | Hostname | OS / Arch | INSTALL | BUILD | BUILD BIN | ||||||||||||
| HiLDA 1.12.0 (landing page) Zhi Yang
| kjohnson | macOS 13.0 Ventura / arm64 | OK | OK | OK | ||||||||||||
| Package 104/289 | Hostname | OS / Arch | INSTALL | BUILD | BUILD BIN | ||||||||||||
| hiReadsProcessor 1.34.0 (landing page) Nirav V Malani
| kjohnson | macOS 13.0 Ventura / arm64 | OK | OK | OK | ||||||||||||
| Package 105/289 | Hostname | OS / Arch | INSTALL | BUILD | BUILD BIN | ||||||||||||
| HiTC 1.42.0 (landing page) Nicolas Servant
| kjohnson | macOS 13.0 Ventura / arm64 | OK | OK | OK | ||||||||||||
| Package 106/289 | Hostname | OS / Arch | INSTALL | BUILD | BUILD BIN | ||||||||||||
| icetea 1.16.0 (landing page) Vivek Bhardwaj
| kjohnson | macOS 13.0 Ventura / arm64 | OK | OK | OK | ||||||||||||
| Package 107/289 | Hostname | OS / Arch | INSTALL | BUILD | BUILD BIN | ||||||||||||
| idpr 1.8.0 (landing page) William M. McFadden
| kjohnson | macOS 13.0 Ventura / arm64 | OK | OK | OK | ||||||||||||
| Package 108/289 | Hostname | OS / Arch | INSTALL | BUILD | BUILD BIN | ||||||||||||
| IMMAN 1.18.0 (landing page) Minoo Ashtiani
| kjohnson | macOS 13.0 Ventura / arm64 | OK | OK | OK | ||||||||||||
| Package 109/289 | Hostname | OS / Arch | INSTALL | BUILD | BUILD BIN | ||||||||||||
| InPAS 2.6.0 (landing page) Jianhong Ou
| kjohnson | macOS 13.0 Ventura / arm64 | OK | OK | OK | ||||||||||||
| Package 110/289 | Hostname | OS / Arch | INSTALL | BUILD | BUILD BIN | ||||||||||||
| IntEREst 1.22.2 (landing page) Ali Oghabian
| kjohnson | macOS 13.0 Ventura / arm64 | OK | OK | OK | ||||||||||||
| Package 111/289 | Hostname | OS / Arch | INSTALL | BUILD | BUILD BIN | ||||||||||||
| InterMineR 1.20.0 (landing page) InterMine Team
| kjohnson | macOS 13.0 Ventura / arm64 | OK | OK | OK | ||||||||||||
| Package 112/289 | Hostname | OS / Arch | INSTALL | BUILD | BUILD BIN | ||||||||||||
| IONiseR 2.22.0 (landing page) Mike Smith
| kjohnson | macOS 13.0 Ventura / arm64 | OK | OK | OK | ||||||||||||
| Package 113/289 | Hostname | OS / Arch | INSTALL | BUILD | BUILD BIN | ||||||||||||
| iPAC 1.42.0 (landing page) Gregory Ryslik
| kjohnson | macOS 13.0 Ventura / arm64 | OK | OK | OK | ||||||||||||
| Package 114/289 | Hostname | OS / Arch | INSTALL | BUILD | BUILD BIN | ||||||||||||
| ipdDb 1.16.0 (landing page) Steffen Klasberg
| kjohnson | macOS 13.0 Ventura / arm64 | OK | OK | OK | ||||||||||||
| Package 115/289 | Hostname | OS / Arch | INSTALL | BUILD | BUILD BIN | ||||||||||||
| IsoformSwitchAnalyzeR 1.20.0 (landing page) Kristoffer Vitting-Seerup
| kjohnson | macOS 13.0 Ventura / arm64 | OK | OK | OK | ||||||||||||
| Package 116/289 | Hostname | OS / Arch | INSTALL | BUILD | BUILD BIN | ||||||||||||
| kebabs 1.32.0 (landing page) Ulrich Bodenhofer
| kjohnson | macOS 13.0 Ventura / arm64 | OK | OK | OK | ||||||||||||
| Package 117/289 | Hostname | OS / Arch | INSTALL | BUILD | BUILD BIN | ||||||||||||
| KEGGREST 1.38.0 (landing page) Bioconductor Package Maintainer
| kjohnson | macOS 13.0 Ventura / arm64 | OK | OK | OK | ||||||||||||
| Package 118/289 | Hostname | OS / Arch | INSTALL | BUILD | BUILD BIN | ||||||||||||
| LinTInd 1.2.0 (landing page) Luyue Wang
| kjohnson | macOS 13.0 Ventura / arm64 | OK | OK | OK | ||||||||||||
| Package 119/289 | Hostname | OS / Arch | INSTALL | BUILD | BUILD BIN | ||||||||||||
| LowMACA 1.28.0 (landing page) Giorgio Melloni
| kjohnson | macOS 13.0 Ventura / arm64 | OK | ERROR | skipped | ||||||||||||
| Package 120/289 | Hostname | OS / Arch | INSTALL | BUILD | BUILD BIN | ||||||||||||
| LymphoSeq 1.26.0 (landing page) David Coffey
| kjohnson | macOS 13.0 Ventura / arm64 | OK | OK | OK | ||||||||||||
| Package 121/289 | Hostname | OS / Arch | INSTALL | BUILD | BUILD BIN | ||||||||||||
| m6Aboost 1.4.0 (landing page) You Zhou
| kjohnson | macOS 13.0 Ventura / arm64 | OK | OK | OK | ||||||||||||
| Package 122/289 | Hostname | OS / Arch | INSTALL | BUILD | BUILD BIN | ||||||||||||
Ioannis Vardaxis
| kjohnson | macOS 13.0 Ventura / arm64 | ERROR | ERROR | skipped | ||||||||||||
| Package 123/289 | Hostname | OS / Arch | INSTALL | BUILD | BUILD BIN | ||||||||||||
| MADSEQ 1.24.0 (landing page) Yu Kong
| kjohnson | macOS 13.0 Ventura / arm64 | OK | OK | OK | ||||||||||||
| Package 124/289 | Hostname | OS / Arch | INSTALL | BUILD | BUILD BIN | ||||||||||||
| MatrixRider 1.30.0 (landing page) Elena Grassi
| kjohnson | macOS 13.0 Ventura / arm64 | OK | OK | OK | ||||||||||||
| Package 125/289 | Hostname | OS / Arch | INSTALL | BUILD | BUILD BIN | ||||||||||||
| MDTS 1.18.0 (landing page) Jack M.. Fu
| kjohnson | macOS 13.0 Ventura / arm64 | OK | OK | OK | ||||||||||||
| Package 126/289 | Hostname | OS / Arch | INSTALL | BUILD | BUILD BIN | ||||||||||||
| MEDIPS 1.50.0 (landing page) Lukas Chavez
| kjohnson | macOS 13.0 Ventura / arm64 | OK | OK | OK | ||||||||||||
| Package 127/289 | Hostname | OS / Arch | INSTALL | BUILD | BUILD BIN | ||||||||||||
| MEDME 1.58.0 (landing page) Mattia Pelizzola
| kjohnson | macOS 13.0 Ventura / arm64 | OK | OK | OK | ||||||||||||
| Package 128/289 | Hostname | OS / Arch | INSTALL | BUILD | BUILD BIN | ||||||||||||
| memes 1.6.0 (landing page) Spencer Nystrom
| kjohnson | macOS 13.0 Ventura / arm64 | OK | OK | OK | ||||||||||||
| Package 129/289 | Hostname | OS / Arch | INSTALL | BUILD | BUILD BIN | ||||||||||||
| MesKit 1.8.0 (landing page) Mengni Liu
| kjohnson | macOS 13.0 Ventura / arm64 | OK | OK | OK | ||||||||||||
| Package 130/289 | Hostname | OS / Arch | INSTALL | BUILD | BUILD BIN | ||||||||||||
| metaseqR2 1.10.0 (landing page) Panagiotis Moulos
| kjohnson | macOS 13.0 Ventura / arm64 | OK | OK | OK | ||||||||||||
| Package 131/289 | Hostname | OS / Arch | INSTALL | BUILD | BUILD BIN | ||||||||||||
| methimpute 1.20.0 (landing page) Aaron Taudt
| kjohnson | macOS 13.0 Ventura / arm64 | OK | OK | OK | ||||||||||||
| Package 132/289 | Hostname | OS / Arch | INSTALL | BUILD | BUILD BIN | ||||||||||||
| MethTargetedNGS 1.30.0 (landing page) Muhammad Ahmer Jamil
| kjohnson | macOS 13.0 Ventura / arm64 | OK | OK | OK | ||||||||||||
| Package 133/289 | Hostname | OS / Arch | INSTALL | BUILD | BUILD BIN | ||||||||||||
| methylPipe 1.32.0 (landing page) Kamal Kishore
| kjohnson | macOS 13.0 Ventura / arm64 | OK | OK | OK | ||||||||||||
| Package 134/289 | Hostname | OS / Arch | INSTALL | BUILD | BUILD BIN | ||||||||||||
| methylscaper 1.6.0 (landing page) Bacher Rhonda
| kjohnson | macOS 13.0 Ventura / arm64 | OK | OK | OK | ||||||||||||
| Package 135/289 | Hostname | OS / Arch | INSTALL | BUILD | BUILD BIN | ||||||||||||
| mia 1.6.0 (landing page) Tuomas Borman
| kjohnson | macOS 13.0 Ventura / arm64 | OK | OK | OK | ||||||||||||
| Package 136/289 | Hostname | OS / Arch | INSTALL | BUILD | BUILD BIN | ||||||||||||
| microbiome 1.20.0 (landing page) Leo Lahti
| kjohnson | macOS 13.0 Ventura / arm64 | OK | OK | OK | ||||||||||||
| Package 137/289 | Hostname | OS / Arch | INSTALL | BUILD | BUILD BIN | ||||||||||||
| microbiomeMarker 1.4.0 (landing page) Yang Cao
| kjohnson | macOS 13.0 Ventura / arm64 | OK | OK | OK | ||||||||||||
| Package 138/289 | Hostname | OS / Arch | INSTALL | BUILD | BUILD BIN | ||||||||||||
| MicrobiotaProcess 1.10.3 (landing page) Shuangbin Xu
| kjohnson | macOS 13.0 Ventura / arm64 | OK | OK | OK | ||||||||||||
| Package 139/289 | Hostname | OS / Arch | INSTALL | BUILD | BUILD BIN | ||||||||||||
| microRNA 1.56.0 (landing page) "James F. Reid"
| kjohnson | macOS 13.0 Ventura / arm64 | OK | OK | OK | ||||||||||||
| Package 140/289 | Hostname | OS / Arch | INSTALL | BUILD | BUILD BIN | ||||||||||||
| minfi 1.44.0 (landing page) Kasper Daniel Hansen
| kjohnson | macOS 13.0 Ventura / arm64 | OK | OK | OK | ||||||||||||
| Package 141/289 | Hostname | OS / Arch | INSTALL | BUILD | BUILD BIN | ||||||||||||
| MMDiff2 1.26.0 (landing page) Gabriele Schweikert
| kjohnson | macOS 13.0 Ventura / arm64 | OK | OK | OK | ||||||||||||
| Package 142/289 | Hostname | OS / Arch | INSTALL | BUILD | BUILD BIN | ||||||||||||
| Modstrings 1.14.0 (landing page) Felix G.M. Ernst
| kjohnson | macOS 13.0 Ventura / arm64 | OK | OK | OK | ||||||||||||
| Package 143/289 | Hostname | OS / Arch | INSTALL | BUILD | BUILD BIN | ||||||||||||
| monaLisa 1.4.0 (landing page) Michael Stadler
| kjohnson | macOS 13.0 Ventura / arm64 | OK | OK | OK | ||||||||||||
| Package 144/289 | Hostname | OS / Arch | INSTALL | BUILD | BUILD BIN | ||||||||||||
| Motif2Site 1.2.0 (landing page) Peyman Zarrineh
| kjohnson | macOS 13.0 Ventura / arm64 | OK | OK | OK | ||||||||||||
| Package 145/289 | Hostname | OS / Arch | INSTALL | BUILD | BUILD BIN | ||||||||||||
| motifbreakR 2.12.4 (landing page) Simon Gert Coetzee
| kjohnson | macOS 13.0 Ventura / arm64 | OK | TIMEOUT | skipped | ||||||||||||
| Package 146/289 | Hostname | OS / Arch | INSTALL | BUILD | BUILD BIN | ||||||||||||
| motifcounter 1.22.0 (landing page) Wolfgang Kopp
| kjohnson | macOS 13.0 Ventura / arm64 | OK | OK | OK | ||||||||||||
| Package 147/289 | Hostname | OS / Arch | INSTALL | BUILD | BUILD BIN | ||||||||||||
| MotifDb 1.40.0 (landing page) Paul Shannon
| kjohnson | macOS 13.0 Ventura / arm64 | OK | OK | OK | ||||||||||||
| Package 148/289 | Hostname | OS / Arch | INSTALL | BUILD | BUILD BIN | ||||||||||||
| motifmatchr 1.20.0 (landing page) Alicia Schep
| kjohnson | macOS 13.0 Ventura / arm64 | OK | OK | OK | ||||||||||||
| Package 149/289 | Hostname | OS / Arch | INSTALL | BUILD | BUILD BIN | ||||||||||||
| motifStack 1.42.0 (landing page) Jianhong Ou
| kjohnson | macOS 13.0 Ventura / arm64 | OK | OK | OK | ||||||||||||
| Package 150/289 | Hostname | OS / Arch | INSTALL | BUILD | BUILD BIN | ||||||||||||
| msa 1.30.1 (landing page) Ulrich Bodenhofer
| kjohnson | macOS 13.0 Ventura / arm64 | OK | OK | OK | ||||||||||||
| Package 151/289 | Hostname | OS / Arch | INSTALL | BUILD | BUILD BIN | ||||||||||||
| MSA2dist 1.2.0 (landing page) Kristian K Ullrich
| kjohnson | macOS 13.0 Ventura / arm64 | OK | OK | OK | ||||||||||||
| Package 152/289 | Hostname | OS / Arch | INSTALL | BUILD | BUILD BIN | ||||||||||||
| MSnID 1.32.0 (landing page) Vlad Petyuk
| kjohnson | macOS 13.0 Ventura / arm64 | OK | OK | OK | ||||||||||||
| Package 153/289 | Hostname | OS / Arch | INSTALL | BUILD | BUILD BIN | ||||||||||||
| MSstatsLiP 1.4.1 (landing page) Devon Kohler
| kjohnson | macOS 13.0 Ventura / arm64 | OK | OK | OK | ||||||||||||
| Package 154/289 | Hostname | OS / Arch | INSTALL | BUILD | BUILD BIN | ||||||||||||
| MSstatsPTM 2.0.3 (landing page) Devon Kohler
| kjohnson | macOS 13.0 Ventura / arm64 | OK | OK | OK | ||||||||||||
| Package 155/289 | Hostname | OS / Arch | INSTALL | BUILD | BUILD BIN | ||||||||||||
| multicrispr 1.8.0 (landing page) Aditya Bhagwat
| kjohnson | macOS 13.0 Ventura / arm64 | OK | OK | OK | ||||||||||||
| Package 156/289 | Hostname | OS / Arch | INSTALL | BUILD | BUILD BIN | ||||||||||||
| MungeSumstats 1.6.0 (landing page) Alan Murphy
| kjohnson | macOS 13.0 Ventura / arm64 | OK | OK | OK | ||||||||||||
| Package 157/289 | Hostname | OS / Arch | INSTALL | BUILD | BUILD BIN | ||||||||||||
| muscle 3.40.0 (landing page) Alex T. Kalinka
| kjohnson | macOS 13.0 Ventura / arm64 | OK | OK | OK | ||||||||||||
| Package 158/289 | Hostname | OS / Arch | INSTALL | BUILD | BUILD BIN | ||||||||||||
| musicatk 1.8.0 (landing page) Aaron Chevalier
| kjohnson | macOS 13.0 Ventura / arm64 | OK | OK | OK | ||||||||||||
| Package 159/289 | Hostname | OS / Arch | INSTALL | BUILD | BUILD BIN | ||||||||||||
| MutationalPatterns 3.8.1 (landing page) Mark van Roosmalen
| kjohnson | macOS 13.0 Ventura / arm64 | OK | OK | OK | ||||||||||||
| Package 160/289 | Hostname | OS / Arch | INSTALL | BUILD | BUILD BIN | ||||||||||||
| NanoStringNCTools 1.6.1 (landing page) Nicole Ortogero
| kjohnson | macOS 13.0 Ventura / arm64 | OK | OK | OK | ||||||||||||
| Package 161/289 | Hostname | OS / Arch | INSTALL | BUILD | BUILD BIN | ||||||||||||
| ngsReports 2.0.3 (landing page) Stephen Pederson
| kjohnson | macOS 13.0 Ventura / arm64 | OK | OK | OK | ||||||||||||
| Package 162/289 | Hostname | OS / Arch | INSTALL | BUILD | BUILD BIN | ||||||||||||
| nucleR 2.30.0 (landing page) Alba Sala
| kjohnson | macOS 13.0 Ventura / arm64 | OK | OK | OK | ||||||||||||
| Package 163/289 | Hostname | OS / Arch | INSTALL | BUILD | BUILD BIN | ||||||||||||
| NxtIRFcore 1.4.0 (landing page) Alex Chit Hei Wong
| kjohnson | macOS 13.0 Ventura / arm64 | OK | OK | OK | ||||||||||||
| Package 164/289 | Hostname | OS / Arch | INSTALL | BUILD | BUILD BIN | ||||||||||||
| oligo 1.62.2 (landing page) Benilton Carvalho
| kjohnson | macOS 13.0 Ventura / arm64 | OK | OK | OK | ||||||||||||
| Package 165/289 | Hostname | OS / Arch | INSTALL | BUILD | BUILD BIN | ||||||||||||
| oligoClasses 1.60.0 (landing page) Benilton Carvalho
| kjohnson | macOS 13.0 Ventura / arm64 | OK | OK | OK | ||||||||||||
| Package 166/289 | Hostname | OS / Arch | INSTALL | BUILD | BUILD BIN | ||||||||||||
| OmaDB 2.14.0 (landing page) Klara Kaleb
| kjohnson | macOS 13.0 Ventura / arm64 | OK | OK | OK | ||||||||||||
| Package 167/289 | Hostname | OS / Arch | INSTALL | BUILD | BUILD BIN | ||||||||||||
| openPrimeR 1.20.0 (landing page) Matthias Döring
| kjohnson | macOS 13.0 Ventura / arm64 | OK | OK | OK | ||||||||||||
| Package 168/289 | Hostname | OS / Arch | INSTALL | BUILD | BUILD BIN | ||||||||||||
| ORFhunteR 1.6.0 (landing page) Vasily V. Grinev
| kjohnson | macOS 13.0 Ventura / arm64 | OK | OK | OK | ||||||||||||
| Package 169/289 | Hostname | OS / Arch | INSTALL | BUILD | BUILD BIN | ||||||||||||
| ORFik 1.18.2 (landing page) Haakon Tjeldnes
| kjohnson | macOS 13.0 Ventura / arm64 | OK | OK | OK | ||||||||||||
| Package 170/289 | Hostname | OS / Arch | INSTALL | BUILD | BUILD BIN | ||||||||||||
| OTUbase 1.48.0 (landing page) Daniel Beck
| kjohnson | macOS 13.0 Ventura / arm64 | OK | OK | OK | ||||||||||||
| Package 171/289 | Hostname | OS / Arch | INSTALL | BUILD | BUILD BIN | ||||||||||||
| packFinder 1.10.0 (landing page) Jack Gisby
| kjohnson | macOS 13.0 Ventura / arm64 | OK | OK | OK | ||||||||||||
| Package 172/289 | Hostname | OS / Arch | INSTALL | BUILD | BUILD BIN | ||||||||||||
| pdInfoBuilder 1.62.0 (landing page) Benilton Carvalho
| kjohnson | macOS 13.0 Ventura / arm64 | OK | OK | OK | ||||||||||||
| Package 173/289 | Hostname | OS / Arch | INSTALL | BUILD | BUILD BIN | ||||||||||||
| periodicDNA 1.8.0 (landing page) Jacques Serizay
| kjohnson | macOS 13.0 Ventura / arm64 | OK | OK | OK | ||||||||||||
| Package 174/289 | Hostname | OS / Arch | INSTALL | BUILD | BUILD BIN | ||||||||||||
| PhyloProfile 1.12.6 (landing page) Vinh Tran
| kjohnson | macOS 13.0 Ventura / arm64 | OK | OK | OK | ||||||||||||
| Package 175/289 | Hostname | OS / Arch | INSTALL | BUILD | BUILD BIN | ||||||||||||
| phyloseq 1.42.0 (landing page) Paul J. McMurdie
| kjohnson | macOS 13.0 Ventura / arm64 | OK | OK | OK | ||||||||||||
| Package 176/289 | Hostname | OS / Arch | INSTALL | BUILD | BUILD BIN | ||||||||||||
| pipeFrame 1.14.0 (landing page) Zheng Wei
| kjohnson | macOS 13.0 Ventura / arm64 | OK | OK | OK | ||||||||||||
| Package 177/289 | Hostname | OS / Arch | INSTALL | BUILD | BUILD BIN | ||||||||||||
| podkat 1.30.0 (landing page) Ulrich Bodenhofer
| kjohnson | macOS 13.0 Ventura / arm64 | OK | OK | OK | ||||||||||||
| Package 178/289 | Hostname | OS / Arch | INSTALL | BUILD | BUILD BIN | ||||||||||||
| polyester 1.34.0 (landing page) Jack Fu
| kjohnson | macOS 13.0 Ventura / arm64 | OK | OK | OK | ||||||||||||
| Package 179/289 | Hostname | OS / Arch | INSTALL | BUILD | BUILD BIN | ||||||||||||
| pqsfinder 2.14.1 (landing page) Jiri Hon
| kjohnson | macOS 13.0 Ventura / arm64 | OK | OK | OK | ||||||||||||
| Package 180/289 | Hostname | OS / Arch | INSTALL | BUILD | BUILD BIN | ||||||||||||
| primirTSS 1.16.0 (landing page) Pumin Li
| kjohnson | macOS 13.0 Ventura / arm64 | OK | OK | OK | ||||||||||||
| Package 181/289 | Hostname | OS / Arch | INSTALL | BUILD | BUILD BIN | ||||||||||||
| proBAMr 1.32.0 (landing page) Xiaojing Wang
| kjohnson | macOS 13.0 Ventura / arm64 | OK | OK | OK | ||||||||||||
| Package 182/289 | Hostname | OS / Arch | INSTALL | BUILD | BUILD BIN | ||||||||||||
| procoil 2.26.0 (landing page) Ulrich Bodenhofer
| kjohnson | macOS 13.0 Ventura / arm64 | OK | OK | OK | ||||||||||||
| Package 183/289 | Hostname | OS / Arch | INSTALL | BUILD | BUILD BIN | ||||||||||||
| ProteoDisco 1.4.0 (landing page) Job van Riet
| kjohnson | macOS 13.0 Ventura / arm64 | OK | OK | OK | ||||||||||||
| Package 184/289 | Hostname | OS / Arch | INSTALL | BUILD | BUILD BIN | ||||||||||||
| PureCN 2.4.0 (landing page) Markus Riester
| kjohnson | macOS 13.0 Ventura / arm64 | OK | OK | OK | ||||||||||||
| Package 185/289 | Hostname | OS / Arch | INSTALL | BUILD | BUILD BIN | ||||||||||||
| Pviz 1.32.0 (landing page) Renan Sauteraud
| kjohnson | macOS 13.0 Ventura / arm64 | OK | OK | OK | ||||||||||||
| Package 186/289 | Hostname | OS / Arch | INSTALL | BUILD | BUILD BIN | ||||||||||||
| PWMEnrich 4.34.0 (landing page) Diego Diez
| kjohnson | macOS 13.0 Ventura / arm64 | OK | OK | OK | ||||||||||||
| Package 187/289 | Hostname | OS / Arch | INSTALL | BUILD | BUILD BIN | ||||||||||||
| qPLEXanalyzer 1.16.1 (landing page) Ashley Sawle
| kjohnson | macOS 13.0 Ventura / arm64 | OK | OK | OK | ||||||||||||
| Package 188/289 | Hostname | OS / Arch | INSTALL | BUILD | BUILD BIN | ||||||||||||
| qrqc 1.52.0 (landing page) Vince Buffalo
| kjohnson | macOS 13.0 Ventura / arm64 | OK | OK | OK | ||||||||||||
| Package 189/289 | Hostname | OS / Arch | INSTALL | BUILD | BUILD BIN | ||||||||||||
| qsea 1.24.0 (landing page) Matthias Lienhard
| kjohnson | macOS 13.0 Ventura / arm64 | OK | OK | OK | ||||||||||||
| Package 190/289 | Hostname | OS / Arch | INSTALL | BUILD | BUILD BIN | ||||||||||||
| QSutils 1.16.0 (landing page) Mercedes Guerrero-Murillo
| kjohnson | macOS 13.0 Ventura / arm64 | OK | OK | OK | ||||||||||||
| Package 191/289 | Hostname | OS / Arch | INSTALL | BUILD | BUILD BIN | ||||||||||||
| QuasR 1.38.0 (landing page) Michael Stadler
| kjohnson | macOS 13.0 Ventura / arm64 | OK | OK | OK | ||||||||||||
| Package 192/289 | Hostname | OS / Arch | INSTALL | BUILD | BUILD BIN | ||||||||||||
| r3Cseq 1.44.0 (landing page) Supat Thongjuea
| kjohnson | macOS 13.0 Ventura / arm64 | OK | OK | OK | ||||||||||||
| Package 193/289 | Hostname | OS / Arch | INSTALL | BUILD | BUILD BIN | ||||||||||||
| R453Plus1Toolbox 1.48.0 (landing page) Hans-Ulrich Klein
| kjohnson | macOS 13.0 Ventura / arm64 | OK | OK | OK | ||||||||||||
| Package 194/289 | Hostname | OS / Arch | INSTALL | BUILD | BUILD BIN | ||||||||||||
| R4RNA 1.26.0 (landing page) Daniel Lai
| kjohnson | macOS 13.0 Ventura / arm64 | OK | OK | OK | ||||||||||||
| Package 195/289 | Hostname | OS / Arch | INSTALL | BUILD | BUILD BIN | ||||||||||||
| ramwas 1.22.0 (landing page) Andrey A Shabalin
| kjohnson | macOS 13.0 Ventura / arm64 | OK | OK | OK | ||||||||||||
| Package 196/289 | Hostname | OS / Arch | INSTALL | BUILD | BUILD BIN | ||||||||||||
| RCAS 1.24.0 (landing page) Bora Uyar
| kjohnson | macOS 13.0 Ventura / arm64 | OK | OK | OK | ||||||||||||
| Package 197/289 | Hostname | OS / Arch | INSTALL | BUILD | BUILD BIN | ||||||||||||
| Rcpi 1.34.0 (landing page) Nan Xiao
| kjohnson | macOS 13.0 Ventura / arm64 | OK | OK | OK | ||||||||||||
| Package 198/289 | Hostname | OS / Arch | INSTALL | BUILD | BUILD BIN | ||||||||||||
| recoup 1.26.0 (landing page) Panagiotis Moulos
| kjohnson | macOS 13.0 Ventura / arm64 | OK | OK | OK | ||||||||||||
| Package 199/289 | Hostname | OS / Arch | INSTALL | BUILD | BUILD BIN | ||||||||||||
| REDseq 1.44.0 (landing page) Lihua Julie Zhu
| kjohnson | macOS 13.0 Ventura / arm64 | OK | OK | OK | ||||||||||||
| Package 200/289 | Hostname | OS / Arch | INSTALL | BUILD | BUILD BIN | ||||||||||||
| regioneR 1.30.0 (landing page) Bernat Gel
| kjohnson | macOS 13.0 Ventura / arm64 | OK | OK | OK | ||||||||||||
| Package 201/289 | Hostname | OS / Arch | INSTALL | BUILD | BUILD BIN | ||||||||||||
| regutools 1.10.0 (landing page) Joselyn Chavez
| kjohnson | macOS 13.0 Ventura / arm64 | OK | OK | OK | ||||||||||||
| Package 202/289 | Hostname | OS / Arch | INSTALL | BUILD | BUILD BIN | ||||||||||||
| REMP 1.22.0 (landing page) Yinan Zheng
| kjohnson | macOS 13.0 Ventura / arm64 | OK | OK | OK | ||||||||||||
| Package 203/289 | Hostname | OS / Arch | INSTALL | BUILD | BUILD BIN | ||||||||||||
| Repitools 1.44.0 (landing page) Mark Robinson
| kjohnson | macOS 13.0 Ventura / arm64 | OK | OK | OK | ||||||||||||
| Package 204/289 | Hostname | OS / Arch | INSTALL | BUILD | BUILD BIN | ||||||||||||
| RESOLVE 1.0.0 (landing page) Luca De Sano
| kjohnson | macOS 13.0 Ventura / arm64 | OK | OK | OK | ||||||||||||
| Package 205/289 | Hostname | OS / Arch | INSTALL | BUILD | BUILD BIN | ||||||||||||
| rfaRm 1.10.2 (landing page) Lara Selles Vidal
| kjohnson | macOS 13.0 Ventura / arm64 | OK | TIMEOUT | skipped | ||||||||||||
| Package 206/289 | Hostname | OS / Arch | INSTALL | BUILD | BUILD BIN | ||||||||||||
| rGADEM 2.46.0 (landing page) Arnaud Droit
| kjohnson | macOS 13.0 Ventura / arm64 | OK | OK | OK | ||||||||||||
| Package 207/289 | Hostname | OS / Arch | INSTALL | BUILD | BUILD BIN | ||||||||||||
| RiboCrypt 1.4.0 (landing page) Michal Swirski
| kjohnson | macOS 13.0 Ventura / arm64 | OK | OK | OK | ||||||||||||
| Package 208/289 | Hostname | OS / Arch | INSTALL | BUILD | BUILD BIN | ||||||||||||
| RiboProfiling 1.28.0 (landing page) A. Popa
| kjohnson | macOS 13.0 Ventura / arm64 | OK | OK | OK | ||||||||||||
| Package 209/289 | Hostname | OS / Arch | INSTALL | BUILD | BUILD BIN | ||||||||||||
| ribosomeProfilingQC 1.10.0 (landing page) Jianhong Ou
| kjohnson | macOS 13.0 Ventura / arm64 | OK | OK | OK | ||||||||||||
| Package 210/289 | Hostname | OS / Arch | INSTALL | BUILD | BUILD BIN | ||||||||||||
| RNAmodR 1.12.0 (landing page) Felix G.M. Ernst
| kjohnson | macOS 13.0 Ventura / arm64 | OK | OK | OK | ||||||||||||
| Package 211/289 | Hostname | OS / Arch | INSTALL | BUILD | BUILD BIN | ||||||||||||
Kuan-Hao Chao
| kjohnson | macOS 13.0 Ventura / arm64 | OK | OK | OK | ||||||||||||
| Package 212/289 | Hostname | OS / Arch | INSTALL | BUILD | BUILD BIN | ||||||||||||
| rprimer 1.2.0 (landing page) Sofia Persson
| kjohnson | macOS 13.0 Ventura / arm64 | OK | OK | OK | ||||||||||||
| Package 213/289 | Hostname | OS / Arch | INSTALL | BUILD | BUILD BIN | ||||||||||||
| Rqc 1.32.0 (landing page) Welliton Souza
| kjohnson | macOS 13.0 Ventura / arm64 | OK | OK | OK | ||||||||||||
| Package 214/289 | Hostname | OS / Arch | INSTALL | BUILD | BUILD BIN | ||||||||||||
| rRDP 1.32.0 (landing page) Michael Hahsler
| kjohnson | macOS 13.0 Ventura / arm64 | OK | OK | OK | ||||||||||||
| Package 215/289 | Hostname | OS / Arch | INSTALL | BUILD | BUILD BIN | ||||||||||||
| Rsamtools 2.14.0 (landing page) Bioconductor Package Maintainer
| kjohnson | macOS 13.0 Ventura / arm64 | OK | OK | OK | ||||||||||||
| Package 216/289 | Hostname | OS / Arch | INSTALL | BUILD | BUILD BIN | ||||||||||||
| RSVSim 1.38.0 (landing page) Christoph Bartenhagen
| kjohnson | macOS 13.0 Ventura / arm64 | OK | OK | OK | ||||||||||||
| Package 217/289 | Hostname | OS / Arch | INSTALL | BUILD | BUILD BIN | ||||||||||||
| rtracklayer 1.58.0 (landing page) Michael Lawrence
| kjohnson | macOS 13.0 Ventura / arm64 | OK | OK | OK | ||||||||||||
| Package 218/289 | Hostname | OS / Arch | INSTALL | BUILD | BUILD BIN | ||||||||||||
| sangeranalyseR 1.8.0 (landing page) Kuan-Hao Chao
| kjohnson | macOS 13.0 Ventura / arm64 | OK | OK | OK | ||||||||||||
| Package 219/289 | Hostname | OS / Arch | INSTALL | BUILD | BUILD BIN | ||||||||||||
| sangerseqR 1.34.0 (landing page) Jonathon Hill
| kjohnson | macOS 13.0 Ventura / arm64 | OK | OK | OK | ||||||||||||
| Package 220/289 | Hostname | OS / Arch | INSTALL | BUILD | BUILD BIN | ||||||||||||
| sarks 1.10.0 (landing page) Dennis Wylie
| kjohnson | macOS 13.0 Ventura / arm64 | OK | OK | OK | ||||||||||||
| Package 221/289 | Hostname | OS / Arch | INSTALL | BUILD | BUILD BIN | ||||||||||||
| SCAN.UPC 2.40.0 (landing page) Stephen R. Piccolo
| kjohnson | macOS 13.0 Ventura / arm64 | OK | OK | OK | ||||||||||||
| Package 222/289 | Hostname | OS / Arch | INSTALL | BUILD | BUILD BIN | ||||||||||||
| scanMiR 1.4.0 (landing page) Fridolin Gross
| kjohnson | macOS 13.0 Ventura / arm64 | OK | OK | OK | ||||||||||||
| Package 223/289 | Hostname | OS / Arch | INSTALL | BUILD | BUILD BIN | ||||||||||||
| scanMiRApp 1.4.0 (landing page) Pierre-Luc Germain
| kjohnson | macOS 13.0 Ventura / arm64 | OK | OK | OK | ||||||||||||
| Package 224/289 | Hostname | OS / Arch | INSTALL | BUILD | BUILD BIN | ||||||||||||
| scifer 1.0.0 (landing page) Rodrigo Arcoverde Cerveira
| kjohnson | macOS 13.0 Ventura / arm64 | OK | OK | OK | ||||||||||||
| Package 225/289 | Hostname | OS / Arch | INSTALL | BUILD | BUILD BIN | ||||||||||||
| scmeth 1.18.0 (landing page) Divy Kangeyan
| kjohnson | macOS 13.0 Ventura / arm64 | OK | OK | OK | ||||||||||||
| Package 226/289 | Hostname | OS / Arch | INSTALL | BUILD | BUILD BIN | ||||||||||||
| SCOPE 1.10.0 (landing page) Rujin Wang
| kjohnson | macOS 13.0 Ventura / arm64 | OK | OK | OK | ||||||||||||
| Package 227/289 | Hostname | OS / Arch | INSTALL | BUILD | BUILD BIN | ||||||||||||
| scoreInvHap 1.20.0 (landing page) Dolors Pelegri-Siso
| kjohnson | macOS 13.0 Ventura / arm64 | OK | OK | OK | ||||||||||||
| Package 228/289 | Hostname | OS / Arch | INSTALL | BUILD | BUILD BIN | ||||||||||||
| scPipe 1.20.6 (landing page) Shian Su
| kjohnson | macOS 13.0 Ventura / arm64 | OK | OK | OK | ||||||||||||
| Package 229/289 | Hostname | OS / Arch | INSTALL | BUILD | BUILD BIN | ||||||||||||
| scruff 1.16.0 (landing page) Zhe Wang
| kjohnson | macOS 13.0 Ventura / arm64 | OK | OK | OK | ||||||||||||
| Package 230/289 | Hostname | OS / Arch | INSTALL | BUILD | BUILD BIN | ||||||||||||
| SELEX 1.30.0 (landing page) Harmen J. Bussemaker
| kjohnson | macOS 13.0 Ventura / arm64 | OK | OK | OK | ||||||||||||
| Package 231/289 | Hostname | OS / Arch | INSTALL | BUILD | BUILD BIN | ||||||||||||
| seqArchR 1.2.0 (landing page) Sarvesh Nikumbh
| kjohnson | macOS 13.0 Ventura / arm64 | OK | OK | OK | ||||||||||||
| Package 232/289 | Hostname | OS / Arch | INSTALL | BUILD | BUILD BIN | ||||||||||||
| SeqArray 1.38.0 (landing page) Xiuwen Zheng
| kjohnson | macOS 13.0 Ventura / arm64 | OK | OK | OK | ||||||||||||
| Package 233/289 | Hostname | OS / Arch | INSTALL | BUILD | BUILD BIN | ||||||||||||
| seqbias 1.46.0 (landing page) Daniel Jones
| kjohnson | macOS 13.0 Ventura / arm64 | ERROR | ERROR | skipped | ||||||||||||
| Package 234/289 | Hostname | OS / Arch | INSTALL | BUILD | BUILD BIN | ||||||||||||
| seqPattern 1.30.0 (landing page) Vanja Haberle
| kjohnson | macOS 13.0 Ventura / arm64 | OK | OK | OK | ||||||||||||
| Package 235/289 | Hostname | OS / Arch | INSTALL | BUILD | BUILD BIN | ||||||||||||
| SGSeq 1.32.0 (landing page) Leonard Goldstein
| kjohnson | macOS 13.0 Ventura / arm64 | OK | OK | OK | ||||||||||||
| Package 236/289 | Hostname | OS / Arch | INSTALL | BUILD | BUILD BIN | ||||||||||||
| ShortRead 1.56.1 (landing page) Bioconductor Package Maintainer
| kjohnson | macOS 13.0 Ventura / arm64 | OK | OK | OK | ||||||||||||
| Package 237/289 | Hostname | OS / Arch | INSTALL | BUILD | BUILD BIN | ||||||||||||
| SICtools 1.28.0 (landing page) Xiaobin Xing
| kjohnson | macOS 13.0 Ventura / arm64 | OK | OK | OK | ||||||||||||
| Package 238/289 | Hostname | OS / Arch | INSTALL | BUILD | BUILD BIN | ||||||||||||
| signeR 2.0.2 (landing page) Renan Valieris
| kjohnson | macOS 13.0 Ventura / arm64 | OK | OK | OK | ||||||||||||
| Package 239/289 | Hostname | OS / Arch | INSTALL | BUILD | BUILD BIN | ||||||||||||
| SigsPack 1.12.0 (landing page) Franziska Schumann
| kjohnson | macOS 13.0 Ventura / arm64 | OK | OK | OK | ||||||||||||
| Package 240/289 | Hostname | OS / Arch | INSTALL | BUILD | BUILD BIN | ||||||||||||
| SimFFPE 1.10.0 (landing page) Lanying Wei
| kjohnson | macOS 13.0 Ventura / arm64 | OK | OK | OK | ||||||||||||
| Package 241/289 | Hostname | OS / Arch | INSTALL | BUILD | BUILD BIN | ||||||||||||
| single 1.2.0 (landing page) Rocio Espada
| kjohnson | macOS 13.0 Ventura / arm64 | OK | OK | OK | ||||||||||||
| Package 242/289 | Hostname | OS / Arch | INSTALL | BUILD | BUILD BIN | ||||||||||||
| SingleMoleculeFootprinting 1.6.0 (landing page) Guido Barzaghi
| kjohnson | macOS 13.0 Ventura / arm64 | OK | OK | OK | ||||||||||||
| Package 243/289 | Hostname | OS / Arch | INSTALL | BUILD | BUILD BIN | ||||||||||||
| sitadela 1.6.0 (landing page) Panagiotis Moulos
| kjohnson | macOS 13.0 Ventura / arm64 | OK | OK | OK | ||||||||||||
| Package 244/289 | Hostname | OS / Arch | INSTALL | BUILD | BUILD BIN | ||||||||||||
| SNPhood 1.28.0 (landing page) Christian Arnold
| kjohnson | macOS 13.0 Ventura / arm64 | OK | OK | OK | ||||||||||||
| Package 245/289 | Hostname | OS / Arch | INSTALL | BUILD | BUILD BIN | ||||||||||||
| soGGi 1.30.0 (landing page) Tom Carroll
| kjohnson | macOS 13.0 Ventura / arm64 | OK | OK | OK | ||||||||||||
| Package 246/289 | Hostname | OS / Arch | INSTALL | BUILD | BUILD BIN | ||||||||||||
| SomaticSignatures 2.34.0 (landing page) Julian Gehring
| kjohnson | macOS 13.0 Ventura / arm64 | OK | OK | OK | ||||||||||||
| Package 247/289 | Hostname | OS / Arch | INSTALL | BUILD | BUILD BIN | ||||||||||||
| SparseSignatures 2.8.0 (landing page) Luca De Sano
| kjohnson | macOS 13.0 Ventura / arm64 | OK | OK | OK | ||||||||||||
| Package 248/289 | Hostname | OS / Arch | INSTALL | BUILD | BUILD BIN | ||||||||||||
| spiky 1.4.0 (landing page) Tim Triche
| kjohnson | macOS 13.0 Ventura / arm64 | OK | OK | OK | ||||||||||||
| Package 249/289 | Hostname | OS / Arch | INSTALL | BUILD | BUILD BIN | ||||||||||||
| SpliceWiz 1.0.4 (landing page) Alex Chit Hei Wong
| kjohnson | macOS 13.0 Ventura / arm64 | OK | OK | OK | ||||||||||||
| Package 250/289 | Hostname | OS / Arch | INSTALL | BUILD | BUILD BIN | ||||||||||||
| SPLINTER 1.24.0 (landing page) Diana Low
| kjohnson | macOS 13.0 Ventura / arm64 | OK | OK | OK | ||||||||||||
| Package 251/289 | Hostname | OS / Arch | INSTALL | BUILD | BUILD BIN | ||||||||||||
| sscu 2.28.0 (landing page) Yu Sun
| kjohnson | macOS 13.0 Ventura / arm64 | OK | OK | OK | ||||||||||||
| Package 252/289 | Hostname | OS / Arch | INSTALL | BUILD | BUILD BIN | ||||||||||||
| ssviz 1.32.0 (landing page) Diana Low
| kjohnson | macOS 13.0 Ventura / arm64 | OK | OK | OK | ||||||||||||
| Package 253/289 | Hostname | OS / Arch | INSTALL | BUILD | BUILD BIN | ||||||||||||
| Structstrings 1.14.0 (landing page) Felix G.M. Ernst
| kjohnson | macOS 13.0 Ventura / arm64 | OK | OK | OK | ||||||||||||
| Package 254/289 | Hostname | OS / Arch | INSTALL | BUILD | BUILD BIN | ||||||||||||
| StructuralVariantAnnotation 1.14.1 (landing page) Daniel Cameron
| kjohnson | macOS 13.0 Ventura / arm64 | OK | OK | OK | ||||||||||||
| Package 255/289 | Hostname | OS / Arch | INSTALL | BUILD | BUILD BIN | ||||||||||||
| supersigs 1.6.0 (landing page) Albert Kuo
| kjohnson | macOS 13.0 Ventura / arm64 | OK | OK | OK | ||||||||||||
| Package 256/289 | Hostname | OS / Arch | INSTALL | BUILD | BUILD BIN | ||||||||||||
| surfaltr 1.4.0 (landing page) Pooja Gangras
| kjohnson | macOS 13.0 Ventura / arm64 | OK | OK | OK | ||||||||||||
| Package 257/289 | Hostname | OS / Arch | INSTALL | BUILD | BUILD BIN | ||||||||||||
| svaNUMT 1.4.0 (landing page) Ruining Dong
| kjohnson | macOS 13.0 Ventura / arm64 | OK | OK | OK | ||||||||||||
| Package 258/289 | Hostname | OS / Arch | INSTALL | BUILD | BUILD BIN | ||||||||||||
| svaRetro 1.4.0 (landing page) Ruining Dong
| kjohnson | macOS 13.0 Ventura / arm64 | OK | OK | OK | ||||||||||||
| Package 259/289 | Hostname | OS / Arch | INSTALL | BUILD | BUILD BIN | ||||||||||||
| synapter 2.22.0 (landing page) Laurent Gatto
| kjohnson | macOS 13.0 Ventura / arm64 | OK | OK | OK | ||||||||||||
| Package 260/289 | Hostname | OS / Arch | INSTALL | BUILD | BUILD BIN | ||||||||||||
| SynExtend 1.10.2 (landing page) Nicholas Cooley
| kjohnson | macOS 13.0 Ventura / arm64 | OK | OK | OK | ||||||||||||
| Package 261/289 | Hostname | OS / Arch | INSTALL | BUILD | BUILD BIN | ||||||||||||
| SynMut 1.14.0 (landing page) Haogao Gu
| kjohnson | macOS 13.0 Ventura / arm64 | OK | OK | OK | ||||||||||||
| Package 262/289 | Hostname | OS / Arch | INSTALL | BUILD | BUILD BIN | ||||||||||||
| syntenet 1.0.4 (landing page) Fabrício Almeida-Silva
| kjohnson | macOS 13.0 Ventura / arm64 | OK | OK | OK | ||||||||||||
| Package 263/289 | Hostname | OS / Arch | INSTALL | BUILD | BUILD BIN | ||||||||||||
| systemPipeR 2.4.0 (landing page) Thomas Girke
| kjohnson | macOS 13.0 Ventura / arm64 | OK | OK | OK | ||||||||||||
| Package 264/289 | Hostname | OS / Arch | INSTALL | BUILD | BUILD BIN | ||||||||||||
| TAPseq 1.10.0 (landing page) Andreas R. Gschwind
| kjohnson | macOS 13.0 Ventura / arm64 | OK | OK | OK | ||||||||||||
| Package 265/289 | Hostname | OS / Arch | INSTALL | BUILD | BUILD BIN | ||||||||||||
| TarSeqQC 1.28.0 (landing page) Gabriela Merino
| kjohnson | macOS 13.0 Ventura / arm64 | OK | OK | OK | ||||||||||||
| Package 266/289 | Hostname | OS / Arch | INSTALL | BUILD | BUILD BIN | ||||||||||||
| TFBSTools 1.36.0 (landing page) Ge Tan
| kjohnson | macOS 13.0 Ventura / arm64 | OK | OK | OK | ||||||||||||
| Package 267/289 | Hostname | OS / Arch | INSTALL | BUILD | BUILD BIN | ||||||||||||
| topdownr 1.20.0 (landing page) Sebastian Gibb
| kjohnson | macOS 13.0 Ventura / arm64 | OK | OK | OK | ||||||||||||
| Package 268/289 | Hostname | OS / Arch | INSTALL | BUILD | BUILD BIN | ||||||||||||
| transite 1.16.0 (landing page) Konstantin Krismer
| kjohnson | macOS 13.0 Ventura / arm64 | OK | OK | OK | ||||||||||||
| Package 269/289 | Hostname | OS / Arch | INSTALL | BUILD | BUILD BIN | ||||||||||||
| TreeSummarizedExperiment 2.6.0 (landing page) Ruizhu Huang
| kjohnson | macOS 13.0 Ventura / arm64 | OK | OK | OK | ||||||||||||
| Package 270/289 | Hostname | OS / Arch | INSTALL | BUILD | BUILD BIN | ||||||||||||
| trena 1.20.0 (landing page) Paul Shannon
| kjohnson | macOS 13.0 Ventura / arm64 | OK | OK | OK | ||||||||||||
| Package 271/289 | Hostname | OS / Arch | INSTALL | BUILD | BUILD BIN | ||||||||||||
| triplex 1.38.0 (landing page) Jiri Hon
| kjohnson | macOS 13.0 Ventura / arm64 | OK | OK | OK | ||||||||||||
| Package 272/289 | Hostname | OS / Arch | INSTALL | BUILD | BUILD BIN | ||||||||||||
| tRNA 1.16.1 (landing page) Felix GM Ernst
| kjohnson | macOS 13.0 Ventura / arm64 | OK | OK | OK | ||||||||||||
| Package 273/289 | Hostname | OS / Arch | INSTALL | BUILD | BUILD BIN | ||||||||||||
| tRNAdbImport 1.16.0 (landing page) Felix G.M. Ernst
| kjohnson | macOS 13.0 Ventura / arm64 | OK | OK | OK | ||||||||||||
| Package 274/289 | Hostname | OS / Arch | INSTALL | BUILD | BUILD BIN | ||||||||||||
| tRNAscanImport 1.18.0 (landing page) Felix G.M. Ernst
| kjohnson | macOS 13.0 Ventura / arm64 | OK | OK | OK | ||||||||||||
| Package 275/289 | Hostname | OS / Arch | INSTALL | BUILD | BUILD BIN | ||||||||||||
| TVTB 1.24.0 (landing page) Kevin Rue-Albrecht
| kjohnson | macOS 13.0 Ventura / arm64 | OK | OK | OK | ||||||||||||
| Package 276/289 | Hostname | OS / Arch | INSTALL | BUILD | BUILD BIN | ||||||||||||
| txcutr 1.4.0 (landing page) Mervin Fansler
| kjohnson | macOS 13.0 Ventura / arm64 | OK | OK | OK | ||||||||||||
| Package 277/289 | Hostname | OS / Arch | INSTALL | BUILD | BUILD BIN | ||||||||||||
| tximeta 1.16.1 (landing page) Michael Love
| kjohnson | macOS 13.0 Ventura / arm64 | OK | OK | OK | ||||||||||||
| Package 278/289 | Hostname | OS / Arch | INSTALL | BUILD | BUILD BIN | ||||||||||||
| Ularcirc 1.16.0 (landing page) David Humphreys
| kjohnson | macOS 13.0 Ventura / arm64 | OK | OK | OK | ||||||||||||
| Package 279/289 | Hostname | OS / Arch | INSTALL | BUILD | BUILD BIN | ||||||||||||
| UMI4Cats 1.8.1 (landing page) Mireia Ramos-Rodriguez
| kjohnson | macOS 13.0 Ventura / arm64 | OK | OK | OK | ||||||||||||
| Package 280/289 | Hostname | OS / Arch | INSTALL | BUILD | BUILD BIN | ||||||||||||
| universalmotif 1.16.0 (landing page) Benjamin Jean-Marie Tremblay
| kjohnson | macOS 13.0 Ventura / arm64 | OK | OK | OK | ||||||||||||
| Package 281/289 | Hostname | OS / Arch | INSTALL | BUILD | BUILD BIN | ||||||||||||
| VarCon 1.6.0 (landing page) Johannes Ptok
| kjohnson | macOS 13.0 Ventura / arm64 | OK | OK | OK | ||||||||||||
| Package 282/289 | Hostname | OS / Arch | INSTALL | BUILD | BUILD BIN | ||||||||||||
| VariantAnnotation 1.44.1 (landing page) Bioconductor Package Maintainer
| kjohnson | macOS 13.0 Ventura / arm64 | OK | OK | OK | ||||||||||||
| Package 283/289 | Hostname | OS / Arch | INSTALL | BUILD | BUILD BIN | ||||||||||||
| VariantExperiment 1.12.0 (landing page) Qian Liu
| kjohnson | macOS 13.0 Ventura / arm64 | OK | OK | OK | ||||||||||||
| Package 284/289 | Hostname | OS / Arch | INSTALL | BUILD | BUILD BIN | ||||||||||||
| VariantFiltering 1.34.0 (landing page) Robert Castelo
| kjohnson | macOS 13.0 Ventura / arm64 | OK | ERROR | skipped | ||||||||||||
| Package 285/289 | Hostname | OS / Arch | INSTALL | BUILD | BUILD BIN | ||||||||||||
| VariantTools 1.40.0 (landing page) Michael Lawrence
| kjohnson | macOS 13.0 Ventura / arm64 | OK | OK | OK | ||||||||||||
| Package 286/289 | Hostname | OS / Arch | INSTALL | BUILD | BUILD BIN | ||||||||||||
| wavClusteR 2.32.0 (landing page) Federico Comoglio
| kjohnson | macOS 13.0 Ventura / arm64 | OK | OK | OK | ||||||||||||
| Package 287/289 | Hostname | OS / Arch | INSTALL | BUILD | BUILD BIN | ||||||||||||
Renan Sauteraud
| kjohnson | macOS 13.0 Ventura / arm64 | OK | ERROR | skipped | ||||||||||||
| Package 288/289 | Hostname | OS / Arch | INSTALL | BUILD | BUILD BIN | ||||||||||||
| XNAString 1.6.0 (landing page) Marianna Plucinska
| kjohnson | macOS 13.0 Ventura / arm64 | OK | OK | OK | ||||||||||||
| Package 289/289 | Hostname | OS / Arch | INSTALL | BUILD | BUILD BIN | ||||||||||||
| YAPSA 1.24.0 (landing page) Daniel Huebschmann
| kjohnson | macOS 13.0 Ventura / arm64 | OK | OK | OK | ||||||||||||