| Back to Mac ARM64 build report for BioC 3.16 |
|
This page was generated on 2023-04-19 11:01:53 -0400 (Wed, 19 Apr 2023).
| Hostname | OS | Arch (*) | R version | Installed pkgs |
|---|---|---|---|---|
| kjohnson | macOS 13.0 Ventura | arm64 | 4.2.2 (2022-10-31) -- "Innocent and Trusting" | 4256 |
| Click on any hostname to see more info about the system (e.g. compilers) (*) as reported by 'uname -p', except on Windows and Mac OS X | ||||
|
To the developers/maintainers of the CellBarcode package: Make sure to use the following settings in order to reproduce any error or warning you see on this page. |
| Package 273/2183 | Hostname | OS / Arch | INSTALL | BUILD | BUILD BIN | ||||||||
| CellBarcode 1.4.0 (landing page) Wenjie Sun
| kjohnson | macOS 13.0 Ventura / arm64 | OK | OK | OK | ||||||||
| Package: CellBarcode |
| Version: 1.4.0 |
| Command: /Library/Frameworks/R.framework/Resources/bin/R CMD INSTALL CellBarcode |
| StartedAt: 2023-04-16 16:14:12 -0400 (Sun, 16 Apr 2023) |
| EndedAt: 2023-04-16 16:15:23 -0400 (Sun, 16 Apr 2023) |
| EllapsedTime: 71.1 seconds |
| RetCode: 0 |
| Status: OK |
##############################################################################
##############################################################################
###
### Running command:
###
### /Library/Frameworks/R.framework/Resources/bin/R CMD INSTALL CellBarcode
###
##############################################################################
##############################################################################
* installing to library ‘/Library/Frameworks/R.framework/Versions/4.2-arm64/Resources/library’
* installing *source* package ‘CellBarcode’ ...
** using staged installation
** libs
clang++ -arch arm64 -std=gnu++14 -I"/Library/Frameworks/R.framework/Resources/include" -DNDEBUG -I'/Library/Frameworks/R.framework/Versions/4.2-arm64/Resources/library/Rcpp/include' -I'/Library/Frameworks/R.framework/Versions/4.2-arm64/Resources/library/BH/include' -I/opt/R/arm64/include -fPIC -falign-functions=64 -Wall -g -O2 -c RcppExports.cpp -o RcppExports.o
In file included from RcppExports.cpp:4:
In file included from /Library/Frameworks/R.framework/Versions/4.2-arm64/Resources/library/Rcpp/include/Rcpp.h:27:
In file included from /Library/Frameworks/R.framework/Versions/4.2-arm64/Resources/library/Rcpp/include/RcppCommon.h:168:
/Library/Frameworks/R.framework/Versions/4.2-arm64/Resources/library/Rcpp/include/Rcpp/internal/r_coerce.h:255:7: warning: 'sprintf' is deprecated: This function is provided for compatibility reasons only. Due to security concerns inherent in the design of sprintf(3), it is highly recommended that you use snprintf(3) instead. [-Wdeprecated-declarations]
::sprintf(buff, "%02x", from);
^
/Library/Developer/CommandLineTools/SDKs/MacOSX.sdk/usr/include/stdio.h:188:1: note: 'sprintf' has been explicitly marked deprecated here
__deprecated_msg("This function is provided for compatibility reasons only. Due to security concerns inherent in the design of sprintf(3), it is highly recommended that you use snprintf(3) instead.")
^
/Library/Developer/CommandLineTools/SDKs/MacOSX.sdk/usr/include/sys/cdefs.h:215:48: note: expanded from macro '__deprecated_msg'
#define __deprecated_msg(_msg) __attribute__((__deprecated__(_msg)))
^
1 warning generated.
clang++ -arch arm64 -std=gnu++14 -I"/Library/Frameworks/R.framework/Resources/include" -DNDEBUG -I'/Library/Frameworks/R.framework/Versions/4.2-arm64/Resources/library/Rcpp/include' -I'/Library/Frameworks/R.framework/Versions/4.2-arm64/Resources/library/BH/include' -I/opt/R/arm64/include -fPIC -falign-functions=64 -Wall -g -O2 -c lib_10X_barcode.cpp -o lib_10X_barcode.o
In file included from lib_10X_barcode.cpp:8:
In file included from /Library/Frameworks/R.framework/Versions/4.2-arm64/Resources/library/BH/include/boost/algorithm/string.hpp:23:
In file included from /Library/Frameworks/R.framework/Versions/4.2-arm64/Resources/library/BH/include/boost/algorithm/string/split.hpp:16:
In file included from /Library/Frameworks/R.framework/Versions/4.2-arm64/Resources/library/BH/include/boost/algorithm/string/iter_find.hpp:27:
In file included from /Library/Frameworks/R.framework/Versions/4.2-arm64/Resources/library/BH/include/boost/algorithm/string/find_iterator.hpp:24:
In file included from /Library/Frameworks/R.framework/Versions/4.2-arm64/Resources/library/BH/include/boost/algorithm/string/detail/find_iterator.hpp:18:
In file included from /Library/Frameworks/R.framework/Versions/4.2-arm64/Resources/library/BH/include/boost/function.hpp:30:
In file included from /Library/Frameworks/R.framework/Versions/4.2-arm64/Resources/library/BH/include/boost/function/detail/prologue.hpp:15:
In file included from /Library/Frameworks/R.framework/Versions/4.2-arm64/Resources/library/BH/include/boost/throw_exception.hpp:24:
/Library/Frameworks/R.framework/Versions/4.2-arm64/Resources/library/BH/include/boost/assert/source_location.hpp:75:14: warning: 'sprintf' is deprecated: This function is provided for compatibility reasons only. Due to security concerns inherent in the design of sprintf(3), it is highly recommended that you use snprintf(3) instead. [-Wdeprecated-declarations]
std::sprintf( buffer, ":%ld", static_cast<long>( line() ) );
^
/Library/Developer/CommandLineTools/SDKs/MacOSX.sdk/usr/include/stdio.h:188:1: note: 'sprintf' has been explicitly marked deprecated here
__deprecated_msg("This function is provided for compatibility reasons only. Due to security concerns inherent in the design of sprintf(3), it is highly recommended that you use snprintf(3) instead.")
^
/Library/Developer/CommandLineTools/SDKs/MacOSX.sdk/usr/include/sys/cdefs.h:215:48: note: expanded from macro '__deprecated_msg'
#define __deprecated_msg(_msg) __attribute__((__deprecated__(_msg)))
^
In file included from lib_10X_barcode.cpp:8:
In file included from /Library/Frameworks/R.framework/Versions/4.2-arm64/Resources/library/BH/include/boost/algorithm/string.hpp:23:
In file included from /Library/Frameworks/R.framework/Versions/4.2-arm64/Resources/library/BH/include/boost/algorithm/string/split.hpp:16:
In file included from /Library/Frameworks/R.framework/Versions/4.2-arm64/Resources/library/BH/include/boost/algorithm/string/iter_find.hpp:27:
In file included from /Library/Frameworks/R.framework/Versions/4.2-arm64/Resources/library/BH/include/boost/algorithm/string/find_iterator.hpp:24:
In file included from /Library/Frameworks/R.framework/Versions/4.2-arm64/Resources/library/BH/include/boost/algorithm/string/detail/find_iterator.hpp:18:
In file included from /Library/Frameworks/R.framework/Versions/4.2-arm64/Resources/library/BH/include/boost/function.hpp:30:
In file included from /Library/Frameworks/R.framework/Versions/4.2-arm64/Resources/library/BH/include/boost/function/detail/prologue.hpp:15:
In file included from /Library/Frameworks/R.framework/Versions/4.2-arm64/Resources/library/BH/include/boost/throw_exception.hpp:24:
/Library/Frameworks/R.framework/Versions/4.2-arm64/Resources/library/BH/include/boost/assert/source_location.hpp:80:18: warning: 'sprintf' is deprecated: This function is provided for compatibility reasons only. Due to security concerns inherent in the design of sprintf(3), it is highly recommended that you use snprintf(3) instead. [-Wdeprecated-declarations]
std::sprintf( buffer, ":%ld", static_cast<long>( column() ) );
^
/Library/Developer/CommandLineTools/SDKs/MacOSX.sdk/usr/include/stdio.h:188:1: note: 'sprintf' has been explicitly marked deprecated here
__deprecated_msg("This function is provided for compatibility reasons only. Due to security concerns inherent in the design of sprintf(3), it is highly recommended that you use snprintf(3) instead.")
^
/Library/Developer/CommandLineTools/SDKs/MacOSX.sdk/usr/include/sys/cdefs.h:215:48: note: expanded from macro '__deprecated_msg'
#define __deprecated_msg(_msg) __attribute__((__deprecated__(_msg)))
^
In file included from lib_10X_barcode.cpp:10:
In file included from /Library/Frameworks/R.framework/Versions/4.2-arm64/Resources/library/Rcpp/include/Rcpp.h:27:
In file included from /Library/Frameworks/R.framework/Versions/4.2-arm64/Resources/library/Rcpp/include/RcppCommon.h:168:
/Library/Frameworks/R.framework/Versions/4.2-arm64/Resources/library/Rcpp/include/Rcpp/internal/r_coerce.h:255:7: warning: 'sprintf' is deprecated: This function is provided for compatibility reasons only. Due to security concerns inherent in the design of sprintf(3), it is highly recommended that you use snprintf(3) instead. [-Wdeprecated-declarations]
::sprintf(buff, "%02x", from);
^
/Library/Developer/CommandLineTools/SDKs/MacOSX.sdk/usr/include/stdio.h:188:1: note: 'sprintf' has been explicitly marked deprecated here
__deprecated_msg("This function is provided for compatibility reasons only. Due to security concerns inherent in the design of sprintf(3), it is highly recommended that you use snprintf(3) instead.")
^
/Library/Developer/CommandLineTools/SDKs/MacOSX.sdk/usr/include/sys/cdefs.h:215:48: note: expanded from macro '__deprecated_msg'
#define __deprecated_msg(_msg) __attribute__((__deprecated__(_msg)))
^
3 warnings generated.
clang++ -arch arm64 -std=gnu++14 -I"/Library/Frameworks/R.framework/Resources/include" -DNDEBUG -I'/Library/Frameworks/R.framework/Versions/4.2-arm64/Resources/library/Rcpp/include' -I'/Library/Frameworks/R.framework/Versions/4.2-arm64/Resources/library/BH/include' -I/opt/R/arm64/include -fPIC -falign-functions=64 -Wall -g -O2 -c lib_clustering.cpp -o lib_clustering.o
In file included from lib_clustering.cpp:1:
In file included from /Library/Frameworks/R.framework/Versions/4.2-arm64/Resources/library/Rcpp/include/Rcpp.h:27:
In file included from /Library/Frameworks/R.framework/Versions/4.2-arm64/Resources/library/Rcpp/include/RcppCommon.h:168:
/Library/Frameworks/R.framework/Versions/4.2-arm64/Resources/library/Rcpp/include/Rcpp/internal/r_coerce.h:255:7: warning: 'sprintf' is deprecated: This function is provided for compatibility reasons only. Due to security concerns inherent in the design of sprintf(3), it is highly recommended that you use snprintf(3) instead. [-Wdeprecated-declarations]
::sprintf(buff, "%02x", from);
^
/Library/Developer/CommandLineTools/SDKs/MacOSX.sdk/usr/include/stdio.h:188:1: note: 'sprintf' has been explicitly marked deprecated here
__deprecated_msg("This function is provided for compatibility reasons only. Due to security concerns inherent in the design of sprintf(3), it is highly recommended that you use snprintf(3) instead.")
^
/Library/Developer/CommandLineTools/SDKs/MacOSX.sdk/usr/include/sys/cdefs.h:215:48: note: expanded from macro '__deprecated_msg'
#define __deprecated_msg(_msg) __attribute__((__deprecated__(_msg)))
^
1 warning generated.
clang++ -arch arm64 -std=gnu++14 -I"/Library/Frameworks/R.framework/Resources/include" -DNDEBUG -I'/Library/Frameworks/R.framework/Versions/4.2-arm64/Resources/library/Rcpp/include' -I'/Library/Frameworks/R.framework/Versions/4.2-arm64/Resources/library/BH/include' -I/opt/R/arm64/include -fPIC -falign-functions=64 -Wall -g -O2 -c lib_read_seq.cpp -o lib_read_seq.o
In file included from lib_read_seq.cpp:1:
In file included from /Library/Frameworks/R.framework/Versions/4.2-arm64/Resources/library/Rcpp/include/Rcpp.h:27:
In file included from /Library/Frameworks/R.framework/Versions/4.2-arm64/Resources/library/Rcpp/include/RcppCommon.h:168:
/Library/Frameworks/R.framework/Versions/4.2-arm64/Resources/library/Rcpp/include/Rcpp/internal/r_coerce.h:255:7: warning: 'sprintf' is deprecated: This function is provided for compatibility reasons only. Due to security concerns inherent in the design of sprintf(3), it is highly recommended that you use snprintf(3) instead. [-Wdeprecated-declarations]
::sprintf(buff, "%02x", from);
^
/Library/Developer/CommandLineTools/SDKs/MacOSX.sdk/usr/include/stdio.h:188:1: note: 'sprintf' has been explicitly marked deprecated here
__deprecated_msg("This function is provided for compatibility reasons only. Due to security concerns inherent in the design of sprintf(3), it is highly recommended that you use snprintf(3) instead.")
^
/Library/Developer/CommandLineTools/SDKs/MacOSX.sdk/usr/include/sys/cdefs.h:215:48: note: expanded from macro '__deprecated_msg'
#define __deprecated_msg(_msg) __attribute__((__deprecated__(_msg)))
^
1 warning generated.
clang++ -arch arm64 -std=gnu++14 -dynamiclib -Wl,-headerpad_max_install_names -undefined dynamic_lookup -single_module -multiply_defined suppress -L/Library/Frameworks/R.framework/Resources/lib -L/opt/R/arm64/lib -o CellBarcode.so RcppExports.o lib_10X_barcode.o lib_clustering.o lib_read_seq.o -F/Library/Frameworks/R.framework/.. -framework R -Wl,-framework -Wl,CoreFoundation
ld: warning: -undefined dynamic_lookup may not work with chained fixups
installing to /Library/Frameworks/R.framework/Versions/4.2-arm64/Resources/library/00LOCK-CellBarcode/00new/CellBarcode/libs
** R
** data
** inst
** byte-compile and prepare package for lazy loading
** help
*** installing help indices
** building package indices
** installing vignettes
** testing if installed package can be loaded from temporary location
** checking absolute paths in shared objects and dynamic libraries
** testing if installed package can be loaded from final location
** testing if installed package keeps a record of temporary installation path
* DONE (CellBarcode)