Back to Build/check report for BioC 3.23:   simplified   long
ABCDEFGHIJKLMNOPQR[S]TUVWXYZ

This page was generated on 2025-11-06 11:32 -0500 (Thu, 06 Nov 2025).

HostnameOSArch (*)R versionInstalled pkgs
nebbiolo1Linux (Ubuntu 24.04.3 LTS)x86_64R Under development (unstable) (2025-10-20 r88955) -- "Unsuffered Consequences" 4818
Click on any hostname to see more info about the system (e.g. compilers)      (*) as reported by 'uname -p', except on Windows and Mac OS X

All results for package scater


To the developers/maintainers of the scater package:
- Allow up to 24 hours (and sometimes 48 hours) for your latest push to git@git.bioconductor.org:packages/scater.git to reflect on this report. See Troubleshooting Build Report for more information.
- Use the following Renviron settings to reproduce errors and warnings.
- If 'R CMD check' started to fail recently on the Linux builder(s) over a missing dependency, add the missing dependency to 'Suggests:' in your DESCRIPTION file. See Renviron.bioc for more information.

raw results

Package 1874/2323HostnameOS / ArchINSTALLBUILDCHECKBUILD BIN
scater 1.39.0  (landing page)
Alan O'Callaghan
Snapshot Date: 2025-11-05 13:40 -0500 (Wed, 05 Nov 2025)
git_url: https://git.bioconductor.org/packages/scater
git_branch: devel
git_last_commit: 4ba4420
git_last_commit_date: 2025-10-29 10:30:01 -0500 (Wed, 29 Oct 2025)
nebbiolo1Linux (Ubuntu 24.04.3 LTS) / x86_64  OK    OK    OK  UNNEEDED, same version is already published



Results for Bioconductor software packages that depend directly on package scater

QUICK STATSOS / ArchINSTALLBUILDCHECKBUILD BIN
nebbiolo1Linux (Ubuntu 24.04.3 LTS) / x86_64
0037
0037
00334
Package 1/37HostnameOS / ArchINSTALLBUILDCHECKBUILD BIN
airpart 1.19.0  (landing page)
Wancen Mu
git_last_commit: b69681a
git_last_commit_date: 2025-10-29 11:07:36 -0500
nebbiolo1Linux (Ubuntu 24.04.3 LTS) / x86_64  OK    OK    OK  UNNEEDED, same version is already published
Package 2/37HostnameOS / ArchINSTALLBUILDCHECKBUILD BIN
BayesSpace 1.21.0  (landing page)
Senbai Kang
git_last_commit: 47c1795
git_last_commit_date: 2025-10-29 11:03:05 -0500
nebbiolo1Linux (Ubuntu 24.04.3 LTS) / x86_64  OK    OK    OK  UNNEEDED, same version is already published
Package 3/37HostnameOS / ArchINSTALLBUILDCHECKBUILD BIN
blase 1.1.0  (landing page)
Andrew McCluskey
git_last_commit: 7118ee1
git_last_commit_date: 2025-10-29 11:38:12 -0500
nebbiolo1Linux (Ubuntu 24.04.3 LTS) / x86_64  OK    OK    OK  UNNEEDED, same version is already published
Package 4/37HostnameOS / ArchINSTALLBUILDCHECKBUILD BIN
CATALYST 1.35.0  (landing page)
Helena L. Crowell
git_last_commit: 2e03f66
git_last_commit_date: 2025-10-29 10:38:04 -0500
nebbiolo1Linux (Ubuntu 24.04.3 LTS) / x86_64  OK    OK    OK  UNNEEDED, same version is already published
Package 5/37HostnameOS / ArchINSTALLBUILDCHECKBUILD BIN
celda 1.27.0  (landing page)
Joshua Campbell
git_last_commit: 9bcee6f
git_last_commit_date: 2025-10-29 10:52:12 -0500
nebbiolo1Linux (Ubuntu 24.04.3 LTS) / x86_64  OK    OK    OK  UNNEEDED, same version is already published
Package 6/37HostnameOS / ArchINSTALLBUILDCHECKBUILD BIN
CelliD 1.19.0  (landing page)
Akira Cortal
git_last_commit: bfb224e
git_last_commit_date: 2025-10-29 11:07:10 -0500
nebbiolo1Linux (Ubuntu 24.04.3 LTS) / x86_64  OK    OK    WARNINGS  UNNEEDED, same version is already published
Package 7/37HostnameOS / ArchINSTALLBUILDCHECKBUILD BIN
CellMixS 1.27.0  (landing page)
Almut Lütge
git_last_commit: 4692bc3
git_last_commit_date: 2025-10-29 10:51:12 -0500
nebbiolo1Linux (Ubuntu 24.04.3 LTS) / x86_64  OK    OK    OK  UNNEEDED, same version is already published
Package 8/37HostnameOS / ArchINSTALLBUILDCHECKBUILD BIN
chevreulPlot 1.3.0  (landing page)
Kevin Stachelek
git_last_commit: a18fe12
git_last_commit_date: 2025-10-29 11:34:14 -0500
nebbiolo1Linux (Ubuntu 24.04.3 LTS) / x86_64  OK    OK    OK  UNNEEDED, same version is already published
Package 9/37HostnameOS / ArchINSTALLBUILDCHECKBUILD BIN
chevreulProcess 1.3.0  (landing page)
Kevin Stachelek
git_last_commit: c6b3ecf
git_last_commit_date: 2025-10-29 11:34:17 -0500
nebbiolo1Linux (Ubuntu 24.04.3 LTS) / x86_64  OK    OK    OK  UNNEEDED, same version is already published
Package 10/37HostnameOS / ArchINSTALLBUILDCHECKBUILD BIN
ChromSCape 1.21.0  (landing page)
Pacome Prompsy
git_last_commit: 47d0ff7
git_last_commit_date: 2025-10-29 11:02:56 -0500
nebbiolo1Linux (Ubuntu 24.04.3 LTS) / x86_64  OK    OK    WARNINGS  UNNEEDED, same version is already published
Package 11/37HostnameOS / ArchINSTALLBUILDCHECKBUILD BIN
clustSIGNAL 1.3.0  (landing page)
Pratibha Panwar
git_last_commit: 2c2540c
git_last_commit_date: 2025-10-29 11:35:51 -0500
nebbiolo1Linux (Ubuntu 24.04.3 LTS) / x86_64  OK    OK    OK  UNNEEDED, same version is already published
Package 12/37HostnameOS / ArchINSTALLBUILDCHECKBUILD BIN
decontX 1.9.0  (landing page)
Joshua Campbell
git_last_commit: 0f7be1c
git_last_commit_date: 2025-10-29 11:26:26 -0500
nebbiolo1Linux (Ubuntu 24.04.3 LTS) / x86_64  OK    OK    OK  UNNEEDED, same version is already published
Package 13/37HostnameOS / ArchINSTALLBUILDCHECKBUILD BIN
distinct 1.23.0  (landing page)
Simone Tiberi
git_last_commit: fecbaac
git_last_commit_date: 2025-10-29 10:58:17 -0500
nebbiolo1Linux (Ubuntu 24.04.3 LTS) / x86_64  OK    OK    OK  UNNEEDED, same version is already published
Package 14/37HostnameOS / ArchINSTALLBUILDCHECKBUILD BIN
epiregulon.extra 1.7.0  (landing page)
Xiaosai Yao
git_last_commit: a48846b
git_last_commit_date: 2025-10-29 11:30:15 -0500
nebbiolo1Linux (Ubuntu 24.04.3 LTS) / x86_64  OK    OK    OK  UNNEEDED, same version is already published
Package 15/37HostnameOS / ArchINSTALLBUILDCHECKBUILD BIN
FLAMES 2.5.1  (landing page)
Changqing Wang
git_last_commit: 7887658
git_last_commit_date: 2025-10-31 02:11:54 -0500
nebbiolo1Linux (Ubuntu 24.04.3 LTS) / x86_64  OK    OK    OK  UNNEEDED, same version is already published
Package 16/37HostnameOS / ArchINSTALLBUILDCHECKBUILD BIN
M3Drop 1.37.0  (landing page)
Tallulah Andrews
git_last_commit: 85bdb7c
git_last_commit_date: 2025-10-29 10:35:19 -0500
nebbiolo1Linux (Ubuntu 24.04.3 LTS) / x86_64  OK    OK    OK  UNNEEDED, same version is already published
Package 17/37HostnameOS / ArchINSTALLBUILDCHECKBUILD BIN
MEB 1.25.0  (landing page)
Jiadi Zhu
git_last_commit: b767e6c
git_last_commit_date: 2025-10-29 10:54:34 -0500
nebbiolo1Linux (Ubuntu 24.04.3 LTS) / x86_64  OK    OK    OK  UNNEEDED, same version is already published
Package 18/37HostnameOS / ArchINSTALLBUILDCHECKBUILD BIN
mia 1.19.0  (landing page)
Tuomas Borman
git_last_commit: ba530f5
git_last_commit_date: 2025-10-29 11:07:20 -0500
nebbiolo1Linux (Ubuntu 24.04.3 LTS) / x86_64  OK    OK    OK  UNNEEDED, same version is already published
Package 19/37HostnameOS / ArchINSTALLBUILDCHECKBUILD BIN
miaDash 1.3.0  (landing page)
Giulio Benedetti
git_last_commit: 320315c
git_last_commit_date: 2025-10-29 11:35:29 -0500
nebbiolo1Linux (Ubuntu 24.04.3 LTS) / x86_64  OK    OK    OK  UNNEEDED, same version is already published
Package 20/37HostnameOS / ArchINSTALLBUILDCHECKBUILD BIN
miaViz 1.19.0  (landing page)
Tuomas Borman
git_last_commit: 5a360e5
git_last_commit_date: 2025-10-29 11:07:33 -0500
nebbiolo1Linux (Ubuntu 24.04.3 LTS) / x86_64  OK    OK    OK  UNNEEDED, same version is already published
Package 21/37HostnameOS / ArchINSTALLBUILDCHECKBUILD BIN
muscat 1.25.0  (landing page)
Helena L. Crowell
git_last_commit: 7a0ebff
git_last_commit_date: 2025-10-29 10:53:55 -0500
nebbiolo1Linux (Ubuntu 24.04.3 LTS) / x86_64  OK    OK    OK  UNNEEDED, same version is already published
Package 22/37HostnameOS / ArchINSTALLBUILDCHECKBUILD BIN
netSmooth 1.31.0  (landing page)
Jonathan Ronen
git_last_commit: 33fddd7
git_last_commit_date: 2025-10-29 10:45:19 -0500
nebbiolo1Linux (Ubuntu 24.04.3 LTS) / x86_64  OK    OK    OK  UNNEEDED, same version is already published
Package 23/37HostnameOS / ArchINSTALLBUILDCHECKBUILD BIN
omicsGMF 1.1.0  (landing page)
Alexandre Segers
git_last_commit: 66f9d2d
git_last_commit_date: 2025-10-29 11:39:15 -0500
nebbiolo1Linux (Ubuntu 24.04.3 LTS) / x86_64  OK    OK    OK  UNNEEDED, same version is already published
Package 24/37HostnameOS / ArchINSTALLBUILDCHECKBUILD BIN
peco 1.23.0  (landing page)
Chiaowen Joyce Hsiao
git_last_commit: 92a92cd
git_last_commit_date: 2025-10-29 10:58:02 -0500
nebbiolo1Linux (Ubuntu 24.04.3 LTS) / x86_64  OK    OK    OK  UNNEEDED, same version is already published
Package 25/37HostnameOS / ArchINSTALLBUILDCHECKBUILD BIN
pipeComp 1.21.0  (landing page)
Pierre-Luc Germain
git_last_commit: 826f159
git_last_commit_date: 2025-10-29 11:00:20 -0500
nebbiolo1Linux (Ubuntu 24.04.3 LTS) / x86_64  OK    OK    OK  UNNEEDED, same version is already published
Package 26/37HostnameOS / ArchINSTALLBUILDCHECKBUILD BIN
RegionalST 1.9.0  (landing page)
Ziyi Li
git_last_commit: e3a23f6
git_last_commit_date: 2025-10-29 11:24:31 -0500
nebbiolo1Linux (Ubuntu 24.04.3 LTS) / x86_64  OK    OK    OK  UNNEEDED, same version is already published
Package 27/37HostnameOS / ArchINSTALLBUILDCHECKBUILD BIN
scDblFinder 1.25.0  (landing page)
Pierre-Luc Germain
git_last_commit: dffe1fe
git_last_commit_date: 2025-10-29 10:55:23 -0500
nebbiolo1Linux (Ubuntu 24.04.3 LTS) / x86_64  OK    OK    OK  UNNEEDED, same version is already published
Package 28/37HostnameOS / ArchINSTALLBUILDCHECKBUILD BIN
scDotPlot 1.5.0  (landing page)
Benjamin I Laufer
git_last_commit: 060123e
git_last_commit_date: 2025-10-29 11:30:47 -0500
nebbiolo1Linux (Ubuntu 24.04.3 LTS) / x86_64  OK    OK    OK  UNNEEDED, same version is already published
Package 29/37HostnameOS / ArchINSTALLBUILDCHECKBUILD BIN
scMerge 1.27.0  (landing page)
Yingxin Lin
git_last_commit: 1741f7e
git_last_commit_date: 2025-10-29 10:51:54 -0500
nebbiolo1Linux (Ubuntu 24.04.3 LTS) / x86_64  OK    OK    OK  UNNEEDED, same version is already published
Package 30/37HostnameOS / ArchINSTALLBUILDCHECKBUILD BIN
scTreeViz 1.17.0  (landing page)
Jayaram Kancherla
git_last_commit: 8bb53d8
git_last_commit_date: 2025-10-29 11:12:36 -0500
nebbiolo1Linux (Ubuntu 24.04.3 LTS) / x86_64  OK    OK    OK  UNNEEDED, same version is already published
Package 31/37HostnameOS / ArchINSTALLBUILDCHECKBUILD BIN
scviR 1.11.0  (landing page)
Vincent Carey
git_last_commit: 4329942
git_last_commit_date: 2025-10-29 11:21:42 -0500
nebbiolo1Linux (Ubuntu 24.04.3 LTS) / x86_64  OK    OK    OK  UNNEEDED, same version is already published
Package 32/37HostnameOS / ArchINSTALLBUILDCHECKBUILD BIN
shinyDSP 1.3.0  (landing page)
Seung J. Kim
git_last_commit: cdbba28
git_last_commit_date: 2025-10-29 11:35:46 -0500
nebbiolo1Linux (Ubuntu 24.04.3 LTS) / x86_64  OK    OK    OK  UNNEEDED, same version is already published
Package 33/37HostnameOS / ArchINSTALLBUILDCHECKBUILD BIN
singleCellTK 2.21.0  (landing page)
Joshua David Campbell
git_last_commit: 4895b66
git_last_commit_date: 2025-10-29 11:29:49 -0500
nebbiolo1Linux (Ubuntu 24.04.3 LTS) / x86_64  OK    OK    OK  UNNEEDED, same version is already published
Package 34/37HostnameOS / ArchINSTALLBUILDCHECKBUILD BIN
SpaceTrooper 1.1.0  (landing page)
Dario Righelli
git_last_commit: 99c120b
git_last_commit_date: 2025-10-29 11:37:03 -0500
nebbiolo1Linux (Ubuntu 24.04.3 LTS) / x86_64  OK    OK    OK  UNNEEDED, same version is already published
Package 35/37HostnameOS / ArchINSTALLBUILDCHECKBUILD BIN
Spaniel 1.25.0  (landing page)
Rachel Queen
git_last_commit: b3f45b0
git_last_commit_date: 2025-10-29 10:54:28 -0500
nebbiolo1Linux (Ubuntu 24.04.3 LTS) / x86_64  OK    OK    OK  UNNEEDED, same version is already published
Package 36/37HostnameOS / ArchINSTALLBUILDCHECKBUILD BIN
tricycle 1.19.0  (landing page)
Shijie Zheng
git_last_commit: 54701be
git_last_commit_date: 2025-10-29 11:08:17 -0500
nebbiolo1Linux (Ubuntu 24.04.3 LTS) / x86_64  OK    OK    WARNINGS  UNNEEDED, same version is already published
Package 37/37HostnameOS / ArchINSTALLBUILDCHECKBUILD BIN
VAExprs 1.17.0  (landing page)
Dongmin Jung
git_last_commit: 360e803
git_last_commit_date: 2025-10-29 11:11:03 -0500
nebbiolo1Linux (Ubuntu 24.04.3 LTS) / x86_64  OK    OK    OK  UNNEEDED, same version is already published