| Back to Build/check report for BioC 3.23: simplified long | 
  | 
This page was generated on 2025-11-03 11:33 -0500 (Mon, 03 Nov 2025).
| Hostname | OS | Arch (*) | R version | Installed pkgs | 
|---|---|---|---|---|
| nebbiolo1 | Linux (Ubuntu 24.04.3 LTS) | x86_64 | R Under development (unstable) (2025-10-20 r88955) -- "Unsuffered Consequences" | 4775 | 
| Click on any hostname to see more info about the system (e.g. compilers) (*) as reported by 'uname -p', except on Windows and Mac OS X | ||||
| Package 228/2321 | Hostname | OS / Arch | INSTALL | BUILD | CHECK | BUILD BIN | ||||||||
| blase 1.1.0  (landing page) Andrew McCluskey 
  | nebbiolo1 | Linux (Ubuntu 24.04.3 LTS) / x86_64 | OK | OK | OK | |||||||||
| 
To the developers/maintainers of the blase package: - Allow up to 24 hours (and sometimes 48 hours) for your latest push to git@git.bioconductor.org:packages/blase.git to reflect on this report. See Troubleshooting Build Report for more information. - Use the following Renviron settings to reproduce errors and warnings. - If 'R CMD check' started to fail recently on the Linux builder(s) over a missing dependency, add the missing dependency to 'Suggests:' in your DESCRIPTION file. See Renviron.bioc for more information.  | 
| Package: blase | 
| Version: 1.1.0 | 
| Command: /home/biocbuild/bbs-3.23-bioc/R/bin/R CMD check --install=check:blase.install-out.txt --library=/home/biocbuild/bbs-3.23-bioc/R/site-library --timings blase_1.1.0.tar.gz | 
| StartedAt: 2025-11-02 21:24:14 -0500 (Sun, 02 Nov 2025) | 
| EndedAt: 2025-11-02 21:47:20 -0500 (Sun, 02 Nov 2025) | 
| EllapsedTime: 1385.8 seconds | 
| RetCode: 0 | 
| Status: OK | 
| CheckDir: blase.Rcheck | 
| Warnings: 0 | 
##############################################################################
##############################################################################
###
### Running command:
###
###   /home/biocbuild/bbs-3.23-bioc/R/bin/R CMD check --install=check:blase.install-out.txt --library=/home/biocbuild/bbs-3.23-bioc/R/site-library --timings blase_1.1.0.tar.gz
###
##############################################################################
##############################################################################
* using log directory ‘/home/biocbuild/bbs-3.23-bioc/meat/blase.Rcheck’
* using R Under development (unstable) (2025-10-20 r88955)
* using platform: x86_64-pc-linux-gnu
* R was compiled by
    gcc (Ubuntu 13.3.0-6ubuntu2~24.04) 13.3.0
    GNU Fortran (Ubuntu 13.3.0-6ubuntu2~24.04) 13.3.0
* running under: Ubuntu 24.04.3 LTS
* using session charset: UTF-8
* checking for file ‘blase/DESCRIPTION’ ... OK
* this is package ‘blase’ version ‘1.1.0’
* package encoding: UTF-8
* checking package namespace information ... OK
* checking package dependencies ... OK
* checking if this is a source package ... OK
* checking if there is a namespace ... OK
* checking for hidden files and directories ... OK
* checking for portable file names ... OK
* checking for sufficient/correct file permissions ... OK
* checking whether package ‘blase’ can be installed ... OK
* checking installed package size ... INFO
  installed size is  5.2Mb
  sub-directories of 1Mb or more:
    data   4.6Mb
* checking package directory ... OK
* checking ‘build’ directory ... OK
* checking DESCRIPTION meta-information ... OK
* checking top-level files ... OK
* checking for left-over files ... OK
* checking index information ... OK
* checking package subdirectories ... OK
* checking code files for non-ASCII characters ... OK
* checking R files for syntax errors ... OK
* checking whether the package can be loaded ... OK
* checking whether the package can be loaded with stated dependencies ... OK
* checking whether the package can be unloaded cleanly ... OK
* checking whether the namespace can be loaded with stated dependencies ... OK
* checking whether the namespace can be unloaded cleanly ... OK
* checking loading without being on the library search path ... OK
* checking dependencies in R code ... OK
* checking S3 generic/method consistency ... OK
* checking replacement functions ... OK
* checking foreign function calls ... OK
* checking R code for possible problems ... OK
* checking Rd files ... OK
* checking Rd metadata ... OK
* checking Rd cross-references ... NOTE
Non-topic package-anchored link(s) in Rd file 'plot_mapping_result.Rd':
  ‘[scater:plot_reddim]{scater::plotUMAP()}’
See section 'Cross-references' in the 'Writing R Extensions' manual.
* checking for missing documentation entries ... OK
* checking for code/documentation mismatches ... OK
* checking Rd \usage sections ... OK
* checking Rd contents ... OK
* checking for unstated dependencies in examples ... OK
* checking contents of ‘data’ directory ... OK
* checking data for non-ASCII characters ... OK
* checking data for ASCII and uncompressed saves ... OK
* checking files in ‘vignettes’ ... OK
* checking examples ... OK
Examples with CPU (user + system) or elapsed time > 5s
                                   user system elapsed
plot_gene_peakedness             19.415  0.207  19.629
calculate_gene_peakedness        18.552  0.347  18.899
gene_peakedness_spread_selection 17.718  0.241  17.959
smooth_gene                      17.302  0.104  17.407
evaluate_parameters              10.108  0.070  10.179
plot_mapping_result               5.817  0.051   5.868
* checking for unstated dependencies in ‘tests’ ... OK
* checking tests ...
  Running ‘testthat.R’
 OK
* checking for unstated dependencies in vignettes ... OK
* checking package vignettes ... OK
* checking re-building of vignette outputs ... OK
* checking PDF version of manual ... OK
* DONE
Status: 1 NOTE
See
  ‘/home/biocbuild/bbs-3.23-bioc/meat/blase.Rcheck/00check.log’
for details.
blase.Rcheck/00install.out
############################################################################## ############################################################################## ### ### Running command: ### ### /home/biocbuild/bbs-3.23-bioc/R/bin/R CMD INSTALL blase ### ############################################################################## ############################################################################## * installing to library ‘/home/biocbuild/bbs-3.23-bioc/R/site-library’ * installing *source* package ‘blase’ ... ** this is package ‘blase’ version ‘1.1.0’ ** using staged installation ** R ** data ** inst ** byte-compile and prepare package for lazy loading ** help *** installing help indices *** copying figures ** building package indices ** installing vignettes ** testing if installed package can be loaded from temporary location ** testing if installed package can be loaded from final location ** testing if installed package keeps a record of temporary installation path * DONE (blase)
blase.Rcheck/tests/testthat.Rout
R Under development (unstable) (2025-10-20 r88955) -- "Unsuffered Consequences"
Copyright (C) 2025 The R Foundation for Statistical Computing
Platform: x86_64-pc-linux-gnu
R is free software and comes with ABSOLUTELY NO WARRANTY.
You are welcome to redistribute it under certain conditions.
Type 'license()' or 'licence()' for distribution details.
R is a collaborative project with many contributors.
Type 'contributors()' for more information and
'citation()' on how to cite R or R packages in publications.
Type 'demo()' for some demos, 'help()' for on-line help, or
'help.start()' for an HTML browser interface to help.
Type 'q()' to quit R.
> # This file is part of the standard setup for testthat.
> # It is recommended that you do not modify it.
> #
> # Where should you do additional test configuration?
> # Learn more about the roles of various files in:
> # * https://r-pkgs.org/testing-design.html#sec-tests-files-overview
> # * https://testthat.r-lib.org/articles/special-files.html
> 
> library(testthat)
> library(blase)
> 
> test_check("blase")
[ FAIL 0 | WARN 1 | SKIP 0 | PASS 124 ]
[ FAIL 0 | WARN 1 | SKIP 0 | PASS 124 ]
> 
> proc.time()
   user  system elapsed 
 61.616   2.089  63.705 
blase.Rcheck/blase-Ex.timings
| name | user | system | elapsed | |
| BlaseData-class | 1.156 | 0.030 | 1.186 | |
| MappingResult | 2.367 | 0.094 | 2.461 | |
| annotate_sce | 1.376 | 0.023 | 1.400 | |
| as.BlaseData | 0.169 | 0.003 | 0.172 | |
| assign_pseudotime_bins | 2.268 | 0.014 | 2.281 | |
| bins-getter | 0.189 | 0.009 | 0.199 | |
| calculate_gene_peakedness | 18.552 | 0.347 | 18.899 | |
| evaluate_parameters | 10.108 | 0.070 | 10.179 | |
| evaluate_top_n_genes | 2.595 | 0.004 | 2.600 | |
| find_best_params | 3.617 | 0.025 | 3.643 | |
| gene_peakedness_spread_selection | 17.718 | 0.241 | 17.959 | |
| genes-getter | 0.177 | 0.001 | 0.177 | |
| genes-setter | 0.174 | 0.001 | 0.175 | |
| get_bins_as_bulk | 1.303 | 0.005 | 1.309 | |
| get_top_n_genes | 0.000 | 0.002 | 0.001 | |
| map_all_best_bins | 2.160 | 0.019 | 2.180 | |
| map_best_bin | 2.172 | 0.018 | 2.191 | |
| mapping-result-best-bin-getter | 2.110 | 0.001 | 2.112 | |
| mapping-result-best-correlation-getter | 2.174 | 0.050 | 2.224 | |
| mapping-result-bootstrap-iterations-getter | 2.138 | 0.002 | 2.141 | |
| mapping-result-bulk-name-getter | 2.175 | 0.003 | 2.178 | |
| mapping-result-confident-mapping-getter | 2.170 | 0.046 | 2.216 | |
| mapping-result-history-getter | 2.209 | 0.006 | 2.216 | |
| mapping-result-top-2-distance-getter | 2.264 | 0.003 | 2.268 | |
| plot_bin_population | 2.165 | 0.003 | 2.168 | |
| plot_find_best_params_results | 3.932 | 0.029 | 3.961 | |
| plot_gene_peakedness | 19.415 | 0.207 | 19.629 | |
| plot_mapping_result | 5.817 | 0.051 | 5.868 | |
| plot_mapping_result_corr | 2.096 | 0.002 | 2.098 | |
| plot_mapping_result_heatmap | 2.099 | 0.003 | 2.102 | |
| pseudobulk-bins-getter | 0.169 | 0.001 | 0.170 | |
| show-MappingResult-method | 2.041 | 0.008 | 2.050 | |
| show_blase_object | 0.176 | 0.004 | 0.179 | |
| smooth_gene | 17.302 | 0.104 | 17.407 | |