Back to Build/check report for BioC 3.23:   simplified   long
ABC[D]EFGHIJKLMNOPQRSTUVWXYZ

This page was generated on 2025-11-05 11:32 -0500 (Wed, 05 Nov 2025).

HostnameOSArch (*)R versionInstalled pkgs
nebbiolo1Linux (Ubuntu 24.04.3 LTS)x86_64R Under development (unstable) (2025-10-20 r88955) -- "Unsuffered Consequences" 4818
Click on any hostname to see more info about the system (e.g. compilers)      (*) as reported by 'uname -p', except on Windows and Mac OS X

Package 528/2323HostnameOS / ArchINSTALLBUILDCHECKBUILD BIN
decontX 1.9.0  (landing page)
Joshua Campbell
Snapshot Date: 2025-11-04 13:40 -0500 (Tue, 04 Nov 2025)
git_url: https://git.bioconductor.org/packages/decontX
git_branch: devel
git_last_commit: 0f7be1c
git_last_commit_date: 2025-10-29 11:26:26 -0500 (Wed, 29 Oct 2025)
nebbiolo1Linux (Ubuntu 24.04.3 LTS) / x86_64  OK    OK    OK  YES


BUILD results for decontX on nebbiolo1

To the developers/maintainers of the decontX package:
- Allow up to 24 hours (and sometimes 48 hours) for your latest push to git@git.bioconductor.org:packages/decontX.git to reflect on this report. See Troubleshooting Build Report for more information.
- Use the following Renviron settings to reproduce errors and warnings.
- If 'R CMD check' started to fail recently on the Linux builder(s) over a missing dependency, add the missing dependency to 'Suggests:' in your DESCRIPTION file. See Renviron.bioc for more information.

raw results


Summary

Package: decontX
Version: 1.9.0
Command: /home/biocbuild/bbs-3.23-bioc/R/bin/R CMD build --keep-empty-dirs --no-resave-data decontX
StartedAt: 2025-11-04 17:06:50 -0500 (Tue, 04 Nov 2025)
EndedAt: 2025-11-04 17:14:43 -0500 (Tue, 04 Nov 2025)
EllapsedTime: 473.4 seconds
RetCode: 0
Status:   OK  
PackageFile: decontX_1.9.0.tar.gz
PackageFileSize: 2.054 MiB

Command output

##############################################################################
##############################################################################
###
### Running command:
###
###   /home/biocbuild/bbs-3.23-bioc/R/bin/R CMD build --keep-empty-dirs --no-resave-data decontX
###
##############################################################################
##############################################################################


* checking for file ‘decontX/DESCRIPTION’ ... OK
* preparing ‘decontX’:
* checking DESCRIPTION meta-information ... OK
* cleaning src
* installing the package (it is needed to build vignettes)
* creating vignettes ... OK
* cleaning src
* checking for LF line-endings in source and make files and shell scripts
* checking for empty or unneeded directories
* building ‘decontX_1.9.0.tar.gz’