| Back to Build/check report for BioC 3.23: simplified long |
|
This page was generated on 2025-11-04 11:32 -0500 (Tue, 04 Nov 2025).
| Hostname | OS | Arch (*) | R version | Installed pkgs |
|---|---|---|---|---|
| nebbiolo1 | Linux (Ubuntu 24.04.3 LTS) | x86_64 | R Under development (unstable) (2025-10-20 r88955) -- "Unsuffered Consequences" | 4788 |
| Click on any hostname to see more info about the system (e.g. compilers) (*) as reported by 'uname -p', except on Windows and Mac OS X | ||||
| Package 1147/2323 | Hostname | OS / Arch | INSTALL | BUILD | CHECK | BUILD BIN | ||||||||
| M3Drop 1.37.0 (landing page) Tallulah Andrews
| nebbiolo1 | Linux (Ubuntu 24.04.3 LTS) / x86_64 | OK | OK | OK | |||||||||
|
To the developers/maintainers of the M3Drop package: - Allow up to 24 hours (and sometimes 48 hours) for your latest push to git@git.bioconductor.org:packages/M3Drop.git to reflect on this report. See Troubleshooting Build Report for more information. - Use the following Renviron settings to reproduce errors and warnings. - If 'R CMD check' started to fail recently on the Linux builder(s) over a missing dependency, add the missing dependency to 'Suggests:' in your DESCRIPTION file. See Renviron.bioc for more information. |
| Package: M3Drop |
| Version: 1.37.0 |
| Command: /home/biocbuild/bbs-3.23-bioc/R/bin/R CMD check --install=check:M3Drop.install-out.txt --library=/home/biocbuild/bbs-3.23-bioc/R/site-library --timings M3Drop_1.37.0.tar.gz |
| StartedAt: 2025-11-04 00:33:00 -0500 (Tue, 04 Nov 2025) |
| EndedAt: 2025-11-04 00:40:03 -0500 (Tue, 04 Nov 2025) |
| EllapsedTime: 422.8 seconds |
| RetCode: 0 |
| Status: OK |
| CheckDir: M3Drop.Rcheck |
| Warnings: 0 |
##############################################################################
##############################################################################
###
### Running command:
###
### /home/biocbuild/bbs-3.23-bioc/R/bin/R CMD check --install=check:M3Drop.install-out.txt --library=/home/biocbuild/bbs-3.23-bioc/R/site-library --timings M3Drop_1.37.0.tar.gz
###
##############################################################################
##############################################################################
* using log directory ‘/home/biocbuild/bbs-3.23-bioc/meat/M3Drop.Rcheck’
* using R Under development (unstable) (2025-10-20 r88955)
* using platform: x86_64-pc-linux-gnu
* R was compiled by
gcc (Ubuntu 13.3.0-6ubuntu2~24.04) 13.3.0
GNU Fortran (Ubuntu 13.3.0-6ubuntu2~24.04) 13.3.0
* running under: Ubuntu 24.04.3 LTS
* using session charset: UTF-8
* checking for file ‘M3Drop/DESCRIPTION’ ... OK
* this is package ‘M3Drop’ version ‘1.37.0’
* checking package namespace information ... OK
* checking package dependencies ... OK
* checking if this is a source package ... OK
* checking if there is a namespace ... OK
* checking for hidden files and directories ... OK
* checking for portable file names ... OK
* checking for sufficient/correct file permissions ... OK
* checking whether package ‘M3Drop’ can be installed ... OK
* checking installed package size ... OK
* checking package directory ... OK
* checking ‘build’ directory ... OK
* checking DESCRIPTION meta-information ... OK
* checking top-level files ... OK
* checking for left-over files ... OK
* checking index information ... OK
* checking package subdirectories ... OK
* checking code files for non-ASCII characters ... OK
* checking R files for syntax errors ... OK
* checking whether the package can be loaded ... OK
* checking whether the package can be loaded with stated dependencies ... OK
* checking whether the package can be unloaded cleanly ... OK
* checking whether the namespace can be loaded with stated dependencies ... OK
* checking whether the namespace can be unloaded cleanly ... OK
* checking loading without being on the library search path ... OK
* checking dependencies in R code ... NOTE
Namespace in Imports field not imported from: ‘scater’
All declared Imports should be used.
* checking S3 generic/method consistency ... OK
* checking replacement functions ... OK
* checking foreign function calls ... OK
* checking R code for possible problems ... NOTE
M3DropConvertData: no visible global function definition for ‘assays’
NBumiConvertData: no visible global function definition for ‘assays’
bg__filter_cells: no visible binding for global variable ‘x’
bg__get_extreme_residuals: no visible binding for global variable ‘x’
Undefined global functions or variables:
assays x
* checking Rd files ... NOTE
prepare_Rd: NBumi_FSOther.Rd:8-10: Dropping empty section \usage
prepare_Rd: NBumi_TradDE.Rd:7-8: Dropping empty section \usage
* checking Rd metadata ... OK
* checking Rd cross-references ... OK
* checking for missing documentation entries ... OK
* checking for code/documentation mismatches ... OK
* checking Rd \usage sections ... OK
* checking Rd contents ... OK
* checking for unstated dependencies in examples ... OK
* checking sizes of PDF files under ‘inst/doc’ ...* checking files in ‘vignettes’ ... OK
* checking examples ... OK
Examples with CPU (user + system) or elapsed time > 5s
user system elapsed
NewSimulations 102.135 1.394 103.537
Imputation 40.198 0.128 40.380
M3D_getmarkers 32.589 0.303 32.893
M3D_ConverData 7.747 0.196 7.960
* checking for unstated dependencies in vignettes ... OK
* checking package vignettes ... OK
* checking re-building of vignette outputs ... OK
* checking PDF version of manual ... OK
* DONE
Status: 3 NOTEs
See
‘/home/biocbuild/bbs-3.23-bioc/meat/M3Drop.Rcheck/00check.log’
for details.
M3Drop.Rcheck/00install.out
############################################################################## ############################################################################## ### ### Running command: ### ### /home/biocbuild/bbs-3.23-bioc/R/bin/R CMD INSTALL M3Drop ### ############################################################################## ############################################################################## * installing to library ‘/home/biocbuild/bbs-3.23-bioc/R/site-library’ * installing *source* package ‘M3Drop’ ... ** this is package ‘M3Drop’ version ‘1.37.0’ ** using staged installation ** R ** inst ** byte-compile and prepare package for lazy loading ** help *** installing help indices ** building package indices ** installing vignettes ** testing if installed package can be loaded from temporary location ** testing if installed package can be loaded from final location ** testing if installed package keeps a record of temporary installation path * DONE (M3Drop)
M3Drop.Rcheck/M3Drop-Ex.timings
| name | user | system | elapsed | |
| Brennecke_getVariableGenes | 3.412 | 0.165 | 3.580 | |
| Consensus_FS | 0.255 | 0.003 | 0.257 | |
| Fitting_Dropout_Models | 0.000 | 0.000 | 0.001 | |
| Imputation | 40.198 | 0.128 | 40.380 | |
| M3D_Clean_Data | 1.340 | 0.112 | 1.452 | |
| M3D_ConverData | 7.747 | 0.196 | 7.960 | |
| M3D_Differential_Expression | 1.474 | 0.068 | 1.542 | |
| M3D_Dropout_Models | 1.661 | 0.031 | 1.692 | |
| M3D_Expression_Heatmap | 0.470 | 0.003 | 0.474 | |
| M3D_Get_Extremes | 2.176 | 0.089 | 2.275 | |
| M3D_Get_Heatmap_Cell_Clusters | 0.438 | 0.002 | 0.440 | |
| M3D_Simulations | 0.000 | 0.000 | 0.001 | |
| M3D_Test_Shift | 0.574 | 0.004 | 0.579 | |
| M3D_ThreeSet_Venn | 0.322 | 0.002 | 0.324 | |
| M3D_TraditionalDE | 0.009 | 0.000 | 0.009 | |
| M3D_getmarkers | 32.589 | 0.303 | 32.893 | |
| M3D_horz_res | 0 | 0 | 0 | |
| NBumi_CheckFit | 2.003 | 0.142 | 2.144 | |
| NBumi_CoExpression | 0.64 | 0.04 | 0.68 | |
| NBumi_CompareModels | 2.659 | 0.062 | 2.721 | |
| NBumi_ConvertToInteger | 0.001 | 0.000 | 0.001 | |
| NBumi_ConvrtData | 0.237 | 0.003 | 0.240 | |
| NBumi_FSDrop | 0.845 | 0.030 | 0.875 | |
| NBumi_FSHighVar | 1.400 | 0.003 | 1.403 | |
| NBumi_FSOther | 0.009 | 0.000 | 0.009 | |
| NBumi_FitDisp | 0.001 | 0.000 | 0.001 | |
| NBumi_FitDispVsMean | 0.48 | 0.00 | 0.48 | |
| NBumi_FitModel | 0.654 | 0.018 | 0.672 | |
| NBumi_HVG | 0.764 | 0.003 | 0.768 | |
| NBumi_PearsonResiduals | 1.390 | 0.002 | 1.393 | |
| NBumi_TradDE | 0.000 | 0.001 | 0.000 | |
| NewSimulations | 102.135 | 1.394 | 103.537 | |
| Other_FS | 1.034 | 0.008 | 1.042 | |
| PoissonUMIFeatureSelectionDropouts | 0.593 | 0.029 | 0.623 | |
| bg__fit_gamma | 0.001 | 0.000 | 0.000 | |
| bg__get_stats | 0.000 | 0.000 | 0.001 | |
| bg__mean2disp | 0 | 0 | 0 | |
| bg__shift_size | 0.001 | 0.000 | 0.000 | |
| bg__var_vs_drop | 0 | 0 | 0 | |