Back to Build/check report for BioC 3.23:   simplified   long
ABCD[E]FGHIJKLMNOPQRSTUVWXYZ

This page was generated on 2025-10-31 08:34 -0400 (Fri, 31 Oct 2025).

HostnameOSArch (*)R versionInstalled pkgs
nebbiolo1Linux (Ubuntu 24.04.3 LTS)x86_64R Under development (unstable) (2025-10-20 r88955) -- "Unsuffered Consequences" 4428
Click on any hostname to see more info about the system (e.g. compilers)      (*) as reported by 'uname -p', except on Windows and Mac OS X

All results for package edgeR


To the developers/maintainers of the edgeR package:
- Allow up to 24 hours (and sometimes 48 hours) for your latest push to git@git.bioconductor.org:packages/edgeR.git to reflect on this report. See Troubleshooting Build Report for more information.
- Use the following Renviron settings to reproduce errors and warnings.
- If 'R CMD check' started to fail recently on the Linux builder(s) over a missing dependency, add the missing dependency to 'Suggests:' in your DESCRIPTION file. See Renviron.bioc for more information.

raw results

Package 643/2321HostnameOS / ArchINSTALLBUILDCHECKBUILD BIN
edgeR 4.9.0  (landing page)
Yunshun Chen , Gordon Smyth
Snapshot Date: 2025-10-30 13:40 -0400 (Thu, 30 Oct 2025)
git_url: https://git.bioconductor.org/packages/edgeR
git_branch: devel
git_last_commit: e338260
git_last_commit_date: 2025-10-29 10:01:19 -0400 (Wed, 29 Oct 2025)
nebbiolo1Linux (Ubuntu 24.04.3 LTS) / x86_64  OK    OK    OK  YES



Results for Bioconductor software packages that depend directly on package edgeR

QUICK STATSOS / ArchINSTALLBUILDCHECKBUILD BIN
nebbiolo1Linux (Ubuntu 24.04.3 LTS) / x86_64
016122
027111
0141780
Package 1/138HostnameOS / ArchINSTALLBUILDCHECKBUILD BIN
affycoretools 1.83.0  (landing page)
James W. MacDonald
git_last_commit: c6a0b37
git_last_commit_date: 2025-10-29 09:57:11 -0400
nebbiolo1Linux (Ubuntu 24.04.3 LTS) / x86_64  ERROR    ERROR  skipped
Package 2/138HostnameOS / ArchINSTALLBUILDCHECKBUILD BIN
anota2seq 1.33.0  (landing page)
Christian Oertlin , Ola Larsson
git_last_commit: 8d76555
git_last_commit_date: 2025-10-29 10:41:23 -0400
nebbiolo1Linux (Ubuntu 24.04.3 LTS) / x86_64  OK    OK    WARNINGS  NO, package depends on 'DESeq2' which is not available
Package 3/138HostnameOS / ArchINSTALLBUILDCHECKBUILD BIN
ASpli 2.21.0  (landing page)
Ariel Chernomoretz
git_last_commit: 6fd6add
git_last_commit_date: 2025-10-29 10:33:32 -0400
nebbiolo1Linux (Ubuntu 24.04.3 LTS) / x86_64  OK    OK    WARNINGS  NO, package depends on 'AnnotationDbi' which is not available
Package 4/138HostnameOS / ArchINSTALLBUILDCHECKBUILD BIN
ATACseqQC 1.35.0  (landing page)
Jianhong Ou
git_last_commit: 938226b
git_last_commit_date: 2025-10-29 10:38:34 -0400
nebbiolo1Linux (Ubuntu 24.04.3 LTS) / x86_64  ERROR    ERROR  skipped
Package 5/138HostnameOS / ArchINSTALLBUILDCHECKBUILD BIN
autonomics 1.19.0  (landing page)
Aditya Bhagwat
git_last_commit: 9fc1276
git_last_commit_date: 2025-10-29 11:06:51 -0400
nebbiolo1Linux (Ubuntu 24.04.3 LTS) / x86_64  OK    OK    ERROR  
Package 6/138HostnameOS / ArchINSTALLBUILDCHECKBUILD BIN
AWFisher 1.25.0  (landing page)
Zhiguang Huo
git_last_commit: 4a1aa4a
git_last_commit_date: 2025-10-29 10:53:01 -0400
nebbiolo1Linux (Ubuntu 24.04.3 LTS) / x86_64  OK    OK    OK  YES
Package 7/138HostnameOS / ArchINSTALLBUILDCHECKBUILD BIN
BatchQC 2.7.0  (landing page)
Jessica Anderson
git_last_commit: bfa8664
git_last_commit_date: 2025-10-29 10:31:36 -0400
nebbiolo1Linux (Ubuntu 24.04.3 LTS) / x86_64  OK    OK    OK  NO, package depends on 'DESeq2' which is not available
Package 8/138HostnameOS / ArchINSTALLBUILDCHECKBUILD BIN
baySeq 2.45.0  (landing page)
Samuel Granjeaud
git_last_commit: 98e102a
git_last_commit_date: 2025-10-29 11:29:21 -0400
nebbiolo1Linux (Ubuntu 24.04.3 LTS) / x86_64  OK    OK    OK  NO, package depends on 'GenomicRanges' which is not available
Package 9/138HostnameOS / ArchINSTALLBUILDCHECKBUILD BIN
beer 1.15.0  (landing page)
Athena Chen
git_last_commit: 4749fe5
git_last_commit_date: 2025-10-29 11:14:55 -0400
nebbiolo1Linux (Ubuntu 24.04.3 LTS) / x86_64  OK    OK    OK  NO, package depends on 'PhIPData' which is not available
Package 10/138HostnameOS / ArchINSTALLBUILDCHECKBUILD BIN
benchdamic 1.17.0  (landing page)
Matteo Calgaro
git_last_commit: 316209e
git_last_commit_date: 2025-10-29 11:13:17 -0400
nebbiolo1Linux (Ubuntu 24.04.3 LTS) / x86_64  OK    OK    OK  NO, package depends on 'phyloseq' which is not available
Package 11/138HostnameOS / ArchINSTALLBUILDCHECKBUILD BIN
BioQC 1.39.0  (landing page)
Jitao David Zhang
git_last_commit: c2f01e7
git_last_commit_date: 2025-10-29 10:28:57 -0400
nebbiolo1Linux (Ubuntu 24.04.3 LTS) / x86_64  OK    ERROR  skipped
Package 12/138HostnameOS / ArchINSTALLBUILDCHECKBUILD BIN
BreastSubtypeR 1.3.0  (landing page)
Qiao Yang
git_last_commit: 208bd46
git_last_commit_date: 2025-10-29 11:36:09 -0400
nebbiolo1Linux (Ubuntu 24.04.3 LTS) / x86_64  OK    OK    OK  NO, package depends on 'ComplexHeatmap' which is not available
Package 13/138HostnameOS / ArchINSTALLBUILDCHECKBUILD BIN
broadSeq 1.5.0  (landing page)
Rishi Das Roy
git_last_commit: f8280c0
git_last_commit_date: 2025-10-29 11:30:34 -0400
nebbiolo1Linux (Ubuntu 24.04.3 LTS) / x86_64  OK    OK    WARNINGS  NO, package depends on 'SummarizedExperiment' which is not available
Package 14/138HostnameOS / ArchINSTALLBUILDCHECKBUILD BIN
censcyt 1.19.0  (landing page)
Reto Gerber
git_last_commit: e0a4611
git_last_commit_date: 2025-10-29 11:05:07 -0400
nebbiolo1Linux (Ubuntu 24.04.3 LTS) / x86_64  OK    OK    OK  NO, package depends on 'diffcyt' which is not available
Package 15/138HostnameOS / ArchINSTALLBUILDCHECKBUILD BIN
ChromSCape 1.21.0  (landing page)
Pacome Prompsy
git_last_commit: 47d0ff7
git_last_commit_date: 2025-10-29 11:02:56 -0400
nebbiolo1Linux (Ubuntu 24.04.3 LTS) / x86_64  OK    OK    WARNINGS  NO, package depends on 'rtracklayer' which is not available
Package 16/138HostnameOS / ArchINSTALLBUILDCHECKBUILD BIN
circRNAprofiler 1.25.0  (landing page)
Simona Aufiero
git_last_commit: a9049f9
git_last_commit_date: 2025-10-29 10:53:06 -0400
nebbiolo1Linux (Ubuntu 24.04.3 LTS) / x86_64  ERROR    ERROR  skipped
Package 17/138HostnameOS / ArchINSTALLBUILDCHECKBUILD BIN
CleanUpRNAseq 1.5.0  (landing page)
Haibo Liu
git_last_commit: 4f653f6
git_last_commit_date: 2025-10-29 11:31:19 -0400
nebbiolo1Linux (Ubuntu 24.04.3 LTS) / x86_64  OK    OK    ERROR  
Package 18/138HostnameOS / ArchINSTALLBUILDCHECKBUILD BIN
clusterExperiment 2.31.0  (landing page)
Elizabeth Purdom
git_last_commit: dc97d45
git_last_commit_date: 2025-10-29 10:33:07 -0400
nebbiolo1Linux (Ubuntu 24.04.3 LTS) / x86_64  OK    OK    WARNINGS  NO, package depends on 'SingleCellExperiment' which is not available
Package 19/138HostnameOS / ArchINSTALLBUILDCHECKBUILD BIN
CNVRanger 1.27.0  (landing page)
Ludwig Geistlinger
git_last_commit: 16600ca
git_last_commit_date: 2025-10-29 10:49:57 -0400
nebbiolo1Linux (Ubuntu 24.04.3 LTS) / x86_64  OK    ERROR  skipped
Package 20/138HostnameOS / ArchINSTALLBUILDCHECKBUILD BIN
compcodeR 1.47.0  (landing page)
Charlotte Soneson
git_last_commit: 7aac3d1
git_last_commit_date: 2025-10-29 10:19:15 -0400
nebbiolo1Linux (Ubuntu 24.04.3 LTS) / x86_64  OK    OK    OK  YES
Package 21/138HostnameOS / ArchINSTALLBUILDCHECKBUILD BIN
consensusDE 1.29.0  (landing page)
Ashley J. Waardenberg
git_last_commit: e69df52
git_last_commit_date: 2025-10-29 10:48:35 -0400
nebbiolo1Linux (Ubuntu 24.04.3 LTS) / x86_64  ERROR    ERROR  skipped
Package 22/138HostnameOS / ArchINSTALLBUILDCHECKBUILD BIN
coseq 1.35.0  (landing page)
Andrea Rau
git_last_commit: 9d19790
git_last_commit_date: 2025-10-29 10:36:16 -0400
nebbiolo1Linux (Ubuntu 24.04.3 LTS) / x86_64  OK    OK    OK  NO, package depends on 'SummarizedExperiment' which is not available
Package 23/138HostnameOS / ArchINSTALLBUILDCHECKBUILD BIN
countsimQC 1.29.0  (landing page)
Charlotte Soneson
git_last_commit: 21f3a2b
git_last_commit_date: 2025-10-29 10:47:52 -0400
nebbiolo1Linux (Ubuntu 24.04.3 LTS) / x86_64  ERROR    ERROR  skipped
Package 24/138HostnameOS / ArchINSTALLBUILDCHECKBUILD BIN
csaw 1.45.0  (landing page)
Aaron Lun
git_last_commit: 39b0f81
git_last_commit_date: 2025-10-29 10:22:22 -0400
nebbiolo1Linux (Ubuntu 24.04.3 LTS) / x86_64  OK    OK    ERROR  
Package 25/138HostnameOS / ArchINSTALLBUILDCHECKBUILD BIN
cypress 1.7.0  (landing page)
Shilin Yu
git_last_commit: 40f21f4
git_last_commit_date: 2025-10-29 11:29:05 -0400
nebbiolo1Linux (Ubuntu 24.04.3 LTS) / x86_64  OK    OK    OK  NO, package depends on 'TOAST' which is not available
Package 26/138HostnameOS / ArchINSTALLBUILDCHECKBUILD BIN
DaMiRseq 2.23.0  (landing page)
Mattia Chiesa
git_last_commit: 48f9b25
git_last_commit_date: 2025-10-29 10:37:23 -0400
nebbiolo1Linux (Ubuntu 24.04.3 LTS) / x86_64  OK    OK    OK  NO, package depends on 'SummarizedExperiment' which is not available
Package 27/138HostnameOS / ArchINSTALLBUILDCHECKBUILD BIN
Damsel 1.7.0  (landing page)
Caitlin Page
git_last_commit: 4c35e04
git_last_commit_date: 2025-10-29 11:29:38 -0400
nebbiolo1Linux (Ubuntu 24.04.3 LTS) / x86_64  OK    ERROR  skipped
Package 28/138HostnameOS / ArchINSTALLBUILDCHECKBUILD BIN
debrowser 1.39.0  (landing page)
Alper Kucukural
git_last_commit: 17795bc
git_last_commit_date: 2025-10-29 10:30:54 -0400
nebbiolo1Linux (Ubuntu 24.04.3 LTS) / x86_64  ERROR    ERROR  skipped
Package 29/138HostnameOS / ArchINSTALLBUILDCHECKBUILD BIN
DeeDeeExperiment 1.1.0  (landing page)
Najla Abassi
git_last_commit: 482df35
git_last_commit_date: 2025-10-29 11:37:21 -0400
nebbiolo1Linux (Ubuntu 24.04.3 LTS) / x86_64  OK    OK    OK  NO, package depends on 'SingleCellExperiment' which is not available
Package 30/138HostnameOS / ArchINSTALLBUILDCHECKBUILD BIN
DEFormats 1.39.0  (landing page)
Andrzej Oleś
git_last_commit: 5034890
git_last_commit_date: 2025-10-29 10:31:05 -0400
nebbiolo1Linux (Ubuntu 24.04.3 LTS) / x86_64  OK    OK    OK  NO, package depends on 'DESeq2' which is not available
Package 31/138HostnameOS / ArchINSTALLBUILDCHECKBUILD BIN
DEGreport 1.47.0  (landing page)
Lorena Pantano
git_last_commit: 792957e
git_last_commit_date: 2025-10-29 10:19:57 -0400
nebbiolo1Linux (Ubuntu 24.04.3 LTS) / x86_64  OK    OK    OK  NO, package depends on 'ComplexHeatmap' which is not available
Package 32/138HostnameOS / ArchINSTALLBUILDCHECKBUILD BIN
DESpace 2.3.0  (landing page)
Peiying Cai
git_last_commit: 8879de2
git_last_commit_date: 2025-10-29 11:22:00 -0400
nebbiolo1Linux (Ubuntu 24.04.3 LTS) / x86_64  OK    OK    OK  NO, package depends on 'SpatialExperiment' which is not available
Package 33/138HostnameOS / ArchINSTALLBUILDCHECKBUILD BIN
DEsubs 1.37.0  (landing page)
Aristidis G. Vrahatis , Panos Balomenos
git_last_commit: 795ef9b
git_last_commit_date: 2025-10-29 10:34:42 -0400
nebbiolo1Linux (Ubuntu 24.04.3 LTS) / x86_64  OK    OK    WARNINGS  NO, package depends on 'DESeq2' which is not available
Package 34/138HostnameOS / ArchINSTALLBUILDCHECKBUILD BIN
diffcyt 1.31.0  (landing page)
Lukas M. Weber
git_last_commit: 5b52099
git_last_commit_date: 2025-10-29 10:44:30 -0400
nebbiolo1Linux (Ubuntu 24.04.3 LTS) / x86_64  OK    OK    OK  NO, package depends on 'SummarizedExperiment' which is not available
Package 35/138HostnameOS / ArchINSTALLBUILDCHECKBUILD BIN
diffHic 1.43.0  (landing page)
Aaron Lun , Gordon Smyth , Hannah Coughlin
git_last_commit: c909cdb
git_last_commit_date: 2025-10-29 10:25:47 -0400
nebbiolo1Linux (Ubuntu 24.04.3 LTS) / x86_64  OK    OK    ERROR  
Package 36/138HostnameOS / ArchINSTALLBUILDCHECKBUILD BIN
diffUTR 1.19.0  (landing page)
Pierre-Luc Germain
git_last_commit: 2f86b30
git_last_commit_date: 2025-10-29 11:09:14 -0400
nebbiolo1Linux (Ubuntu 24.04.3 LTS) / x86_64  OK    OK    OK  NO, package depends on 'SummarizedExperiment' which is not available
Package 37/138HostnameOS / ArchINSTALLBUILDCHECKBUILD BIN
dinoR 1.7.0  (landing page)
Michaela Schwaiger
git_last_commit: ad3d7ac
git_last_commit_date: 2025-10-29 11:28:52 -0400
nebbiolo1Linux (Ubuntu 24.04.3 LTS) / x86_64  OK    OK    OK  NO, package depends on 'SummarizedExperiment' which is not available
Package 38/138HostnameOS / ArchINSTALLBUILDCHECKBUILD BIN
DMRcate 3.7.0  (landing page)
Tim Peters
git_last_commit: c4e3304
git_last_commit_date: 2025-10-29 10:18:14 -0400
nebbiolo1Linux (Ubuntu 24.04.3 LTS) / x86_64  ERROR    ERROR  skipped
Package 39/138HostnameOS / ArchINSTALLBUILDCHECKBUILD BIN
doseR 1.27.0  (landing page)
ake.vastermark
git_last_commit: 8901528
git_last_commit_date: 2025-10-29 10:50:15 -0400
nebbiolo1Linux (Ubuntu 24.04.3 LTS) / x86_64  OK    OK    OK  NO, package depends on 'SummarizedExperiment' which is not available
Package 40/138HostnameOS / ArchINSTALLBUILDCHECKBUILD BIN
dreamlet 1.9.0  (landing page)
Gabriel Hoffman
git_last_commit: dfc1aac
git_last_commit_date: 2025-10-29 11:25:03 -0400
nebbiolo1Linux (Ubuntu 24.04.3 LTS) / x86_64  OK    OK    OK  NO, package depends on 'SingleCellExperiment' which is not available
Package 41/138HostnameOS / ArchINSTALLBUILDCHECKBUILD BIN
DRIMSeq 1.39.0  (landing page)
Malgorzata Nowicka
git_last_commit: 9076908
git_last_commit_date: 2025-10-29 10:30:52 -0400
nebbiolo1Linux (Ubuntu 24.04.3 LTS) / x86_64  OK    OK    WARNINGS  NO, package depends on 'GenomicRanges' which is not available
Package 42/138HostnameOS / ArchINSTALLBUILDCHECKBUILD BIN
DropletUtils 1.31.0  (landing page)
Jonathan Griffiths
git_last_commit: 92de364
git_last_commit_date: 2025-10-29 10:42:43 -0400
nebbiolo1Linux (Ubuntu 24.04.3 LTS) / x86_64  OK    OK    WARNINGS  NO, package depends on 'SingleCellExperiment' which is not available
Package 43/138HostnameOS / ArchINSTALLBUILDCHECKBUILD BIN
DspikeIn 1.1.0  (landing page)
Mitra Ghotbi
git_last_commit: 18fc5b8
git_last_commit_date: 2025-10-29 11:39:12 -0400
nebbiolo1Linux (Ubuntu 24.04.3 LTS) / x86_64  OK    OK    OK  NO, package depends on 'Biostrings' which is not available
Package 44/138HostnameOS / ArchINSTALLBUILDCHECKBUILD BIN
easyRNASeq 2.47.0  (landing page)
Nicolas Delhomme
git_last_commit: 1cb9a73
git_last_commit_date: 2025-10-29 10:10:00 -0400
nebbiolo1Linux (Ubuntu 24.04.3 LTS) / x86_64  OK    OK    ERROR  
Package 45/138HostnameOS / ArchINSTALLBUILDCHECKBUILD BIN
EGSEA 1.39.0  (landing page)
Monther Alhamdoosh
git_last_commit: ea1d07d
git_last_commit_date: 2025-10-29 10:32:11 -0400
nebbiolo1Linux (Ubuntu 24.04.3 LTS) / x86_64  ERROR    ERROR  skipped
Package 46/138HostnameOS / ArchINSTALLBUILDCHECKBUILD BIN
eisaR 1.23.0  (landing page)
Michael Stadler
git_last_commit: 6549e0d
git_last_commit_date: 2025-10-29 10:57:32 -0400
nebbiolo1Linux (Ubuntu 24.04.3 LTS) / x86_64  OK    ERROR  skipped
Package 47/138HostnameOS / ArchINSTALLBUILDCHECKBUILD BIN
EnrichmentBrowser 2.41.0  (landing page)
Ludwig Geistlinger
git_last_commit: eb4505a
git_last_commit_date: 2025-10-29 10:21:30 -0400
nebbiolo1Linux (Ubuntu 24.04.3 LTS) / x86_64  OK    ERROR  skipped
Package 48/138HostnameOS / ArchINSTALLBUILDCHECKBUILD BIN
erccdashboard 1.45.0  (landing page)
Sarah Munro
git_last_commit: 44713e8
git_last_commit_date: 2025-10-29 10:21:01 -0400
nebbiolo1Linux (Ubuntu 24.04.3 LTS) / x86_64  OK    OK    OK  YES
Package 49/138HostnameOS / ArchINSTALLBUILDCHECKBUILD BIN
ERSSA 1.29.0  (landing page)
Zixuan Shao
git_last_commit: 0abfd23
git_last_commit_date: 2025-10-29 10:47:37 -0400
nebbiolo1Linux (Ubuntu 24.04.3 LTS) / x86_64  OK    OK    OK  NO, package depends on 'DESeq2' which is not available
Package 50/138HostnameOS / ArchINSTALLBUILDCHECKBUILD BIN
extraChIPs 1.15.0  (landing page)
Stevie Pederson
git_last_commit: 9ceda11
git_last_commit_date: 2025-10-29 11:16:32 -0400
nebbiolo1Linux (Ubuntu 24.04.3 LTS) / x86_64  OK    OK    OK  NO, package depends on 'GenomicRanges' which is not available
Package 51/138HostnameOS / ArchINSTALLBUILDCHECKBUILD BIN
GDCRNATools 1.31.0  (landing page)
Ruidong Li
git_last_commit: 0524945
git_last_commit_date: 2025-10-29 10:42:54 -0400
nebbiolo1Linux (Ubuntu 24.04.3 LTS) / x86_64  OK    OK    OK  NO, package depends on 'DESeq2' which is not available
Package 52/138HostnameOS / ArchINSTALLBUILDCHECKBUILD BIN
GenomicPlot 1.9.0  (landing page)
Shuye Pu
git_last_commit: 6794637
git_last_commit_date: 2025-10-29 11:24:51 -0400
nebbiolo1Linux (Ubuntu 24.04.3 LTS) / x86_64  ERROR    ERROR  skipped
Package 53/138HostnameOS / ArchINSTALLBUILDCHECKBUILD BIN
GEOexplorer 1.17.0  (landing page)
Guy Hunt
git_last_commit: d50a784
git_last_commit_date: 2025-10-29 11:11:17 -0400
nebbiolo1Linux (Ubuntu 24.04.3 LTS) / x86_64  OK    OK    ERROR  
Package 54/138HostnameOS / ArchINSTALLBUILDCHECKBUILD BIN
gg4way 1.9.0  (landing page)
Benjamin I Laufer
git_last_commit: d0f2a7c
git_last_commit_date: 2025-10-29 11:25:41 -0400
nebbiolo1Linux (Ubuntu 24.04.3 LTS) / x86_64  OK    OK    OK  NO, package depends on 'DESeq2' which is not available
Package 55/138HostnameOS / ArchINSTALLBUILDCHECKBUILD BIN
gINTomics 1.7.0  (landing page)
Angelo Velle
git_last_commit: 4cacafe
git_last_commit_date: 2025-10-29 11:30:01 -0400
nebbiolo1Linux (Ubuntu 24.04.3 LTS) / x86_64  ERROR    ERROR  skipped
Package 56/138HostnameOS / ArchINSTALLBUILDCHECKBUILD BIN
Glimma 2.21.0  (landing page)
Shian Su
git_last_commit: c7699be
git_last_commit_date: 2025-10-29 10:31:31 -0400
nebbiolo1Linux (Ubuntu 24.04.3 LTS) / x86_64  OK    OK    OK  NO, package depends on 'DESeq2' which is not available
Package 57/138HostnameOS / ArchINSTALLBUILDCHECKBUILD BIN
GSEABenchmarkeR 1.31.0  (landing page)
Ludwig Geistlinger
git_last_commit: 129d655
git_last_commit_date: 2025-10-29 10:44:06 -0400
nebbiolo1Linux (Ubuntu 24.04.3 LTS) / x86_64  OK    ERROR  skipped
Package 58/138HostnameOS / ArchINSTALLBUILDCHECKBUILD BIN
hermes 1.15.0  (landing page)
Daniel Sabanés Bové
git_last_commit: da21eaa
git_last_commit_date: 2025-10-29 11:14:07 -0400
nebbiolo1Linux (Ubuntu 24.04.3 LTS) / x86_64  OK    OK    OK  NO, package depends on 'SummarizedExperiment' which is not available
Package 59/138HostnameOS / ArchINSTALLBUILDCHECKBUILD BIN
HTSFilter 1.51.0  (landing page)
Andrea Rau
git_last_commit: 675388a
git_last_commit_date: 2025-10-29 10:13:32 -0400
nebbiolo1Linux (Ubuntu 24.04.3 LTS) / x86_64  OK    OK    OK  NO, package depends on 'DESeq2' which is not available
Package 60/138HostnameOS / ArchINSTALLBUILDCHECKBUILD BIN
icetea 1.29.0  (landing page)
Vivek Bhardwaj
git_last_commit: 2bfbdfd
git_last_commit_date: 2025-10-29 10:45:57 -0400
nebbiolo1Linux (Ubuntu 24.04.3 LTS) / x86_64  ERROR    ERROR  skipped
Package 61/138HostnameOS / ArchINSTALLBUILDCHECKBUILD BIN
infercnv 1.27.0  (landing page)
Christophe Georgescu
git_last_commit: 4e0174e
git_last_commit_date: 2025-10-29 10:52:07 -0400
nebbiolo1Linux (Ubuntu 24.04.3 LTS) / x86_64  OK    OK    OK  NO, package depends on 'SummarizedExperiment' which is not available
Package 62/138HostnameOS / ArchINSTALLBUILDCHECKBUILD BIN
IntEREst 1.35.0  (landing page)
Ali Oghabian
git_last_commit: 0e454ed
git_last_commit_date: 2025-10-29 10:37:18 -0400
nebbiolo1Linux (Ubuntu 24.04.3 LTS) / x86_64  OK    ERROR  skipped
Package 63/138HostnameOS / ArchINSTALLBUILDCHECKBUILD BIN
iSEEde 1.9.0  (landing page)
Kevin Rue-Albrecht
git_last_commit: b1d08fe
git_last_commit_date: 2025-10-29 11:24:44 -0400
nebbiolo1Linux (Ubuntu 24.04.3 LTS) / x86_64  OK    OK    OK  NO, package depends on 'iSEE' which is not available
Package 64/138HostnameOS / ArchINSTALLBUILDCHECKBUILD BIN
IsoformSwitchAnalyzeR 2.11.0  (landing page)
Kristoffer Vitting-Seerup
git_last_commit: dc055b6
git_last_commit_date: 2025-10-29 10:38:58 -0400
nebbiolo1Linux (Ubuntu 24.04.3 LTS) / x86_64  OK    OK    ERROR  
Package 65/138HostnameOS / ArchINSTALLBUILDCHECKBUILD BIN
KnowSeq 1.25.0  (landing page)
Daniel Castillo-Secilla
git_last_commit: dda9488
git_last_commit_date: 2025-10-29 10:52:51 -0400
nebbiolo1Linux (Ubuntu 24.04.3 LTS) / x86_64  OK    OK    ERROR  
Package 66/138HostnameOS / ArchINSTALLBUILDCHECKBUILD BIN
Maaslin2 1.25.0  (landing page)
Lauren McIver
git_last_commit: 576923d
git_last_commit_date: 2025-10-29 10:53:16 -0400
nebbiolo1Linux (Ubuntu 24.04.3 LTS) / x86_64  OK    ERROR  skipped
Package 67/138HostnameOS / ArchINSTALLBUILDCHECKBUILD BIN
markeR 1.1.0  (landing page)
Rita Martins-Silva
git_last_commit: 7a7e63f
git_last_commit_date: 2025-10-29 11:38:06 -0400
nebbiolo1Linux (Ubuntu 24.04.3 LTS) / x86_64  OK    OK    OK  NO, package depends on 'ComplexHeatmap' which is not available
Package 68/138HostnameOS / ArchINSTALLBUILDCHECKBUILD BIN
mastR 1.11.0  (landing page)
Jinjin Chen
git_last_commit: 84f231b
git_last_commit_date: 2025-10-29 11:22:48 -0400
nebbiolo1Linux (Ubuntu 24.04.3 LTS) / x86_64  ERROR    ERROR  skipped
Package 69/138HostnameOS / ArchINSTALLBUILDCHECKBUILD BIN
MEB 1.25.0  (landing page)
Jiadi Zhu
git_last_commit: b767e6c
git_last_commit_date: 2025-10-29 10:54:34 -0400
nebbiolo1Linux (Ubuntu 24.04.3 LTS) / x86_64  OK    OK    OK  NO, package depends on 'scater' which is not available
Package 70/138HostnameOS / ArchINSTALLBUILDCHECKBUILD BIN
MEDIPS 1.63.0  (landing page)
Lukas Chavez
git_last_commit: b8a28dc
git_last_commit_date: 2025-10-29 10:06:09 -0400
nebbiolo1Linux (Ubuntu 24.04.3 LTS) / x86_64  OK    ERROR  skipped
Package 71/138HostnameOS / ArchINSTALLBUILDCHECKBUILD BIN
MetaDICT 1.1.0  (landing page)
Bo Yuan
git_last_commit: b0ced9b
git_last_commit_date: 2025-10-29 11:37:46 -0400
nebbiolo1Linux (Ubuntu 24.04.3 LTS) / x86_64  OK    OK    OK  YES
Package 72/138HostnameOS / ArchINSTALLBUILDCHECKBUILD BIN
metaseqR2 1.23.0  (landing page)
Panagiotis Moulos
git_last_commit: 25b9df1
git_last_commit_date: 2025-10-29 10:59:18 -0400
nebbiolo1Linux (Ubuntu 24.04.3 LTS) / x86_64  OK    OK    OK  NO, package depends on 'DESeq2' which is not available
Package 73/138HostnameOS / ArchINSTALLBUILDCHECKBUILD BIN
methylMnM 1.49.0  (landing page)
Yan Zhou
git_last_commit: 0c70661
git_last_commit_date: 2025-10-29 10:16:48 -0400
nebbiolo1Linux (Ubuntu 24.04.3 LTS) / x86_64  OK    OK    OK  YES
Package 74/138HostnameOS / ArchINSTALLBUILDCHECKBUILD BIN
miloR 2.7.0  (landing page)
Mike Morgan
git_last_commit: 6c5c6a3
git_last_commit_date: 2025-10-29 11:08:58 -0400
nebbiolo1Linux (Ubuntu 24.04.3 LTS) / x86_64  OK    OK    OK  NO, package depends on 'SingleCellExperiment' which is not available
Package 75/138HostnameOS / ArchINSTALLBUILDCHECKBUILD BIN
MIRit 1.7.0  (landing page)
Jacopo Ronchi
git_last_commit: 624060e
git_last_commit_date: 2025-10-29 11:27:39 -0400
nebbiolo1Linux (Ubuntu 24.04.3 LTS) / x86_64  OK    OK    ERROR  
Package 76/138HostnameOS / ArchINSTALLBUILDCHECKBUILD BIN
MLSeq 2.29.0  (landing page)
Gokmen Zararsiz
git_last_commit: b1aac87
git_last_commit_date: 2025-10-29 10:18:29 -0400
nebbiolo1Linux (Ubuntu 24.04.3 LTS) / x86_64  OK    OK    OK  NO, package depends on 'DESeq2' which is not available
Package 77/138HostnameOS / ArchINSTALLBUILDCHECKBUILD BIN
moanin 1.19.0  (landing page)
Nelle Varoquaux
git_last_commit: 9becdba
git_last_commit_date: 2025-10-29 11:04:42 -0400
nebbiolo1Linux (Ubuntu 24.04.3 LTS) / x86_64  OK    OK    OK  NO, package depends on 'SummarizedExperiment' which is not available
Package 78/138HostnameOS / ArchINSTALLBUILDCHECKBUILD BIN
mobileRNA 1.7.0  (landing page)
Katie Jeynes-Cupper
git_last_commit: 035276e
git_last_commit_date: 2025-10-29 11:28:04 -0400
nebbiolo1Linux (Ubuntu 24.04.3 LTS) / x86_64  OK    OK    ERROR  
Package 79/138HostnameOS / ArchINSTALLBUILDCHECKBUILD BIN
MOSim 2.7.0  (landing page)
Sonia Tarazona
git_last_commit: 3237896
git_last_commit_date: 2025-10-29 10:53:49 -0400
nebbiolo1Linux (Ubuntu 24.04.3 LTS) / x86_64  OK    OK    WARNINGS  NO, package depends on 'IRanges' which is not available
Package 80/138HostnameOS / ArchINSTALLBUILDCHECKBUILD BIN
Motif2Site 1.15.0  (landing page)
Peyman Zarrineh
git_last_commit: c1fd6d7
git_last_commit_date: 2025-10-29 11:15:00 -0400
nebbiolo1Linux (Ubuntu 24.04.3 LTS) / x86_64  OK    ERROR  skipped
Package 81/138HostnameOS / ArchINSTALLBUILDCHECKBUILD BIN
msgbsR 1.35.0  (landing page)
Benjamin Mayne
git_last_commit: 77cc103
git_last_commit_date: 2025-10-29 10:38:42 -0400
nebbiolo1Linux (Ubuntu 24.04.3 LTS) / x86_64  ERROR    ERROR  skipped
Package 82/138HostnameOS / ArchINSTALLBUILDCHECKBUILD BIN
msmsTests 1.49.0  (landing page)
Josep Gregori i Font
git_last_commit: dc9d411
git_last_commit_date: 2025-10-29 10:15:47 -0400
nebbiolo1Linux (Ubuntu 24.04.3 LTS) / x86_64  OK    OK    OK  NO, package depends on 'MSnbase' which is not available
Package 83/138HostnameOS / ArchINSTALLBUILDCHECKBUILD BIN
multiHiCcompare 1.29.0  (landing page)
Mikhail Dozmorov
git_last_commit: 31f6781
git_last_commit_date: 2025-10-29 10:46:53 -0400
nebbiolo1Linux (Ubuntu 24.04.3 LTS) / x86_64  ERROR    ERROR  skipped
Package 84/138HostnameOS / ArchINSTALLBUILDCHECKBUILD BIN
muscat 1.25.0  (landing page)
Helena L. Crowell
git_last_commit: 7a0ebff
git_last_commit_date: 2025-10-29 10:53:55 -0400
nebbiolo1Linux (Ubuntu 24.04.3 LTS) / x86_64  OK    OK    ERROR  
Package 85/138HostnameOS / ArchINSTALLBUILDCHECKBUILD BIN
mutscan 1.1.0  (landing page)
Charlotte Soneson
git_last_commit: 30e3669
git_last_commit_date: 2025-10-29 11:37:32 -0400
nebbiolo1Linux (Ubuntu 24.04.3 LTS) / x86_64  OK    OK    OK  NO, package depends on 'SummarizedExperiment' which is not available
Package 86/138HostnameOS / ArchINSTALLBUILDCHECKBUILD BIN
octad 1.13.0  (landing page)
E. Chekalin
git_last_commit: 27dcaeb
git_last_commit_date: 2025-10-29 11:19:54 -0400
nebbiolo1Linux (Ubuntu 24.04.3 LTS) / x86_64  OK    OK    OK  NO, package depends on 'RUVSeq' which is not available
Package 87/138HostnameOS / ArchINSTALLBUILDCHECKBUILD BIN
PathoStat 1.37.0  (landing page)
Solaiappan Manimaran
git_last_commit: b2188f7
git_last_commit_date: 2025-10-29 10:34:57 -0400
nebbiolo1Linux (Ubuntu 24.04.3 LTS) / x86_64  OK    OK    OK  NO, package depends on 'phyloseq' which is not available
Package 88/138HostnameOS / ArchINSTALLBUILDCHECKBUILD BIN
phantasus 1.31.0  (landing page)
Alexey Sergushichev
git_last_commit: 30cb2d9
git_last_commit_date: 2025-10-29 10:44:01 -0400
nebbiolo1Linux (Ubuntu 24.04.3 LTS) / x86_64  OK    OK    ERROR  
Package 89/138HostnameOS / ArchINSTALLBUILDCHECKBUILD BIN
PhIPData 1.19.0  (landing page)
Athena Chen
git_last_commit: 82391da
git_last_commit_date: 2025-10-29 11:06:46 -0400
nebbiolo1Linux (Ubuntu 24.04.3 LTS) / x86_64  OK    OK    OK  NO, package depends on 'SummarizedExperiment' which is not available
Package 90/138HostnameOS / ArchINSTALLBUILDCHECKBUILD BIN
ppcseq 1.19.0  (landing page)
Stefano Mangiola
git_last_commit: b907051
git_last_commit_date: 2025-10-29 11:08:20 -0400
nebbiolo1Linux (Ubuntu 24.04.3 LTS) / x86_64  OK    OK    OK  YES
Package 91/138HostnameOS / ArchINSTALLBUILDCHECKBUILD BIN
PRONE 1.5.0  (landing page)
Lis Arend
git_last_commit: cfe6a55
git_last_commit_date: 2025-10-29 11:32:38 -0400
nebbiolo1Linux (Ubuntu 24.04.3 LTS) / x86_64  OK    OK    OK  NO, package depends on 'SummarizedExperiment' which is not available
Package 92/138HostnameOS / ArchINSTALLBUILDCHECKBUILD BIN
PROPER 1.43.0  (landing page)
Hao Wu
git_last_commit: 54779f4
git_last_commit_date: 2025-10-29 10:23:16 -0400
nebbiolo1Linux (Ubuntu 24.04.3 LTS) / x86_64  OK    OK    WARNINGS  YES
Package 93/138HostnameOS / ArchINSTALLBUILDCHECKBUILD BIN
psichomics 1.37.0  (landing page)
Nuno Saraiva-Agostinho
git_last_commit: a7c8792
git_last_commit_date: 2025-10-29 10:35:05 -0400
nebbiolo1Linux (Ubuntu 24.04.3 LTS) / x86_64  OK    OK    OK  NO, package depends on 'AnnotationDbi' which is not available
Package 94/138HostnameOS / ArchINSTALLBUILDCHECKBUILD BIN
RCM 1.27.0  (landing page)
Stijn Hawinkel
git_last_commit: 3b6b6a8
git_last_commit_date: 2025-10-29 10:49:27 -0400
nebbiolo1Linux (Ubuntu 24.04.3 LTS) / x86_64  OK    OK    OK  NO, package depends on 'phyloseq' which is not available
Package 95/138HostnameOS / ArchINSTALLBUILDCHECKBUILD BIN
regsplice 1.37.0  (landing page)
Lukas M. Weber
git_last_commit: e903be0
git_last_commit_date: 2025-10-29 10:35:24 -0400
nebbiolo1Linux (Ubuntu 24.04.3 LTS) / x86_64  OK    OK    OK  NO, package depends on 'SummarizedExperiment' which is not available
Package 96/138HostnameOS / ArchINSTALLBUILDCHECKBUILD BIN
ReportingTools 2.51.0  (landing page)
Jason A. Hackney , Gabriel Becker
git_last_commit: ba00f72
git_last_commit_date: 2025-10-29 10:12:14 -0400
nebbiolo1Linux (Ubuntu 24.04.3 LTS) / x86_64  ERROR    ERROR  skipped
Package 97/138HostnameOS / ArchINSTALLBUILDCHECKBUILD BIN
RFLOMICS 1.3.0  (landing page)
Nadia Bessoltane
git_last_commit: a7a98e3
git_last_commit_date: 2025-10-29 11:35:35 -0400
nebbiolo1Linux (Ubuntu 24.04.3 LTS) / x86_64  ERROR    ERROR  skipped
Package 98/138HostnameOS / ArchINSTALLBUILDCHECKBUILD BIN
RNAseqCovarImpute 1.9.0  (landing page)
Brennan Baker
git_last_commit: c21a243
git_last_commit_date: 2025-10-29 11:25:57 -0400
nebbiolo1Linux (Ubuntu 24.04.3 LTS) / x86_64  OK    OK    OK  YES
Package 99/138HostnameOS / ArchINSTALLBUILDCHECKBUILD BIN
RnaSeqSampleSize 2.21.0  (landing page)
Shilin Zhao Developer
git_last_commit: d615113
git_last_commit_date: 2025-10-29 11:03:19 -0400
nebbiolo1Linux (Ubuntu 24.04.3 LTS) / x86_64  OK    OK    OK  NO, package depends on 'biomaRt' which is not available
Package 100/138HostnameOS / ArchINSTALLBUILDCHECKBUILD BIN
ROSeq 1.23.0  (landing page)
Krishan Gupta
git_last_commit: da1505d
git_last_commit_date: 2025-10-29 10:58:57 -0400
nebbiolo1Linux (Ubuntu 24.04.3 LTS) / x86_64  OK    OK    WARNINGS  YES
Package 101/138HostnameOS / ArchINSTALLBUILDCHECKBUILD BIN
RUVSeq 1.45.0  (landing page)
Davide Risso
git_last_commit: 7e08fb9
git_last_commit_date: 2025-10-29 10:19:52 -0400
nebbiolo1Linux (Ubuntu 24.04.3 LTS) / x86_64  OK    OK    OK  NO, package depends on 'EDASeq' which is not available
Package 102/138HostnameOS / ArchINSTALLBUILDCHECKBUILD BIN
Rvisdiff 1.9.0  (landing page)
David Barrios
git_last_commit: ba8b3d8
git_last_commit_date: 2025-10-29 11:25:13 -0400
nebbiolo1Linux (Ubuntu 24.04.3 LTS) / x86_64  OK    OK    OK  YES
Package 103/138HostnameOS / ArchINSTALLBUILDCHECKBUILD BIN
saseR 1.7.0  (landing page)
Alexandre Segers
git_last_commit: 7f96081
git_last_commit_date: 2025-10-29 11:27:12 -0400
nebbiolo1Linux (Ubuntu 24.04.3 LTS) / x86_64  OK    OK    WARNINGS  NO, package depends on 'ASpli' which is not available
Package 104/138HostnameOS / ArchINSTALLBUILDCHECKBUILD BIN
scCB2 1.21.0  (landing page)
Zijian Ni
git_last_commit: 6b117de
git_last_commit_date: 2025-10-29 11:00:33 -0400
nebbiolo1Linux (Ubuntu 24.04.3 LTS) / x86_64  OK    OK    OK  NO, package depends on 'SingleCellExperiment' which is not available
Package 105/138HostnameOS / ArchINSTALLBUILDCHECKBUILD BIN
scde 2.39.0  (landing page)
Evan Biederstedt
git_last_commit: 013e4aa
git_last_commit_date: 2025-10-29 10:28:40 -0400
nebbiolo1Linux (Ubuntu 24.04.3 LTS) / x86_64  OK    OK    WARNINGS  YES
Package 106/138HostnameOS / ArchINSTALLBUILDCHECKBUILD BIN
scone 1.35.0  (landing page)
Davide Risso
git_last_commit: 60f7f37
git_last_commit_date: 2025-10-29 10:36:05 -0400
nebbiolo1Linux (Ubuntu 24.04.3 LTS) / x86_64  OK    OK    OK  NO, package depends on 'SummarizedExperiment' which is not available
Package 107/138HostnameOS / ArchINSTALLBUILDCHECKBUILD BIN
scran 1.39.0  (landing page)
Aaron Lun
git_last_commit: 5b4b8a1
git_last_commit_date: 2025-10-29 10:31:34 -0400
nebbiolo1Linux (Ubuntu 24.04.3 LTS) / x86_64  OK    OK    WARNINGS  NO, package depends on 'SingleCellExperiment' which is not available
Package 108/138HostnameOS / ArchINSTALLBUILDCHECKBUILD BIN
ScreenR 1.13.0  (landing page)
Emanuel Michele Soda
git_last_commit: 6addcf9
git_last_commit_date: 2025-10-29 11:17:18 -0400
nebbiolo1Linux (Ubuntu 24.04.3 LTS) / x86_64  OK    OK    ERROR  
Package 109/138HostnameOS / ArchINSTALLBUILDCHECKBUILD BIN
SEtools 1.25.0  (landing page)
Pierre-Luc Germain
git_last_commit: beb739e
git_last_commit_date: 2025-10-29 10:54:13 -0400
nebbiolo1Linux (Ubuntu 24.04.3 LTS) / x86_64  OK    OK    OK  NO, package depends on 'SummarizedExperiment' which is not available
Package 110/138HostnameOS / ArchINSTALLBUILDCHECKBUILD BIN
shinyDSP 1.3.0  (landing page)
Seung J. Kim
git_last_commit: cdbba28
git_last_commit_date: 2025-10-29 11:35:46 -0400
nebbiolo1Linux (Ubuntu 24.04.3 LTS) / x86_64  OK    OK    OK  NO, package depends on 'AnnotationHub' which is not available
Package 111/138HostnameOS / ArchINSTALLBUILDCHECKBUILD BIN
SIMD 1.29.0  (landing page)
Jiadi Zhu
git_last_commit: cf6185c
git_last_commit_date: 2025-10-29 10:47:35 -0400
nebbiolo1Linux (Ubuntu 24.04.3 LTS) / x86_64  OK    OK    OK  YES
Package 112/138HostnameOS / ArchINSTALLBUILDCHECKBUILD BIN
simPIC 1.7.0  (landing page)
Sagrika Chugh
git_last_commit: 8f16458
git_last_commit_date: 2025-10-29 11:28:25 -0400
nebbiolo1Linux (Ubuntu 24.04.3 LTS) / x86_64  OK    OK    OK  NO, package depends on 'SingleCellExperiment' which is not available
Package 113/138HostnameOS / ArchINSTALLBUILDCHECKBUILD BIN
singscore 1.31.0  (landing page)
Malvika Kharbanda
git_last_commit: c86aa46
git_last_commit_date: 2025-10-29 10:45:11 -0400
nebbiolo1Linux (Ubuntu 24.04.3 LTS) / x86_64  OK    OK    OK  NO, package depends on 'GSEABase' which is not available
Package 114/138HostnameOS / ArchINSTALLBUILDCHECKBUILD BIN
SpaNorm 1.5.0  (landing page)
Dharmesh D. Bhuva
git_last_commit: 2845190
git_last_commit_date: 2025-10-29 11:32:47 -0400
nebbiolo1Linux (Ubuntu 24.04.3 LTS) / x86_64  OK    OK    OK  NO, package depends on 'scran' which is not available
Package 115/138HostnameOS / ArchINSTALLBUILDCHECKBUILD BIN
sparrow 1.17.0  (landing page)
Steve Lianoglou
git_last_commit: 03b668b
git_last_commit_date: 2025-10-29 11:12:41 -0400
nebbiolo1Linux (Ubuntu 24.04.3 LTS) / x86_64  OK    OK    ERROR  
Package 116/138HostnameOS / ArchINSTALLBUILDCHECKBUILD BIN
spatialHeatmap 2.17.0  (landing page)
Jianhai Zhang
git_last_commit: aa4e2ac
git_last_commit_date: 2025-10-29 11:02:59 -0400
nebbiolo1Linux (Ubuntu 24.04.3 LTS) / x86_64  OK    ERROR  skipped
Package 117/138HostnameOS / ArchINSTALLBUILDCHECKBUILD BIN
speckle 1.11.0  (landing page)
Belinda Phipson
git_last_commit: 36f86ad
git_last_commit_date: 2025-10-29 11:20:18 -0400
nebbiolo1Linux (Ubuntu 24.04.3 LTS) / x86_64  OK    OK    OK  NO, package depends on 'SingleCellExperiment' which is not available
Package 118/138HostnameOS / ArchINSTALLBUILDCHECKBUILD BIN
splatter 1.35.0  (landing page)
Luke Zappia
git_last_commit: 9b5d2a8
git_last_commit_date: 2025-10-29 10:36:34 -0400
nebbiolo1Linux (Ubuntu 24.04.3 LTS) / x86_64  OK    OK    OK  NO, package depends on 'SingleCellExperiment' which is not available
Package 119/138HostnameOS / ArchINSTALLBUILDCHECKBUILD BIN
SPsimSeq 1.21.0  (landing page)
Joris Meys
git_last_commit: c584581
git_last_commit_date: 2025-10-29 11:00:01 -0400
nebbiolo1Linux (Ubuntu 24.04.3 LTS) / x86_64  OK    OK    OK  NO, package depends on 'SingleCellExperiment' which is not available
Package 120/138HostnameOS / ArchINSTALLBUILDCHECKBUILD BIN
srnadiff 1.31.0  (landing page)
Zytnicki Matthias
git_last_commit: 680956d
git_last_commit_date: 2025-10-29 10:43:01 -0400
nebbiolo1Linux (Ubuntu 24.04.3 LTS) / x86_64  OK    OK    WARNINGS  NO, package depends on 'Seqinfo' which is not available
Package 121/138HostnameOS / ArchINSTALLBUILDCHECKBUILD BIN
sSNAPPY 1.15.0  (landing page)
Wenjun Liu
git_last_commit: a86fed1
git_last_commit_date: 2025-10-29 11:16:30 -0400
nebbiolo1Linux (Ubuntu 24.04.3 LTS) / x86_64  OK    OK    OK  NO, package depends on 'graphite' which is not available
Package 122/138HostnameOS / ArchINSTALLBUILDCHECKBUILD BIN
standR 1.15.0  (landing page)
Ning Liu
git_last_commit: 9a79065
git_last_commit_date: 2025-10-29 11:16:04 -0400
nebbiolo1Linux (Ubuntu 24.04.3 LTS) / x86_64  OK    OK    OK  NO, package depends on 'SpatialExperiment' which is not available
Package 123/138HostnameOS / ArchINSTALLBUILDCHECKBUILD BIN
STATegRa 1.47.0  (landing page)
David Gomez-Cabrero , Núria Planell
git_last_commit: 1932640
git_last_commit_date: 2025-10-29 10:22:24 -0400
nebbiolo1Linux (Ubuntu 24.04.3 LTS) / x86_64  OK    OK    OK  NO, package depends on 'affy' which is not available
Package 124/138HostnameOS / ArchINSTALLBUILDCHECKBUILD BIN
Statial 1.13.0  (landing page)
Farhan Ameen
git_last_commit: 2a5a1ee
git_last_commit_date: 2025-10-29 11:19:57 -0400
nebbiolo1Linux (Ubuntu 24.04.3 LTS) / x86_64  OK    OK    OK  NO, package depends on 'SingleCellExperiment' which is not available
Package 125/138HostnameOS / ArchINSTALLBUILDCHECKBUILD BIN
SurfR 1.7.0  (landing page)
Aurora Maurizio
git_last_commit: 90bbf06
git_last_commit_date: 2025-10-29 11:27:44 -0400
nebbiolo1Linux (Ubuntu 24.04.3 LTS) / x86_64  OK    OK    OK  NO, package depends on 'SPsimSeq' which is not available
Package 126/138HostnameOS / ArchINSTALLBUILDCHECKBUILD BIN
sva 3.59.0  (landing page)
Jeffrey T. Leek , John D. Storey
git_last_commit: fefe806
git_last_commit_date: 2025-10-29 10:09:21 -0400
nebbiolo1Linux (Ubuntu 24.04.3 LTS) / x86_64  OK    OK    OK  NO, package depends on 'genefilter' which is not available
Package 127/138HostnameOS / ArchINSTALLBUILDCHECKBUILD BIN
TBSignatureProfiler 1.23.0  (landing page)
Kiloni Quiles
git_last_commit: fa5ed4c
git_last_commit_date: 2025-10-29 10:58:59 -0400
nebbiolo1Linux (Ubuntu 24.04.3 LTS) / x86_64  OK    OK    OK  NO, package depends on 'ASSIGN' which is not available
Package 128/138HostnameOS / ArchINSTALLBUILDCHECKBUILD BIN
TCC 1.51.0  (landing page)
Jianqiang Sun
git_last_commit: 0eb2b06
git_last_commit_date: 2025-10-29 10:16:10 -0400
nebbiolo1Linux (Ubuntu 24.04.3 LTS) / x86_64  OK    OK    OK  NO, package depends on 'DESeq2' which is not available
Package 129/138HostnameOS / ArchINSTALLBUILDCHECKBUILD BIN
TCseq 1.35.0  (landing page)
Mengjun Wu
git_last_commit: 049f241
git_last_commit_date: 2025-10-29 10:36:13 -0400
nebbiolo1Linux (Ubuntu 24.04.3 LTS) / x86_64  OK    OK    WARNINGS  NO, package depends on 'GenomicRanges' which is not available
Package 130/138HostnameOS / ArchINSTALLBUILDCHECKBUILD BIN
tradeSeq 1.25.0  (landing page)
Hector Roux de Bezieux
git_last_commit: 4e78622
git_last_commit_date: 2025-10-29 10:55:42 -0400
nebbiolo1Linux (Ubuntu 24.04.3 LTS) / x86_64  OK    OK    OK  NO, package depends on 'SingleCellExperiment' which is not available
Package 131/138HostnameOS / ArchINSTALLBUILDCHECKBUILD BIN
tRanslatome 1.49.0  (landing page)
Toma Tebaldi , Erik Dassi
git_last_commit: 6b31799
git_last_commit_date: 2025-10-29 10:14:58 -0400
nebbiolo1Linux (Ubuntu 24.04.3 LTS) / x86_64  OK    OK    OK  NO, package depends on 'DESeq2' which is not available
Package 132/138HostnameOS / ArchINSTALLBUILDCHECKBUILD BIN
treeclimbR 1.7.0  (landing page)
Charlotte Soneson
git_last_commit: 3ba408c
git_last_commit_date: 2025-10-29 11:28:31 -0400
nebbiolo1Linux (Ubuntu 24.04.3 LTS) / x86_64  OK    OK    OK  NO, package depends on 'TreeSummarizedExperiment' which is not available
Package 133/138HostnameOS / ArchINSTALLBUILDCHECKBUILD BIN
treekoR 1.19.0  (landing page)
Adam Chan
git_last_commit: 405f7ca
git_last_commit_date: 2025-10-29 11:08:22 -0400
nebbiolo1Linux (Ubuntu 24.04.3 LTS) / x86_64  OK    OK    OK  NO, package depends on 'SingleCellExperiment' which is not available
Package 134/138HostnameOS / ArchINSTALLBUILDCHECKBUILD BIN
tweeDEseq 1.57.0  (landing page)
Dolors Pelegri-Siso
git_last_commit: d453ad1
git_last_commit_date: 2025-10-29 10:09:35 -0400
nebbiolo1Linux (Ubuntu 24.04.3 LTS) / x86_64  OK    OK    WARNINGS  YES
Package 135/138HostnameOS / ArchINSTALLBUILDCHECKBUILD BIN
vidger 1.31.0  (landing page)
Brandon Monier
git_last_commit: bdddd06
git_last_commit_date: 2025-10-29 10:43:35 -0400
nebbiolo1Linux (Ubuntu 24.04.3 LTS) / x86_64  OK    OK    OK  NO, package depends on 'DESeq2' which is not available
Package 136/138HostnameOS / ArchINSTALLBUILDCHECKBUILD BIN
xcore 1.15.0  (landing page)
Maciej Migdał
git_last_commit: a7dbfb4
git_last_commit_date: 2025-10-29 11:15:21 -0400
nebbiolo1Linux (Ubuntu 24.04.3 LTS) / x86_64  OK    OK    OK  NO, package depends on 'DelayedArray' which is not available
Package 137/138HostnameOS / ArchINSTALLBUILDCHECKBUILD BIN
yarn 1.37.0  (landing page)
Joseph N Paulson
git_last_commit: 1ca2322
git_last_commit_date: 2025-10-29 10:35:35 -0400
nebbiolo1Linux (Ubuntu 24.04.3 LTS) / x86_64  OK    OK    OK  NO, package depends on 'biomaRt' which is not available
Package 138/138HostnameOS / ArchINSTALLBUILDCHECKBUILD BIN
zinbwave 1.33.0  (landing page)
Davide Risso
git_last_commit: dee1bb8
git_last_commit_date: 2025-10-29 10:39:04 -0400
nebbiolo1Linux (Ubuntu 24.04.3 LTS) / x86_64  OK    OK    OK  NO, package depends on 'SummarizedExperiment' which is not available