Back to Build/check report for BioC 3.23:   simplified   long
ABCDEFGHIJKLMNOPQR[S]TUVWXYZ

This page was generated on 2025-11-05 11:32 -0500 (Wed, 05 Nov 2025).

HostnameOSArch (*)R versionInstalled pkgs
nebbiolo1Linux (Ubuntu 24.04.3 LTS)x86_64R Under development (unstable) (2025-10-20 r88955) -- "Unsuffered Consequences" 4818
Click on any hostname to see more info about the system (e.g. compilers)      (*) as reported by 'uname -p', except on Windows and Mac OS X

All results for package SingleCellExperiment


To the developers/maintainers of the SingleCellExperiment package:
- Allow up to 24 hours (and sometimes 48 hours) for your latest push to git@git.bioconductor.org:packages/SingleCellExperiment.git to reflect on this report. See Troubleshooting Build Report for more information.
- Use the following Renviron settings to reproduce errors and warnings.
- If 'R CMD check' started to fail recently on the Linux builder(s) over a missing dependency, add the missing dependency to 'Suggests:' in your DESCRIPTION file. See Renviron.bioc for more information.

raw results

Package 1997/2323HostnameOS / ArchINSTALLBUILDCHECKBUILD BIN
SingleCellExperiment 1.33.0  (landing page)
Davide Risso
Snapshot Date: 2025-11-04 13:40 -0500 (Tue, 04 Nov 2025)
git_url: https://git.bioconductor.org/packages/SingleCellExperiment
git_branch: devel
git_last_commit: bdf6af0
git_last_commit_date: 2025-10-29 10:39:29 -0500 (Wed, 29 Oct 2025)
nebbiolo1Linux (Ubuntu 24.04.3 LTS) / x86_64  OK    OK    OK  UNNEEDED, same version is already published



Results for Bioconductor software packages that depend directly on package SingleCellExperiment

QUICK STATSOS / ArchINSTALLBUILDCHECKBUILD BIN
nebbiolo1Linux (Ubuntu 24.04.3 LTS) / x86_64
01214
04211
0421186
Package 1/215HostnameOS / ArchINSTALLBUILDCHECKBUILD BIN
ADImpute 1.21.0  (landing page)
Ana Carolina Leote
git_last_commit: 8a9fa73
git_last_commit_date: 2025-10-29 11:04:05 -0500
nebbiolo1Linux (Ubuntu 24.04.3 LTS) / x86_64  OK    OK    WARNINGS  UNNEEDED, same version is already published
Package 2/215HostnameOS / ArchINSTALLBUILDCHECKBUILD BIN
aggregateBioVar 1.21.0  (landing page)
Jason Ratcliff
git_last_commit: b0e2560
git_last_commit_date: 2025-10-29 11:02:45 -0500
nebbiolo1Linux (Ubuntu 24.04.3 LTS) / x86_64  OK    OK    OK  UNNEEDED, same version is already published
Package 3/215HostnameOS / ArchINSTALLBUILDCHECKBUILD BIN
airpart 1.19.0  (landing page)
Wancen Mu
git_last_commit: b69681a
git_last_commit_date: 2025-10-29 11:07:36 -0500
nebbiolo1Linux (Ubuntu 24.04.3 LTS) / x86_64  OK    OK    OK  UNNEEDED, same version is already published
Package 4/215HostnameOS / ArchINSTALLBUILDCHECKBUILD BIN
alabaster.sce 1.11.0  (landing page)
Aaron Lun
git_last_commit: 97c7aa5
git_last_commit_date: 2025-10-29 11:21:19 -0500
nebbiolo1Linux (Ubuntu 24.04.3 LTS) / x86_64  OK    OK    OK  UNNEEDED, same version is already published
Package 5/215HostnameOS / ArchINSTALLBUILDCHECKBUILD BIN
alabaster.sfe 1.3.0  (landing page)
Lambda Moses
git_last_commit: a71e5d5
git_last_commit_date: 2025-10-29 11:35:08 -0500
nebbiolo1Linux (Ubuntu 24.04.3 LTS) / x86_64  OK    OK    OK  NO, package depends on 'SpatialFeatureExperiment' which is not available
Package 6/215HostnameOS / ArchINSTALLBUILDCHECKBUILD BIN
anansi 1.1.0  (landing page)
Thomaz Bastiaanssen
git_last_commit: d5ff74a
git_last_commit_date: 2025-10-29 11:38:37 -0500
nebbiolo1Linux (Ubuntu 24.04.3 LTS) / x86_64  OK    OK    OK  UNNEEDED, same version is already published
Package 7/215HostnameOS / ArchINSTALLBUILDCHECKBUILD BIN
anglemania 1.1.0  (landing page)
Aaron Kollotzek
git_last_commit: fee34a3
git_last_commit_date: 2025-10-29 11:38:09 -0500
nebbiolo1Linux (Ubuntu 24.04.3 LTS) / x86_64  OK    OK    OK  UNNEEDED, same version is already published
Package 8/215HostnameOS / ArchINSTALLBUILDCHECKBUILD BIN
APL 1.15.0  (landing page)
Clemens Kohl
git_last_commit: daf6edd
git_last_commit_date: 2025-10-29 11:17:02 -0500
nebbiolo1Linux (Ubuntu 24.04.3 LTS) / x86_64  OK    OK    OK  UNNEEDED, same version is already published
Package 9/215HostnameOS / ArchINSTALLBUILDCHECKBUILD BIN
ASURAT 1.15.0  (landing page)
Keita Iida
git_last_commit: 8ae6e6f
git_last_commit_date: 2025-10-29 11:15:46 -0500
nebbiolo1Linux (Ubuntu 24.04.3 LTS) / x86_64  OK    OK    OK  UNNEEDED, same version is already published
Package 10/215HostnameOS / ArchINSTALLBUILDCHECKBUILD BIN
Banksy 1.7.0  (landing page)
Joseph Lee
git_last_commit: 4bdc545
git_last_commit_date: 2025-10-29 11:27:15 -0500
nebbiolo1Linux (Ubuntu 24.04.3 LTS) / x86_64  OK    OK    OK  UNNEEDED, same version is already published
Package 11/215HostnameOS / ArchINSTALLBUILDCHECKBUILD BIN
BASiCS 2.23.0  (landing page)
Catalina Vallejos
git_last_commit: c192aba
git_last_commit_date: 2025-10-29 10:41:03 -0500
nebbiolo1Linux (Ubuntu 24.04.3 LTS) / x86_64  OK    OK    WARNINGS  UNNEEDED, same version is already published
Package 12/215HostnameOS / ArchINSTALLBUILDCHECKBUILD BIN
BASiCStan 1.13.0  (landing page)
Alan O'Callaghan
git_last_commit: a442827
git_last_commit_date: 2025-10-29 11:18:18 -0500
nebbiolo1Linux (Ubuntu 24.04.3 LTS) / x86_64  OK    OK    OK  UNNEEDED, same version is already published
Package 13/215HostnameOS / ArchINSTALLBUILDCHECKBUILD BIN
batchelor 1.27.0  (landing page)
Aaron Lun
git_last_commit: bb31e4b
git_last_commit_date: 2025-10-29 10:51:04 -0500
nebbiolo1Linux (Ubuntu 24.04.3 LTS) / x86_64  OK    OK    OK  UNNEEDED, same version is already published
Package 14/215HostnameOS / ArchINSTALLBUILDCHECKBUILD BIN
BayesSpace 1.21.0  (landing page)
Senbai Kang
git_last_commit: 47c1795
git_last_commit_date: 2025-10-29 11:03:05 -0500
nebbiolo1Linux (Ubuntu 24.04.3 LTS) / x86_64  OK    OK    OK  UNNEEDED, same version is already published
Package 15/215HostnameOS / ArchINSTALLBUILDCHECKBUILD BIN
bayNorm 1.29.0  (landing page)
Wenhao Tang
git_last_commit: afe0e44
git_last_commit_date: 2025-10-29 10:48:07 -0500
nebbiolo1Linux (Ubuntu 24.04.3 LTS) / x86_64  OK    OK    OK  UNNEEDED, same version is already published
Package 16/215HostnameOS / ArchINSTALLBUILDCHECKBUILD BIN
blase 1.1.0  (landing page)
Andrew McCluskey
git_last_commit: 7118ee1
git_last_commit_date: 2025-10-29 11:38:12 -0500
nebbiolo1Linux (Ubuntu 24.04.3 LTS) / x86_64  OK    OK    OK  UNNEEDED, same version is already published
Package 17/215HostnameOS / ArchINSTALLBUILDCHECKBUILD BIN
BUSseq 1.17.0  (landing page)
Fangda Song
git_last_commit: effd843
git_last_commit_date: 2025-10-29 11:10:22 -0500
nebbiolo1Linux (Ubuntu 24.04.3 LTS) / x86_64  OK    OK    OK  UNNEEDED, same version is already published
Package 18/215HostnameOS / ArchINSTALLBUILDCHECKBUILD BIN
CARDspa 1.3.0  (landing page)
Jing Fu
git_last_commit: dbb2600
git_last_commit_date: 2025-10-29 11:34:40 -0500
nebbiolo1Linux (Ubuntu 24.04.3 LTS) / x86_64  OK    OK    OK  UNNEEDED, same version is already published
Package 19/215HostnameOS / ArchINSTALLBUILDCHECKBUILD BIN
CATALYST 1.35.0  (landing page)
Helena L. Crowell
git_last_commit: 2e03f66
git_last_commit_date: 2025-10-29 10:38:04 -0500
nebbiolo1Linux (Ubuntu 24.04.3 LTS) / x86_64  OK    OK    OK  UNNEEDED, same version is already published
Package 20/215HostnameOS / ArchINSTALLBUILDCHECKBUILD BIN
CatsCradle 1.5.1  (landing page)
Michael Shapiro
git_last_commit: 032f58b
git_last_commit_date: 2025-11-04 07:21:19 -0500
nebbiolo1Linux (Ubuntu 24.04.3 LTS) / x86_64  OK    OK    OK  YES
Package 21/215HostnameOS / ArchINSTALLBUILDCHECKBUILD BIN
ccfindR 1.31.0  (landing page)
Jun Woo
git_last_commit: ee2b32c
git_last_commit_date: 2025-10-29 10:45:06 -0500
nebbiolo1Linux (Ubuntu 24.04.3 LTS) / x86_64  OK    OK    OK  UNNEEDED, same version is already published
Package 22/215HostnameOS / ArchINSTALLBUILDCHECKBUILD BIN
ccImpute 1.13.0  (landing page)
Marcin Malec
git_last_commit: 076b708
git_last_commit_date: 2025-10-29 11:19:37 -0500
nebbiolo1Linux (Ubuntu 24.04.3 LTS) / x86_64  OK    OK    OK  UNNEEDED, same version is already published
Package 23/215HostnameOS / ArchINSTALLBUILDCHECKBUILD BIN
CDI 1.9.0  (landing page)
Jiyuan Fang
git_last_commit: e2bde79
git_last_commit_date: 2025-10-29 11:24:10 -0500
nebbiolo1Linux (Ubuntu 24.04.3 LTS) / x86_64  OK    OK    OK  UNNEEDED, same version is already published
Package 24/215HostnameOS / ArchINSTALLBUILDCHECKBUILD BIN
celda 1.27.0  (landing page)
Joshua Campbell
git_last_commit: 9bcee6f
git_last_commit_date: 2025-10-29 10:52:12 -0500
nebbiolo1Linux (Ubuntu 24.04.3 LTS) / x86_64  OK    OK    OK  YES
Package 25/215HostnameOS / ArchINSTALLBUILDCHECKBUILD BIN
CellBench 1.27.0  (landing page)
Shian Su
git_last_commit: ecbe643
git_last_commit_date: 2025-10-29 10:50:23 -0500
nebbiolo1Linux (Ubuntu 24.04.3 LTS) / x86_64  OK    OK    OK  UNNEEDED, same version is already published
Package 26/215HostnameOS / ArchINSTALLBUILDCHECKBUILD BIN
CelliD 1.19.0  (landing page)
Akira Cortal
git_last_commit: bfb224e
git_last_commit_date: 2025-10-29 11:07:10 -0500
nebbiolo1Linux (Ubuntu 24.04.3 LTS) / x86_64  OK    OK    WARNINGS  UNNEEDED, same version is already published
Package 27/215HostnameOS / ArchINSTALLBUILDCHECKBUILD BIN
CellMixS 1.27.0  (landing page)
Almut Lütge
git_last_commit: 4692bc3
git_last_commit_date: 2025-10-29 10:51:12 -0500
nebbiolo1Linux (Ubuntu 24.04.3 LTS) / x86_64  OK    OK    OK  UNNEEDED, same version is already published
Package 28/215HostnameOS / ArchINSTALLBUILDCHECKBUILD BIN
CellTrails 1.29.0  (landing page)
Daniel Ellwanger
git_last_commit: 75d815a
git_last_commit_date: 2025-10-29 10:46:02 -0500
nebbiolo1Linux (Ubuntu 24.04.3 LTS) / x86_64  OK    OK    OK  UNNEEDED, same version is already published
Package 29/215HostnameOS / ArchINSTALLBUILDCHECKBUILD BIN
Cepo 1.17.0  (landing page)
Hani Jieun Kim
git_last_commit: 884e02b
git_last_commit_date: 2025-10-29 11:13:24 -0500
nebbiolo1Linux (Ubuntu 24.04.3 LTS) / x86_64  OK    OK    OK  YES
Package 30/215HostnameOS / ArchINSTALLBUILDCHECKBUILD BIN
CHETAH 1.27.0  (landing page)
Jurrian de Kanter
git_last_commit: 93f3784
git_last_commit_date: 2025-10-29 11:17:46 -0500
nebbiolo1Linux (Ubuntu 24.04.3 LTS) / x86_64  OK    OK    OK  UNNEEDED, same version is already published
Package 31/215HostnameOS / ArchINSTALLBUILDCHECKBUILD BIN
chevreulPlot 1.3.0  (landing page)
Kevin Stachelek
git_last_commit: a18fe12
git_last_commit_date: 2025-10-29 11:34:14 -0500
nebbiolo1Linux (Ubuntu 24.04.3 LTS) / x86_64  OK    OK    OK  YES
Package 32/215HostnameOS / ArchINSTALLBUILDCHECKBUILD BIN
chevreulProcess 1.3.0  (landing page)
Kevin Stachelek
git_last_commit: c6b3ecf
git_last_commit_date: 2025-10-29 11:34:17 -0500
nebbiolo1Linux (Ubuntu 24.04.3 LTS) / x86_64  OK    OK    OK  YES
Package 33/215HostnameOS / ArchINSTALLBUILDCHECKBUILD BIN
chevreulShiny 1.3.0  (landing page)
Kevin Stachelek
git_last_commit: 7845161
git_last_commit_date: 2025-10-29 11:34:20 -0500
nebbiolo1Linux (Ubuntu 24.04.3 LTS) / x86_64  OK    OK    OK  NO, package depends on 'EnhancedVolcano' which is not available
Package 34/215HostnameOS / ArchINSTALLBUILDCHECKBUILD BIN
ChromSCape 1.21.0  (landing page)
Pacome Prompsy
git_last_commit: 47d0ff7
git_last_commit_date: 2025-10-29 11:02:56 -0500
nebbiolo1Linux (Ubuntu 24.04.3 LTS) / x86_64  OK    OK    WARNINGS  YES
Package 35/215HostnameOS / ArchINSTALLBUILDCHECKBUILD BIN
CiteFuse 1.23.0  (landing page)
Yingxin Lin
git_last_commit: ef26cba
git_last_commit_date: 2025-10-29 10:58:33 -0500
nebbiolo1Linux (Ubuntu 24.04.3 LTS) / x86_64  OK    OK    OK  UNNEEDED, same version is already published
Package 36/215HostnameOS / ArchINSTALLBUILDCHECKBUILD BIN
clusterExperiment 2.31.0  (landing page)
Elizabeth Purdom
git_last_commit: dc97d45
git_last_commit_date: 2025-10-29 10:33:07 -0500
nebbiolo1Linux (Ubuntu 24.04.3 LTS) / x86_64  OK    OK    WARNINGS  UNNEEDED, same version is already published
Package 37/215HostnameOS / ArchINSTALLBUILDCHECKBUILD BIN
ClusterFoldSimilarity 1.7.0  (landing page)
Oscar Gonzalez-Velasco
git_last_commit: d5231f7
git_last_commit_date: 2025-10-29 11:26:46 -0500
nebbiolo1Linux (Ubuntu 24.04.3 LTS) / x86_64  OK    OK    WARNINGS  UNNEEDED, same version is already published
Package 38/215HostnameOS / ArchINSTALLBUILDCHECKBUILD BIN
clustifyr 1.23.0  (landing page)
Rui Fu
git_last_commit: a7c098e
git_last_commit_date: 2025-10-29 10:56:51 -0500
nebbiolo1Linux (Ubuntu 24.04.3 LTS) / x86_64  OK    OK    OK  UNNEEDED, same version is already published
Package 39/215HostnameOS / ArchINSTALLBUILDCHECKBUILD BIN
clustSIGNAL 1.3.0  (landing page)
Pratibha Panwar
git_last_commit: 2c2540c
git_last_commit_date: 2025-10-29 11:35:51 -0500
nebbiolo1Linux (Ubuntu 24.04.3 LTS) / x86_64  OK    OK    OK  UNNEEDED, same version is already published
Package 40/215HostnameOS / ArchINSTALLBUILDCHECKBUILD BIN
CoGAPS 3.31.0  (landing page)
Elana J. Fertig
git_last_commit: 46dd3c5
git_last_commit_date: 2025-10-29 10:05:26 -0500
nebbiolo1Linux (Ubuntu 24.04.3 LTS) / x86_64  OK    OK    OK  UNNEEDED, same version is already published
Package 41/215HostnameOS / ArchINSTALLBUILDCHECKBUILD BIN
concordexR 1.11.0  (landing page)
Kayla Jackson
git_last_commit: 7b24dc8
git_last_commit_date: 2025-10-29 11:22:42 -0500
nebbiolo1Linux (Ubuntu 24.04.3 LTS) / x86_64  OK    OK    WARNINGS  UNNEEDED, same version is already published
Package 42/215HostnameOS / ArchINSTALLBUILDCHECKBUILD BIN
condiments 1.19.0  (landing page)
Hector Roux de Bezieux
git_last_commit: 68a222c
git_last_commit_date: 2025-10-29 11:07:39 -0500
nebbiolo1Linux (Ubuntu 24.04.3 LTS) / x86_64  OK    OK    OK  UNNEEDED, same version is already published
Package 43/215HostnameOS / ArchINSTALLBUILDCHECKBUILD BIN
Coralysis 1.1.0  (landing page)
António Sousa
git_last_commit: 94d3ee0
git_last_commit_date: 2025-10-29 11:36:31 -0500
nebbiolo1Linux (Ubuntu 24.04.3 LTS) / x86_64  OK    OK    OK  UNNEEDED, same version is already published
Package 44/215HostnameOS / ArchINSTALLBUILDCHECKBUILD BIN
corral 1.21.0  (landing page)
Lauren Hsu
git_last_commit: 87340f9
git_last_commit_date: 2025-10-29 11:00:12 -0500
nebbiolo1Linux (Ubuntu 24.04.3 LTS) / x86_64  OK    OK    OK  UNNEEDED, same version is already published
Package 45/215HostnameOS / ArchINSTALLBUILDCHECKBUILD BIN
COTAN 2.11.0  (landing page)
Galfrè Silvia Giulia
git_last_commit: cf71097
git_last_commit_date: 2025-10-29 11:14:37 -0500
nebbiolo1Linux (Ubuntu 24.04.3 LTS) / x86_64  OK    OK    OK  UNNEEDED, same version is already published
Package 46/215HostnameOS / ArchINSTALLBUILDCHECKBUILD BIN
crumblr 1.3.0  (landing page)
Gabriel Hoffman
git_last_commit: 00871a5
git_last_commit_date: 2025-10-29 11:35:21 -0500
nebbiolo1Linux (Ubuntu 24.04.3 LTS) / x86_64  OK    OK    OK  UNNEEDED, same version is already published
Package 47/215HostnameOS / ArchINSTALLBUILDCHECKBUILD BIN
CTexploreR 1.7.0  (landing page)
Axelle Loriot
git_last_commit: db48290
git_last_commit_date: 2025-10-29 11:26:51 -0500
nebbiolo1Linux (Ubuntu 24.04.3 LTS) / x86_64  OK    OK    OK  UNNEEDED, same version is already published
Package 48/215HostnameOS / ArchINSTALLBUILDCHECKBUILD BIN
CuratedAtlasQueryR 1.9.0  (landing page)
Stefano Mangiola
git_last_commit: 0ecd53b
git_last_commit_date: 2025-10-29 11:24:15 -0500
nebbiolo1Linux (Ubuntu 24.04.3 LTS) / x86_64  OK    OK    OK  UNNEEDED, same version is already published
Package 49/215HostnameOS / ArchINSTALLBUILDCHECKBUILD BIN
cydar 1.35.0  (landing page)
Aaron Lun
git_last_commit: d8b7be4
git_last_commit_date: 2025-10-29 10:37:34 -0500
nebbiolo1Linux (Ubuntu 24.04.3 LTS) / x86_64  OK    OK    OK  UNNEEDED, same version is already published
Package 50/215HostnameOS / ArchINSTALLBUILDCHECKBUILD BIN
cytofQC 1.11.0  (landing page)
Jill Lundell
git_last_commit: 17fcbe3
git_last_commit_date: 2025-10-29 11:21:55 -0500
nebbiolo1Linux (Ubuntu 24.04.3 LTS) / x86_64  ERROR    ERROR  skipped
Package 51/215HostnameOS / ArchINSTALLBUILDCHECKBUILD BIN
cytomapper 1.23.0  (landing page)
Lasse Meyer
git_last_commit: 20338b5
git_last_commit_date: 2025-10-29 10:57:59 -0500
nebbiolo1Linux (Ubuntu 24.04.3 LTS) / x86_64  OK    OK    OK  UNNEEDED, same version is already published
Package 52/215HostnameOS / ArchINSTALLBUILDCHECKBUILD BIN
cytoviewer 1.11.0  (landing page)
Lasse Meyer
git_last_commit: a269d53
git_last_commit_date: 2025-10-29 11:22:11 -0500
nebbiolo1Linux (Ubuntu 24.04.3 LTS) / x86_64  OK    OK    OK  UNNEEDED, same version is already published
Package 53/215HostnameOS / ArchINSTALLBUILDCHECKBUILD BIN
dandelionR 1.3.0  (landing page)
Kelvin Tuong
git_last_commit: 29dd237
git_last_commit_date: 2025-10-29 11:34:23 -0500
nebbiolo1Linux (Ubuntu 24.04.3 LTS) / x86_64  OK    OK    OK  NO, package depends on 'destiny' which is not available
Package 54/215HostnameOS / ArchINSTALLBUILDCHECKBUILD BIN
decontX 1.9.0  (landing page)
Joshua Campbell
git_last_commit: 0f7be1c
git_last_commit_date: 2025-10-29 11:26:26 -0500
nebbiolo1Linux (Ubuntu 24.04.3 LTS) / x86_64  OK    OK    OK  YES
Package 55/215HostnameOS / ArchINSTALLBUILDCHECKBUILD BIN
DeconvoBuddies 1.3.0  (landing page)
Louise Huuki-Myers
git_last_commit: a72d7d5
git_last_commit_date: 2025-10-29 11:35:32 -0500
nebbiolo1Linux (Ubuntu 24.04.3 LTS) / x86_64  OK    OK    OK  UNNEEDED, same version is already published
Package 56/215HostnameOS / ArchINSTALLBUILDCHECKBUILD BIN
DeeDeeExperiment 1.1.0  (landing page)
Najla Abassi
git_last_commit: 482df35
git_last_commit_date: 2025-10-29 11:37:21 -0500
nebbiolo1Linux (Ubuntu 24.04.3 LTS) / x86_64  OK    OK    OK  UNNEEDED, same version is already published
Package 57/215HostnameOS / ArchINSTALLBUILDCHECKBUILD BIN
demuxSNP 1.9.0  (landing page)
Michael Lynch
git_last_commit: e594034
git_last_commit_date: 2025-10-29 11:23:27 -0500
nebbiolo1Linux (Ubuntu 24.04.3 LTS) / x86_64  OK    OK    OK  YES
Package 58/215HostnameOS / ArchINSTALLBUILDCHECKBUILD BIN
destiny 3.25.0  (landing page)
Philipp Angerer
git_last_commit: 424224a
git_last_commit_date: 2025-10-29 11:14:40 -0500
nebbiolo1Linux (Ubuntu 24.04.3 LTS) / x86_64  OK    OK    ERROR  
Package 59/215HostnameOS / ArchINSTALLBUILDCHECKBUILD BIN
DifferentialRegulation 2.9.0  (landing page)
Simone Tiberi
git_last_commit: e4187ce
git_last_commit_date: 2025-10-29 11:16:49 -0500
nebbiolo1Linux (Ubuntu 24.04.3 LTS) / x86_64  OK    OK    OK  UNNEEDED, same version is already published
Package 60/215HostnameOS / ArchINSTALLBUILDCHECKBUILD BIN
Dino 1.17.0  (landing page)
Jared Brown
git_last_commit: 89317b9
git_last_commit_date: 2025-10-29 11:10:41 -0500
nebbiolo1Linux (Ubuntu 24.04.3 LTS) / x86_64  OK    OK    OK  UNNEEDED, same version is already published
Package 61/215HostnameOS / ArchINSTALLBUILDCHECKBUILD BIN
distinct 1.23.0  (landing page)
Simone Tiberi
git_last_commit: fecbaac
git_last_commit_date: 2025-10-29 10:58:17 -0500
nebbiolo1Linux (Ubuntu 24.04.3 LTS) / x86_64  OK    OK    OK  UNNEEDED, same version is already published
Package 62/215HostnameOS / ArchINSTALLBUILDCHECKBUILD BIN
dittoSeq 1.23.0  (landing page)
Daniel Bunis
git_last_commit: 9ee30ee
git_last_commit_date: 2025-10-29 10:57:12 -0500
nebbiolo1Linux (Ubuntu 24.04.3 LTS) / x86_64  OK    OK    OK  UNNEEDED, same version is already published
Package 63/215HostnameOS / ArchINSTALLBUILDCHECKBUILD BIN
DOtools 1.1.0  (landing page)
Mariano Ruz Jurado
git_last_commit: 527ea73
git_last_commit_date: 2025-10-29 11:38:46 -0500
nebbiolo1Linux (Ubuntu 24.04.3 LTS) / x86_64  OK    OK    OK  YES
Package 64/215HostnameOS / ArchINSTALLBUILDCHECKBUILD BIN
dreamlet 1.9.0  (landing page)
Gabriel Hoffman
git_last_commit: dfc1aac
git_last_commit_date: 2025-10-29 11:25:03 -0500
nebbiolo1Linux (Ubuntu 24.04.3 LTS) / x86_64  OK    OK    OK  NO, package depends on 'zenith' which is not available
Package 65/215HostnameOS / ArchINSTALLBUILDCHECKBUILD BIN
DropletUtils 1.31.0  (landing page)
Jonathan Griffiths
git_last_commit: 92de364
git_last_commit_date: 2025-10-29 10:42:43 -0500
nebbiolo1Linux (Ubuntu 24.04.3 LTS) / x86_64  OK    OK    WARNINGS  UNNEEDED, same version is already published
Package 66/215HostnameOS / ArchINSTALLBUILDCHECKBUILD BIN
epiregulon 2.1.0  (landing page)
Xiaosai Yao
git_last_commit: eec881c
git_last_commit_date: 2025-10-29 11:30:12 -0500
nebbiolo1Linux (Ubuntu 24.04.3 LTS) / x86_64  OK    OK    OK  YES
Package 67/215HostnameOS / ArchINSTALLBUILDCHECKBUILD BIN
epiregulon.extra 1.7.0  (landing page)
Xiaosai Yao
git_last_commit: a48846b
git_last_commit_date: 2025-10-29 11:30:15 -0500
nebbiolo1Linux (Ubuntu 24.04.3 LTS) / x86_64  OK    OK    OK  YES
Package 68/215HostnameOS / ArchINSTALLBUILDCHECKBUILD BIN
escheR 1.11.0  (landing page)
Boyi Guo
git_last_commit: f2a303a
git_last_commit_date: 2025-10-29 11:22:13 -0500
nebbiolo1Linux (Ubuntu 24.04.3 LTS) / x86_64  OK    OK    OK  UNNEEDED, same version is already published
Package 69/215HostnameOS / ArchINSTALLBUILDCHECKBUILD BIN
EWCE 1.19.0  (landing page)
Hiranyamaya Dash
git_last_commit: 5ede728
git_last_commit_date: 2025-10-29 11:08:07 -0500
nebbiolo1Linux (Ubuntu 24.04.3 LTS) / x86_64  OK    OK    OK  UNNEEDED, same version is already published
Package 70/215HostnameOS / ArchINSTALLBUILDCHECKBUILD BIN
ExperimentSubset 1.21.0  (landing page)
Irzam Sarfraz
git_last_commit: a61ebd5
git_last_commit_date: 2025-10-29 11:03:30 -0500
nebbiolo1Linux (Ubuntu 24.04.3 LTS) / x86_64  OK    OK    OK  UNNEEDED, same version is already published
Package 71/215HostnameOS / ArchINSTALLBUILDCHECKBUILD BIN
FEAST 1.19.0  (landing page)
Kenong Su
git_last_commit: 56aecc5
git_last_commit_date: 2025-10-29 11:08:37 -0500
nebbiolo1Linux (Ubuntu 24.04.3 LTS) / x86_64  OK    OK    OK  UNNEEDED, same version is already published
Package 72/215HostnameOS / ArchINSTALLBUILDCHECKBUILD BIN
fishpond 2.17.0  (landing page)
Michael Love
git_last_commit: 2293072
git_last_commit_date: 2025-10-29 10:50:11 -0500
nebbiolo1Linux (Ubuntu 24.04.3 LTS) / x86_64  OK    OK    OK  UNNEEDED, same version is already published
Package 73/215HostnameOS / ArchINSTALLBUILDCHECKBUILD BIN
FLAMES 2.5.1  (landing page)
Changqing Wang
git_last_commit: 7887658
git_last_commit_date: 2025-10-31 02:11:54 -0500
nebbiolo1Linux (Ubuntu 24.04.3 LTS) / x86_64  OK    OK    OK  YES
Package 74/215HostnameOS / ArchINSTALLBUILDCHECKBUILD BIN
ggsc 1.9.0  (landing page)
Guangchuang Yu
git_last_commit: 9591222
git_last_commit_date: 2025-10-29 11:26:02 -0500
nebbiolo1Linux (Ubuntu 24.04.3 LTS) / x86_64  OK    OK    OK  UNNEEDED, same version is already published
Package 75/215HostnameOS / ArchINSTALLBUILDCHECKBUILD BIN
ggspavis 1.17.0  (landing page)
Lukas M. Weber
git_last_commit: 0e5bfdb
git_last_commit_date: 2025-10-29 11:11:33 -0500
nebbiolo1Linux (Ubuntu 24.04.3 LTS) / x86_64  OK    OK    OK  UNNEEDED, same version is already published
Package 76/215HostnameOS / ArchINSTALLBUILDCHECKBUILD BIN
glmGamPoi 1.23.0  (landing page)
Constantin Ahlmann-Eltze
git_last_commit: 23ac45d
git_last_commit_date: 2025-10-29 10:58:15 -0500
nebbiolo1Linux (Ubuntu 24.04.3 LTS) / x86_64  OK    OK    WARNINGS  UNNEEDED, same version is already published
Package 77/215HostnameOS / ArchINSTALLBUILDCHECKBUILD BIN
GloScope 2.1.0  (landing page)
William Torous
git_last_commit: 9d034c8
git_last_commit_date: 2025-10-29 11:25:16 -0500
nebbiolo1Linux (Ubuntu 24.04.3 LTS) / x86_64  OK    OK    ERROR  
Package 78/215HostnameOS / ArchINSTALLBUILDCHECKBUILD BIN
GSVA 2.5.0  (landing page)
Robert Castelo
git_last_commit: a714c64
git_last_commit_date: 2025-10-29 10:07:40 -0500
nebbiolo1Linux (Ubuntu 24.04.3 LTS) / x86_64  OK    OK    OK  YES
Package 79/215HostnameOS / ArchINSTALLBUILDCHECKBUILD BIN
HIPPO 1.23.0  (landing page)
Tae Kim
git_last_commit: dd797d4
git_last_commit_date: 2025-10-29 10:57:56 -0500
nebbiolo1Linux (Ubuntu 24.04.3 LTS) / x86_64  OK    OK    OK  UNNEEDED, same version is already published
Package 80/215HostnameOS / ArchINSTALLBUILDCHECKBUILD BIN
Ibex 1.1.0  (landing page)
Nick Borcherding
git_last_commit: 1dadb52
git_last_commit_date: 2025-10-29 11:38:26 -0500
nebbiolo1Linux (Ubuntu 24.04.3 LTS) / x86_64  OK    OK    OK  NO, package depends on 'scRepertoire' which is not available
Package 81/215HostnameOS / ArchINSTALLBUILDCHECKBUILD BIN
ILoReg 1.21.0  (landing page)
Johannes Smolander
git_last_commit: 676b5a1
git_last_commit_date: 2025-10-29 11:00:58 -0500
nebbiolo1Linux (Ubuntu 24.04.3 LTS) / x86_64  OK    OK    WARNINGS  UNNEEDED, same version is already published
Package 82/215HostnameOS / ArchINSTALLBUILDCHECKBUILD BIN
imcRtools 1.17.0  (landing page)
Daniel Schulz
git_last_commit: 00166f2
git_last_commit_date: 2025-10-29 11:12:28 -0500
nebbiolo1Linux (Ubuntu 24.04.3 LTS) / x86_64  OK    OK    OK  UNNEEDED, same version is already published
Package 83/215HostnameOS / ArchINSTALLBUILDCHECKBUILD BIN
immApex 1.5.0  (landing page)
Nick Borcherding
git_last_commit: 1dd44fc
git_last_commit_date: 2025-10-29 11:32:52 -0500
nebbiolo1Linux (Ubuntu 24.04.3 LTS) / x86_64  OK    OK    OK  UNNEEDED, same version is already published
Package 84/215HostnameOS / ArchINSTALLBUILDCHECKBUILD BIN
infercnv 1.27.0  (landing page)
Christophe Georgescu
git_last_commit: 4e0174e
git_last_commit_date: 2025-10-29 10:52:07 -0500
nebbiolo1Linux (Ubuntu 24.04.3 LTS) / x86_64  OK    OK    OK  UNNEEDED, same version is already published
Package 85/215HostnameOS / ArchINSTALLBUILDCHECKBUILD BIN
iSEE 2.23.0  (landing page)
Kevin Rue-Albrecht
git_last_commit: bbed327
git_last_commit_date: 2025-10-29 10:43:55 -0500
nebbiolo1Linux (Ubuntu 24.04.3 LTS) / x86_64  OK    OK    OK  UNNEEDED, same version is already published
Package 86/215HostnameOS / ArchINSTALLBUILDCHECKBUILD BIN
iSEEfier 1.7.0  (landing page)
Najla Abassi
git_last_commit: a000139
git_last_commit_date: 2025-10-29 11:29:10 -0500
nebbiolo1Linux (Ubuntu 24.04.3 LTS) / x86_64  OK    OK    OK  UNNEEDED, same version is already published
Package 87/215HostnameOS / ArchINSTALLBUILDCHECKBUILD BIN
iSEEhub 1.13.0  (landing page)
Kevin Rue-Albrecht
git_last_commit: f5f8921
git_last_commit_date: 2025-10-29 11:18:40 -0500
nebbiolo1Linux (Ubuntu 24.04.3 LTS) / x86_64  OK    OK    OK  UNNEEDED, same version is already published
Package 88/215HostnameOS / ArchINSTALLBUILDCHECKBUILD BIN
iSEEindex 1.9.0  (landing page)
Kevin Rue-Albrecht
git_last_commit: 8de1724
git_last_commit_date: 2025-10-29 11:23:59 -0500
nebbiolo1Linux (Ubuntu 24.04.3 LTS) / x86_64  OK    OK    OK  UNNEEDED, same version is already published
Package 89/215HostnameOS / ArchINSTALLBUILDCHECKBUILD BIN
iSEEtree 1.5.0  (landing page)
Giulio Benedetti
git_last_commit: 63da959
git_last_commit_date: 2025-10-29 11:31:13 -0500
nebbiolo1Linux (Ubuntu 24.04.3 LTS) / x86_64  OK    OK    OK  UNNEEDED, same version is already published
Package 90/215HostnameOS / ArchINSTALLBUILDCHECKBUILD BIN
iSEEu 1.23.0  (landing page)
Kevin Rue-Albrecht
git_last_commit: 2f5ca87
git_last_commit_date: 2025-10-29 10:58:30 -0500
nebbiolo1Linux (Ubuntu 24.04.3 LTS) / x86_64  OK    OK    WARNINGS  UNNEEDED, same version is already published
Package 91/215HostnameOS / ArchINSTALLBUILDCHECKBUILD BIN
lemur 1.9.0  (landing page)
Constantin Ahlmann-Eltze
git_last_commit: 2426da6
git_last_commit_date: 2025-10-29 11:26:19 -0500
nebbiolo1Linux (Ubuntu 24.04.3 LTS) / x86_64  OK    OK    WARNINGS  UNNEEDED, same version is already published
Package 92/215HostnameOS / ArchINSTALLBUILDCHECKBUILD BIN
lisaClust 1.19.0  (landing page)
Ellis Patrick
git_last_commit: f25f3da
git_last_commit_date: 2025-10-29 11:06:59 -0500
nebbiolo1Linux (Ubuntu 24.04.3 LTS) / x86_64  OK    OK    OK  UNNEEDED, same version is already published
Package 93/215HostnameOS / ArchINSTALLBUILDCHECKBUILD BIN
looking4clusters 1.1.0  (landing page)
David Barrios
git_last_commit: 7fb974e
git_last_commit_date: 2025-10-29 11:38:18 -0500
nebbiolo1Linux (Ubuntu 24.04.3 LTS) / x86_64  OK    OK    OK  UNNEEDED, same version is already published
Package 94/215HostnameOS / ArchINSTALLBUILDCHECKBUILD BIN
LoomExperiment 1.29.0  (landing page)
Bioconductor Package Maintainer
git_last_commit: dce7132
git_last_commit_date: 2025-10-29 10:48:53 -0500
nebbiolo1Linux (Ubuntu 24.04.3 LTS) / x86_64  OK    OK    OK  UNNEEDED, same version is already published
Package 95/215HostnameOS / ArchINSTALLBUILDCHECKBUILD BIN
MAST 1.37.0  (landing page)
Andrew McDavid
git_last_commit: 29ffa2b
git_last_commit_date: 2025-10-29 10:34:54 -0500
nebbiolo1Linux (Ubuntu 24.04.3 LTS) / x86_64  OK    OK    OK  UNNEEDED, same version is already published
Package 96/215HostnameOS / ArchINSTALLBUILDCHECKBUILD BIN
mastR 1.11.0  (landing page)
Jinjin Chen
git_last_commit: 84f231b
git_last_commit_date: 2025-10-29 11:22:48 -0500
nebbiolo1Linux (Ubuntu 24.04.3 LTS) / x86_64  OK    OK    OK  NO, package depends on 'msigdb' which is not available
Package 97/215HostnameOS / ArchINSTALLBUILDCHECKBUILD BIN
mbkmeans 1.27.0  (landing page)
Davide Risso
git_last_commit: 2aa9036
git_last_commit_date: 2025-10-29 10:51:15 -0500
nebbiolo1Linux (Ubuntu 24.04.3 LTS) / x86_64  OK    OK    OK  UNNEEDED, same version is already published
Package 98/215HostnameOS / ArchINSTALLBUILDCHECKBUILD BIN
MEB 1.25.0  (landing page)
Jiadi Zhu
git_last_commit: b767e6c
git_last_commit_date: 2025-10-29 10:54:34 -0500
nebbiolo1Linux (Ubuntu 24.04.3 LTS) / x86_64  OK    OK    OK  UNNEEDED, same version is already published
Package 99/215HostnameOS / ArchINSTALLBUILDCHECKBUILD BIN
MetaNeighbor 1.31.0  (landing page)
Stephan Fischer
git_last_commit: 29fdbe5
git_last_commit_date: 2025-10-29 10:42:30 -0500
nebbiolo1Linux (Ubuntu 24.04.3 LTS) / x86_64  OK    OK    ERROR  
Package 100/215HostnameOS / ArchINSTALLBUILDCHECKBUILD BIN
mia 1.19.0  (landing page)
Tuomas Borman
git_last_commit: ba530f5
git_last_commit_date: 2025-10-29 11:07:20 -0500
nebbiolo1Linux (Ubuntu 24.04.3 LTS) / x86_64  OK    OK    OK  UNNEEDED, same version is already published
Package 101/215HostnameOS / ArchINSTALLBUILDCHECKBUILD BIN
miaDash 1.3.0  (landing page)
Giulio Benedetti
git_last_commit: 320315c
git_last_commit_date: 2025-10-29 11:35:29 -0500
nebbiolo1Linux (Ubuntu 24.04.3 LTS) / x86_64  OK    OK    OK  UNNEEDED, same version is already published
Package 102/215HostnameOS / ArchINSTALLBUILDCHECKBUILD BIN
miaTime 1.1.0  (landing page)
Tuomas Borman
git_last_commit: 411484f
git_last_commit_date: 2025-10-29 11:37:15 -0500
nebbiolo1Linux (Ubuntu 24.04.3 LTS) / x86_64  OK    OK    OK  UNNEEDED, same version is already published
Package 103/215HostnameOS / ArchINSTALLBUILDCHECKBUILD BIN
miaViz 1.19.0  (landing page)
Tuomas Borman
git_last_commit: 5a360e5
git_last_commit_date: 2025-10-29 11:07:33 -0500
nebbiolo1Linux (Ubuntu 24.04.3 LTS) / x86_64  OK    OK    OK  UNNEEDED, same version is already published
Package 104/215HostnameOS / ArchINSTALLBUILDCHECKBUILD BIN
miloR 2.7.0  (landing page)
Mike Morgan
git_last_commit: 6c5c6a3
git_last_commit_date: 2025-10-29 11:08:58 -0500
nebbiolo1Linux (Ubuntu 24.04.3 LTS) / x86_64  OK    OK    OK  UNNEEDED, same version is already published
Package 105/215HostnameOS / ArchINSTALLBUILDCHECKBUILD BIN
miQC 1.19.0  (landing page)
Ariel Hippen
git_last_commit: 08e5f55
git_last_commit_date: 2025-10-29 11:06:48 -0500
nebbiolo1Linux (Ubuntu 24.04.3 LTS) / x86_64  OK    OK    OK  UNNEEDED, same version is already published
Package 106/215HostnameOS / ArchINSTALLBUILDCHECKBUILD BIN
mist 1.3.0  (landing page)
Daoyu Duan
git_last_commit: ba089b8
git_last_commit_date: 2025-10-29 11:33:35 -0500
nebbiolo1Linux (Ubuntu 24.04.3 LTS) / x86_64  OK    OK    WARNINGS  YES
Package 107/215HostnameOS / ArchINSTALLBUILDCHECKBUILD BIN
MPAC 1.5.0  (landing page)
Peng Liu
git_last_commit: f287ddc
git_last_commit_date: 2025-10-29 11:30:37 -0500
nebbiolo1Linux (Ubuntu 24.04.3 LTS) / x86_64  OK    OK    OK  UNNEEDED, same version is already published
Package 108/215HostnameOS / ArchINSTALLBUILDCHECKBUILD BIN
MuData 1.15.0  (landing page)
Ilia Kats
git_last_commit: 186e639
git_last_commit_date: 2025-10-29 11:15:11 -0500
nebbiolo1Linux (Ubuntu 24.04.3 LTS) / x86_64  OK    OK    OK  UNNEEDED, same version is already published
Package 109/215HostnameOS / ArchINSTALLBUILDCHECKBUILD BIN
mumosa 1.19.0  (landing page)
Aaron Lun
git_last_commit: 67c3814
git_last_commit_date: 2025-10-29 11:05:15 -0500
nebbiolo1Linux (Ubuntu 24.04.3 LTS) / x86_64  OK    OK    OK  UNNEEDED, same version is already published
Package 110/215HostnameOS / ArchINSTALLBUILDCHECKBUILD BIN
muscat 1.25.0  (landing page)
Helena L. Crowell
git_last_commit: 7a0ebff
git_last_commit_date: 2025-10-29 10:53:55 -0500
nebbiolo1Linux (Ubuntu 24.04.3 LTS) / x86_64  OK    OK    OK  UNNEEDED, same version is already published
Package 111/215HostnameOS / ArchINSTALLBUILDCHECKBUILD BIN
Nebulosa 1.21.0  (landing page)
Jose Alquicira-Hernandez
git_last_commit: 7bc1fc4
git_last_commit_date: 2025-10-29 11:01:25 -0500
nebbiolo1Linux (Ubuntu 24.04.3 LTS) / x86_64  OK    OK    OK  UNNEEDED, same version is already published
Package 112/215HostnameOS / ArchINSTALLBUILDCHECKBUILD BIN
netSmooth 1.31.0  (landing page)
Jonathan Ronen
git_last_commit: 33fddd7
git_last_commit_date: 2025-10-29 10:45:19 -0500
nebbiolo1Linux (Ubuntu 24.04.3 LTS) / x86_64  OK    OK    OK  UNNEEDED, same version is already published
Package 113/215HostnameOS / ArchINSTALLBUILDCHECKBUILD BIN
NewWave 1.21.0  (landing page)
Federico Agostinis
git_last_commit: b3c35af
git_last_commit_date: 2025-10-29 11:04:34 -0500
nebbiolo1Linux (Ubuntu 24.04.3 LTS) / x86_64  OK    OK    OK  UNNEEDED, same version is already published
Package 114/215HostnameOS / ArchINSTALLBUILDCHECKBUILD BIN
nnSVG 1.15.0  (landing page)
Lukas M. Weber
git_last_commit: 2a226ef
git_last_commit_date: 2025-10-29 11:15:43 -0500
nebbiolo1Linux (Ubuntu 24.04.3 LTS) / x86_64  OK    OK    OK  UNNEEDED, same version is already published
Package 115/215HostnameOS / ArchINSTALLBUILDCHECKBUILD BIN
omicsGMF 1.1.0  (landing page)
Alexandre Segers
git_last_commit: 66f9d2d
git_last_commit_date: 2025-10-29 11:39:15 -0500
nebbiolo1Linux (Ubuntu 24.04.3 LTS) / x86_64  OK    OK    OK  UNNEEDED, same version is already published
Package 116/215HostnameOS / ArchINSTALLBUILDCHECKBUILD BIN
partCNV 1.9.0  (landing page)
Ziyi Li
git_last_commit: 1e12803
git_last_commit_date: 2025-10-29 11:23:33 -0500
nebbiolo1Linux (Ubuntu 24.04.3 LTS) / x86_64  OK    OK    OK  UNNEEDED, same version is already published
Package 117/215HostnameOS / ArchINSTALLBUILDCHECKBUILD BIN
peco 1.23.0  (landing page)
Chiaowen Joyce Hsiao
git_last_commit: 92a92cd
git_last_commit_date: 2025-10-29 10:58:02 -0500
nebbiolo1Linux (Ubuntu 24.04.3 LTS) / x86_64  OK    OK    OK  UNNEEDED, same version is already published
Package 118/215HostnameOS / ArchINSTALLBUILDCHECKBUILD BIN
pipeComp 1.21.0  (landing page)
Pierre-Luc Germain
git_last_commit: 826f159
git_last_commit_date: 2025-10-29 11:00:20 -0500
nebbiolo1Linux (Ubuntu 24.04.3 LTS) / x86_64  OK    OK    OK  UNNEEDED, same version is already published
Package 119/215HostnameOS / ArchINSTALLBUILDCHECKBUILD BIN
POWSC 1.19.0  (landing page)
Kenong Su
git_last_commit: b092ca1
git_last_commit_date: 2025-10-29 11:09:11 -0500
nebbiolo1Linux (Ubuntu 24.04.3 LTS) / x86_64  OK    OK    OK  UNNEEDED, same version is already published
Package 120/215HostnameOS / ArchINSTALLBUILDCHECKBUILD BIN
projectR 1.27.0  (landing page)
Genevieve Stein-O'Brien
git_last_commit: d55d8c4
git_last_commit_date: 2025-10-29 10:50:52 -0500
nebbiolo1Linux (Ubuntu 24.04.3 LTS) / x86_64  OK    OK    OK  UNNEEDED, same version is already published
Package 121/215HostnameOS / ArchINSTALLBUILDCHECKBUILD BIN
raer 1.9.0  (landing page)
Kent Riemondy
git_last_commit: 94ed43d
git_last_commit_date: 2025-10-29 11:26:05 -0500
nebbiolo1Linux (Ubuntu 24.04.3 LTS) / x86_64  OK    OK    OK  YES
Package 122/215HostnameOS / ArchINSTALLBUILDCHECKBUILD BIN
RCSL 1.19.0  (landing page)
Qinglin Mei
git_last_commit: 01ddc6d
git_last_commit_date: 2025-10-29 11:10:06 -0500
nebbiolo1Linux (Ubuntu 24.04.3 LTS) / x86_64  OK    OK    OK  UNNEEDED, same version is already published
Package 123/215HostnameOS / ArchINSTALLBUILDCHECKBUILD BIN
RegionalST 1.9.0  (landing page)
Ziyi Li
git_last_commit: e3a23f6
git_last_commit_date: 2025-10-29 11:24:31 -0500
nebbiolo1Linux (Ubuntu 24.04.3 LTS) / x86_64  OK    OK    OK  UNNEEDED, same version is already published
Package 124/215HostnameOS / ArchINSTALLBUILDCHECKBUILD BIN
RUCova 1.3.0  (landing page)
Rosario Astaburuaga-García
git_last_commit: cdd0481
git_last_commit_date: 2025-10-29 11:35:49 -0500
nebbiolo1Linux (Ubuntu 24.04.3 LTS) / x86_64  OK    OK    OK  UNNEEDED, same version is already published
Package 125/215HostnameOS / ArchINSTALLBUILDCHECKBUILD BIN
SanityR 1.1.0  (landing page)
Teo Sakel
git_last_commit: 65e0964
git_last_commit_date: 2025-10-29 11:37:07 -0500
nebbiolo1Linux (Ubuntu 24.04.3 LTS) / x86_64  OK    OK    OK  UNNEEDED, same version is already published
Package 126/215HostnameOS / ArchINSTALLBUILDCHECKBUILD BIN
SC3 1.39.0  (landing page)
Vladimir Kiselev
git_last_commit: 177cc94
git_last_commit_date: 2025-10-29 10:29:27 -0500
nebbiolo1Linux (Ubuntu 24.04.3 LTS) / x86_64  OK    OK    OK  UNNEEDED, same version is already published
Package 127/215HostnameOS / ArchINSTALLBUILDCHECKBUILD BIN
scafari 1.1.0  (landing page)
Sophie Wind
git_last_commit: 0bee2a7
git_last_commit_date: 2025-10-29 11:36:58 -0500
nebbiolo1Linux (Ubuntu 24.04.3 LTS) / x86_64  OK    OK    OK  YES
Package 128/215HostnameOS / ArchINSTALLBUILDCHECKBUILD BIN
scAnnotatR 1.17.0  (landing page)
Johannes Griss
git_last_commit: 76379af
git_last_commit_date: 2025-10-29 11:11:54 -0500
nebbiolo1Linux (Ubuntu 24.04.3 LTS) / x86_64  OK    OK    WARNINGS  UNNEEDED, same version is already published
Package 129/215HostnameOS / ArchINSTALLBUILDCHECKBUILD BIN
SCArray 1.19.0  (landing page)
Xiuwen Zheng
git_last_commit: d488bb9
git_last_commit_date: 2025-10-29 11:05:31 -0500
nebbiolo1Linux (Ubuntu 24.04.3 LTS) / x86_64  OK    OK    OK  UNNEEDED, same version is already published
Package 130/215HostnameOS / ArchINSTALLBUILDCHECKBUILD BIN
scater 1.39.0  (landing page)
Alan O'Callaghan
git_last_commit: 4ba4420
git_last_commit_date: 2025-10-29 10:30:01 -0500
nebbiolo1Linux (Ubuntu 24.04.3 LTS) / x86_64  OK    OK    OK  UNNEEDED, same version is already published
Package 131/215HostnameOS / ArchINSTALLBUILDCHECKBUILD BIN
scBFA 1.25.0  (landing page)
Ruoxin Li
git_last_commit: 128392e
git_last_commit_date: 2025-10-29 10:53:24 -0500
nebbiolo1Linux (Ubuntu 24.04.3 LTS) / x86_64  OK    OK    OK  UNNEEDED, same version is already published
Package 132/215HostnameOS / ArchINSTALLBUILDCHECKBUILD BIN
scCB2 1.21.0  (landing page)
Zijian Ni
git_last_commit: 6b117de
git_last_commit_date: 2025-10-29 11:00:33 -0500
nebbiolo1Linux (Ubuntu 24.04.3 LTS) / x86_64  OK    OK    OK  UNNEEDED, same version is already published
Package 133/215HostnameOS / ArchINSTALLBUILDCHECKBUILD BIN
sccomp 2.3.0  (landing page)
Stefano Mangiola
git_last_commit: ea50568
git_last_commit_date: 2025-10-29 11:13:54 -0500
nebbiolo1Linux (Ubuntu 24.04.3 LTS) / x86_64  OK    OK    OK  UNNEEDED, same version is already published
Package 134/215HostnameOS / ArchINSTALLBUILDCHECKBUILD BIN
scDataviz 1.21.0  (landing page)
Kevin Blighe
git_last_commit: 77d65c4
git_last_commit_date: 2025-10-29 11:00:46 -0500
nebbiolo1Linux (Ubuntu 24.04.3 LTS) / x86_64  OK    OK    OK  UNNEEDED, same version is already published
Package 135/215HostnameOS / ArchINSTALLBUILDCHECKBUILD BIN
scDblFinder 1.25.0  (landing page)
Pierre-Luc Germain
git_last_commit: dffe1fe
git_last_commit_date: 2025-10-29 10:55:23 -0500
nebbiolo1Linux (Ubuntu 24.04.3 LTS) / x86_64  OK    OK    OK  YES
Package 136/215HostnameOS / ArchINSTALLBUILDCHECKBUILD BIN
scDD 1.35.0  (landing page)
Keegan Korthauer
git_last_commit: c088d52
git_last_commit_date: 2025-10-29 10:36:02 -0500
nebbiolo1Linux (Ubuntu 24.04.3 LTS) / x86_64  OK    OK    OK  UNNEEDED, same version is already published
Package 137/215HostnameOS / ArchINSTALLBUILDCHECKBUILD BIN
scDDboost 1.13.0  (landing page)
Xiuyu Ma
git_last_commit: 009edb1
git_last_commit_date: 2025-10-29 11:17:12 -0500
nebbiolo1Linux (Ubuntu 24.04.3 LTS) / x86_64  OK    OK    OK  UNNEEDED, same version is already published
Package 138/215HostnameOS / ArchINSTALLBUILDCHECKBUILD BIN
scDesign3 1.9.0  (landing page)
Dongyuan Song
git_last_commit: f87307f
git_last_commit_date: 2025-10-29 11:26:29 -0500
nebbiolo1Linux (Ubuntu 24.04.3 LTS) / x86_64  OK    OK    OK  UNNEEDED, same version is already published
Package 139/215HostnameOS / ArchINSTALLBUILDCHECKBUILD BIN
scDiagnostics 1.5.0  (landing page)
Anthony Christidis
git_last_commit: 2f5ad14
git_last_commit_date: 2025-10-29 11:31:45 -0500
nebbiolo1Linux (Ubuntu 24.04.3 LTS) / x86_64  OK    OK    OK  UNNEEDED, same version is already published
Package 140/215HostnameOS / ArchINSTALLBUILDCHECKBUILD BIN
scDotPlot 1.5.0  (landing page)
Benjamin I Laufer
git_last_commit: 060123e
git_last_commit_date: 2025-10-29 11:30:47 -0500
nebbiolo1Linux (Ubuntu 24.04.3 LTS) / x86_64  OK    OK    OK  UNNEEDED, same version is already published
Package 141/215HostnameOS / ArchINSTALLBUILDCHECKBUILD BIN
scds 1.27.0  (landing page)
Dennis Kostka
git_last_commit: e3ed254
git_last_commit_date: 2025-10-29 10:50:18 -0500
nebbiolo1Linux (Ubuntu 24.04.3 LTS) / x86_64  OK    OK    OK  UNNEEDED, same version is already published
Package 142/215HostnameOS / ArchINSTALLBUILDCHECKBUILD BIN
scGPS 1.25.0  (landing page)
Quan Nguyen
git_last_commit: 73072f6
git_last_commit_date: 2025-10-29 10:53:11 -0500
nebbiolo1Linux (Ubuntu 24.04.3 LTS) / x86_64  OK    OK    OK  UNNEEDED, same version is already published
Package 143/215HostnameOS / ArchINSTALLBUILDCHECKBUILD BIN
scGraphVerse 1.1.0  (landing page)
Francesco Cecere
git_last_commit: 1e63abe
git_last_commit_date: 2025-10-29 11:38:49 -0500
nebbiolo1Linux (Ubuntu 24.04.3 LTS) / x86_64  OK    OK    OK  UNNEEDED, same version is already published
Package 144/215HostnameOS / ArchINSTALLBUILDCHECKBUILD BIN
schex 1.25.0  (landing page)
Saskia Freytag
git_last_commit: 34f1fa2
git_last_commit_date: 2025-10-29 10:55:11 -0500
nebbiolo1Linux (Ubuntu 24.04.3 LTS) / x86_64  OK    OK    OK  UNNEEDED, same version is already published
Package 145/215HostnameOS / ArchINSTALLBUILDCHECKBUILD BIN
scHOT 1.23.0  (landing page)
Shila Ghazanfar
git_last_commit: 70965ea
git_last_commit_date: 2025-10-29 10:58:22 -0500
nebbiolo1Linux (Ubuntu 24.04.3 LTS) / x86_64  OK    OK    OK  UNNEEDED, same version is already published
Package 146/215HostnameOS / ArchINSTALLBUILDCHECKBUILD BIN
scider 1.9.0  (landing page)
Yunshun Chen
git_last_commit: e0a2a6b
git_last_commit_date: 2025-10-29 11:26:16 -0500
nebbiolo1Linux (Ubuntu 24.04.3 LTS) / x86_64  OK    OK    OK  UNNEEDED, same version is already published
Package 147/215HostnameOS / ArchINSTALLBUILDCHECKBUILD BIN
scmap 1.33.0  (landing page)
Vladimir Kiselev
git_last_commit: 4fdff8f
git_last_commit_date: 2025-10-29 10:39:19 -0500
nebbiolo1Linux (Ubuntu 24.04.3 LTS) / x86_64  OK    OK    OK  UNNEEDED, same version is already published
Package 148/215HostnameOS / ArchINSTALLBUILDCHECKBUILD BIN
scMerge 1.27.0  (landing page)
Yingxin Lin
git_last_commit: 1741f7e
git_last_commit_date: 2025-10-29 10:51:54 -0500
nebbiolo1Linux (Ubuntu 24.04.3 LTS) / x86_64  OK    OK    OK  UNNEEDED, same version is already published
Package 149/215HostnameOS / ArchINSTALLBUILDCHECKBUILD BIN
scMET 1.13.0  (landing page)
Andreas C. Kapourani
git_last_commit: 5af0e5e
git_last_commit_date: 2025-10-29 11:17:57 -0500
nebbiolo1Linux (Ubuntu 24.04.3 LTS) / x86_64  OK    OK    OK  UNNEEDED, same version is already published
Package 150/215HostnameOS / ArchINSTALLBUILDCHECKBUILD BIN
SCnorm 1.33.0  (landing page)
Rhonda Bacher
git_last_commit: 8cf7fc8
git_last_commit_date: 2025-10-29 10:39:47 -0500
nebbiolo1Linux (Ubuntu 24.04.3 LTS) / x86_64  OK    OK    OK  UNNEEDED, same version is already published
Package 151/215HostnameOS / ArchINSTALLBUILDCHECKBUILD BIN
scone 1.35.0  (landing page)
Davide Risso
git_last_commit: 60f7f37
git_last_commit_date: 2025-10-29 10:36:05 -0500
nebbiolo1Linux (Ubuntu 24.04.3 LTS) / x86_64  OK    OK    OK  YES
Package 152/215HostnameOS / ArchINSTALLBUILDCHECKBUILD BIN
scp 1.21.0  (landing page)
Christophe Vanderaa
git_last_commit: c32536b
git_last_commit_date: 2025-10-29 11:03:14 -0500
nebbiolo1Linux (Ubuntu 24.04.3 LTS) / x86_64  OK    OK    WARNINGS  UNNEEDED, same version is already published
Package 153/215HostnameOS / ArchINSTALLBUILDCHECKBUILD BIN
scPipe 2.11.0  (landing page)
Shian Su
git_last_commit: fbfb464
git_last_commit_date: 2025-10-29 10:41:32 -0500
nebbiolo1Linux (Ubuntu 24.04.3 LTS) / x86_64  OK    OK    OK  YES
Package 154/215HostnameOS / ArchINSTALLBUILDCHECKBUILD BIN
scQTLtools 1.3.0  (landing page)
Xiaofeng Wu
git_last_commit: 2285e5a
git_last_commit_date: 2025-10-29 11:34:00 -0500
nebbiolo1Linux (Ubuntu 24.04.3 LTS) / x86_64  OK    OK    ERROR  
Package 155/215HostnameOS / ArchINSTALLBUILDCHECKBUILD BIN
scran 1.39.0  (landing page)
Aaron Lun
git_last_commit: 5b4b8a1
git_last_commit_date: 2025-10-29 10:31:34 -0500
nebbiolo1Linux (Ubuntu 24.04.3 LTS) / x86_64  OK    OK    WARNINGS  UNNEEDED, same version is already published
Package 156/215HostnameOS / ArchINSTALLBUILDCHECKBUILD BIN
scReClassify 1.17.0  (landing page)
Taiyun Kim
git_last_commit: e44cea1
git_last_commit_date: 2025-10-29 11:12:04 -0500
nebbiolo1Linux (Ubuntu 24.04.3 LTS) / x86_64  OK    OK    OK  UNNEEDED, same version is already published
Package 157/215HostnameOS / ArchINSTALLBUILDCHECKBUILD BIN
scRepertoire 2.7.0  (landing page)
Nick Borcherding
git_last_commit: f13dda8
git_last_commit_date: 2025-10-29 11:04:20 -0500
nebbiolo1Linux (Ubuntu 24.04.3 LTS) / x86_64  OK    ERROR  skipped
Package 158/215HostnameOS / ArchINSTALLBUILDCHECKBUILD BIN
scRNAseqApp 1.11.0  (landing page)
Jianhong Ou
git_last_commit: 781d06f
git_last_commit_date: 2025-10-29 11:20:39 -0500
nebbiolo1Linux (Ubuntu 24.04.3 LTS) / x86_64  OK    OK    OK  YES
Package 159/215HostnameOS / ArchINSTALLBUILDCHECKBUILD BIN
scruff 1.29.0  (landing page)
Zhe Wang
git_last_commit: e5f29bf
git_last_commit_date: 2025-10-29 10:46:27 -0500
nebbiolo1Linux (Ubuntu 24.04.3 LTS) / x86_64  OK    OK    OK  YES
Package 160/215HostnameOS / ArchINSTALLBUILDCHECKBUILD BIN
scry 1.23.0  (landing page)
Kelly Street
git_last_commit: 0eeb235
git_last_commit_date: 2025-10-29 10:59:07 -0500
nebbiolo1Linux (Ubuntu 24.04.3 LTS) / x86_64  OK    OK    OK  UNNEEDED, same version is already published
Package 161/215HostnameOS / ArchINSTALLBUILDCHECKBUILD BIN
scTensor 2.21.0  (landing page)
Koki Tsuyuzaki
git_last_commit: 63a2564
git_last_commit_date: 2025-10-29 10:49:00 -0500
nebbiolo1Linux (Ubuntu 24.04.3 LTS) / x86_64  OK    OK    WARNINGS  UNNEEDED, same version is already published
Package 162/215HostnameOS / ArchINSTALLBUILDCHECKBUILD BIN
scTGIF 1.25.0  (landing page)
Koki Tsuyuzaki
git_last_commit: f7ab3ab
git_last_commit_date: 2025-10-29 10:55:37 -0500
nebbiolo1Linux (Ubuntu 24.04.3 LTS) / x86_64  OK    OK    OK  UNNEEDED, same version is already published
Package 163/215HostnameOS / ArchINSTALLBUILDCHECKBUILD BIN
scTreeViz 1.17.0  (landing page)
Jayaram Kancherla
git_last_commit: 8bb53d8
git_last_commit_date: 2025-10-29 11:12:36 -0500
nebbiolo1Linux (Ubuntu 24.04.3 LTS) / x86_64  OK    OK    OK  YES
Package 164/215HostnameOS / ArchINSTALLBUILDCHECKBUILD BIN
scuttle 1.21.0  (landing page)
Aaron Lun
git_last_commit: 02c9bb0
git_last_commit_date: 2025-10-29 10:59:47 -0500
nebbiolo1Linux (Ubuntu 24.04.3 LTS) / x86_64  OK    OK    OK  UNNEEDED, same version is already published
Package 165/215HostnameOS / ArchINSTALLBUILDCHECKBUILD BIN
scviR 1.11.0  (landing page)
Vincent Carey
git_last_commit: 4329942
git_last_commit_date: 2025-10-29 11:21:42 -0500
nebbiolo1Linux (Ubuntu 24.04.3 LTS) / x86_64  OK    OK    OK  UNNEEDED, same version is already published
Package 166/215HostnameOS / ArchINSTALLBUILDCHECKBUILD BIN
SETA 1.1.0  (landing page)
Kyle Kimler
git_last_commit: 4f2c997
git_last_commit_date: 2025-10-29 11:38:15 -0500
nebbiolo1Linux (Ubuntu 24.04.3 LTS) / x86_64  OK    OK    OK  UNNEEDED, same version is already published
Package 167/215HostnameOS / ArchINSTALLBUILDCHECKBUILD BIN
shinyDSP 1.3.0  (landing page)
Seung J. Kim
git_last_commit: cdbba28
git_last_commit_date: 2025-10-29 11:35:46 -0500
nebbiolo1Linux (Ubuntu 24.04.3 LTS) / x86_64  OK    OK    OK  YES
Package 168/215HostnameOS / ArchINSTALLBUILDCHECKBUILD BIN
simPIC 1.7.0  (landing page)
Sagrika Chugh
git_last_commit: 8f16458
git_last_commit_date: 2025-10-29 11:28:25 -0500
nebbiolo1Linux (Ubuntu 24.04.3 LTS) / x86_64  OK    OK    OK  UNNEEDED, same version is already published
Package 169/215HostnameOS / ArchINSTALLBUILDCHECKBUILD BIN
SingleCellAlleleExperiment 1.7.0  (landing page)
Jonas Schuck
git_last_commit: 51ef84b
git_last_commit_date: 2025-10-29 11:30:07 -0500
nebbiolo1Linux (Ubuntu 24.04.3 LTS) / x86_64  OK    OK    OK  UNNEEDED, same version is already published
Package 170/215HostnameOS / ArchINSTALLBUILDCHECKBUILD BIN
singleCellTK 2.21.0  (landing page)
Joshua David Campbell
git_last_commit: 4895b66
git_last_commit_date: 2025-10-29 11:29:49 -0500
nebbiolo1Linux (Ubuntu 24.04.3 LTS) / x86_64  OK    OK    OK  YES
Package 171/215HostnameOS / ArchINSTALLBUILDCHECKBUILD BIN
SiPSiC 1.11.0  (landing page)
Daniel Davis
git_last_commit: 45e6d3f
git_last_commit_date: 2025-10-29 11:22:25 -0500
nebbiolo1Linux (Ubuntu 24.04.3 LTS) / x86_64  OK    OK    OK  UNNEEDED, same version is already published
Package 172/215HostnameOS / ArchINSTALLBUILDCHECKBUILD BIN
slalom 1.33.0  (landing page)
Davis McCarthy
git_last_commit: 42126fd
git_last_commit_date: 2025-10-29 10:41:26 -0500
nebbiolo1Linux (Ubuntu 24.04.3 LTS) / x86_64  OK    OK    WARNINGS  UNNEEDED, same version is already published
Package 173/215HostnameOS / ArchINSTALLBUILDCHECKBUILD BIN
slingshot 2.19.0  (landing page)
Kelly Street
git_last_commit: 800ceb7
git_last_commit_date: 2025-10-29 10:45:42 -0500
nebbiolo1Linux (Ubuntu 24.04.3 LTS) / x86_64  OK    OK    OK  UNNEEDED, same version is already published
Package 174/215HostnameOS / ArchINSTALLBUILDCHECKBUILD BIN
sosta 1.3.0  (landing page)
Samuel Gunz
git_last_commit: 02b3ce2
git_last_commit_date: 2025-10-29 11:33:49 -0500
nebbiolo1Linux (Ubuntu 24.04.3 LTS) / x86_64  OK    OK    OK  UNNEEDED, same version is already published
Package 175/215HostnameOS / ArchINSTALLBUILDCHECKBUILD BIN
Spaniel 1.25.0  (landing page)
Rachel Queen
git_last_commit: b3f45b0
git_last_commit_date: 2025-10-29 10:54:28 -0500
nebbiolo1Linux (Ubuntu 24.04.3 LTS) / x86_64  OK    OK    OK  UNNEEDED, same version is already published
Package 176/215HostnameOS / ArchINSTALLBUILDCHECKBUILD BIN
SpaNorm 1.5.0  (landing page)
Dharmesh D. Bhuva
git_last_commit: 2845190
git_last_commit_date: 2025-10-29 11:32:47 -0500
nebbiolo1Linux (Ubuntu 24.04.3 LTS) / x86_64  OK    OK    OK  UNNEEDED, same version is already published
Package 177/215HostnameOS / ArchINSTALLBUILDCHECKBUILD BIN
SpatialExperiment 1.21.0  (landing page)
Dario Righelli
git_last_commit: 0414e3b
git_last_commit_date: 2025-10-29 11:00:55 -0500
nebbiolo1Linux (Ubuntu 24.04.3 LTS) / x86_64  OK    OK    OK  UNNEEDED, same version is already published
Package 178/215HostnameOS / ArchINSTALLBUILDCHECKBUILD BIN
SpatialExperimentIO 1.3.0  (landing page)
Yixing E. Dong
git_last_commit: 5002fdc
git_last_commit_date: 2025-10-29 11:34:03 -0500
nebbiolo1Linux (Ubuntu 24.04.3 LTS) / x86_64  OK    OK    OK  UNNEEDED, same version is already published
Package 179/215HostnameOS / ArchINSTALLBUILDCHECKBUILD BIN
SpatialFeatureExperiment 1.13.0  (landing page)
Lambda Moses
git_last_commit: 06f0dbf
git_last_commit_date: 2025-10-29 11:19:11 -0500
nebbiolo1Linux (Ubuntu 24.04.3 LTS) / x86_64  OK    ERROR  skipped
Package 180/215HostnameOS / ArchINSTALLBUILDCHECKBUILD BIN
spatialHeatmap 2.17.0  (landing page)
Jianhai Zhang
git_last_commit: aa4e2ac
git_last_commit_date: 2025-10-29 11:02:59 -0500
nebbiolo1Linux (Ubuntu 24.04.3 LTS) / x86_64  OK    ERROR  skipped
Package 181/215HostnameOS / ArchINSTALLBUILDCHECKBUILD BIN
speckle 1.11.0  (landing page)
Belinda Phipson
git_last_commit: 36f86ad
git_last_commit_date: 2025-10-29 11:20:18 -0500
nebbiolo1Linux (Ubuntu 24.04.3 LTS) / x86_64  OK    OK    OK  UNNEEDED, same version is already published
Package 182/215HostnameOS / ArchINSTALLBUILDCHECKBUILD BIN
spicyR 1.23.0  (landing page)
Ellis Patrick
git_last_commit: ed1e5d5
git_last_commit_date: 2025-10-29 10:57:53 -0500
nebbiolo1Linux (Ubuntu 24.04.3 LTS) / x86_64  OK    OK    OK  UNNEEDED, same version is already published
Package 183/215HostnameOS / ArchINSTALLBUILDCHECKBUILD BIN
splatter 1.35.0  (landing page)
Luke Zappia
git_last_commit: 646e458
git_last_commit_date: 2025-11-01 07:08:53 -0500
nebbiolo1Linux (Ubuntu 24.04.3 LTS) / x86_64  OK    OK    OK  UNNEEDED, same version is already published
Package 184/215HostnameOS / ArchINSTALLBUILDCHECKBUILD BIN
SplineDV 1.3.0  (landing page)
Shreyan Gupta
git_last_commit: 0bab677
git_last_commit_date: 2025-10-29 11:33:07 -0500
nebbiolo1Linux (Ubuntu 24.04.3 LTS) / x86_64  OK    OK    OK  UNNEEDED, same version is already published
Package 185/215HostnameOS / ArchINSTALLBUILDCHECKBUILD BIN
SPOTlight 1.15.0  (landing page)
Marc Elosua-Bayes
git_last_commit: b112ee3
git_last_commit_date: 2025-10-29 11:16:14 -0500
nebbiolo1Linux (Ubuntu 24.04.3 LTS) / x86_64  OK    OK    OK  UNNEEDED, same version is already published
Package 186/215HostnameOS / ArchINSTALLBUILDCHECKBUILD BIN
SpotSweeper 1.7.0  (landing page)
Michael Totty
git_last_commit: 61632f2
git_last_commit_date: 2025-10-29 11:29:53 -0500
nebbiolo1Linux (Ubuntu 24.04.3 LTS) / x86_64  OK    OK    OK  UNNEEDED, same version is already published
Package 187/215HostnameOS / ArchINSTALLBUILDCHECKBUILD BIN
SPsimSeq 1.21.0  (landing page)
Joris Meys
git_last_commit: c584581
git_last_commit_date: 2025-10-29 11:00:01 -0500
nebbiolo1Linux (Ubuntu 24.04.3 LTS) / x86_64  OK    OK    OK  UNNEEDED, same version is already published
Package 188/215HostnameOS / ArchINSTALLBUILDCHECKBUILD BIN
standR 1.15.0  (landing page)
Ning Liu
git_last_commit: 9a79065
git_last_commit_date: 2025-10-29 11:16:04 -0500
nebbiolo1Linux (Ubuntu 24.04.3 LTS) / x86_64  OK    OK    OK  YES
Package 189/215HostnameOS / ArchINSTALLBUILDCHECKBUILD BIN
Statial 1.13.0  (landing page)
Farhan Ameen
git_last_commit: 2a5a1ee
git_last_commit_date: 2025-10-29 11:19:57 -0500
nebbiolo1Linux (Ubuntu 24.04.3 LTS) / x86_64  OK    OK    OK  UNNEEDED, same version is already published
Package 190/215HostnameOS / ArchINSTALLBUILDCHECKBUILD BIN
stPipe 1.1.0  (landing page)
Yang Xu
git_last_commit: 3b726e3
git_last_commit_date: 2025-10-29 11:37:41 -0500
nebbiolo1Linux (Ubuntu 24.04.3 LTS) / x86_64  OK    OK    WARNINGS  YES
Package 191/215HostnameOS / ArchINSTALLBUILDCHECKBUILD BIN
SVP 1.3.1  (landing page)
Shuangbin Xu
git_last_commit: e864351
git_last_commit_date: 2025-11-03 02:03:04 -0500
nebbiolo1Linux (Ubuntu 24.04.3 LTS) / x86_64  OK    OK    OK  UNNEEDED, same version is already published
Package 192/215HostnameOS / ArchINSTALLBUILDCHECKBUILD BIN
switchde 1.37.0  (landing page)
Kieran Campbell
git_last_commit: 5b6f873
git_last_commit_date: 2025-10-29 10:33:47 -0500
nebbiolo1Linux (Ubuntu 24.04.3 LTS) / x86_64  OK    OK    OK  UNNEEDED, same version is already published
Package 193/215HostnameOS / ArchINSTALLBUILDCHECKBUILD BIN
TENxIO 1.13.0  (landing page)
Marcel Ramos
git_last_commit: e1cb3c4
git_last_commit_date: 2025-10-29 11:19:24 -0500
nebbiolo1Linux (Ubuntu 24.04.3 LTS) / x86_64  OK    OK    OK  UNNEEDED, same version is already published
Package 194/215HostnameOS / ArchINSTALLBUILDCHECKBUILD BIN
tidySingleCellExperiment 1.21.0  (landing page)
Stefano Mangiola
git_last_commit: 065fd60
git_last_commit_date: 2025-10-29 11:04:16 -0500
nebbiolo1Linux (Ubuntu 24.04.3 LTS) / x86_64  OK    OK    OK  UNNEEDED, same version is already published
Package 195/215HostnameOS / ArchINSTALLBUILDCHECKBUILD BIN
tidySpatialExperiment 1.7.1  (landing page)
William Hutchison
git_last_commit: 9871264
git_last_commit_date: 2025-11-02 19:43:39 -0500
nebbiolo1Linux (Ubuntu 24.04.3 LTS) / x86_64  OK    OK    OK  UNNEEDED, same version is already published
Package 196/215HostnameOS / ArchINSTALLBUILDCHECKBUILD BIN
tpSVG 1.7.0  (landing page)
Boyi Guo
git_last_commit: 762d511
git_last_commit_date: 2025-10-29 11:28:17 -0500
nebbiolo1Linux (Ubuntu 24.04.3 LTS) / x86_64  OK    OK    OK  UNNEEDED, same version is already published
Package 197/215HostnameOS / ArchINSTALLBUILDCHECKBUILD BIN
tradeSeq 1.25.0  (landing page)
Hector Roux de Bezieux
git_last_commit: 4e78622
git_last_commit_date: 2025-10-29 10:55:42 -0500
nebbiolo1Linux (Ubuntu 24.04.3 LTS) / x86_64  OK    OK    OK  UNNEEDED, same version is already published
Package 198/215HostnameOS / ArchINSTALLBUILDCHECKBUILD BIN
TrajectoryUtils 1.19.0  (landing page)
Aaron Lun
git_last_commit: 5806e25
git_last_commit_date: 2025-10-29 11:06:03 -0500
nebbiolo1Linux (Ubuntu 24.04.3 LTS) / x86_64  OK    OK    OK  UNNEEDED, same version is already published
Package 199/215HostnameOS / ArchINSTALLBUILDCHECKBUILD BIN
treekoR 1.19.0  (landing page)
Adam Chan
git_last_commit: 405f7ca
git_last_commit_date: 2025-10-29 11:08:22 -0500
nebbiolo1Linux (Ubuntu 24.04.3 LTS) / x86_64  OK    OK    OK  UNNEEDED, same version is already published
Package 200/215HostnameOS / ArchINSTALLBUILDCHECKBUILD BIN
TreeSummarizedExperiment 2.19.0  (landing page)
Ruizhu Huang
git_last_commit: d592bc4
git_last_commit_date: 2025-10-29 10:52:27 -0500
nebbiolo1Linux (Ubuntu 24.04.3 LTS) / x86_64  OK    OK    OK  UNNEEDED, same version is already published
Package 201/215HostnameOS / ArchINSTALLBUILDCHECKBUILD BIN
tricycle 1.19.0  (landing page)
Shijie Zheng
git_last_commit: 54701be
git_last_commit_date: 2025-10-29 11:08:17 -0500
nebbiolo1Linux (Ubuntu 24.04.3 LTS) / x86_64  OK    OK    WARNINGS  UNNEEDED, same version is already published
Package 202/215HostnameOS / ArchINSTALLBUILDCHECKBUILD BIN
TSCAN 1.49.0  (landing page)
Zhicheng Ji
git_last_commit: 19fa1c7
git_last_commit_date: 2025-10-29 10:21:25 -0500
nebbiolo1Linux (Ubuntu 24.04.3 LTS) / x86_64  OK    OK    OK  UNNEEDED, same version is already published
Package 203/215HostnameOS / ArchINSTALLBUILDCHECKBUILD BIN
UCell 2.15.0  (landing page)
Massimo Andreatta
git_last_commit: 1e041f7
git_last_commit_date: 2025-10-31 04:53:43 -0500
nebbiolo1Linux (Ubuntu 24.04.3 LTS) / x86_64  OK    OK    OK  UNNEEDED, same version is already published
Package 204/215HostnameOS / ArchINSTALLBUILDCHECKBUILD BIN
VAExprs 1.17.0  (landing page)
Dongmin Jung
git_last_commit: 360e803
git_last_commit_date: 2025-10-29 11:11:03 -0500
nebbiolo1Linux (Ubuntu 24.04.3 LTS) / x86_64  OK    OK    OK  UNNEEDED, same version is already published
Package 205/215HostnameOS / ArchINSTALLBUILDCHECKBUILD BIN
VDJdive 1.13.0  (landing page)
Kelly Street
git_last_commit: 06997fb
git_last_commit_date: 2025-10-29 11:18:28 -0500
nebbiolo1Linux (Ubuntu 24.04.3 LTS) / x86_64  OK    OK    OK  UNNEEDED, same version is already published
Package 206/215HostnameOS / ArchINSTALLBUILDCHECKBUILD BIN
velociraptor 1.21.0  (landing page)
Kevin Rue-Albrecht
git_last_commit: b6ed8f8
git_last_commit_date: 2025-10-29 11:02:39 -0500
nebbiolo1Linux (Ubuntu 24.04.3 LTS) / x86_64  OK    OK    OK  UNNEEDED, same version is already published
Package 207/215HostnameOS / ArchINSTALLBUILDCHECKBUILD BIN
VisiumIO 1.7.0  (landing page)
Marcel Ramos
git_last_commit: 459a588
git_last_commit_date: 2025-10-29 11:27:23 -0500
nebbiolo1Linux (Ubuntu 24.04.3 LTS) / x86_64  OK    OK    OK  UNNEEDED, same version is already published
Package 208/215HostnameOS / ArchINSTALLBUILDCHECKBUILD BIN
visiumStitched 1.3.0  (landing page)
Nicholas J. Eagles
git_last_commit: 829e946
git_last_commit_date: 2025-10-29 11:33:12 -0500
nebbiolo1Linux (Ubuntu 24.04.3 LTS) / x86_64  OK    OK    OK  UNNEEDED, same version is already published
Package 209/215HostnameOS / ArchINSTALLBUILDCHECKBUILD BIN
Voyager 1.13.0  (landing page)
Lambda Moses
git_last_commit: d3cefae
git_last_commit_date: 2025-10-29 11:19:14 -0500
nebbiolo1Linux (Ubuntu 24.04.3 LTS) / x86_64  OK    OK    WARNINGS  NO, package depends on 'SpatialFeatureExperiment' which is not available
Package 210/215HostnameOS / ArchINSTALLBUILDCHECKBUILD BIN
waddR 1.25.0  (landing page)
Julian Flesch
git_last_commit: e6c53eb
git_last_commit_date: 2025-10-29 10:55:06 -0500
nebbiolo1Linux (Ubuntu 24.04.3 LTS) / x86_64  OK    OK    OK  UNNEEDED, same version is already published
Package 211/215HostnameOS / ArchINSTALLBUILDCHECKBUILD BIN
xCell2 1.3.0  (landing page)
Almog Angel
git_last_commit: c6b6c48
git_last_commit_date: 2025-10-29 11:33:51 -0500
nebbiolo1Linux (Ubuntu 24.04.3 LTS) / x86_64  OK    OK    OK  UNNEEDED, same version is already published
Package 212/215HostnameOS / ArchINSTALLBUILDCHECKBUILD BIN
XeniumIO 1.3.0  (landing page)
Marcel Ramos
git_last_commit: dfaaa90
git_last_commit_date: 2025-10-29 11:34:29 -0500
nebbiolo1Linux (Ubuntu 24.04.3 LTS) / x86_64  OK    OK    OK  UNNEEDED, same version is already published
Package 213/215HostnameOS / ArchINSTALLBUILDCHECKBUILD BIN
xenLite 1.5.0  (landing page)
Vincent Carey
git_last_commit: 504f4e0
git_last_commit_date: 2025-10-29 11:31:51 -0500
nebbiolo1Linux (Ubuntu 24.04.3 LTS) / x86_64  OK    OK    OK  UNNEEDED, same version is already published
Package 214/215HostnameOS / ArchINSTALLBUILDCHECKBUILD BIN
zellkonverter 1.21.0  (landing page)
Luke Zappia
git_last_commit: 38b921d
git_last_commit_date: 2025-11-01 07:21:07 -0500
nebbiolo1Linux (Ubuntu 24.04.3 LTS) / x86_64  OK    OK    OK  UNNEEDED, same version is already published
Package 215/215HostnameOS / ArchINSTALLBUILDCHECKBUILD BIN
zinbwave 1.33.0  (landing page)
Davide Risso
git_last_commit: dee1bb8
git_last_commit_date: 2025-10-29 10:39:04 -0500
nebbiolo1Linux (Ubuntu 24.04.3 LTS) / x86_64  OK    OK    OK  UNNEEDED, same version is already published