Back to Build/check report for BioC 3.23:   simplified   long
ABCDEFGHIJKL[M]NOPQRSTUVWXYZ

This page was generated on 2025-11-01 11:32 -0400 (Sat, 01 Nov 2025).

HostnameOSArch (*)R versionInstalled pkgs
nebbiolo1Linux (Ubuntu 24.04.3 LTS)x86_64R Under development (unstable) (2025-10-20 r88955) -- "Unsuffered Consequences" 4774
Click on any hostname to see more info about the system (e.g. compilers)      (*) as reported by 'uname -p', except on Windows and Mac OS X

All results for package MatrixGenerics


To the developers/maintainers of the MatrixGenerics package:
- Allow up to 24 hours (and sometimes 48 hours) for your latest push to git@git.bioconductor.org:packages/MatrixGenerics.git to reflect on this report. See Troubleshooting Build Report for more information.
- Use the following Renviron settings to reproduce errors and warnings.
- If 'R CMD check' started to fail recently on the Linux builder(s) over a missing dependency, add the missing dependency to 'Suggests:' in your DESCRIPTION file. See Renviron.bioc for more information.

raw results

Package 1181/2321HostnameOS / ArchINSTALLBUILDCHECKBUILD BIN
MatrixGenerics 1.23.0  (landing page)
Peter Hickey
Snapshot Date: 2025-10-31 13:40 -0400 (Fri, 31 Oct 2025)
git_url: https://git.bioconductor.org/packages/MatrixGenerics
git_branch: devel
git_last_commit: 4bb40d2
git_last_commit_date: 2025-10-29 10:58:10 -0400 (Wed, 29 Oct 2025)
nebbiolo1Linux (Ubuntu 24.04.3 LTS) / x86_64  OK    OK    OK  UNNEEDED, same version is already published



Results for Bioconductor software packages that depend directly on package MatrixGenerics

QUICK STATSOS / ArchINSTALLBUILDCHECKBUILD BIN
nebbiolo1Linux (Ubuntu 24.04.3 LTS) / x86_64
0057
0651
031137
Package 1/57HostnameOS / ArchINSTALLBUILDCHECKBUILD BIN
atena 1.17.0  (landing page)
Robert Castelo
git_last_commit: 2209be2
git_last_commit_date: 2025-10-29 11:12:14 -0400
nebbiolo1Linux (Ubuntu 24.04.3 LTS) / x86_64  OK    OK    OK  NO, package depends on 'GenomicFeatures' which is not available
Package 2/57HostnameOS / ArchINSTALLBUILDCHECKBUILD BIN
Banksy 1.7.0  (landing page)
Joseph Lee
git_last_commit: 4bdc545
git_last_commit_date: 2025-10-29 11:27:15 -0400
nebbiolo1Linux (Ubuntu 24.04.3 LTS) / x86_64  OK    OK    OK  NO, package depends on 'SpatialExperiment' which is not available
Package 3/57HostnameOS / ArchINSTALLBUILDCHECKBUILD BIN
blase 1.1.0  (landing page)
Andrew McCluskey
git_last_commit: 7118ee1
git_last_commit_date: 2025-10-29 11:38:12 -0400
nebbiolo1Linux (Ubuntu 24.04.3 LTS) / x86_64  OK    OK    OK  NO, package depends on 'SingleCellExperiment' which is not available
Package 4/57HostnameOS / ArchINSTALLBUILDCHECKBUILD BIN
CoreGx 2.15.0  (landing page)
Benjamin Haibe-Kains
git_last_commit: e18fa83
git_last_commit_date: 2025-10-29 10:59:21 -0400
nebbiolo1Linux (Ubuntu 24.04.3 LTS) / x86_64  OK    OK    OK  YES
Package 5/57HostnameOS / ArchINSTALLBUILDCHECKBUILD BIN
crisprDesign 1.13.0  (landing page)
Jean-Philippe Fortin
git_last_commit: dd162c8
git_last_commit_date: 2025-10-29 11:17:54 -0400
nebbiolo1Linux (Ubuntu 24.04.3 LTS) / x86_64  OK    OK    OK  NO, package depends on 'BSgenome' which is not available
Package 6/57HostnameOS / ArchINSTALLBUILDCHECKBUILD BIN
CTexploreR 1.7.0  (landing page)
Axelle Loriot
git_last_commit: db48290
git_last_commit_date: 2025-10-29 11:26:51 -0400
nebbiolo1Linux (Ubuntu 24.04.3 LTS) / x86_64  OK    OK    OK  NO, package depends on 'SingleCellExperiment' which is not available
Package 7/57HostnameOS / ArchINSTALLBUILDCHECKBUILD BIN
DeconvoBuddies 1.3.0  (landing page)
Louise Huuki-Myers
git_last_commit: a72d7d5
git_last_commit_date: 2025-10-29 11:35:32 -0400
nebbiolo1Linux (Ubuntu 24.04.3 LTS) / x86_64  OK    OK    OK  NO, package depends on 'scran' which is not available
Package 8/57HostnameOS / ArchINSTALLBUILDCHECKBUILD BIN
DelayedArray 0.37.0  (landing page)
Hervé Pagès
git_last_commit: a1ebb83
git_last_commit_date: 2025-10-29 14:49:13 -0400
nebbiolo1Linux (Ubuntu 24.04.3 LTS) / x86_64  OK    OK    WARNINGS  YES
Package 9/57HostnameOS / ArchINSTALLBUILDCHECKBUILD BIN
DelayedMatrixStats 1.33.0  (landing page)
Peter Hickey
git_last_commit: ec9ae22
git_last_commit_date: 2025-10-29 10:41:36 -0400
nebbiolo1Linux (Ubuntu 24.04.3 LTS) / x86_64  OK    OK    OK  YES
Package 10/57HostnameOS / ArchINSTALLBUILDCHECKBUILD BIN
demuxSNP 1.9.0  (landing page)
Michael Lynch
git_last_commit: e594034
git_last_commit_date: 2025-10-29 11:23:27 -0400
nebbiolo1Linux (Ubuntu 24.04.3 LTS) / x86_64  OK    OK    OK  NO, package depends on 'SingleCellExperiment' which is not available
Package 11/57HostnameOS / ArchINSTALLBUILDCHECKBUILD BIN
DESeq2 1.51.0  (landing page)
Michael Love
git_last_commit: 3323082
git_last_commit_date: 2025-10-29 10:13:48 -0400
nebbiolo1Linux (Ubuntu 24.04.3 LTS) / x86_64  OK    OK    OK  YES
Package 12/57HostnameOS / ArchINSTALLBUILDCHECKBUILD BIN
dreamlet 1.9.0  (landing page)
Gabriel Hoffman
git_last_commit: dfc1aac
git_last_commit_date: 2025-10-29 11:25:03 -0400
nebbiolo1Linux (Ubuntu 24.04.3 LTS) / x86_64  OK    OK    OK  NO, package depends on 'SingleCellExperiment' which is not available
Package 13/57HostnameOS / ArchINSTALLBUILDCHECKBUILD BIN
escape 2.7.0  (landing page)
Nick Borcherding
git_last_commit: 9042b72
git_last_commit_date: 2025-10-29 11:00:52 -0400
nebbiolo1Linux (Ubuntu 24.04.3 LTS) / x86_64  OK    OK    ERROR  
Package 14/57HostnameOS / ArchINSTALLBUILDCHECKBUILD BIN
FLAMES 2.5.1  (landing page)
Changqing Wang
git_last_commit: 7887658
git_last_commit_date: 2025-10-31 02:11:54 -0400
nebbiolo1Linux (Ubuntu 24.04.3 LTS) / x86_64  OK    OK    OK  NO, package depends on 'bambu' which is not available
Package 15/57HostnameOS / ArchINSTALLBUILDCHECKBUILD BIN
genefilter 1.93.0  (landing page)
Bioconductor Package Maintainer
git_last_commit: 434deb9
git_last_commit_date: 2025-10-29 09:41:48 -0400
nebbiolo1Linux (Ubuntu 24.04.3 LTS) / x86_64  OK    OK    WARNINGS  YES
Package 16/57HostnameOS / ArchINSTALLBUILDCHECKBUILD BIN
GenomicFiles 1.47.0  (landing page)
Bioconductor Package Maintainer
git_last_commit: 76a7462
git_last_commit_date: 2025-10-29 10:19:18 -0400
nebbiolo1Linux (Ubuntu 24.04.3 LTS) / x86_64  OK    OK    OK  NO, package depends on 'rtracklayer' which is not available
Package 17/57HostnameOS / ArchINSTALLBUILDCHECKBUILD BIN
glmGamPoi 1.23.0  (landing page)
Constantin Ahlmann-Eltze
git_last_commit: 23ac45d
git_last_commit_date: 2025-10-29 10:58:15 -0400
nebbiolo1Linux (Ubuntu 24.04.3 LTS) / x86_64  OK    OK    WARNINGS  NO, package depends on 'SingleCellExperiment' which is not available
Package 18/57HostnameOS / ArchINSTALLBUILDCHECKBUILD BIN
GSVA 2.5.0  (landing page)
Robert Castelo
git_last_commit: a714c64
git_last_commit_date: 2025-10-29 10:07:40 -0400
nebbiolo1Linux (Ubuntu 24.04.3 LTS) / x86_64  OK    ERROR  skipped
Package 19/57HostnameOS / ArchINSTALLBUILDCHECKBUILD BIN
imcRtools 1.17.0  (landing page)
Daniel Schulz
git_last_commit: 00166f2
git_last_commit_date: 2025-10-29 11:12:28 -0400
nebbiolo1Linux (Ubuntu 24.04.3 LTS) / x86_64  OK    OK    OK  NO, package depends on 'SpatialExperiment' which is not available
Package 20/57HostnameOS / ArchINSTALLBUILDCHECKBUILD BIN
lemur 1.9.0  (landing page)
Constantin Ahlmann-Eltze
git_last_commit: 2426da6
git_last_commit_date: 2025-10-29 11:26:19 -0400
nebbiolo1Linux (Ubuntu 24.04.3 LTS) / x86_64  OK    OK    WARNINGS  NO, package depends on 'SingleCellExperiment' which is not available
Package 21/57HostnameOS / ArchINSTALLBUILDCHECKBUILD BIN
lineagespot 1.15.0  (landing page)
Nikolaos Pechlivanis
git_last_commit: 409c851
git_last_commit_date: 2025-10-29 11:14:52 -0400
nebbiolo1Linux (Ubuntu 24.04.3 LTS) / x86_64  OK    OK    OK  NO, package depends on 'VariantAnnotation' which is not available
Package 22/57HostnameOS / ArchINSTALLBUILDCHECKBUILD BIN
methodical 1.7.0  (landing page)
Richard Heery
git_last_commit: ca1b149
git_last_commit_date: 2025-10-29 11:27:18 -0400
nebbiolo1Linux (Ubuntu 24.04.3 LTS) / x86_64  OK    OK    WARNINGS  NO, package depends on 'annotatr' which is not available
Package 23/57HostnameOS / ArchINSTALLBUILDCHECKBUILD BIN
mia 1.19.0  (landing page)
Tuomas Borman
git_last_commit: ba530f5
git_last_commit_date: 2025-10-29 11:07:20 -0400
nebbiolo1Linux (Ubuntu 24.04.3 LTS) / x86_64  OK    OK    OK  NO, package depends on 'SingleCellExperiment' which is not available
Package 24/57HostnameOS / ArchINSTALLBUILDCHECKBUILD BIN
miaSim 1.17.0  (landing page)
Yagmur Simsek
git_last_commit: 253acb3
git_last_commit_date: 2025-10-29 11:13:14 -0400
nebbiolo1Linux (Ubuntu 24.04.3 LTS) / x86_64  OK    OK    OK  NO, package depends on 'TreeSummarizedExperiment' which is not available
Package 25/57HostnameOS / ArchINSTALLBUILDCHECKBUILD BIN
miloR 2.7.0  (landing page)
Mike Morgan
git_last_commit: 6c5c6a3
git_last_commit_date: 2025-10-29 11:08:58 -0400
nebbiolo1Linux (Ubuntu 24.04.3 LTS) / x86_64  OK    OK    OK  NO, package depends on 'SingleCellExperiment' which is not available
Package 26/57HostnameOS / ArchINSTALLBUILDCHECKBUILD BIN
MinimumDistance 1.55.0  (landing page)
Robert Scharpf
git_last_commit: 3e07ba2
git_last_commit_date: 2025-10-29 10:10:57 -0400
nebbiolo1Linux (Ubuntu 24.04.3 LTS) / x86_64  OK    OK    WARNINGS  YES
Package 27/57HostnameOS / ArchINSTALLBUILDCHECKBUILD BIN
MultiAssayExperiment 1.37.0  (landing page)
Marcel Ramos
git_last_commit: bcc9a96
git_last_commit_date: 2025-10-29 10:31:09 -0400
nebbiolo1Linux (Ubuntu 24.04.3 LTS) / x86_64  OK    OK    OK  YES
Package 28/57HostnameOS / ArchINSTALLBUILDCHECKBUILD BIN
omicsGMF 1.1.0  (landing page)
Alexandre Segers
git_last_commit: 66f9d2d
git_last_commit_date: 2025-10-29 11:39:15 -0400
nebbiolo1Linux (Ubuntu 24.04.3 LTS) / x86_64  OK    OK    OK  NO, package depends on 'SingleCellExperiment' which is not available
Package 29/57HostnameOS / ArchINSTALLBUILDCHECKBUILD BIN
PDATK 1.19.0  (landing page)
Benjamin Haibe-Kains
git_last_commit: 16dbbfe
git_last_commit_date: 2025-10-29 11:06:36 -0400
nebbiolo1Linux (Ubuntu 24.04.3 LTS) / x86_64  OK    OK    WARNINGS  YES
Package 30/57HostnameOS / ArchINSTALLBUILDCHECKBUILD BIN
RaggedExperiment 1.35.0  (landing page)
Marcel Ramos
git_last_commit: efd60e0
git_last_commit_date: 2025-10-29 10:37:59 -0400
nebbiolo1Linux (Ubuntu 24.04.3 LTS) / x86_64  OK    OK    OK  YES
Package 31/57HostnameOS / ArchINSTALLBUILDCHECKBUILD BIN
RAIDS 1.9.0  (landing page)
Pascal Belleau
git_last_commit: 27cee94
git_last_commit_date: 2025-10-29 11:25:36 -0400
nebbiolo1Linux (Ubuntu 24.04.3 LTS) / x86_64  OK    OK    OK  NO, package depends on 'GENESIS' which is not available
Package 32/57HostnameOS / ArchINSTALLBUILDCHECKBUILD BIN
RCSL 1.19.0  (landing page)
Qinglin Mei
git_last_commit: 01ddc6d
git_last_commit_date: 2025-10-29 11:10:06 -0400
nebbiolo1Linux (Ubuntu 24.04.3 LTS) / x86_64  OK    OK    OK  NO, package depends on 'SingleCellExperiment' which is not available
Package 33/57HostnameOS / ArchINSTALLBUILDCHECKBUILD BIN
SanityR 1.1.0  (landing page)
Teo Sakel
git_last_commit: 65e0964
git_last_commit_date: 2025-10-29 11:37:07 -0400
nebbiolo1Linux (Ubuntu 24.04.3 LTS) / x86_64  OK    OK    OK  NO, package depends on 'scuttle' which is not available
Package 34/57HostnameOS / ArchINSTALLBUILDCHECKBUILD BIN
saseR 1.7.0  (landing page)
Alexandre Segers
git_last_commit: 7f96081
git_last_commit_date: 2025-10-29 11:27:12 -0400
nebbiolo1Linux (Ubuntu 24.04.3 LTS) / x86_64  OK    OK    WARNINGS  NO, package depends on 'ASpli' which is not available
Package 35/57HostnameOS / ArchINSTALLBUILDCHECKBUILD BIN
scater 1.39.0  (landing page)
Alan O'Callaghan
git_last_commit: 4ba4420
git_last_commit_date: 2025-10-29 10:30:01 -0400
nebbiolo1Linux (Ubuntu 24.04.3 LTS) / x86_64  OK    ERROR  skipped
Package 36/57HostnameOS / ArchINSTALLBUILDCHECKBUILD BIN
scFeatures 1.11.0  (landing page)
Yue Cao
git_last_commit: 6d12eae
git_last_commit_date: 2025-10-29 11:20:52 -0400
nebbiolo1Linux (Ubuntu 24.04.3 LTS) / x86_64  OK    OK    ERROR  
Package 37/57HostnameOS / ArchINSTALLBUILDCHECKBUILD BIN
scone 1.35.0  (landing page)
Davide Risso
git_last_commit: 60f7f37
git_last_commit_date: 2025-10-29 10:36:05 -0400
nebbiolo1Linux (Ubuntu 24.04.3 LTS) / x86_64  OK    ERROR  skipped
Package 38/57HostnameOS / ArchINSTALLBUILDCHECKBUILD BIN
scPCA 1.25.0  (landing page)
Philippe Boileau
git_last_commit: 93c5905
git_last_commit_date: 2025-10-29 10:55:26 -0400
nebbiolo1Linux (Ubuntu 24.04.3 LTS) / x86_64  OK    OK    OK  YES
Package 39/57HostnameOS / ArchINSTALLBUILDCHECKBUILD BIN
scran 1.39.0  (landing page)
Aaron Lun
git_last_commit: 5b4b8a1
git_last_commit_date: 2025-10-29 10:31:34 -0400
nebbiolo1Linux (Ubuntu 24.04.3 LTS) / x86_64  OK    ERROR  skipped
Package 40/57HostnameOS / ArchINSTALLBUILDCHECKBUILD BIN
scuttle 1.21.0  (landing page)
Aaron Lun
git_last_commit: 02c9bb0
git_last_commit_date: 2025-10-29 10:59:47 -0400
nebbiolo1Linux (Ubuntu 24.04.3 LTS) / x86_64  OK    ERROR  skipped
Package 41/57HostnameOS / ArchINSTALLBUILDCHECKBUILD BIN
scviR 1.11.0  (landing page)
Vincent Carey
git_last_commit: 4329942
git_last_commit_date: 2025-10-29 11:21:42 -0400
nebbiolo1Linux (Ubuntu 24.04.3 LTS) / x86_64  OK    OK    OK  NO, package depends on 'SingleCellExperiment' which is not available
Package 42/57HostnameOS / ArchINSTALLBUILDCHECKBUILD BIN
shinyMethyl 1.47.0  (landing page)
Jean-Philippe Fortin
git_last_commit: 64dff78
git_last_commit_date: 2025-10-29 10:20:21 -0400
nebbiolo1Linux (Ubuntu 24.04.3 LTS) / x86_64  OK    ERROR  skipped
Package 43/57HostnameOS / ArchINSTALLBUILDCHECKBUILD BIN
SparseArray 1.11.1  (landing page)
Hervé Pagès
git_last_commit: 148eea9
git_last_commit_date: 2025-10-31 00:21:39 -0400
nebbiolo1Linux (Ubuntu 24.04.3 LTS) / x86_64  OK    OK    OK  YES
Package 44/57HostnameOS / ArchINSTALLBUILDCHECKBUILD BIN
sparseMatrixStats 1.23.0  (landing page)
Constantin Ahlmann-Eltze
git_last_commit: 1592487
git_last_commit_date: 2025-10-29 10:58:07 -0400
nebbiolo1Linux (Ubuntu 24.04.3 LTS) / x86_64  OK    OK    OK  UNNEEDED, same version is already published
Package 45/57HostnameOS / ArchINSTALLBUILDCHECKBUILD BIN
spatzie 1.17.0  (landing page)
Jennifer Hammelman
git_last_commit: 3303154
git_last_commit_date: 2025-10-29 11:11:08 -0400
nebbiolo1Linux (Ubuntu 24.04.3 LTS) / x86_64  OK    OK    ERROR  
Package 46/57HostnameOS / ArchINSTALLBUILDCHECKBUILD BIN
StabMap 1.5.0  (landing page)
Shila Ghazanfar
git_last_commit: 05ee46d
git_last_commit_date: 2025-10-29 11:31:21 -0400
nebbiolo1Linux (Ubuntu 24.04.3 LTS) / x86_64  OK    OK    OK  YES
Package 47/57HostnameOS / ArchINSTALLBUILDCHECKBUILD BIN
SummarizedExperiment 1.41.0  (landing page)
Hervé Pagès
git_last_commit: 7a9787c
git_last_commit_date: 2025-10-29 14:49:30 -0400
nebbiolo1Linux (Ubuntu 24.04.3 LTS) / x86_64  OK    OK    OK  YES
Package 48/57HostnameOS / ArchINSTALLBUILDCHECKBUILD BIN
tadar 1.9.0  (landing page)
Lachlan Baer
git_last_commit: 7b05448
git_last_commit_date: 2025-10-29 11:25:24 -0400
nebbiolo1Linux (Ubuntu 24.04.3 LTS) / x86_64  OK    OK    OK  NO, package depends on 'Gviz' which is not available
Package 49/57HostnameOS / ArchINSTALLBUILDCHECKBUILD BIN
TENxIO 1.13.0  (landing page)
Marcel Ramos
git_last_commit: e1cb3c4
git_last_commit_date: 2025-10-29 11:19:24 -0400
nebbiolo1Linux (Ubuntu 24.04.3 LTS) / x86_64  OK    OK    OK  NO, package depends on 'SingleCellExperiment' which is not available
Package 50/57HostnameOS / ArchINSTALLBUILDCHECKBUILD BIN
tLOH 1.19.0  (landing page)
Michelle Webb
git_last_commit: 7e311df
git_last_commit_date: 2025-10-29 11:08:42 -0400
nebbiolo1Linux (Ubuntu 24.04.3 LTS) / x86_64  OK    OK    OK  NO, package depends on 'VariantAnnotation' which is not available
Package 51/57HostnameOS / ArchINSTALLBUILDCHECKBUILD BIN
tpSVG 1.7.0  (landing page)
Boyi Guo
git_last_commit: 762d511
git_last_commit_date: 2025-10-29 11:28:17 -0400
nebbiolo1Linux (Ubuntu 24.04.3 LTS) / x86_64  OK    OK    OK  NO, package depends on 'SingleCellExperiment' which is not available
Package 52/57HostnameOS / ArchINSTALLBUILDCHECKBUILD BIN
transformGamPoi 1.17.0  (landing page)
Constantin Ahlmann-Eltze
git_last_commit: 7ddcbe2
git_last_commit_date: 2025-10-29 11:12:07 -0400
nebbiolo1Linux (Ubuntu 24.04.3 LTS) / x86_64  OK    OK    OK  NO, package depends on 'glmGamPoi' which is not available
Package 53/57HostnameOS / ArchINSTALLBUILDCHECKBUILD BIN
universalmotif 1.29.0  (landing page)
Benjamin Jean-Marie Tremblay
git_last_commit: 6692d9a
git_last_commit_date: 2025-10-29 10:48:50 -0400
nebbiolo1Linux (Ubuntu 24.04.3 LTS) / x86_64  OK    OK    OK  YES
Package 54/57HostnameOS / ArchINSTALLBUILDCHECKBUILD BIN
VanillaICE 1.73.0  (landing page)
Robert Scharpf
git_last_commit: 22bb99f
git_last_commit_date: 2025-10-29 09:59:52 -0400
nebbiolo1Linux (Ubuntu 24.04.3 LTS) / x86_64  OK    OK    OK  YES
Package 55/57HostnameOS / ArchINSTALLBUILDCHECKBUILD BIN
VariantAnnotation 1.57.0  (landing page)
Bioconductor Package Maintainer
git_last_commit: 0da7ddb
git_last_commit_date: 2025-10-29 10:08:24 -0400
nebbiolo1Linux (Ubuntu 24.04.3 LTS) / x86_64  OK    OK    WARNINGS  NO, package depends on 'rtracklayer' which is not available
Package 56/57HostnameOS / ArchINSTALLBUILDCHECKBUILD BIN
Voyager 1.13.0  (landing page)
Lambda Moses
git_last_commit: d3cefae
git_last_commit_date: 2025-10-29 11:19:14 -0400
nebbiolo1Linux (Ubuntu 24.04.3 LTS) / x86_64  OK    OK    WARNINGS  NO, package depends on 'SpatialFeatureExperiment' which is not available
Package 57/57HostnameOS / ArchINSTALLBUILDCHECKBUILD BIN
zitools 1.5.0  (landing page)
Carlotta Meyring
git_last_commit: 822919b
git_last_commit_date: 2025-10-29 11:30:43 -0400
nebbiolo1Linux (Ubuntu 24.04.3 LTS) / x86_64  OK    OK    WARNINGS  YES