| Back to Build/check report for BioC 3.23: simplified long |
|
This page was generated on 2025-11-05 11:32 -0500 (Wed, 05 Nov 2025).
| Hostname | OS | Arch (*) | R version | Installed pkgs |
|---|---|---|---|---|
| nebbiolo1 | Linux (Ubuntu 24.04.3 LTS) | x86_64 | R Under development (unstable) (2025-10-20 r88955) -- "Unsuffered Consequences" | 4818 |
| Click on any hostname to see more info about the system (e.g. compilers) (*) as reported by 'uname -p', except on Windows and Mac OS X | ||||
| Package 2192/2323 | Hostname | OS / Arch | INSTALL | BUILD | CHECK | BUILD BIN | ||||||||
| tLOH 1.19.0 (landing page) Michelle Webb
| nebbiolo1 | Linux (Ubuntu 24.04.3 LTS) / x86_64 | OK | OK | OK | |||||||||
|
To the developers/maintainers of the tLOH package: - Allow up to 24 hours (and sometimes 48 hours) for your latest push to git@git.bioconductor.org:packages/tLOH.git to reflect on this report. See Troubleshooting Build Report for more information. - Use the following Renviron settings to reproduce errors and warnings. - If 'R CMD check' started to fail recently on the Linux builder(s) over a missing dependency, add the missing dependency to 'Suggests:' in your DESCRIPTION file. See Renviron.bioc for more information. |
| Package: tLOH |
| Version: 1.19.0 |
| Command: /home/biocbuild/bbs-3.23-bioc/R/bin/R CMD check --install=check:tLOH.install-out.txt --library=/home/biocbuild/bbs-3.23-bioc/R/site-library --timings tLOH_1.19.0.tar.gz |
| StartedAt: 2025-11-05 04:39:36 -0500 (Wed, 05 Nov 2025) |
| EndedAt: 2025-11-05 04:50:57 -0500 (Wed, 05 Nov 2025) |
| EllapsedTime: 681.0 seconds |
| RetCode: 0 |
| Status: OK |
| CheckDir: tLOH.Rcheck |
| Warnings: 0 |
##############################################################################
##############################################################################
###
### Running command:
###
### /home/biocbuild/bbs-3.23-bioc/R/bin/R CMD check --install=check:tLOH.install-out.txt --library=/home/biocbuild/bbs-3.23-bioc/R/site-library --timings tLOH_1.19.0.tar.gz
###
##############################################################################
##############################################################################
* using log directory ‘/home/biocbuild/bbs-3.23-bioc/meat/tLOH.Rcheck’
* using R Under development (unstable) (2025-10-20 r88955)
* using platform: x86_64-pc-linux-gnu
* R was compiled by
gcc (Ubuntu 13.3.0-6ubuntu2~24.04) 13.3.0
GNU Fortran (Ubuntu 13.3.0-6ubuntu2~24.04) 13.3.0
* running under: Ubuntu 24.04.3 LTS
* using session charset: UTF-8
* checking for file ‘tLOH/DESCRIPTION’ ... OK
* checking extension type ... Package
* this is package ‘tLOH’ version ‘1.19.0’
* package encoding: UTF-8
* checking package namespace information ... OK
* checking package dependencies ... OK
* checking if this is a source package ... OK
* checking if there is a namespace ... OK
* checking for hidden files and directories ... OK
* checking for portable file names ... OK
* checking for sufficient/correct file permissions ... OK
* checking whether package ‘tLOH’ can be installed ... OK
* checking installed package size ... OK
* checking package directory ... OK
* checking ‘build’ directory ... OK
* checking DESCRIPTION meta-information ... NOTE
License stub is invalid DCF.
* checking top-level files ... OK
* checking for left-over files ... OK
* checking index information ... OK
* checking package subdirectories ... NOTE
Problems with news in ‘NEWS.md’:
No news entries found.
* checking code files for non-ASCII characters ... OK
* checking R files for syntax errors ... OK
* checking whether the package can be loaded ... OK
* checking whether the package can be loaded with stated dependencies ... OK
* checking whether the package can be unloaded cleanly ... OK
* checking whether the namespace can be loaded with stated dependencies ... OK
* checking whether the namespace can be unloaded cleanly ... OK
* checking loading without being on the library search path ... OK
* checking dependencies in R code ... OK
* checking S3 generic/method consistency ... OK
* checking replacement functions ... OK
* checking foreign function calls ... OK
* checking R code for possible problems ... OK
* checking Rd files ... OK
* checking Rd metadata ... OK
* checking Rd cross-references ... OK
* checking for missing documentation entries ... OK
* checking for code/documentation mismatches ... OK
* checking Rd \usage sections ... OK
* checking Rd contents ... OK
* checking for unstated dependencies in examples ... OK
* checking contents of ‘data’ directory ... OK
* checking data for non-ASCII characters ... OK
* checking data for ASCII and uncompressed saves ... OK
* checking files in ‘vignettes’ ... OK
* checking examples ... OK
Examples with CPU (user + system) or elapsed time > 5s
user system elapsed
hiddenMarkovAnalysis 72.069 2.534 77.021
regionAnalysis 53.110 0.718 56.201
runHMM_3 43.876 0.251 44.139
runHMM_2 42.877 0.246 43.124
prepareHMMdataframes 31.481 0.799 35.308
runHMM_1 25.684 0.121 25.807
tLOHCalcUpdate 24.650 0.241 24.891
splitByChromosome 24.271 0.096 24.368
alleleFrequencyPlot 7.042 0.231 7.273
aggregateCHRPlot 6.199 0.321 6.507
* checking for unstated dependencies in vignettes ... OK
* checking package vignettes ... OK
* checking re-building of vignette outputs ... OK
* checking PDF version of manual ... OK
* DONE
Status: 2 NOTEs
See
‘/home/biocbuild/bbs-3.23-bioc/meat/tLOH.Rcheck/00check.log’
for details.
tLOH.Rcheck/00install.out
############################################################################## ############################################################################## ### ### Running command: ### ### /home/biocbuild/bbs-3.23-bioc/R/bin/R CMD INSTALL tLOH ### ############################################################################## ############################################################################## * installing to library ‘/home/biocbuild/bbs-3.23-bioc/R/site-library’ * installing *source* package ‘tLOH’ ... ** this is package ‘tLOH’ version ‘1.19.0’ ** using staged installation ** R ** data ** inst ** byte-compile and prepare package for lazy loading ** help *** installing help indices ** building package indices ** installing vignettes ** testing if installed package can be loaded from temporary location ** testing if installed package can be loaded from final location ** testing if installed package keeps a record of temporary installation path * DONE (tLOH)
tLOH.Rcheck/tLOH-Ex.timings
| name | user | system | elapsed | |
| aggregateCHRPlot | 6.199 | 0.321 | 6.507 | |
| alleleFrequencyPlot | 7.042 | 0.231 | 7.273 | |
| documentErrorRegions | 0.001 | 0.000 | 0.001 | |
| hiddenMarkovAnalysis | 72.069 | 2.534 | 77.021 | |
| humanGBMsampleAC | 0.039 | 0.002 | 0.042 | |
| initialStartProbabilities | 0.000 | 0.000 | 0.001 | |
| marginalLikelihoodM1 | 0.002 | 0.000 | 0.003 | |
| marginalLikelihoodM2 | 0.001 | 0.001 | 0.002 | |
| marginalM1Calc | 0.000 | 0.000 | 0.001 | |
| marginalM2CalcBHET | 0.001 | 0.000 | 0.001 | |
| marginalM2CalcBLOH | 0.002 | 0.000 | 0.001 | |
| modePeakCalc | 0.000 | 0.000 | 0.001 | |
| prepareHMMdataframes | 31.481 | 0.799 | 35.308 | |
| regionAnalysis | 53.110 | 0.718 | 56.201 | |
| regionFinalize | 0 | 0 | 0 | |
| removeOutlierFromCalc | 0.000 | 0.000 | 0.001 | |
| runHMM_1 | 25.684 | 0.121 | 25.807 | |
| runHMM_2 | 42.877 | 0.246 | 43.124 | |
| runHMM_3 | 43.876 | 0.251 | 44.139 | |
| splitByChromosome | 24.271 | 0.096 | 24.368 | |
| summarizeRegions1 | 0.000 | 0.000 | 0.001 | |
| summarizeRegions2 | 0.000 | 0.001 | 0.001 | |
| tLOHCalc | 4.404 | 0.007 | 4.411 | |
| tLOHCalcUpdate | 24.650 | 0.241 | 24.891 | |
| tLOHDataImport | 0 | 0 | 0 | |