Back to Build/check report for BioC 3.23:   simplified   long
ABCDEF[G]HIJKLMNOPQRSTUVWXYZ

This page was generated on 2025-11-03 11:33 -0500 (Mon, 03 Nov 2025).

HostnameOSArch (*)R versionInstalled pkgs
nebbiolo1Linux (Ubuntu 24.04.3 LTS)x86_64R Under development (unstable) (2025-10-20 r88955) -- "Unsuffered Consequences" 4775
Click on any hostname to see more info about the system (e.g. compilers)      (*) as reported by 'uname -p', except on Windows and Mac OS X

Package 787/2321HostnameOS / ArchINSTALLBUILDCHECKBUILD BIN
gCrisprTools 2.17.0  (landing page)
Russell Bainer
Snapshot Date: 2025-11-02 13:40 -0500 (Sun, 02 Nov 2025)
git_url: https://git.bioconductor.org/packages/gCrisprTools
git_branch: devel
git_last_commit: d372d36
git_last_commit_date: 2025-10-29 10:34:14 -0500 (Wed, 29 Oct 2025)
nebbiolo1Linux (Ubuntu 24.04.3 LTS) / x86_64  OK    OK    OK  UNNEEDED, same version is already published


CHECK results for gCrisprTools on nebbiolo1

To the developers/maintainers of the gCrisprTools package:
- Allow up to 24 hours (and sometimes 48 hours) for your latest push to git@git.bioconductor.org:packages/gCrisprTools.git to reflect on this report. See Troubleshooting Build Report for more information.
- Use the following Renviron settings to reproduce errors and warnings.
- If 'R CMD check' started to fail recently on the Linux builder(s) over a missing dependency, add the missing dependency to 'Suggests:' in your DESCRIPTION file. See Renviron.bioc for more information.

raw results


Summary

Package: gCrisprTools
Version: 2.17.0
Command: /home/biocbuild/bbs-3.23-bioc/R/bin/R CMD check --install=check:gCrisprTools.install-out.txt --library=/home/biocbuild/bbs-3.23-bioc/R/site-library --timings gCrisprTools_2.17.0.tar.gz
StartedAt: 2025-11-02 23:22:52 -0500 (Sun, 02 Nov 2025)
EndedAt: 2025-11-02 23:34:14 -0500 (Sun, 02 Nov 2025)
EllapsedTime: 682.0 seconds
RetCode: 0
Status:   OK  
CheckDir: gCrisprTools.Rcheck
Warnings: 0

Command output

##############################################################################
##############################################################################
###
### Running command:
###
###   /home/biocbuild/bbs-3.23-bioc/R/bin/R CMD check --install=check:gCrisprTools.install-out.txt --library=/home/biocbuild/bbs-3.23-bioc/R/site-library --timings gCrisprTools_2.17.0.tar.gz
###
##############################################################################
##############################################################################


* using log directory ‘/home/biocbuild/bbs-3.23-bioc/meat/gCrisprTools.Rcheck’
* using R Under development (unstable) (2025-10-20 r88955)
* using platform: x86_64-pc-linux-gnu
* R was compiled by
    gcc (Ubuntu 13.3.0-6ubuntu2~24.04) 13.3.0
    GNU Fortran (Ubuntu 13.3.0-6ubuntu2~24.04) 13.3.0
* running under: Ubuntu 24.04.3 LTS
* using session charset: UTF-8
* checking for file ‘gCrisprTools/DESCRIPTION’ ... OK
* checking extension type ... Package
* this is package ‘gCrisprTools’ version ‘2.17.0’
* package encoding: UTF-8
* checking package namespace information ... OK
* checking package dependencies ... OK
* checking if this is a source package ... OK
* checking if there is a namespace ... OK
* checking for hidden files and directories ... OK
* checking for portable file names ... OK
* checking for sufficient/correct file permissions ... OK
* checking whether package ‘gCrisprTools’ can be installed ... OK
* checking installed package size ... OK
* checking package directory ... OK
* checking ‘build’ directory ... OK
* checking DESCRIPTION meta-information ... OK
* checking top-level files ... OK
* checking for left-over files ... OK
* checking index information ... OK
* checking package subdirectories ... OK
* checking code files for non-ASCII characters ... OK
* checking R files for syntax errors ... OK
* checking whether the package can be loaded ... OK
* checking whether the package can be loaded with stated dependencies ... OK
* checking whether the package can be unloaded cleanly ... OK
* checking whether the namespace can be loaded with stated dependencies ... OK
* checking whether the namespace can be unloaded cleanly ... OK
* checking loading without being on the library search path ... OK
* checking dependencies in R code ... NOTE
Namespace in Imports field not imported from: ‘RobustRankAggreg’
  All declared Imports should be used.
* checking S3 generic/method consistency ... OK
* checking replacement functions ... OK
* checking foreign function calls ... OK
* checking R code for possible problems ... OK
* checking Rd files ... OK
* checking Rd metadata ... OK
* checking Rd cross-references ... OK
* checking for missing documentation entries ... OK
* checking for code/documentation mismatches ... OK
* checking Rd \usage sections ... NOTE
Documented arguments not in \usage in Rd file 'ct.targetSetEnrichment.Rd':
  ‘pvalue.cutoff’ ‘organism’ ‘db.cut’ ‘species’

Functions with \usage entries need to have the appropriate \alias
entries, and all their arguments documented.
The \usage entries must correspond to syntactically valid R code.
See chapter ‘Writing R documentation files’ in the ‘Writing R
Extensions’ manual.
* checking Rd contents ... OK
* checking for unstated dependencies in examples ... OK
* checking contents of ‘data’ directory ... OK
* checking data for non-ASCII characters ... OK
* checking data for ASCII and uncompressed saves ... OK
* checking files in ‘vignettes’ ... OK
* checking examples ... OK
Examples with CPU (user + system) or elapsed time > 5s
                        user system elapsed
ct.GREATdb            64.043  2.404  66.015
ct.makeReport         17.232  0.234  17.476
ct.seas               10.284  2.477  10.809
ct.guideCDF            8.293  0.469   8.763
ct.makeContrastReport  8.485  0.138   8.613
ct.compareContrasts    7.728  0.187   7.915
ct.upSet               6.820  0.090   6.912
ct.contrastBarchart    5.996  0.079   6.075
ct.GCbias              5.395  0.133   5.528
ct.makeQCReport        5.382  0.070   5.455
* checking for unstated dependencies in ‘tests’ ... OK
* checking tests ...
  Running ‘unit.tests.R’
 OK
* checking for unstated dependencies in vignettes ... OK
* checking package vignettes ... OK
* checking re-building of vignette outputs ... OK
* checking PDF version of manual ... OK
* DONE

Status: 2 NOTEs
See
  ‘/home/biocbuild/bbs-3.23-bioc/meat/gCrisprTools.Rcheck/00check.log’
for details.


Installation output

gCrisprTools.Rcheck/00install.out

##############################################################################
##############################################################################
###
### Running command:
###
###   /home/biocbuild/bbs-3.23-bioc/R/bin/R CMD INSTALL gCrisprTools
###
##############################################################################
##############################################################################


* installing to library ‘/home/biocbuild/bbs-3.23-bioc/R/site-library’
* installing *source* package ‘gCrisprTools’ ...
** this is package ‘gCrisprTools’ version ‘2.17.0’
** using staged installation
** R
** data
** inst
** byte-compile and prepare package for lazy loading
** help
*** installing help indices
** building package indices
** installing vignettes
** testing if installed package can be loaded from temporary location
** testing if installed package can be loaded from final location
** testing if installed package keeps a record of temporary installation path
* DONE (gCrisprTools)

Tests output

gCrisprTools.Rcheck/tests/unit.tests.Rout


R Under development (unstable) (2025-10-20 r88955) -- "Unsuffered Consequences"
Copyright (C) 2025 The R Foundation for Statistical Computing
Platform: x86_64-pc-linux-gnu

R is free software and comes with ABSOLUTELY NO WARRANTY.
You are welcome to redistribute it under certain conditions.
Type 'license()' or 'licence()' for distribution details.

R is a collaborative project with many contributors.
Type 'contributors()' for more information and
'citation()' on how to cite R or R packages in publications.

Type 'demo()' for some demos, 'help()' for on-line help, or
'help.start()' for an HTML browser interface to help.
Type 'q()' to quit R.

> #require("BiocGenerics", quietly = TRUE)
> BiocGenerics:::testPackage("gCrisprTools")


RUNIT TEST PROTOCOL -- Sun Nov  2 23:29:00 2025 
*********************************************** 
Number of test functions: 0 
Number of errors: 0 
Number of failures: 0 

 
1 Test Suite : 
gCrisprTools RUnit Tests - 0 test functions, 0 errors, 0 failures
Number of test functions: 0 
Number of errors: 0 
Number of failures: 0 
> 
> proc.time()
   user  system elapsed 
  7.580   0.434   8.003 

Example timings

gCrisprTools.Rcheck/gCrisprTools-Ex.timings

nameusersystemelapsed
aln0.0010.0010.002
ann0.0560.0000.055
ct.CAT1.9990.1962.196
ct.DirectionalTests0.2430.2680.511
ct.GCbias5.3950.1335.528
ct.GREATdb64.043 2.40466.015
ct.PRC2.1410.0352.176
ct.ROC1.3650.0111.376
ct.RRAaPvals0.3170.0070.323
ct.RRAalpha0.2300.0060.237
ct.alignmentChart0.0040.0010.005
ct.alphaBeta0.0000.0010.000
ct.applyAlpha0.0000.0040.004
ct.buildSE0.3720.0120.385
ct.compareContrasts7.7280.1877.915
ct.contrastBarchart5.9960.0796.075
ct.expandAnnotation0.0560.0010.057
ct.filterReads0.2320.0110.243
ct.gRNARankByReplicate0.3870.0100.397
ct.generateResults0.4820.0050.487
ct.guideCDF8.2930.4698.763
ct.keyCheck0.0980.0060.104
ct.makeContrastReport8.4850.1388.613
ct.makeQCReport5.3820.0705.455
ct.makeReport17.232 0.23417.476
ct.makeRhoNull0.0010.0000.001
ct.normalizeBySlope1.2560.0111.267
ct.normalizeFQ0.8140.0110.824
ct.normalizeGuides3.0970.0463.145
ct.normalizeMedians0.7130.0140.727
ct.normalizeNTC0.8330.0080.842
ct.normalizeSpline0.9430.0150.958
ct.parseGeneSymbol0.0000.0010.002
ct.prepareAnnotation0.4920.0060.498
ct.preprocessFit1.5980.0161.617
ct.rankSimple3.6810.0513.733
ct.rawCountDensities0.1450.0030.148
ct.regularizeContrasts0.0860.0020.088
ct.resultCheck0.0530.0000.053
ct.scatter0.3170.0010.318
ct.seas10.284 2.47710.809
ct.seasPrep1.9830.2452.228
ct.signalSummary1.4900.0151.505
ct.simpleResult1.2710.1101.382
ct.softLog0.0010.0000.000
ct.stackGuides4.5000.3304.831
ct.targetSetEnrichment1.2270.0011.228
ct.topTargets0.3220.0060.327
ct.upSet6.8200.0906.912
ct.viewControls0.2270.0050.231
ct.viewGuides0.3840.0030.387
es0.0530.0020.055
essential.genes0.0020.0000.002
fit0.1780.0060.184
resultsDF0.0550.0010.055