| Back to Multiple platform build/check report for BioC 3.22: simplified long |
|
This page was generated on 2025-10-24 12:05 -0400 (Fri, 24 Oct 2025).
| Hostname | OS | Arch (*) | R version | Installed pkgs |
|---|---|---|---|---|
| nebbiolo2 | Linux (Ubuntu 24.04.3 LTS) | x86_64 | 4.5.1 Patched (2025-08-23 r88802) -- "Great Square Root" | 4898 |
| lconway | macOS 12.7.6 Monterey | x86_64 | 4.5.1 Patched (2025-09-10 r88807) -- "Great Square Root" | 4688 |
| kjohnson3 | macOS 13.7.7 Ventura | arm64 | 4.5.1 Patched (2025-09-10 r88807) -- "Great Square Root" | 4634 |
| taishan | Linux (openEuler 24.03 LTS) | aarch64 | 4.5.0 (2025-04-11) -- "How About a Twenty-Six" | 4658 |
| Click on any hostname to see more info about the system (e.g. compilers) (*) as reported by 'uname -p', except on Windows and Mac OS X | ||||
| Package 2144/2359 | Hostname | OS / Arch | INSTALL | BUILD | CHECK | BUILD BIN | ||||||||
| structToolbox 1.21.0 (landing page) Gavin Rhys Lloyd
| nebbiolo2 | Linux (Ubuntu 24.04.3 LTS) / x86_64 | OK | OK | OK | |||||||||
| lconway | macOS 12.7.6 Monterey / x86_64 | OK | OK | OK | OK | |||||||||
| kjohnson3 | macOS 13.7.7 Ventura / arm64 | OK | OK | OK | OK | |||||||||
| taishan | Linux (openEuler 24.03 LTS) / aarch64 | OK | OK | NA | ||||||||||
|
To the developers/maintainers of the structToolbox package: - Allow up to 24 hours (and sometimes 48 hours) for your latest push to git@git.bioconductor.org:packages/structToolbox.git to reflect on this report. See Troubleshooting Build Report for more information. - Use the following Renviron settings to reproduce errors and warnings. - If 'R CMD check' started to fail recently on the Linux builder(s) over a missing dependency, add the missing dependency to 'Suggests:' in your DESCRIPTION file. See Renviron.bioc for more information. |
| Package: structToolbox |
| Version: 1.21.0 |
| Command: /Library/Frameworks/R.framework/Resources/bin/R CMD check --install=check:structToolbox.install-out.txt --library=/Library/Frameworks/R.framework/Resources/library --no-vignettes --timings structToolbox_1.21.0.tar.gz |
| StartedAt: 2025-10-24 00:34:30 -0400 (Fri, 24 Oct 2025) |
| EndedAt: 2025-10-24 00:43:51 -0400 (Fri, 24 Oct 2025) |
| EllapsedTime: 561.2 seconds |
| RetCode: 0 |
| Status: OK |
| CheckDir: structToolbox.Rcheck |
| Warnings: 0 |
##############################################################################
##############################################################################
###
### Running command:
###
### /Library/Frameworks/R.framework/Resources/bin/R CMD check --install=check:structToolbox.install-out.txt --library=/Library/Frameworks/R.framework/Resources/library --no-vignettes --timings structToolbox_1.21.0.tar.gz
###
##############################################################################
##############################################################################
* using log directory ‘/Users/biocbuild/bbs-3.22-bioc/meat/structToolbox.Rcheck’
* using R version 4.5.1 Patched (2025-09-10 r88807)
* using platform: x86_64-apple-darwin20
* R was compiled by
Apple clang version 14.0.0 (clang-1400.0.29.202)
GNU Fortran (GCC) 14.2.0
* running under: macOS Monterey 12.7.6
* using session charset: UTF-8
* using option ‘--no-vignettes’
* checking for file ‘structToolbox/DESCRIPTION’ ... OK
* checking extension type ... Package
* this is package ‘structToolbox’ version ‘1.21.0’
* package encoding: UTF-8
* checking package namespace information ... OK
* checking package dependencies ... OK
* checking if this is a source package ... OK
* checking if there is a namespace ... OK
* checking for hidden files and directories ... OK
* checking for portable file names ... OK
* checking for sufficient/correct file permissions ... OK
* checking whether package ‘structToolbox’ can be installed ... OK
* checking installed package size ... OK
* checking package directory ... OK
* checking ‘build’ directory ... OK
* checking DESCRIPTION meta-information ... OK
* checking top-level files ... OK
* checking for left-over files ... OK
* checking index information ... OK
* checking package subdirectories ... OK
* checking code files for non-ASCII characters ... OK
* checking R files for syntax errors ... OK
* checking whether the package can be loaded ... OK
* checking whether the package can be loaded with stated dependencies ... OK
* checking whether the package can be unloaded cleanly ... OK
* checking whether the namespace can be loaded with stated dependencies ... OK
* checking whether the namespace can be unloaded cleanly ... OK
* checking dependencies in R code ... OK
* checking S3 generic/method consistency ... OK
* checking replacement functions ... OK
* checking foreign function calls ... OK
* checking R code for possible problems ... OK
* checking Rd files ... OK
* checking Rd metadata ... OK
* checking Rd cross-references ... OK
* checking for missing documentation entries ... OK
* checking for code/documentation mismatches ... OK
* checking Rd \usage sections ... OK
* checking Rd contents ... OK
* checking for unstated dependencies in examples ... OK
* checking R/sysdata.rda ... OK
* checking files in ‘vignettes’ ... OK
* checking examples ... OK
Examples with CPU (user + system) or elapsed time > 5s
user system elapsed
fold_change_int 18.134 0.110 18.359
fold_change 12.831 0.105 13.016
fisher_exact 11.292 0.067 11.410
fs_line 7.167 0.149 7.345
forward_selection_by_rank 6.993 0.128 7.154
compare_dist 5.195 0.252 5.468
kfoldxcv_grid 4.906 0.078 5.027
* checking for unstated dependencies in ‘tests’ ... OK
* checking tests ...
Running ‘testthat.R’
OK
* checking for unstated dependencies in vignettes ... OK
* checking package vignettes ... OK
* checking running R code from vignettes ... SKIPPED
* checking re-building of vignette outputs ... SKIPPED
* checking PDF version of manual ... OK
* DONE
Status: OK
structToolbox.Rcheck/00install.out
############################################################################## ############################################################################## ### ### Running command: ### ### /Library/Frameworks/R.framework/Resources/bin/R CMD INSTALL structToolbox ### ############################################################################## ############################################################################## * installing to library ‘/Library/Frameworks/R.framework/Versions/4.5-x86_64/Resources/library’ * installing *source* package ‘structToolbox’ ... ** this is package ‘structToolbox’ version ‘1.21.0’ ** using staged installation ** R ** inst ** byte-compile and prepare package for lazy loading ** help *** installing help indices ** building package indices ** installing vignettes ** testing if installed package can be loaded from temporary location ** testing if installed package can be loaded from final location ** testing if installed package keeps a record of temporary installation path * DONE (structToolbox)
structToolbox.Rcheck/tests/testthat.Rout
R version 4.5.1 Patched (2025-09-10 r88807) -- "Great Square Root"
Copyright (C) 2025 The R Foundation for Statistical Computing
Platform: x86_64-apple-darwin20
R is free software and comes with ABSOLUTELY NO WARRANTY.
You are welcome to redistribute it under certain conditions.
Type 'license()' or 'licence()' for distribution details.
R is a collaborative project with many contributors.
Type 'contributors()' for more information and
'citation()' on how to cite R or R packages in publications.
Type 'demo()' for some demos, 'help()' for on-line help, or
'help.start()' for an HTML browser interface to help.
Type 'q()' to quit R.
> library(testthat)
> library(ggplot2)
> library(structToolbox)
Loading required package: struct
>
> test_check("structToolbox")
[ FAIL 0 | WARN 6 | SKIP 0 | PASS 166 ]
[ FAIL 0 | WARN 6 | SKIP 0 | PASS 166 ]
>
> proc.time()
user system elapsed
217.615 2.584 221.938
structToolbox.Rcheck/structToolbox-Ex.timings
| name | user | system | elapsed | |
| ANOVA | 0.241 | 0.009 | 0.252 | |
| AUC | 2.451 | 0.114 | 2.576 | |
| DFA | 0.233 | 0.002 | 0.237 | |
| DatasetExperiment_boxplot | 1.069 | 0.042 | 1.118 | |
| DatasetExperiment_dist | 2.404 | 0.095 | 2.514 | |
| DatasetExperiment_factor_boxplot | 0.413 | 0.008 | 0.424 | |
| DatasetExperiment_heatmap | 0.699 | 0.038 | 0.741 | |
| HCA | 0.075 | 0.001 | 0.077 | |
| HSD | 0.333 | 0.016 | 0.359 | |
| HSDEM | 0.418 | 0.025 | 0.447 | |
| MTBLS79_DatasetExperiment | 0.002 | 0.000 | 0.001 | |
| OPLSDA | 0.016 | 0.001 | 0.016 | |
| OPLSR | 0.010 | 0.001 | 0.010 | |
| PCA | 0.005 | 0.000 | 0.005 | |
| PLSDA | 0.011 | 0.000 | 0.011 | |
| PLSR | 0.009 | 0.001 | 0.009 | |
| SVM | 0.028 | 0.001 | 0.030 | |
| as_data_frame | 0.178 | 0.002 | 0.181 | |
| autoscale | 0.080 | 0.001 | 0.081 | |
| balanced_accuracy | 2.196 | 0.018 | 2.221 | |
| blank_filter | 0.392 | 0.024 | 0.421 | |
| blank_filter_hist | 0.001 | 0.000 | 0.001 | |
| bootstrap | 0.010 | 0.001 | 0.011 | |
| calculate | 0.007 | 0.001 | 0.008 | |
| chart_plot | 0.037 | 0.002 | 0.039 | |
| classical_lsq | 0.362 | 0.003 | 0.365 | |
| compare_dist | 5.195 | 0.252 | 5.468 | |
| confounders_clsq | 3.681 | 0.026 | 3.723 | |
| confounders_lsq_barchart | 3.887 | 0.025 | 3.922 | |
| confounders_lsq_boxplot | 3.746 | 0.027 | 3.789 | |
| constant_sum_norm | 0.009 | 0.000 | 0.009 | |
| corr_coef | 0.296 | 0.003 | 0.301 | |
| dfa_scores_plot | 1.113 | 0.011 | 1.131 | |
| dratio_filter | 0.272 | 0.006 | 0.279 | |
| equal_split | 0.143 | 0.002 | 0.146 | |
| feature_boxplot | 0.028 | 0.000 | 0.029 | |
| feature_profile | 0.599 | 0.010 | 0.621 | |
| feature_profile_array | 0.771 | 0.008 | 0.783 | |
| filter_by_name | 0.032 | 0.001 | 0.033 | |
| filter_na_count | 1.098 | 0.067 | 1.184 | |
| filter_smeta | 0.078 | 0.001 | 0.080 | |
| fisher_exact | 11.292 | 0.067 | 11.410 | |
| fold_change | 12.831 | 0.105 | 13.016 | |
| fold_change_int | 18.134 | 0.110 | 18.359 | |
| fold_change_plot | 0.008 | 0.000 | 0.009 | |
| forward_selection_by_rank | 6.993 | 0.128 | 7.154 | |
| fs_line | 7.167 | 0.149 | 7.345 | |
| glog_opt_plot | 0.664 | 0.005 | 0.671 | |
| glog_transform | 0.310 | 0.002 | 0.312 | |
| grid_search_1d | 3.753 | 0.106 | 3.874 | |
| gs_line | 0.001 | 0.000 | 0.001 | |
| hca_dendrogram | 0.000 | 0.000 | 0.001 | |
| kfold_xval | 4.025 | 0.039 | 4.088 | |
| kfoldxcv_grid | 4.906 | 0.078 | 5.027 | |
| kfoldxcv_metric | 0.001 | 0.000 | 0.001 | |
| knn_impute | 0.013 | 0.000 | 0.014 | |
| kw_p_hist | 0.001 | 0.000 | 0.001 | |
| kw_rank_sum | 0.092 | 0.002 | 0.095 | |
| linear_model | 0.041 | 0.001 | 0.042 | |
| log_transform | 0.009 | 0.000 | 0.010 | |
| mean_centre | 0.004 | 0.001 | 0.004 | |
| mean_of_medians | 0.146 | 0.002 | 0.149 | |
| mixed_effect | 0.196 | 0.003 | 0.200 | |
| model_apply | 0.025 | 0.001 | 0.026 | |
| model_predict | 0.067 | 0.001 | 0.068 | |
| model_reverse | 0.030 | 0.000 | 0.032 | |
| model_train | 0.065 | 0.001 | 0.067 | |
| mv_boxplot | 0.530 | 0.020 | 0.553 | |
| mv_feature_filter | 0.132 | 0.002 | 0.135 | |
| mv_feature_filter_hist | 0.001 | 0.000 | 0.001 | |
| mv_histogram | 0.405 | 0.006 | 0.412 | |
| mv_sample_filter | 0.010 | 0.001 | 0.010 | |
| mv_sample_filter_hist | 0.001 | 0.001 | 0.001 | |
| nroot_transform | 0.007 | 0.001 | 0.007 | |
| ontology_cache | 0.001 | 0.000 | 0.001 | |
| pairs_filter | 0.012 | 0.000 | 0.012 | |
| pareto_scale | 0.069 | 0.001 | 0.071 | |
| pca_biplot | 0.015 | 0.000 | 0.016 | |
| pca_correlation_plot | 0.006 | 0.000 | 0.007 | |
| pca_dstat_plot | 0.009 | 0.001 | 0.010 | |
| pca_loadings_plot | 0.011 | 0.001 | 0.011 | |
| pca_scores_plot | 0.817 | 0.008 | 0.838 | |
| pca_scree_plot | 0.01 | 0.00 | 0.01 | |
| permutation_test | 0.011 | 0.000 | 0.011 | |
| permutation_test_plot | 0.002 | 0.000 | 0.003 | |
| permute_sample_order | 0.008 | 0.001 | 0.008 | |
| pls_regcoeff_plot | 0.531 | 0.005 | 0.538 | |
| pls_scores_plot | 1.012 | 0.010 | 1.027 | |
| pls_vip_plot | 0.592 | 0.008 | 0.605 | |
| plsda_feature_importance_plot | 1.060 | 0.014 | 1.084 | |
| plsda_predicted_plot | 0.679 | 0.007 | 0.690 | |
| plsda_roc_plot | 1.496 | 0.014 | 1.521 | |
| plsr_cook_dist | 0.007 | 0.001 | 0.007 | |
| plsr_prediction_plot | 0.009 | 0.001 | 0.012 | |
| plsr_qq_plot | 0.008 | 0.000 | 0.008 | |
| plsr_residual_hist | 0.009 | 0.000 | 0.010 | |
| pqn_norm | 0.403 | 0.002 | 0.407 | |
| pqn_norm_hist | 0.001 | 0.000 | 0.001 | |
| prop_na | 0.011 | 0.000 | 0.011 | |
| r_squared | 0.001 | 0.000 | 0.001 | |
| resample | 0.015 | 0.000 | 0.015 | |
| resample_chart | 0.003 | 0.000 | 0.003 | |
| rsd_filter | 0.016 | 0.001 | 0.016 | |
| rsd_filter_hist | 0.001 | 0.001 | 0.001 | |
| run | 0.033 | 0.001 | 0.034 | |
| sb_corr | 0.030 | 0.001 | 0.031 | |
| scatter_chart | 0.631 | 0.005 | 0.640 | |
| split_data | 0.008 | 0.000 | 0.008 | |
| stratified_split | 0.142 | 0.002 | 0.145 | |
| svm_plot_2d | 0.916 | 0.018 | 0.939 | |
| tSNE | 0.026 | 0.001 | 0.026 | |
| tSNE_scatter | 0.010 | 0.001 | 0.010 | |
| tic_chart | 0.429 | 0.010 | 0.440 | |
| ttest | 0.028 | 0.001 | 0.029 | |
| vec_norm | 0.001 | 0.001 | 0.002 | |
| wilcox_p_hist | 0.001 | 0.000 | 0.002 | |
| wilcox_test | 0.022 | 0.000 | 0.022 | |