| Back to Multiple platform build/check report for BioC 3.22: simplified long |
|
This page was generated on 2025-10-24 12:07 -0400 (Fri, 24 Oct 2025).
| Hostname | OS | Arch (*) | R version | Installed pkgs |
|---|---|---|---|---|
| nebbiolo2 | Linux (Ubuntu 24.04.3 LTS) | x86_64 | 4.5.1 Patched (2025-08-23 r88802) -- "Great Square Root" | 4898 |
| lconway | macOS 12.7.6 Monterey | x86_64 | 4.5.1 Patched (2025-09-10 r88807) -- "Great Square Root" | 4688 |
| kjohnson3 | macOS 13.7.7 Ventura | arm64 | 4.5.1 Patched (2025-09-10 r88807) -- "Great Square Root" | 4634 |
| taishan | Linux (openEuler 24.03 LTS) | aarch64 | 4.5.0 (2025-04-11) -- "How About a Twenty-Six" | 4658 |
| Click on any hostname to see more info about the system (e.g. compilers) (*) as reported by 'uname -p', except on Windows and Mac OS X | ||||
| Package 2144/2359 | Hostname | OS / Arch | INSTALL | BUILD | CHECK | BUILD BIN | ||||||||
| structToolbox 1.21.0 (landing page) Gavin Rhys Lloyd
| nebbiolo2 | Linux (Ubuntu 24.04.3 LTS) / x86_64 | OK | OK | OK | |||||||||
| lconway | macOS 12.7.6 Monterey / x86_64 | OK | OK | OK | OK | |||||||||
| kjohnson3 | macOS 13.7.7 Ventura / arm64 | OK | OK | OK | OK | |||||||||
| taishan | Linux (openEuler 24.03 LTS) / aarch64 | OK | OK | NA | ||||||||||
|
To the developers/maintainers of the structToolbox package: - Allow up to 24 hours (and sometimes 48 hours) for your latest push to git@git.bioconductor.org:packages/structToolbox.git to reflect on this report. See Troubleshooting Build Report for more information. - Use the following Renviron settings to reproduce errors and warnings. - If 'R CMD check' started to fail recently on the Linux builder(s) over a missing dependency, add the missing dependency to 'Suggests:' in your DESCRIPTION file. See Renviron.bioc for more information. |
| Package: structToolbox |
| Version: 1.21.0 |
| Command: /Library/Frameworks/R.framework/Resources/bin/R CMD check --install=check:structToolbox.install-out.txt --library=/Library/Frameworks/R.framework/Resources/library --no-vignettes --timings structToolbox_1.21.0.tar.gz |
| StartedAt: 2025-10-23 22:29:30 -0400 (Thu, 23 Oct 2025) |
| EndedAt: 2025-10-23 22:32:23 -0400 (Thu, 23 Oct 2025) |
| EllapsedTime: 173.1 seconds |
| RetCode: 0 |
| Status: OK |
| CheckDir: structToolbox.Rcheck |
| Warnings: 0 |
##############################################################################
##############################################################################
###
### Running command:
###
### /Library/Frameworks/R.framework/Resources/bin/R CMD check --install=check:structToolbox.install-out.txt --library=/Library/Frameworks/R.framework/Resources/library --no-vignettes --timings structToolbox_1.21.0.tar.gz
###
##############################################################################
##############################################################################
* using log directory ‘/Users/biocbuild/bbs-3.22-bioc/meat/structToolbox.Rcheck’
* using R version 4.5.1 Patched (2025-09-10 r88807)
* using platform: aarch64-apple-darwin20
* R was compiled by
Apple clang version 16.0.0 (clang-1600.0.26.6)
GNU Fortran (GCC) 14.2.0
* running under: macOS Ventura 13.7.7
* using session charset: UTF-8
* using option ‘--no-vignettes’
* checking for file ‘structToolbox/DESCRIPTION’ ... OK
* checking extension type ... Package
* this is package ‘structToolbox’ version ‘1.21.0’
* package encoding: UTF-8
* checking package namespace information ... OK
* checking package dependencies ... OK
* checking if this is a source package ... OK
* checking if there is a namespace ... OK
* checking for hidden files and directories ... OK
* checking for portable file names ... OK
* checking for sufficient/correct file permissions ... OK
* checking whether package ‘structToolbox’ can be installed ... OK
* checking installed package size ... OK
* checking package directory ... OK
* checking ‘build’ directory ... OK
* checking DESCRIPTION meta-information ... OK
* checking top-level files ... OK
* checking for left-over files ... OK
* checking index information ... OK
* checking package subdirectories ... OK
* checking code files for non-ASCII characters ... OK
* checking R files for syntax errors ... OK
* checking whether the package can be loaded ... OK
* checking whether the package can be loaded with stated dependencies ... OK
* checking whether the package can be unloaded cleanly ... OK
* checking whether the namespace can be loaded with stated dependencies ... OK
* checking whether the namespace can be unloaded cleanly ... OK
* checking dependencies in R code ... OK
* checking S3 generic/method consistency ... OK
* checking replacement functions ... OK
* checking foreign function calls ... OK
* checking R code for possible problems ... OK
* checking Rd files ... OK
* checking Rd metadata ... OK
* checking Rd cross-references ... OK
* checking for missing documentation entries ... OK
* checking for code/documentation mismatches ... OK
* checking Rd \usage sections ... OK
* checking Rd contents ... OK
* checking for unstated dependencies in examples ... OK
* checking R/sysdata.rda ... OK
* checking files in ‘vignettes’ ... OK
* checking examples ... OK
* checking for unstated dependencies in ‘tests’ ... OK
* checking tests ...
Running ‘testthat.R’
OK
* checking for unstated dependencies in vignettes ... OK
* checking package vignettes ... OK
* checking running R code from vignettes ... SKIPPED
* checking re-building of vignette outputs ... SKIPPED
* checking PDF version of manual ... OK
* DONE
Status: OK
structToolbox.Rcheck/00install.out
############################################################################## ############################################################################## ### ### Running command: ### ### /Library/Frameworks/R.framework/Resources/bin/R CMD INSTALL structToolbox ### ############################################################################## ############################################################################## * installing to library ‘/Library/Frameworks/R.framework/Versions/4.5-arm64/Resources/library’ * installing *source* package ‘structToolbox’ ... ** this is package ‘structToolbox’ version ‘1.21.0’ ** using staged installation ** R ** inst ** byte-compile and prepare package for lazy loading ** help *** installing help indices ** building package indices ** installing vignettes ** testing if installed package can be loaded from temporary location ** testing if installed package can be loaded from final location ** testing if installed package keeps a record of temporary installation path * DONE (structToolbox)
structToolbox.Rcheck/tests/testthat.Rout
R version 4.5.1 Patched (2025-09-10 r88807) -- "Great Square Root"
Copyright (C) 2025 The R Foundation for Statistical Computing
Platform: aarch64-apple-darwin20
R is free software and comes with ABSOLUTELY NO WARRANTY.
You are welcome to redistribute it under certain conditions.
Type 'license()' or 'licence()' for distribution details.
R is a collaborative project with many contributors.
Type 'contributors()' for more information and
'citation()' on how to cite R or R packages in publications.
Type 'demo()' for some demos, 'help()' for on-line help, or
'help.start()' for an HTML browser interface to help.
Type 'q()' to quit R.
> library(testthat)
> library(ggplot2)
> library(structToolbox)
Loading required package: struct
>
> test_check("structToolbox")
[ FAIL 0 | WARN 6 | SKIP 0 | PASS 166 ]
[ FAIL 0 | WARN 6 | SKIP 0 | PASS 166 ]
>
> proc.time()
user system elapsed
58.37 0.58 59.39
structToolbox.Rcheck/structToolbox-Ex.timings
| name | user | system | elapsed | |
| ANOVA | 0.066 | 0.003 | 0.069 | |
| AUC | 0.593 | 0.025 | 0.636 | |
| DFA | 0.054 | 0.001 | 0.055 | |
| DatasetExperiment_boxplot | 0.372 | 0.011 | 0.394 | |
| DatasetExperiment_dist | 0.578 | 0.039 | 0.640 | |
| DatasetExperiment_factor_boxplot | 0.104 | 0.002 | 0.107 | |
| DatasetExperiment_heatmap | 0.183 | 0.008 | 0.192 | |
| HCA | 0.019 | 0.002 | 0.021 | |
| HSD | 0.095 | 0.011 | 0.109 | |
| HSDEM | 0.113 | 0.007 | 0.121 | |
| MTBLS79_DatasetExperiment | 0.001 | 0.000 | 0.000 | |
| OPLSDA | 0.003 | 0.000 | 0.004 | |
| OPLSR | 0.002 | 0.000 | 0.002 | |
| PCA | 0.002 | 0.000 | 0.002 | |
| PLSDA | 0.003 | 0.000 | 0.003 | |
| PLSR | 0.003 | 0.000 | 0.003 | |
| SVM | 0.006 | 0.000 | 0.006 | |
| as_data_frame | 0.036 | 0.000 | 0.038 | |
| autoscale | 0.019 | 0.001 | 0.020 | |
| balanced_accuracy | 0.526 | 0.010 | 0.536 | |
| blank_filter | 0.124 | 0.013 | 0.141 | |
| blank_filter_hist | 0 | 0 | 0 | |
| bootstrap | 0.002 | 0.000 | 0.004 | |
| calculate | 0.001 | 0.001 | 0.002 | |
| chart_plot | 0.009 | 0.001 | 0.010 | |
| classical_lsq | 0.450 | 0.004 | 0.461 | |
| compare_dist | 1.508 | 0.084 | 1.603 | |
| confounders_clsq | 0.863 | 0.008 | 0.872 | |
| confounders_lsq_barchart | 0.944 | 0.006 | 0.950 | |
| confounders_lsq_boxplot | 0.907 | 0.005 | 0.931 | |
| constant_sum_norm | 0.002 | 0.000 | 0.002 | |
| corr_coef | 0.071 | 0.001 | 0.072 | |
| dfa_scores_plot | 0.297 | 0.003 | 0.305 | |
| dratio_filter | 0.082 | 0.003 | 0.085 | |
| equal_split | 0.034 | 0.000 | 0.035 | |
| feature_boxplot | 0.008 | 0.001 | 0.008 | |
| feature_profile | 0.165 | 0.003 | 0.171 | |
| feature_profile_array | 0.207 | 0.001 | 0.210 | |
| filter_by_name | 0.01 | 0.00 | 0.01 | |
| filter_na_count | 0.334 | 0.019 | 0.360 | |
| filter_smeta | 0.018 | 0.001 | 0.018 | |
| fisher_exact | 2.826 | 0.013 | 2.915 | |
| fold_change | 3.260 | 0.034 | 3.298 | |
| fold_change_int | 4.687 | 0.006 | 4.922 | |
| fold_change_plot | 0.002 | 0.000 | 0.002 | |
| forward_selection_by_rank | 1.777 | 0.037 | 1.851 | |
| fs_line | 2.502 | 0.083 | 2.590 | |
| glog_opt_plot | 0.168 | 0.002 | 0.172 | |
| glog_transform | 0.081 | 0.001 | 0.083 | |
| grid_search_1d | 1.138 | 0.061 | 1.273 | |
| gs_line | 0 | 0 | 0 | |
| hca_dendrogram | 0 | 0 | 0 | |
| kfold_xval | 1.006 | 0.007 | 1.153 | |
| kfoldxcv_grid | 1.167 | 0.008 | 1.236 | |
| kfoldxcv_metric | 0 | 0 | 0 | |
| knn_impute | 0.004 | 0.000 | 0.003 | |
| kw_p_hist | 0 | 0 | 0 | |
| kw_rank_sum | 0.022 | 0.001 | 0.023 | |
| linear_model | 0.009 | 0.000 | 0.010 | |
| log_transform | 0.002 | 0.000 | 0.002 | |
| mean_centre | 0.001 | 0.000 | 0.000 | |
| mean_of_medians | 0.033 | 0.000 | 0.034 | |
| mixed_effect | 0.051 | 0.000 | 0.052 | |
| model_apply | 0.007 | 0.000 | 0.007 | |
| model_predict | 0.016 | 0.000 | 0.016 | |
| model_reverse | 0.007 | 0.000 | 0.007 | |
| model_train | 0.016 | 0.000 | 0.017 | |
| mv_boxplot | 0.146 | 0.007 | 0.161 | |
| mv_feature_filter | 0.033 | 0.000 | 0.034 | |
| mv_feature_filter_hist | 0.001 | 0.000 | 0.000 | |
| mv_histogram | 0.110 | 0.002 | 0.112 | |
| mv_sample_filter | 0.002 | 0.000 | 0.003 | |
| mv_sample_filter_hist | 0.001 | 0.000 | 0.000 | |
| nroot_transform | 0.002 | 0.000 | 0.002 | |
| ontology_cache | 0.000 | 0.001 | 0.000 | |
| pairs_filter | 0.003 | 0.000 | 0.003 | |
| pareto_scale | 0.017 | 0.000 | 0.019 | |
| pca_biplot | 0.004 | 0.000 | 0.004 | |
| pca_correlation_plot | 0.002 | 0.000 | 0.001 | |
| pca_dstat_plot | 0.003 | 0.000 | 0.002 | |
| pca_loadings_plot | 0.002 | 0.000 | 0.002 | |
| pca_scores_plot | 0.220 | 0.003 | 0.234 | |
| pca_scree_plot | 0.002 | 0.001 | 0.003 | |
| permutation_test | 0.003 | 0.000 | 0.003 | |
| permutation_test_plot | 0.001 | 0.000 | 0.001 | |
| permute_sample_order | 0.002 | 0.000 | 0.002 | |
| pls_regcoeff_plot | 0.159 | 0.009 | 0.168 | |
| pls_scores_plot | 0.274 | 0.010 | 0.287 | |
| pls_vip_plot | 0.153 | 0.002 | 0.157 | |
| plsda_feature_importance_plot | 0.271 | 0.002 | 0.276 | |
| plsda_predicted_plot | 0.179 | 0.001 | 0.180 | |
| plsda_roc_plot | 0.391 | 0.004 | 0.404 | |
| plsr_cook_dist | 0.002 | 0.000 | 0.002 | |
| plsr_prediction_plot | 0.002 | 0.001 | 0.001 | |
| plsr_qq_plot | 0.002 | 0.000 | 0.002 | |
| plsr_residual_hist | 0.002 | 0.000 | 0.002 | |
| pqn_norm | 0.100 | 0.001 | 0.100 | |
| pqn_norm_hist | 0 | 0 | 0 | |
| prop_na | 0.002 | 0.000 | 0.003 | |
| r_squared | 0 | 0 | 0 | |
| resample | 0.004 | 0.000 | 0.005 | |
| resample_chart | 0.001 | 0.000 | 0.001 | |
| rsd_filter | 0.004 | 0.000 | 0.005 | |
| rsd_filter_hist | 0 | 0 | 0 | |
| run | 0.01 | 0.00 | 0.01 | |
| sb_corr | 0.008 | 0.000 | 0.008 | |
| scatter_chart | 0.173 | 0.001 | 0.178 | |
| split_data | 0.002 | 0.000 | 0.002 | |
| stratified_split | 0.033 | 0.001 | 0.033 | |
| svm_plot_2d | 0.253 | 0.007 | 0.276 | |
| tSNE | 0.007 | 0.001 | 0.008 | |
| tSNE_scatter | 0.002 | 0.000 | 0.002 | |
| tic_chart | 0.101 | 0.001 | 0.102 | |
| ttest | 0.006 | 0.000 | 0.013 | |
| vec_norm | 0.001 | 0.000 | 0.001 | |
| wilcox_p_hist | 0 | 0 | 0 | |
| wilcox_test | 0.005 | 0.000 | 0.006 | |