| Back to Multiple platform build/check report for BioC 3.22: simplified long |
|
This page was generated on 2025-10-25 12:04 -0400 (Sat, 25 Oct 2025).
| Hostname | OS | Arch (*) | R version | Installed pkgs |
|---|---|---|---|---|
| nebbiolo2 | Linux (Ubuntu 24.04.3 LTS) | x86_64 | 4.5.1 Patched (2025-08-23 r88802) -- "Great Square Root" | 4901 |
| lconway | macOS 12.7.6 Monterey | x86_64 | 4.5.1 Patched (2025-09-10 r88807) -- "Great Square Root" | 4691 |
| kjohnson3 | macOS 13.7.7 Ventura | arm64 | 4.5.1 Patched (2025-09-10 r88807) -- "Great Square Root" | 4637 |
| taishan | Linux (openEuler 24.03 LTS) | aarch64 | 4.5.0 (2025-04-11) -- "How About a Twenty-Six" | 4658 |
| Click on any hostname to see more info about the system (e.g. compilers) (*) as reported by 'uname -p', except on Windows and Mac OS X | ||||
| Package 804/2361 | Hostname | OS / Arch | INSTALL | BUILD | CHECK | BUILD BIN | ||||||||
| gDRimport 1.7.5 (landing page) Arkadiusz Gladki
| nebbiolo2 | Linux (Ubuntu 24.04.3 LTS) / x86_64 | OK | OK | OK | |||||||||
| lconway | macOS 12.7.6 Monterey / x86_64 | OK | OK | OK | OK | |||||||||
| kjohnson3 | macOS 13.7.7 Ventura / arm64 | OK | OK | OK | OK | |||||||||
| taishan | Linux (openEuler 24.03 LTS) / aarch64 | OK | NA | NA | ||||||||||
|
To the developers/maintainers of the gDRimport package: - Allow up to 24 hours (and sometimes 48 hours) for your latest push to git@git.bioconductor.org:packages/gDRimport.git to reflect on this report. See Troubleshooting Build Report for more information. - Use the following Renviron settings to reproduce errors and warnings. - If 'R CMD check' started to fail recently on the Linux builder(s) over a missing dependency, add the missing dependency to 'Suggests:' in your DESCRIPTION file. See Renviron.bioc for more information. |
| Package: gDRimport |
| Version: 1.7.5 |
| Command: /Library/Frameworks/R.framework/Resources/bin/R CMD check --install=check:gDRimport.install-out.txt --library=/Library/Frameworks/R.framework/Resources/library --no-vignettes --timings gDRimport_1.7.5.tar.gz |
| StartedAt: 2025-10-24 21:20:59 -0400 (Fri, 24 Oct 2025) |
| EndedAt: 2025-10-24 21:24:38 -0400 (Fri, 24 Oct 2025) |
| EllapsedTime: 219.6 seconds |
| RetCode: 0 |
| Status: OK |
| CheckDir: gDRimport.Rcheck |
| Warnings: 0 |
##############################################################################
##############################################################################
###
### Running command:
###
### /Library/Frameworks/R.framework/Resources/bin/R CMD check --install=check:gDRimport.install-out.txt --library=/Library/Frameworks/R.framework/Resources/library --no-vignettes --timings gDRimport_1.7.5.tar.gz
###
##############################################################################
##############################################################################
* using log directory ‘/Users/biocbuild/bbs-3.22-bioc/meat/gDRimport.Rcheck’
* using R version 4.5.1 Patched (2025-09-10 r88807)
* using platform: x86_64-apple-darwin20
* R was compiled by
Apple clang version 14.0.0 (clang-1400.0.29.202)
GNU Fortran (GCC) 14.2.0
* running under: macOS Monterey 12.7.6
* using session charset: UTF-8
* using option ‘--no-vignettes’
* checking for file ‘gDRimport/DESCRIPTION’ ... OK
* checking extension type ... Package
* this is package ‘gDRimport’ version ‘1.7.5’
* package encoding: UTF-8
* checking package namespace information ... OK
* checking package dependencies ... OK
* checking if this is a source package ... OK
* checking if there is a namespace ... OK
* checking for hidden files and directories ... OK
* checking for portable file names ... OK
* checking for sufficient/correct file permissions ... OK
* checking whether package ‘gDRimport’ can be installed ... OK
* checking installed package size ... OK
* checking package directory ... OK
* checking ‘build’ directory ... OK
* checking DESCRIPTION meta-information ... OK
* checking top-level files ... OK
* checking for left-over files ... OK
* checking index information ... OK
* checking package subdirectories ... OK
* checking code files for non-ASCII characters ... OK
* checking R files for syntax errors ... OK
* checking whether the package can be loaded ... OK
* checking whether the package can be loaded with stated dependencies ... OK
* checking whether the package can be unloaded cleanly ... OK
* checking whether the namespace can be loaded with stated dependencies ... OK
* checking whether the namespace can be unloaded cleanly ... OK
* checking dependencies in R code ... OK
* checking S3 generic/method consistency ... OK
* checking replacement functions ... OK
* checking foreign function calls ... OK
* checking R code for possible problems ... OK
* checking Rd files ... OK
* checking Rd metadata ... OK
* checking Rd cross-references ... OK
* checking for missing documentation entries ... OK
* checking for code/documentation mismatches ... OK
* checking Rd \usage sections ... OK
* checking Rd contents ... OK
* checking for unstated dependencies in examples ... OK
* checking files in ‘vignettes’ ... OK
* checking examples ... OK
Examples with CPU (user + system) or elapsed time > 5s
user system elapsed
convert_MAE_to_PSet 8.925 0.37 9.37
* checking for unstated dependencies in ‘tests’ ... OK
* checking tests ...
Running ‘testthat.R’
OK
* checking for unstated dependencies in vignettes ... OK
* checking package vignettes ... OK
* checking running R code from vignettes ... SKIPPED
* checking re-building of vignette outputs ... SKIPPED
* checking PDF version of manual ... OK
* DONE
Status: OK
gDRimport.Rcheck/00install.out
############################################################################## ############################################################################## ### ### Running command: ### ### /Library/Frameworks/R.framework/Resources/bin/R CMD INSTALL gDRimport ### ############################################################################## ############################################################################## * installing to library ‘/Library/Frameworks/R.framework/Versions/4.5-x86_64/Resources/library’ * installing *source* package ‘gDRimport’ ... ** this is package ‘gDRimport’ version ‘1.7.5’ ** using staged installation ** R ** inst ** byte-compile and prepare package for lazy loading ** help *** installing help indices ** building package indices ** installing vignettes ** testing if installed package can be loaded from temporary location ** testing if installed package can be loaded from final location ** testing if installed package keeps a record of temporary installation path * DONE (gDRimport)
gDRimport.Rcheck/tests/testthat.Rout
R version 4.5.1 Patched (2025-09-10 r88807) -- "Great Square Root"
Copyright (C) 2025 The R Foundation for Statistical Computing
Platform: x86_64-apple-darwin20
R is free software and comes with ABSOLUTELY NO WARRANTY.
You are welcome to redistribute it under certain conditions.
Type 'license()' or 'licence()' for distribution details.
R is a collaborative project with many contributors.
Type 'contributors()' for more information and
'citation()' on how to cite R or R packages in publications.
Type 'demo()' for some demos, 'help()' for on-line help, or
'help.start()' for an HTML browser interface to help.
Type 'q()' to quit R.
> library(testthat)
> library(gDRimport)
>
> test_check("gDRimport")
2025-10-24 21:24:04 Building assay index...
2025-10-24 21:24:04 Joining rowData to assayIndex...
2025-10-24 21:24:04 Joining colData to assayIndex...
2025-10-24 21:24:05 Joining assays to assayIndex...
2025-10-24 21:24:07 Setting assayIndex key...
2025-10-24 21:24:08 Building LongTable...
2025-10-24 21:24:09 Building assay index...
2025-10-24 21:24:09 Joining rowData to assayIndex...
2025-10-24 21:24:10 Joining colData to assayIndex...
2025-10-24 21:24:10 Joining assays to assayIndex...
2025-10-24 21:24:12 Setting assayIndex key...
2025-10-24 21:24:13 Building LongTable...
INFO [2025-10-24 21:24:13] Manifest loaded successfully
INFO [2025-10-24 21:24:13] Manifest loaded successfully
INFO [2025-10-24 21:24:13] Reading file /Library/Frameworks/R.framework/Versions/4.5-x86_64/Resources/library/gDRimport/extdata/data1/RawData_day0.xlsx, sheet Readout_0077vs0068_day7
INFO [2025-10-24 21:24:14] Plate 201904190a read; 384 wells
INFO [2025-10-24 21:24:14] Plate 201904190b read; 384 wells
INFO [2025-10-24 21:24:14] Plate 201904190c read; 384 wells
INFO [2025-10-24 21:24:14] Plate 201904190d read; 384 wells
INFO [2025-10-24 21:24:14] Plate 201904190e read; 384 wells
INFO [2025-10-24 21:24:14] Plate 201904190f read; 384 wells
INFO [2025-10-24 21:24:14] File done
INFO [2025-10-24 21:24:14] Reading file /Library/Frameworks/R.framework/Versions/4.5-x86_64/Resources/library/gDRimport/extdata/data1/RawData_day7.xlsx, sheet Readout_0077vs0068_day7
INFO [2025-10-24 21:24:14] Plate 201904197a read; 384 wells
INFO [2025-10-24 21:24:14] Plate 201904197b read; 384 wells
INFO [2025-10-24 21:24:14] Plate 201904197c read; 384 wells
INFO [2025-10-24 21:24:14] Plate 201904197d read; 384 wells
INFO [2025-10-24 21:24:14] Plate 201904197e read; 384 wells
INFO [2025-10-24 21:24:14] Plate 201904197f read; 384 wells
INFO [2025-10-24 21:24:14] File done
INFO [2025-10-24 21:24:14] Reading file /Library/Frameworks/R.framework/Versions/4.5-x86_64/Resources/library/gDRimport/extdata/data1/RawData_day0.xlsx, sheet Readout_0077vs0068_day7
INFO [2025-10-24 21:24:15] Plate 201904190a read; 384 wells
INFO [2025-10-24 21:24:15] Plate 201904190b read; 384 wells
INFO [2025-10-24 21:24:15] Plate 201904190c read; 384 wells
INFO [2025-10-24 21:24:15] Plate 201904190d read; 384 wells
INFO [2025-10-24 21:24:15] Plate 201904190e read; 384 wells
INFO [2025-10-24 21:24:15] Plate 201904190f read; 384 wells
INFO [2025-10-24 21:24:15] File done
INFO [2025-10-24 21:24:15] Reading file /Library/Frameworks/R.framework/Versions/4.5-x86_64/Resources/library/gDRimport/extdata/data1/RawData_day7.xlsx, sheet Readout_0077vs0068_day7
INFO [2025-10-24 21:24:15] Plate 201904197a read; 384 wells
INFO [2025-10-24 21:24:15] Plate 201904197b read; 384 wells
INFO [2025-10-24 21:24:15] Plate 201904197c read; 384 wells
INFO [2025-10-24 21:24:15] Plate 201904197d read; 384 wells
INFO [2025-10-24 21:24:15] Plate 201904197e read; 384 wells
INFO [2025-10-24 21:24:15] Plate 201904197f read; 384 wells
INFO [2025-10-24 21:24:15] File done
INFO [2025-10-24 21:24:15] Reading file /Library/Frameworks/R.framework/Versions/4.5-x86_64/Resources/library/gDRimport/extdata/data1/RawData_day0.xlsx, sheet Readout_0077vs0068_day7
INFO [2025-10-24 21:24:16] Plate 201904190a read; 384 wells
INFO [2025-10-24 21:24:16] Plate 201904190b read; 384 wells
INFO [2025-10-24 21:24:16] Plate 201904190c read; 384 wells
INFO [2025-10-24 21:24:16] Plate 201904190d read; 384 wells
INFO [2025-10-24 21:24:16] Plate 201904190e read; 384 wells
INFO [2025-10-24 21:24:16] Plate 201904190f read; 384 wells
INFO [2025-10-24 21:24:16] File done
INFO [2025-10-24 21:24:16] Reading file /Library/Frameworks/R.framework/Versions/4.5-x86_64/Resources/library/gDRimport/extdata/data2/RawData_Tecan_96_well_plates.xlsx, sheet H2122-2
INFO [2025-10-24 21:24:16] Reading file /Library/Frameworks/R.framework/Versions/4.5-x86_64/Resources/library/gDRimport/extdata/data2/RawData_Tecan_96_well_plates.xlsx, sheet H358-2
INFO [2025-10-24 21:24:16] Reading file /Library/Frameworks/R.framework/Versions/4.5-x86_64/Resources/library/gDRimport/extdata/data2/RawData_Tecan_96_well_plates.xlsx, sheet H358-1
INFO [2025-10-24 21:24:16] Reading file /Library/Frameworks/R.framework/Versions/4.5-x86_64/Resources/library/gDRimport/extdata/data2/RawData_Tecan_96_well_plates.xlsx, sheet H2122-1
INFO [2025-10-24 21:24:17] Reading Template_7daytreated.xlsx with load_templates_xlsx
INFO [2025-10-24 21:24:17] Loading Template_7daytreated.xlsx
INFO [2025-10-24 21:24:17] Loading Template_Untreated.xlsx
INFO [2025-10-24 21:24:17] Templates loaded successfully!
INFO [2025-10-24 21:24:17] Reading Template_7daytreated.xlsx with load_templates_xlsx
INFO [2025-10-24 21:24:17] Loading Template_7daytreated.xlsx
INFO [2025-10-24 21:24:17] Loading Template_Untreated.xlsx
INFO [2025-10-24 21:24:17] Templates loaded successfully!
INFO [2025-10-24 21:24:17] Reading D300_trt_Tecan_96_well_plates.xlsx with load_templates_xlsx
INFO [2025-10-24 21:24:17] Loading D300_trt_Tecan_96_well_plates.xlsx
INFO [2025-10-24 21:24:17] Templates loaded successfully!
INFO [2025-10-24 21:24:18] Reading Template_7daytreated.xlsx with load_templates_xlsx
INFO [2025-10-24 21:24:18] Loading Template_7daytreated.xlsx
INFO [2025-10-24 21:24:18] Templates loaded successfully!
INFO [2025-10-24 21:24:18] Manifest loaded successfully
INFO [2025-10-24 21:24:18] Reading Template_7daytreated.xlsx with load_templates_xlsx
INFO [2025-10-24 21:24:18] Loading Template_7daytreated.xlsx
INFO [2025-10-24 21:24:18] Loading Template_Untreated.xlsx
INFO [2025-10-24 21:24:18] Templates loaded successfully!
INFO [2025-10-24 21:24:18] Reading file /Library/Frameworks/R.framework/Versions/4.5-x86_64/Resources/library/gDRimport/extdata/data1/RawData_day0.xlsx, sheet Readout_0077vs0068_day7
INFO [2025-10-24 21:24:19] Plate 201904190a read; 384 wells
INFO [2025-10-24 21:24:19] Plate 201904190b read; 384 wells
INFO [2025-10-24 21:24:19] Plate 201904190c read; 384 wells
INFO [2025-10-24 21:24:19] Plate 201904190d read; 384 wells
INFO [2025-10-24 21:24:19] Plate 201904190e read; 384 wells
INFO [2025-10-24 21:24:19] Plate 201904190f read; 384 wells
INFO [2025-10-24 21:24:19] File done
INFO [2025-10-24 21:24:19] Reading file /Library/Frameworks/R.framework/Versions/4.5-x86_64/Resources/library/gDRimport/extdata/data1/RawData_day7.xlsx, sheet Readout_0077vs0068_day7
INFO [2025-10-24 21:24:19] Plate 201904197a read; 384 wells
INFO [2025-10-24 21:24:19] Plate 201904197b read; 384 wells
INFO [2025-10-24 21:24:19] Plate 201904197c read; 384 wells
INFO [2025-10-24 21:24:19] Plate 201904197d read; 384 wells
INFO [2025-10-24 21:24:19] Plate 201904197e read; 384 wells
INFO [2025-10-24 21:24:19] Plate 201904197f read; 384 wells
INFO [2025-10-24 21:24:19] File done
INFO [2025-10-24 21:24:19] Manifest loaded successfully
INFO [2025-10-24 21:24:19] Reading D300_trt_Tecan_96_well_plates.xlsx with load_templates_xlsx
INFO [2025-10-24 21:24:19] Loading D300_trt_Tecan_96_well_plates.xlsx
INFO [2025-10-24 21:24:19] Templates loaded successfully!
INFO [2025-10-24 21:24:19] Reading file /Library/Frameworks/R.framework/Versions/4.5-x86_64/Resources/library/gDRimport/extdata/data2/RawData_Tecan_96_well_plates.xlsx, sheet H2122-2
INFO [2025-10-24 21:24:20] Reading file /Library/Frameworks/R.framework/Versions/4.5-x86_64/Resources/library/gDRimport/extdata/data2/RawData_Tecan_96_well_plates.xlsx, sheet H358-2
INFO [2025-10-24 21:24:20] Reading file /Library/Frameworks/R.framework/Versions/4.5-x86_64/Resources/library/gDRimport/extdata/data2/RawData_Tecan_96_well_plates.xlsx, sheet H358-1
INFO [2025-10-24 21:24:20] Reading file /Library/Frameworks/R.framework/Versions/4.5-x86_64/Resources/library/gDRimport/extdata/data2/RawData_Tecan_96_well_plates.xlsx, sheet H2122-1
INFO [2025-10-24 21:24:20] Manifest loaded successfully
INFO [2025-10-24 21:24:20] Reading Project40.treated.template.xlsx with load_templates_xlsx
INFO [2025-10-24 21:24:20] Loading Project40.treated.template.xlsx
INFO [2025-10-24 21:24:20] Loading Project40.untreated.template.xlsx
INFO [2025-10-24 21:24:20] Templates loaded successfully!
INFO [2025-10-24 21:24:21] Reading file /Library/Frameworks/R.framework/Versions/4.5-x86_64/Resources/library/gDRimport/extdata/data4/H0109269D00.csv, sheet 0
INFO [2025-10-24 21:24:21] Plate H0109269D00 read; 384 wells
INFO [2025-10-24 21:24:21] File done
INFO [2025-10-24 21:24:21] Reading file /Library/Frameworks/R.framework/Versions/4.5-x86_64/Resources/library/gDRimport/extdata/data4/H0109269D01.csv, sheet 0
INFO [2025-10-24 21:24:21] Plate H0109269D01 read; 384 wells
INFO [2025-10-24 21:24:21] File done
INFO [2025-10-24 21:24:21] Reading file /Library/Frameworks/R.framework/Versions/4.5-x86_64/Resources/library/gDRimport/extdata/data4/H0309269D00.csv, sheet 0
INFO [2025-10-24 21:24:21] Plate H0309269D00 read; 384 wells
INFO [2025-10-24 21:24:21] File done
INFO [2025-10-24 21:24:21] Reading file /Library/Frameworks/R.framework/Versions/4.5-x86_64/Resources/library/gDRimport/extdata/data4/H0309269D01.csv, sheet 0
INFO [2025-10-24 21:24:21] Plate H0309269D01 read; 384 wells
INFO [2025-10-24 21:24:21] File done
INFO [2025-10-24 21:24:21] Reading file /Library/Frameworks/R.framework/Versions/4.5-x86_64/Resources/library/gDRimport/extdata/data4/H0409269D00.csv, sheet 0
INFO [2025-10-24 21:24:21] Plate H0409269D00 read; 384 wells
INFO [2025-10-24 21:24:21] File done
INFO [2025-10-24 21:24:21] Reading file /Library/Frameworks/R.framework/Versions/4.5-x86_64/Resources/library/gDRimport/extdata/data4/H0409269D01.csv, sheet 0
INFO [2025-10-24 21:24:21] Plate H0409269D01 read; 384 wells
INFO [2025-10-24 21:24:21] File done
INFO [2025-10-24 21:24:21] Reading file /Library/Frameworks/R.framework/Versions/4.5-x86_64/Resources/library/gDRimport/extdata/data4/H0509269D00.csv, sheet 0
INFO [2025-10-24 21:24:21] Plate H0509269D00 read; 384 wells
INFO [2025-10-24 21:24:21] File done
INFO [2025-10-24 21:24:21] Reading file /Library/Frameworks/R.framework/Versions/4.5-x86_64/Resources/library/gDRimport/extdata/data4/H0509269D01.csv, sheet 0
INFO [2025-10-24 21:24:21] Plate H0509269D01 read; 384 wells
INFO [2025-10-24 21:24:21] File done
INFO [2025-10-24 21:24:21] Reading file /Library/Frameworks/R.framework/Versions/4.5-x86_64/Resources/library/gDRimport/extdata/data4/H0609269D00.csv, sheet 0
INFO [2025-10-24 21:24:21] Plate H0609269D00 read; 384 wells
INFO [2025-10-24 21:24:21] File done
INFO [2025-10-24 21:24:21] Reading file /Library/Frameworks/R.framework/Versions/4.5-x86_64/Resources/library/gDRimport/extdata/data4/H0609269D01.csv, sheet 0
INFO [2025-10-24 21:24:21] Plate H0609269D01 read; 384 wells
INFO [2025-10-24 21:24:21] File done
INFO [2025-10-24 21:24:21] Reading file /Library/Frameworks/R.framework/Versions/4.5-x86_64/Resources/library/gDRimport/extdata/data4/H0709269D00.csv, sheet 0
INFO [2025-10-24 21:24:21] Plate H0709269D00 read; 384 wells
INFO [2025-10-24 21:24:21] File done
INFO [2025-10-24 21:24:21] Reading file /Library/Frameworks/R.framework/Versions/4.5-x86_64/Resources/library/gDRimport/extdata/data4/H0709269D01.csv, sheet 0
INFO [2025-10-24 21:24:21] Plate H0709269D01 read; 384 wells
INFO [2025-10-24 21:24:21] File done
INFO [2025-10-24 21:24:21] Reading file /Library/Frameworks/R.framework/Versions/4.5-x86_64/Resources/library/gDRimport/extdata/data4/H0809269D00.csv, sheet 0
INFO [2025-10-24 21:24:21] Plate H0809269D00 read; 384 wells
INFO [2025-10-24 21:24:21] File done
INFO [2025-10-24 21:24:21] Reading file /Library/Frameworks/R.framework/Versions/4.5-x86_64/Resources/library/gDRimport/extdata/data4/H0809269D01.csv, sheet 0
INFO [2025-10-24 21:24:21] Plate H0809269D01 read; 384 wells
INFO [2025-10-24 21:24:21] File done
INFO [2025-10-24 21:24:21] Reading file /Library/Frameworks/R.framework/Versions/4.5-x86_64/Resources/library/gDRimport/extdata/data4/H0909269D00.csv, sheet 0
INFO [2025-10-24 21:24:21] Plate H0909269D00 read; 384 wells
INFO [2025-10-24 21:24:21] File done
INFO [2025-10-24 21:24:21] Reading file /Library/Frameworks/R.framework/Versions/4.5-x86_64/Resources/library/gDRimport/extdata/data4/H0909269D01.csv, sheet 0
INFO [2025-10-24 21:24:21] Plate H0909269D01 read; 384 wells
INFO [2025-10-24 21:24:21] File done
INFO [2025-10-24 21:24:21] Reading file /Library/Frameworks/R.framework/Versions/4.5-x86_64/Resources/library/gDRimport/extdata/data4/H1109269D00.csv, sheet 0
INFO [2025-10-24 21:24:21] Plate H1109269D00 read; 384 wells
INFO [2025-10-24 21:24:21] File done
INFO [2025-10-24 21:24:21] Reading file /Library/Frameworks/R.framework/Versions/4.5-x86_64/Resources/library/gDRimport/extdata/data4/H1109269D01.csv, sheet 0
INFO [2025-10-24 21:24:21] Plate H1109269D01 read; 384 wells
INFO [2025-10-24 21:24:21] File done
INFO [2025-10-24 21:24:21] Reading file /Library/Frameworks/R.framework/Versions/4.5-x86_64/Resources/library/gDRimport/extdata/data4/H1209269D00.csv, sheet 0
INFO [2025-10-24 21:24:21] Plate H1209269D00 read; 384 wells
INFO [2025-10-24 21:24:21] File done
INFO [2025-10-24 21:24:21] Reading file /Library/Frameworks/R.framework/Versions/4.5-x86_64/Resources/library/gDRimport/extdata/data4/H1209269D01.csv, sheet 0
INFO [2025-10-24 21:24:21] Plate H1209269D01 read; 384 wells
INFO [2025-10-24 21:24:21] File done
INFO [2025-10-24 21:24:21] Reading file /Library/Frameworks/R.framework/Versions/4.5-x86_64/Resources/library/gDRimport/extdata/data4/H1409269D00.csv, sheet 0
INFO [2025-10-24 21:24:21] Plate H1409269D00 read; 384 wells
INFO [2025-10-24 21:24:21] File done
INFO [2025-10-24 21:24:21] Reading file /Library/Frameworks/R.framework/Versions/4.5-x86_64/Resources/library/gDRimport/extdata/data4/H1409269D01.csv, sheet 0
INFO [2025-10-24 21:24:21] Plate H1409269D01 read; 384 wells
INFO [2025-10-24 21:24:21] File done
INFO [2025-10-24 21:24:21] Reading file /Library/Frameworks/R.framework/Versions/4.5-x86_64/Resources/library/gDRimport/extdata/data4/K0209269D00.csv, sheet 0
INFO [2025-10-24 21:24:21] Plate K0209269D00 read; 384 wells
INFO [2025-10-24 21:24:21] File done
INFO [2025-10-24 21:24:21] Reading file /Library/Frameworks/R.framework/Versions/4.5-x86_64/Resources/library/gDRimport/extdata/data4/K0209269D01.csv, sheet 0
INFO [2025-10-24 21:24:21] Plate K0209269D01 read; 384 wells
INFO [2025-10-24 21:24:21] File done
INFO [2025-10-24 21:24:21] Reading file /Library/Frameworks/R.framework/Versions/4.5-x86_64/Resources/library/gDRimport/extdata/data4/K0809269D00.csv, sheet 0
INFO [2025-10-24 21:24:21] Plate K0809269D00 read; 384 wells
INFO [2025-10-24 21:24:21] File done
INFO [2025-10-24 21:24:21] Reading file /Library/Frameworks/R.framework/Versions/4.5-x86_64/Resources/library/gDRimport/extdata/data4/K0809269D01.csv, sheet 0
INFO [2025-10-24 21:24:21] Plate K0809269D01 read; 384 wells
INFO [2025-10-24 21:24:21] File done
INFO [2025-10-24 21:24:21] Reading file /Library/Frameworks/R.framework/Versions/4.5-x86_64/Resources/library/gDRimport/extdata/data4/K1009269D00.csv, sheet 0
INFO [2025-10-24 21:24:21] Plate K1009269D00 read; 384 wells
INFO [2025-10-24 21:24:21] File done
INFO [2025-10-24 21:24:21] Reading file /Library/Frameworks/R.framework/Versions/4.5-x86_64/Resources/library/gDRimport/extdata/data4/K1009269D01.csv, sheet 0
INFO [2025-10-24 21:24:21] Plate K1009269D01 read; 384 wells
INFO [2025-10-24 21:24:21] File done
INFO [2025-10-24 21:24:21] Manifest loaded successfully
INFO [2025-10-24 21:24:21] Reading Template_7daytreated.xlsx with load_templates_xlsx
INFO [2025-10-24 21:24:21] Loading Template_7daytreated.xlsx
INFO [2025-10-24 21:24:22] Loading Template_Untreated.xlsx
INFO [2025-10-24 21:24:22] Templates loaded successfully!
INFO [2025-10-24 21:24:22] Manifest loaded successfully
INFO [2025-10-24 21:24:22] Reading Template_7daytreated.xlsx with load_templates_xlsx
INFO [2025-10-24 21:24:22] Loading Template_7daytreated.xlsx
INFO [2025-10-24 21:24:22] Loading Template_Untreated.xlsx
INFO [2025-10-24 21:24:22] Templates loaded successfully!
INFO [2025-10-24 21:24:22] Manifest loaded successfully
INFO [2025-10-24 21:24:22] Reading Template_trt.tsv with load_templates_tsv
INFO [2025-10-24 21:24:22] Loading Template_trt.tsv
INFO [2025-10-24 21:24:22] Loading Template_untrt.tsv
INFO [2025-10-24 21:24:23] Templates loaded successfully!
INFO [2025-10-24 21:24:23] Reading file /Library/Frameworks/R.framework/Versions/4.5-x86_64/Resources/library/gDRimport/extdata/data5/RawData.tsv
WARN [2025-10-24 21:24:24] Metadata field names for cannot contain spaces --> corrected to: Gnumber
WARN [2025-10-24 21:24:25] Header Gnumber in corrected to Gnumber
[ FAIL 0 | WARN 0 | SKIP 0 | PASS 156 ]
>
>
> proc.time()
user system elapsed
54.095 3.048 58.064
gDRimport.Rcheck/gDRimport-Ex.timings
| name | user | system | elapsed | |
| check_metadata_names | 0.102 | 0.017 | 0.121 | |
| convert_LEVEL5_prism_to_gDR_input | 0.027 | 0.004 | 0.033 | |
| convert_LEVEL6_prism_to_gDR_input | 0.028 | 0.005 | 0.033 | |
| convert_MAE_to_PSet | 8.925 | 0.370 | 9.370 | |
| convert_pset_to_df | 0.190 | 0.028 | 0.222 | |
| detect_file_format | 0.308 | 0.019 | 0.334 | |
| getPSet | 0.143 | 0.009 | 0.159 | |
| get_exception_data | 0.011 | 0.002 | 0.013 | |
| get_test_D300_data | 0.002 | 0.001 | 0.003 | |
| get_test_EnVision_data | 0.003 | 0.002 | 0.004 | |
| get_test_Tecan_data | 0.001 | 0.001 | 0.002 | |
| get_test_data | 0.003 | 0.000 | 0.003 | |
| get_test_tsv_data | 0.001 | 0.001 | 0.003 | |
| import_D300 | 2.979 | 0.512 | 3.636 | |
| is_readable_v | 0.002 | 0.000 | 0.002 | |
| load_data | 1.511 | 0.086 | 1.610 | |
| load_manifest | 0.081 | 0.006 | 0.088 | |
| load_results | 1.012 | 0.025 | 1.040 | |
| load_templates | 0.299 | 0.033 | 0.334 | |
| manifest_path-method | 0.003 | 0.000 | 0.003 | |
| parse_D300_xml | 1.211 | 0.010 | 1.231 | |
| read_excel_to_dt | 0.018 | 0.007 | 0.027 | |
| result_path-method | 0.002 | 0.001 | 0.004 | |
| setEnvForPSet | 0.001 | 0.000 | 0.001 | |
| standardize_record_values | 0 | 0 | 0 | |
| template_path-method | 0.002 | 0.000 | 0.003 | |