| Back to Multiple platform build/check report for BioC 3.22: simplified long |
|
This page was generated on 2025-10-25 12:03 -0400 (Sat, 25 Oct 2025).
| Hostname | OS | Arch (*) | R version | Installed pkgs |
|---|---|---|---|---|
| nebbiolo2 | Linux (Ubuntu 24.04.3 LTS) | x86_64 | 4.5.1 Patched (2025-08-23 r88802) -- "Great Square Root" | 4901 |
| lconway | macOS 12.7.6 Monterey | x86_64 | 4.5.1 Patched (2025-09-10 r88807) -- "Great Square Root" | 4691 |
| kjohnson3 | macOS 13.7.7 Ventura | arm64 | 4.5.1 Patched (2025-09-10 r88807) -- "Great Square Root" | 4637 |
| taishan | Linux (openEuler 24.03 LTS) | aarch64 | 4.5.0 (2025-04-11) -- "How About a Twenty-Six" | 4658 |
| Click on any hostname to see more info about the system (e.g. compilers) (*) as reported by 'uname -p', except on Windows and Mac OS X | ||||
| Package 804/2361 | Hostname | OS / Arch | INSTALL | BUILD | CHECK | BUILD BIN | ||||||||
| gDRimport 1.7.5 (landing page) Arkadiusz Gladki
| nebbiolo2 | Linux (Ubuntu 24.04.3 LTS) / x86_64 | OK | OK | OK | |||||||||
| lconway | macOS 12.7.6 Monterey / x86_64 | OK | OK | OK | OK | |||||||||
| kjohnson3 | macOS 13.7.7 Ventura / arm64 | OK | OK | OK | OK | |||||||||
| taishan | Linux (openEuler 24.03 LTS) / aarch64 | OK | NA | NA | ||||||||||
|
To the developers/maintainers of the gDRimport package: - Allow up to 24 hours (and sometimes 48 hours) for your latest push to git@git.bioconductor.org:packages/gDRimport.git to reflect on this report. See Troubleshooting Build Report for more information. - Use the following Renviron settings to reproduce errors and warnings. - If 'R CMD check' started to fail recently on the Linux builder(s) over a missing dependency, add the missing dependency to 'Suggests:' in your DESCRIPTION file. See Renviron.bioc for more information. |
| Package: gDRimport |
| Version: 1.7.5 |
| Command: /home/biocbuild/bbs-3.22-bioc/R/bin/R CMD check --install=check:gDRimport.install-out.txt --library=/home/biocbuild/bbs-3.22-bioc/R/site-library --timings gDRimport_1.7.5.tar.gz |
| StartedAt: 2025-10-24 23:53:46 -0400 (Fri, 24 Oct 2025) |
| EndedAt: 2025-10-24 23:57:28 -0400 (Fri, 24 Oct 2025) |
| EllapsedTime: 221.2 seconds |
| RetCode: 0 |
| Status: OK |
| CheckDir: gDRimport.Rcheck |
| Warnings: 0 |
##############################################################################
##############################################################################
###
### Running command:
###
### /home/biocbuild/bbs-3.22-bioc/R/bin/R CMD check --install=check:gDRimport.install-out.txt --library=/home/biocbuild/bbs-3.22-bioc/R/site-library --timings gDRimport_1.7.5.tar.gz
###
##############################################################################
##############################################################################
* using log directory ‘/home/biocbuild/bbs-3.22-bioc/meat/gDRimport.Rcheck’
* using R version 4.5.1 Patched (2025-08-23 r88802)
* using platform: x86_64-pc-linux-gnu
* R was compiled by
gcc (Ubuntu 13.3.0-6ubuntu2~24.04) 13.3.0
GNU Fortran (Ubuntu 13.3.0-6ubuntu2~24.04) 13.3.0
* running under: Ubuntu 24.04.3 LTS
* using session charset: UTF-8
* checking for file ‘gDRimport/DESCRIPTION’ ... OK
* checking extension type ... Package
* this is package ‘gDRimport’ version ‘1.7.5’
* package encoding: UTF-8
* checking package namespace information ... OK
* checking package dependencies ... OK
* checking if this is a source package ... OK
* checking if there is a namespace ... OK
* checking for hidden files and directories ... OK
* checking for portable file names ... OK
* checking for sufficient/correct file permissions ... OK
* checking whether package ‘gDRimport’ can be installed ... OK
* checking installed package size ... OK
* checking package directory ... OK
* checking ‘build’ directory ... OK
* checking DESCRIPTION meta-information ... OK
* checking top-level files ... OK
* checking for left-over files ... OK
* checking index information ... OK
* checking package subdirectories ... OK
* checking code files for non-ASCII characters ... OK
* checking R files for syntax errors ... OK
* checking whether the package can be loaded ... OK
* checking whether the package can be loaded with stated dependencies ... OK
* checking whether the package can be unloaded cleanly ... OK
* checking whether the namespace can be loaded with stated dependencies ... OK
* checking whether the namespace can be unloaded cleanly ... OK
* checking loading without being on the library search path ... OK
* checking dependencies in R code ... OK
* checking S3 generic/method consistency ... OK
* checking replacement functions ... OK
* checking foreign function calls ... OK
* checking R code for possible problems ... OK
* checking Rd files ... OK
* checking Rd metadata ... OK
* checking Rd cross-references ... OK
* checking for missing documentation entries ... OK
* checking for code/documentation mismatches ... OK
* checking Rd \usage sections ... OK
* checking Rd contents ... OK
* checking for unstated dependencies in examples ... OK
* checking files in ‘vignettes’ ... OK
* checking examples ... OK
Examples with CPU (user + system) or elapsed time > 5s
user system elapsed
convert_MAE_to_PSet 7.851 0.316 8.172
* checking for unstated dependencies in ‘tests’ ... OK
* checking tests ...
Running ‘testthat.R’
OK
* checking for unstated dependencies in vignettes ... OK
* checking package vignettes ... OK
* checking re-building of vignette outputs ... OK
* checking PDF version of manual ... OK
* DONE
Status: OK
gDRimport.Rcheck/00install.out
############################################################################## ############################################################################## ### ### Running command: ### ### /home/biocbuild/bbs-3.22-bioc/R/bin/R CMD INSTALL gDRimport ### ############################################################################## ############################################################################## * installing to library ‘/home/biocbuild/bbs-3.22-bioc/R/site-library’ * installing *source* package ‘gDRimport’ ... ** this is package ‘gDRimport’ version ‘1.7.5’ ** using staged installation ** R ** inst ** byte-compile and prepare package for lazy loading ** help *** installing help indices ** building package indices ** installing vignettes ** testing if installed package can be loaded from temporary location ** testing if installed package can be loaded from final location ** testing if installed package keeps a record of temporary installation path * DONE (gDRimport)
gDRimport.Rcheck/tests/testthat.Rout
R version 4.5.1 Patched (2025-08-23 r88802) -- "Great Square Root"
Copyright (C) 2025 The R Foundation for Statistical Computing
Platform: x86_64-pc-linux-gnu
R is free software and comes with ABSOLUTELY NO WARRANTY.
You are welcome to redistribute it under certain conditions.
Type 'license()' or 'licence()' for distribution details.
R is a collaborative project with many contributors.
Type 'contributors()' for more information and
'citation()' on how to cite R or R packages in publications.
Type 'demo()' for some demos, 'help()' for on-line help, or
'help.start()' for an HTML browser interface to help.
Type 'q()' to quit R.
> library(testthat)
> library(gDRimport)
>
> test_check("gDRimport")
2025-10-24 23:56:20 Building assay index...
2025-10-24 23:56:20 Joining rowData to assayIndex...
2025-10-24 23:56:21 Joining colData to assayIndex...
2025-10-24 23:56:22 Joining assays to assayIndex...
2025-10-24 23:56:23 Setting assayIndex key...
2025-10-24 23:56:24 Building LongTable...
2025-10-24 23:56:25 Building assay index...
2025-10-24 23:56:25 Joining rowData to assayIndex...
2025-10-24 23:56:26 Joining colData to assayIndex...
2025-10-24 23:56:27 Joining assays to assayIndex...
2025-10-24 23:56:28 Setting assayIndex key...
2025-10-24 23:56:29 Building LongTable...
INFO [2025-10-24 23:56:29] Manifest loaded successfully
INFO [2025-10-24 23:56:29] Manifest loaded successfully
INFO [2025-10-24 23:56:30] Reading file /home/biocbuild/bbs-3.22-bioc/R/site-library/gDRimport/extdata/data1/RawData_day0.xlsx, sheet Readout_0077vs0068_day7
INFO [2025-10-24 23:56:30] Plate 201904190a read; 384 wells
INFO [2025-10-24 23:56:30] Plate 201904190b read; 384 wells
INFO [2025-10-24 23:56:30] Plate 201904190c read; 384 wells
INFO [2025-10-24 23:56:30] Plate 201904190d read; 384 wells
INFO [2025-10-24 23:56:30] Plate 201904190e read; 384 wells
INFO [2025-10-24 23:56:30] Plate 201904190f read; 384 wells
INFO [2025-10-24 23:56:30] File done
INFO [2025-10-24 23:56:30] Reading file /home/biocbuild/bbs-3.22-bioc/R/site-library/gDRimport/extdata/data1/RawData_day7.xlsx, sheet Readout_0077vs0068_day7
INFO [2025-10-24 23:56:30] Plate 201904197a read; 384 wells
INFO [2025-10-24 23:56:30] Plate 201904197b read; 384 wells
INFO [2025-10-24 23:56:30] Plate 201904197c read; 384 wells
INFO [2025-10-24 23:56:30] Plate 201904197d read; 384 wells
INFO [2025-10-24 23:56:30] Plate 201904197e read; 384 wells
INFO [2025-10-24 23:56:30] Plate 201904197f read; 384 wells
INFO [2025-10-24 23:56:30] File done
INFO [2025-10-24 23:56:30] Reading file /home/biocbuild/bbs-3.22-bioc/R/site-library/gDRimport/extdata/data1/RawData_day0.xlsx, sheet Readout_0077vs0068_day7
INFO [2025-10-24 23:56:31] Plate 201904190a read; 384 wells
INFO [2025-10-24 23:56:31] Plate 201904190b read; 384 wells
INFO [2025-10-24 23:56:31] Plate 201904190c read; 384 wells
INFO [2025-10-24 23:56:31] Plate 201904190d read; 384 wells
INFO [2025-10-24 23:56:31] Plate 201904190e read; 384 wells
INFO [2025-10-24 23:56:31] Plate 201904190f read; 384 wells
INFO [2025-10-24 23:56:31] File done
INFO [2025-10-24 23:56:31] Reading file /home/biocbuild/bbs-3.22-bioc/R/site-library/gDRimport/extdata/data1/RawData_day7.xlsx, sheet Readout_0077vs0068_day7
INFO [2025-10-24 23:56:31] Plate 201904197a read; 384 wells
INFO [2025-10-24 23:56:31] Plate 201904197b read; 384 wells
INFO [2025-10-24 23:56:31] Plate 201904197c read; 384 wells
INFO [2025-10-24 23:56:31] Plate 201904197d read; 384 wells
INFO [2025-10-24 23:56:31] Plate 201904197e read; 384 wells
INFO [2025-10-24 23:56:31] Plate 201904197f read; 384 wells
INFO [2025-10-24 23:56:31] File done
INFO [2025-10-24 23:56:31] Reading file /home/biocbuild/bbs-3.22-bioc/R/site-library/gDRimport/extdata/data1/RawData_day0.xlsx, sheet Readout_0077vs0068_day7
INFO [2025-10-24 23:56:31] Plate 201904190a read; 384 wells
INFO [2025-10-24 23:56:31] Plate 201904190b read; 384 wells
INFO [2025-10-24 23:56:31] Plate 201904190c read; 384 wells
INFO [2025-10-24 23:56:31] Plate 201904190d read; 384 wells
INFO [2025-10-24 23:56:31] Plate 201904190e read; 384 wells
INFO [2025-10-24 23:56:31] Plate 201904190f read; 384 wells
INFO [2025-10-24 23:56:31] File done
INFO [2025-10-24 23:56:31] Reading file /home/biocbuild/bbs-3.22-bioc/R/site-library/gDRimport/extdata/data2/RawData_Tecan_96_well_plates.xlsx, sheet H2122-2
INFO [2025-10-24 23:56:32] Reading file /home/biocbuild/bbs-3.22-bioc/R/site-library/gDRimport/extdata/data2/RawData_Tecan_96_well_plates.xlsx, sheet H358-2
INFO [2025-10-24 23:56:32] Reading file /home/biocbuild/bbs-3.22-bioc/R/site-library/gDRimport/extdata/data2/RawData_Tecan_96_well_plates.xlsx, sheet H358-1
INFO [2025-10-24 23:56:32] Reading file /home/biocbuild/bbs-3.22-bioc/R/site-library/gDRimport/extdata/data2/RawData_Tecan_96_well_plates.xlsx, sheet H2122-1
INFO [2025-10-24 23:56:32] Reading Template_7daytreated.xlsx with load_templates_xlsx
INFO [2025-10-24 23:56:32] Loading Template_7daytreated.xlsx
INFO [2025-10-24 23:56:32] Loading Template_Untreated.xlsx
INFO [2025-10-24 23:56:32] Templates loaded successfully!
INFO [2025-10-24 23:56:32] Reading Template_7daytreated.xlsx with load_templates_xlsx
INFO [2025-10-24 23:56:32] Loading Template_7daytreated.xlsx
INFO [2025-10-24 23:56:32] Loading Template_Untreated.xlsx
INFO [2025-10-24 23:56:33] Templates loaded successfully!
INFO [2025-10-24 23:56:33] Reading D300_trt_Tecan_96_well_plates.xlsx with load_templates_xlsx
INFO [2025-10-24 23:56:33] Loading D300_trt_Tecan_96_well_plates.xlsx
INFO [2025-10-24 23:56:33] Templates loaded successfully!
INFO [2025-10-24 23:56:33] Reading Template_7daytreated.xlsx with load_templates_xlsx
INFO [2025-10-24 23:56:33] Loading Template_7daytreated.xlsx
INFO [2025-10-24 23:56:33] Templates loaded successfully!
INFO [2025-10-24 23:56:33] Manifest loaded successfully
INFO [2025-10-24 23:56:33] Reading Template_7daytreated.xlsx with load_templates_xlsx
INFO [2025-10-24 23:56:33] Loading Template_7daytreated.xlsx
INFO [2025-10-24 23:56:33] Loading Template_Untreated.xlsx
INFO [2025-10-24 23:56:33] Templates loaded successfully!
INFO [2025-10-24 23:56:33] Reading file /home/biocbuild/bbs-3.22-bioc/R/site-library/gDRimport/extdata/data1/RawData_day0.xlsx, sheet Readout_0077vs0068_day7
INFO [2025-10-24 23:56:33] Plate 201904190a read; 384 wells
INFO [2025-10-24 23:56:33] Plate 201904190b read; 384 wells
INFO [2025-10-24 23:56:33] Plate 201904190c read; 384 wells
INFO [2025-10-24 23:56:33] Plate 201904190d read; 384 wells
INFO [2025-10-24 23:56:33] Plate 201904190e read; 384 wells
INFO [2025-10-24 23:56:33] Plate 201904190f read; 384 wells
INFO [2025-10-24 23:56:33] File done
INFO [2025-10-24 23:56:33] Reading file /home/biocbuild/bbs-3.22-bioc/R/site-library/gDRimport/extdata/data1/RawData_day7.xlsx, sheet Readout_0077vs0068_day7
INFO [2025-10-24 23:56:34] Plate 201904197a read; 384 wells
INFO [2025-10-24 23:56:34] Plate 201904197b read; 384 wells
INFO [2025-10-24 23:56:34] Plate 201904197c read; 384 wells
INFO [2025-10-24 23:56:34] Plate 201904197d read; 384 wells
INFO [2025-10-24 23:56:34] Plate 201904197e read; 384 wells
INFO [2025-10-24 23:56:34] Plate 201904197f read; 384 wells
INFO [2025-10-24 23:56:34] File done
INFO [2025-10-24 23:56:34] Manifest loaded successfully
INFO [2025-10-24 23:56:34] Reading D300_trt_Tecan_96_well_plates.xlsx with load_templates_xlsx
INFO [2025-10-24 23:56:34] Loading D300_trt_Tecan_96_well_plates.xlsx
INFO [2025-10-24 23:56:34] Templates loaded successfully!
INFO [2025-10-24 23:56:34] Reading file /home/biocbuild/bbs-3.22-bioc/R/site-library/gDRimport/extdata/data2/RawData_Tecan_96_well_plates.xlsx, sheet H2122-2
INFO [2025-10-24 23:56:34] Reading file /home/biocbuild/bbs-3.22-bioc/R/site-library/gDRimport/extdata/data2/RawData_Tecan_96_well_plates.xlsx, sheet H358-2
INFO [2025-10-24 23:56:34] Reading file /home/biocbuild/bbs-3.22-bioc/R/site-library/gDRimport/extdata/data2/RawData_Tecan_96_well_plates.xlsx, sheet H358-1
INFO [2025-10-24 23:56:34] Reading file /home/biocbuild/bbs-3.22-bioc/R/site-library/gDRimport/extdata/data2/RawData_Tecan_96_well_plates.xlsx, sheet H2122-1
INFO [2025-10-24 23:56:35] Manifest loaded successfully
INFO [2025-10-24 23:56:35] Reading Project40.treated.template.xlsx with load_templates_xlsx
INFO [2025-10-24 23:56:35] Loading Project40.treated.template.xlsx
INFO [2025-10-24 23:56:35] Loading Project40.untreated.template.xlsx
INFO [2025-10-24 23:56:35] Templates loaded successfully!
INFO [2025-10-24 23:56:35] Reading file /home/biocbuild/bbs-3.22-bioc/R/site-library/gDRimport/extdata/data4/H0109269D00.csv, sheet 0
INFO [2025-10-24 23:56:35] Plate H0109269D00 read; 384 wells
INFO [2025-10-24 23:56:35] File done
INFO [2025-10-24 23:56:35] Reading file /home/biocbuild/bbs-3.22-bioc/R/site-library/gDRimport/extdata/data4/H0109269D01.csv, sheet 0
INFO [2025-10-24 23:56:35] Plate H0109269D01 read; 384 wells
INFO [2025-10-24 23:56:35] File done
INFO [2025-10-24 23:56:35] Reading file /home/biocbuild/bbs-3.22-bioc/R/site-library/gDRimport/extdata/data4/H0309269D00.csv, sheet 0
INFO [2025-10-24 23:56:35] Plate H0309269D00 read; 384 wells
INFO [2025-10-24 23:56:35] File done
INFO [2025-10-24 23:56:35] Reading file /home/biocbuild/bbs-3.22-bioc/R/site-library/gDRimport/extdata/data4/H0309269D01.csv, sheet 0
INFO [2025-10-24 23:56:35] Plate H0309269D01 read; 384 wells
INFO [2025-10-24 23:56:35] File done
INFO [2025-10-24 23:56:35] Reading file /home/biocbuild/bbs-3.22-bioc/R/site-library/gDRimport/extdata/data4/H0409269D00.csv, sheet 0
INFO [2025-10-24 23:56:35] Plate H0409269D00 read; 384 wells
INFO [2025-10-24 23:56:35] File done
INFO [2025-10-24 23:56:35] Reading file /home/biocbuild/bbs-3.22-bioc/R/site-library/gDRimport/extdata/data4/H0409269D01.csv, sheet 0
INFO [2025-10-24 23:56:35] Plate H0409269D01 read; 384 wells
INFO [2025-10-24 23:56:35] File done
INFO [2025-10-24 23:56:35] Reading file /home/biocbuild/bbs-3.22-bioc/R/site-library/gDRimport/extdata/data4/H0509269D00.csv, sheet 0
INFO [2025-10-24 23:56:35] Plate H0509269D00 read; 384 wells
INFO [2025-10-24 23:56:35] File done
INFO [2025-10-24 23:56:35] Reading file /home/biocbuild/bbs-3.22-bioc/R/site-library/gDRimport/extdata/data4/H0509269D01.csv, sheet 0
INFO [2025-10-24 23:56:35] Plate H0509269D01 read; 384 wells
INFO [2025-10-24 23:56:35] File done
INFO [2025-10-24 23:56:35] Reading file /home/biocbuild/bbs-3.22-bioc/R/site-library/gDRimport/extdata/data4/H0609269D00.csv, sheet 0
INFO [2025-10-24 23:56:35] Plate H0609269D00 read; 384 wells
INFO [2025-10-24 23:56:35] File done
INFO [2025-10-24 23:56:35] Reading file /home/biocbuild/bbs-3.22-bioc/R/site-library/gDRimport/extdata/data4/H0609269D01.csv, sheet 0
INFO [2025-10-24 23:56:35] Plate H0609269D01 read; 384 wells
INFO [2025-10-24 23:56:35] File done
INFO [2025-10-24 23:56:35] Reading file /home/biocbuild/bbs-3.22-bioc/R/site-library/gDRimport/extdata/data4/H0709269D00.csv, sheet 0
INFO [2025-10-24 23:56:35] Plate H0709269D00 read; 384 wells
INFO [2025-10-24 23:56:35] File done
INFO [2025-10-24 23:56:35] Reading file /home/biocbuild/bbs-3.22-bioc/R/site-library/gDRimport/extdata/data4/H0709269D01.csv, sheet 0
INFO [2025-10-24 23:56:35] Plate H0709269D01 read; 384 wells
INFO [2025-10-24 23:56:35] File done
INFO [2025-10-24 23:56:35] Reading file /home/biocbuild/bbs-3.22-bioc/R/site-library/gDRimport/extdata/data4/H0809269D00.csv, sheet 0
INFO [2025-10-24 23:56:35] Plate H0809269D00 read; 384 wells
INFO [2025-10-24 23:56:35] File done
INFO [2025-10-24 23:56:35] Reading file /home/biocbuild/bbs-3.22-bioc/R/site-library/gDRimport/extdata/data4/H0809269D01.csv, sheet 0
INFO [2025-10-24 23:56:35] Plate H0809269D01 read; 384 wells
INFO [2025-10-24 23:56:35] File done
INFO [2025-10-24 23:56:35] Reading file /home/biocbuild/bbs-3.22-bioc/R/site-library/gDRimport/extdata/data4/H0909269D00.csv, sheet 0
INFO [2025-10-24 23:56:35] Plate H0909269D00 read; 384 wells
INFO [2025-10-24 23:56:35] File done
INFO [2025-10-24 23:56:35] Reading file /home/biocbuild/bbs-3.22-bioc/R/site-library/gDRimport/extdata/data4/H0909269D01.csv, sheet 0
INFO [2025-10-24 23:56:35] Plate H0909269D01 read; 384 wells
INFO [2025-10-24 23:56:35] File done
INFO [2025-10-24 23:56:35] Reading file /home/biocbuild/bbs-3.22-bioc/R/site-library/gDRimport/extdata/data4/H1109269D00.csv, sheet 0
INFO [2025-10-24 23:56:35] Plate H1109269D00 read; 384 wells
INFO [2025-10-24 23:56:35] File done
INFO [2025-10-24 23:56:35] Reading file /home/biocbuild/bbs-3.22-bioc/R/site-library/gDRimport/extdata/data4/H1109269D01.csv, sheet 0
INFO [2025-10-24 23:56:35] Plate H1109269D01 read; 384 wells
INFO [2025-10-24 23:56:35] File done
INFO [2025-10-24 23:56:35] Reading file /home/biocbuild/bbs-3.22-bioc/R/site-library/gDRimport/extdata/data4/H1209269D00.csv, sheet 0
INFO [2025-10-24 23:56:35] Plate H1209269D00 read; 384 wells
INFO [2025-10-24 23:56:35] File done
INFO [2025-10-24 23:56:35] Reading file /home/biocbuild/bbs-3.22-bioc/R/site-library/gDRimport/extdata/data4/H1209269D01.csv, sheet 0
INFO [2025-10-24 23:56:35] Plate H1209269D01 read; 384 wells
INFO [2025-10-24 23:56:35] File done
INFO [2025-10-24 23:56:35] Reading file /home/biocbuild/bbs-3.22-bioc/R/site-library/gDRimport/extdata/data4/H1409269D00.csv, sheet 0
INFO [2025-10-24 23:56:35] Plate H1409269D00 read; 384 wells
INFO [2025-10-24 23:56:35] File done
INFO [2025-10-24 23:56:35] Reading file /home/biocbuild/bbs-3.22-bioc/R/site-library/gDRimport/extdata/data4/H1409269D01.csv, sheet 0
INFO [2025-10-24 23:56:35] Plate H1409269D01 read; 384 wells
INFO [2025-10-24 23:56:35] File done
INFO [2025-10-24 23:56:35] Reading file /home/biocbuild/bbs-3.22-bioc/R/site-library/gDRimport/extdata/data4/K0209269D00.csv, sheet 0
INFO [2025-10-24 23:56:35] Plate K0209269D00 read; 384 wells
INFO [2025-10-24 23:56:35] File done
INFO [2025-10-24 23:56:35] Reading file /home/biocbuild/bbs-3.22-bioc/R/site-library/gDRimport/extdata/data4/K0209269D01.csv, sheet 0
INFO [2025-10-24 23:56:35] Plate K0209269D01 read; 384 wells
INFO [2025-10-24 23:56:35] File done
INFO [2025-10-24 23:56:35] Reading file /home/biocbuild/bbs-3.22-bioc/R/site-library/gDRimport/extdata/data4/K0809269D00.csv, sheet 0
INFO [2025-10-24 23:56:35] Plate K0809269D00 read; 384 wells
INFO [2025-10-24 23:56:35] File done
INFO [2025-10-24 23:56:35] Reading file /home/biocbuild/bbs-3.22-bioc/R/site-library/gDRimport/extdata/data4/K0809269D01.csv, sheet 0
INFO [2025-10-24 23:56:35] Plate K0809269D01 read; 384 wells
INFO [2025-10-24 23:56:35] File done
INFO [2025-10-24 23:56:35] Reading file /home/biocbuild/bbs-3.22-bioc/R/site-library/gDRimport/extdata/data4/K1009269D00.csv, sheet 0
INFO [2025-10-24 23:56:35] Plate K1009269D00 read; 384 wells
INFO [2025-10-24 23:56:35] File done
INFO [2025-10-24 23:56:35] Reading file /home/biocbuild/bbs-3.22-bioc/R/site-library/gDRimport/extdata/data4/K1009269D01.csv, sheet 0
INFO [2025-10-24 23:56:35] Plate K1009269D01 read; 384 wells
INFO [2025-10-24 23:56:35] File done
INFO [2025-10-24 23:56:35] Manifest loaded successfully
INFO [2025-10-24 23:56:35] Reading Template_7daytreated.xlsx with load_templates_xlsx
INFO [2025-10-24 23:56:36] Loading Template_7daytreated.xlsx
INFO [2025-10-24 23:56:36] Loading Template_Untreated.xlsx
INFO [2025-10-24 23:56:36] Templates loaded successfully!
INFO [2025-10-24 23:56:36] Manifest loaded successfully
INFO [2025-10-24 23:56:36] Reading Template_7daytreated.xlsx with load_templates_xlsx
INFO [2025-10-24 23:56:36] Loading Template_7daytreated.xlsx
INFO [2025-10-24 23:56:36] Loading Template_Untreated.xlsx
INFO [2025-10-24 23:56:36] Templates loaded successfully!
INFO [2025-10-24 23:56:36] Manifest loaded successfully
INFO [2025-10-24 23:56:36] Reading Template_trt.tsv with load_templates_tsv
INFO [2025-10-24 23:56:36] Loading Template_trt.tsv
INFO [2025-10-24 23:56:36] Loading Template_untrt.tsv
INFO [2025-10-24 23:56:36] Templates loaded successfully!
INFO [2025-10-24 23:56:36] Reading file /home/biocbuild/bbs-3.22-bioc/R/site-library/gDRimport/extdata/data5/RawData.tsv
WARN [2025-10-24 23:56:38] Metadata field names for cannot contain spaces --> corrected to: Gnumber
WARN [2025-10-24 23:56:38] Header Gnumber in corrected to Gnumber
[ FAIL 0 | WARN 0 | SKIP 0 | PASS 156 ]
>
>
> proc.time()
user system elapsed
43.000 1.338 44.178
gDRimport.Rcheck/gDRimport-Ex.timings
| name | user | system | elapsed | |
| check_metadata_names | 0.069 | 0.003 | 0.072 | |
| convert_LEVEL5_prism_to_gDR_input | 0.023 | 0.000 | 0.023 | |
| convert_LEVEL6_prism_to_gDR_input | 0.020 | 0.000 | 0.022 | |
| convert_MAE_to_PSet | 7.851 | 0.316 | 8.172 | |
| convert_pset_to_df | 0.144 | 0.026 | 0.143 | |
| detect_file_format | 0.241 | 0.009 | 0.245 | |
| getPSet | 0.108 | 0.007 | 0.115 | |
| get_exception_data | 0.007 | 0.000 | 0.007 | |
| get_test_D300_data | 0.002 | 0.000 | 0.001 | |
| get_test_EnVision_data | 0.001 | 0.001 | 0.002 | |
| get_test_Tecan_data | 0.001 | 0.000 | 0.001 | |
| get_test_data | 0.002 | 0.000 | 0.003 | |
| get_test_tsv_data | 0.001 | 0.000 | 0.001 | |
| import_D300 | 2.389 | 0.096 | 2.482 | |
| is_readable_v | 0.001 | 0.000 | 0.001 | |
| load_data | 1.281 | 0.021 | 1.301 | |
| load_manifest | 0.068 | 0.001 | 0.063 | |
| load_results | 0.874 | 0.019 | 0.892 | |
| load_templates | 0.226 | 0.007 | 0.226 | |
| manifest_path-method | 0.002 | 0.000 | 0.002 | |
| parse_D300_xml | 1.039 | 0.001 | 1.040 | |
| read_excel_to_dt | 0.021 | 0.001 | 0.014 | |
| result_path-method | 0.003 | 0.000 | 0.002 | |
| setEnvForPSet | 0.001 | 0.000 | 0.001 | |
| standardize_record_values | 0 | 0 | 0 | |
| template_path-method | 0.002 | 0.000 | 0.002 | |