| Back to Multiple platform build/check report for BioC 3.22: simplified long |
|
This page was generated on 2025-10-24 12:04 -0400 (Fri, 24 Oct 2025).
| Hostname | OS | Arch (*) | R version | Installed pkgs |
|---|---|---|---|---|
| nebbiolo2 | Linux (Ubuntu 24.04.3 LTS) | x86_64 | 4.5.1 Patched (2025-08-23 r88802) -- "Great Square Root" | 4898 |
| lconway | macOS 12.7.6 Monterey | x86_64 | 4.5.1 Patched (2025-09-10 r88807) -- "Great Square Root" | 4688 |
| kjohnson3 | macOS 13.7.7 Ventura | arm64 | 4.5.1 Patched (2025-09-10 r88807) -- "Great Square Root" | 4634 |
| taishan | Linux (openEuler 24.03 LTS) | aarch64 | 4.5.0 (2025-04-11) -- "How About a Twenty-Six" | 4658 |
| Click on any hostname to see more info about the system (e.g. compilers) (*) as reported by 'uname -p', except on Windows and Mac OS X | ||||
| Package 523/2359 | Hostname | OS / Arch | INSTALL | BUILD | CHECK | BUILD BIN | ||||||||
| dar 1.5.2 (landing page) Francesc Catala-Moll
| nebbiolo2 | Linux (Ubuntu 24.04.3 LTS) / x86_64 | OK | OK | OK | |||||||||
| lconway | macOS 12.7.6 Monterey / x86_64 | OK | OK | OK | OK | |||||||||
| kjohnson3 | macOS 13.7.7 Ventura / arm64 | OK | OK | OK | OK | |||||||||
| taishan | Linux (openEuler 24.03 LTS) / aarch64 | OK | OK | OK | ||||||||||
|
To the developers/maintainers of the dar package: - Allow up to 24 hours (and sometimes 48 hours) for your latest push to git@git.bioconductor.org:packages/dar.git to reflect on this report. See Troubleshooting Build Report for more information. - Use the following Renviron settings to reproduce errors and warnings. - If 'R CMD check' started to fail recently on the Linux builder(s) over a missing dependency, add the missing dependency to 'Suggests:' in your DESCRIPTION file. See Renviron.bioc for more information. |
| Package: dar |
| Version: 1.5.2 |
| Command: /Library/Frameworks/R.framework/Resources/bin/R CMD check --install=check:dar.install-out.txt --library=/Library/Frameworks/R.framework/Resources/library --no-vignettes --timings dar_1.5.2.tar.gz |
| StartedAt: 2025-10-23 20:30:01 -0400 (Thu, 23 Oct 2025) |
| EndedAt: 2025-10-23 20:41:27 -0400 (Thu, 23 Oct 2025) |
| EllapsedTime: 686.1 seconds |
| RetCode: 0 |
| Status: OK |
| CheckDir: dar.Rcheck |
| Warnings: 0 |
##############################################################################
##############################################################################
###
### Running command:
###
### /Library/Frameworks/R.framework/Resources/bin/R CMD check --install=check:dar.install-out.txt --library=/Library/Frameworks/R.framework/Resources/library --no-vignettes --timings dar_1.5.2.tar.gz
###
##############################################################################
##############################################################################
* using log directory ‘/Users/biocbuild/bbs-3.22-bioc/meat/dar.Rcheck’
* using R version 4.5.1 Patched (2025-09-10 r88807)
* using platform: x86_64-apple-darwin20
* R was compiled by
Apple clang version 14.0.0 (clang-1400.0.29.202)
GNU Fortran (GCC) 14.2.0
* running under: macOS Monterey 12.7.6
* using session charset: UTF-8
* using option ‘--no-vignettes’
* checking for file ‘dar/DESCRIPTION’ ... OK
* this is package ‘dar’ version ‘1.5.2’
* package encoding: UTF-8
* checking package namespace information ... OK
* checking package dependencies ... INFO
Imports includes 21 non-default packages.
Importing from so many packages makes the package vulnerable to any of
them becoming unavailable. Move as many as possible to Suggests and
use conditionally.
* checking if this is a source package ... OK
* checking if there is a namespace ... OK
* checking for hidden files and directories ... OK
* checking for portable file names ... OK
* checking for sufficient/correct file permissions ... OK
* checking whether package ‘dar’ can be installed ... OK
* checking installed package size ... OK
* checking package directory ... OK
* checking ‘build’ directory ... OK
* checking DESCRIPTION meta-information ... OK
* checking top-level files ... OK
* checking for left-over files ... OK
* checking index information ... OK
* checking package subdirectories ... OK
* checking code files for non-ASCII characters ... OK
* checking R files for syntax errors ... OK
* checking whether the package can be loaded ... OK
* checking whether the package can be loaded with stated dependencies ... OK
* checking whether the package can be unloaded cleanly ... OK
* checking whether the namespace can be loaded with stated dependencies ... OK
* checking whether the namespace can be unloaded cleanly ... OK
* checking dependencies in R code ... OK
* checking S3 generic/method consistency ... OK
* checking replacement functions ... OK
* checking foreign function calls ... OK
* checking R code for possible problems ... OK
* checking Rd files ... OK
* checking Rd metadata ... OK
* checking Rd cross-references ... OK
* checking for missing documentation entries ... OK
* checking for code/documentation mismatches ... OK
* checking Rd \usage sections ... OK
* checking Rd contents ... OK
* checking for unstated dependencies in examples ... OK
* checking contents of ‘data’ directory ... OK
* checking data for non-ASCII characters ... OK
* checking data for ASCII and uncompressed saves ... OK
* checking R/sysdata.rda ... OK
* checking files in ‘vignettes’ ... OK
* checking examples ... OK
Examples with CPU (user + system) or elapsed time > 5s
user system elapsed
step_aldex 18.572 3.205 23.450
step_deseq 6.748 0.131 6.905
corr_heatmap 4.786 0.203 5.020
prep 4.019 0.084 45.238
step_metagenomeseq 3.565 0.077 10.869
export_steps 2.300 0.225 15.305
import_steps 2.118 0.082 39.685
recipe 1.467 0.037 19.941
* checking for unstated dependencies in ‘tests’ ... OK
* checking tests ...
Running ‘testthat.R’
OK
* checking for unstated dependencies in vignettes ... OK
* checking package vignettes ... OK
* checking running R code from vignettes ... SKIPPED
* checking re-building of vignette outputs ... SKIPPED
* checking PDF version of manual ... OK
* DONE
Status: OK
dar.Rcheck/00install.out
############################################################################## ############################################################################## ### ### Running command: ### ### /Library/Frameworks/R.framework/Resources/bin/R CMD INSTALL dar ### ############################################################################## ############################################################################## * installing to library ‘/Library/Frameworks/R.framework/Versions/4.5-x86_64/Resources/library’ * installing *source* package ‘dar’ ... ** this is package ‘dar’ version ‘1.5.2’ ** using staged installation ** R ** data ** inst ** byte-compile and prepare package for lazy loading ** help *** installing help indices *** copying figures ** building package indices ** installing vignettes ** testing if installed package can be loaded from temporary location ** testing if installed package can be loaded from final location ** testing if installed package keeps a record of temporary installation path * DONE (dar)
dar.Rcheck/tests/testthat.Rout
R version 4.5.1 Patched (2025-09-10 r88807) -- "Great Square Root"
Copyright (C) 2025 The R Foundation for Statistical Computing
Platform: x86_64-apple-darwin20
R is free software and comes with ABSOLUTELY NO WARRANTY.
You are welcome to redistribute it under certain conditions.
Type 'license()' or 'licence()' for distribution details.
R is a collaborative project with many contributors.
Type 'contributors()' for more information and
'citation()' on how to cite R or R packages in publications.
Type 'demo()' for some demos, 'help()' for on-line help, or
'help.start()' for an HTML browser interface to help.
Type 'q()' to quit R.
> library(testthat)
> library(dar)
>
> test_check("dar")
Starting 2 test processes
[ FAIL 0 | WARN 3 | SKIP 10 | PASS 81 ]
══ Skipped tests (10) ══════════════════════════════════════════════════════════
• On CRAN (9): 'test-roxytest-tests-bake.R:18:3',
'test-roxytest-tests-lefse.R:15:3', 'test-roxytest-tests-maaslin2.R:16:3',
'test-roxytest-tests-pkg_check.R:6:3', 'test-roxytest-tests-misc.R:73:3',
'test-roxytest-tests-misc.R:101:3', 'test-roxytest-tests-misc.R:108:3',
'test-roxytest-tests-read_data.R:24:3',
'test-roxytest-tests-steps_and_checks.R:7:3'
• Temporary disabling due to problems with the ANCOM package (1):
'test-roxytest-tests-ancom.R:6:3'
[ FAIL 0 | WARN 3 | SKIP 10 | PASS 81 ]
>
> proc.time()
user system elapsed
222.546 15.805 302.806
dar.Rcheck/dar-Ex.timings
| name | user | system | elapsed | |
| abundance_plt | 3.179 | 0.079 | 3.290 | |
| add_tax | 0.179 | 0.006 | 0.185 | |
| add_var | 0.184 | 0.007 | 0.192 | |
| bake | 0.540 | 0.008 | 0.551 | |
| contains_rarefaction | 0.845 | 0.020 | 0.872 | |
| cool | 0.308 | 0.005 | 0.314 | |
| corr_heatmap | 4.786 | 0.203 | 5.020 | |
| exclusion_plt | 1.253 | 0.025 | 1.284 | |
| export_steps | 2.300 | 0.225 | 15.305 | |
| find_intersections | 0.178 | 0.003 | 0.182 | |
| get_comparisons | 0.020 | 0.002 | 0.022 | |
| get_phy | 0.023 | 0.003 | 0.026 | |
| get_tax | 0.030 | 0.002 | 0.032 | |
| get_var | 0.031 | 0.003 | 0.034 | |
| import_steps | 2.118 | 0.082 | 39.685 | |
| intersection_df | 0.192 | 0.006 | 0.201 | |
| intersection_plt | 2.584 | 0.024 | 2.627 | |
| mutual_plt | 2.908 | 0.024 | 2.956 | |
| otu_table | 0.465 | 0.006 | 0.474 | |
| overlap_df | 0.282 | 0.006 | 0.288 | |
| phy_qc | 1.263 | 0.024 | 1.292 | |
| prep | 4.019 | 0.084 | 45.238 | |
| rand_id | 0 | 0 | 0 | |
| read_data | 1.592 | 0.383 | 1.732 | |
| recipe | 1.467 | 0.037 | 19.941 | |
| required_deps | 0.036 | 0.007 | 0.043 | |
| sample_data | 0.035 | 0.003 | 0.038 | |
| step_aldex | 18.572 | 3.205 | 23.450 | |
| step_ancom | 0.000 | 0.001 | 0.001 | |
| step_corncob | 2.159 | 0.177 | 2.368 | |
| step_deseq | 6.748 | 0.131 | 6.905 | |
| step_filter_by_abundance | 0.041 | 0.004 | 0.046 | |
| step_filter_by_prevalence | 0.044 | 0.004 | 0.048 | |
| step_filter_by_rarity | 0.040 | 0.005 | 0.044 | |
| step_filter_by_variance | 0.043 | 0.003 | 0.046 | |
| step_filter_taxa | 0.042 | 0.003 | 0.047 | |
| step_lefse | 0.077 | 0.005 | 0.084 | |
| step_maaslin | 3.448 | 0.181 | 3.651 | |
| step_metagenomeseq | 3.565 | 0.077 | 10.869 | |
| step_rarefaction | 0.053 | 0.005 | 0.057 | |
| step_subset_taxa | 0.040 | 0.003 | 0.043 | |
| step_wilcox | 1.842 | 0.026 | 1.873 | |
| steps_ids | 0.012 | 0.002 | 0.014 | |
| tax_table | 0.052 | 0.003 | 0.056 | |
| tidyeval | 0.014 | 0.001 | 0.016 | |
| to_tibble | 0.480 | 0.006 | 0.488 | |
| use_rarefy | 0.014 | 0.005 | 0.019 | |
| zero_otu | 0.395 | 0.005 | 0.401 | |