| Back to Multiple platform build/check report for BioC 3.22: simplified long |
|
This page was generated on 2025-10-31 12:05 -0400 (Fri, 31 Oct 2025).
| Hostname | OS | Arch (*) | R version | Installed pkgs |
|---|---|---|---|---|
| nebbiolo2 | Linux (Ubuntu 24.04.3 LTS) | x86_64 | 4.5.1 Patched (2025-08-23 r88802) -- "Great Square Root" | 4901 |
| lconway | macOS 12.7.6 Monterey | x86_64 | 4.5.1 Patched (2025-09-10 r88807) -- "Great Square Root" | 4691 |
| kjohnson3 | macOS 13.7.7 Ventura | arm64 | 4.5.1 Patched (2025-09-10 r88807) -- "Great Square Root" | 4637 |
| Click on any hostname to see more info about the system (e.g. compilers) (*) as reported by 'uname -p', except on Windows and Mac OS X | ||||
| Package 524/2361 | Hostname | OS / Arch | INSTALL | BUILD | CHECK | BUILD BIN | ||||||||
| dar 1.6.0 (landing page) Francesc Catala-Moll
| nebbiolo2 | Linux (Ubuntu 24.04.3 LTS) / x86_64 | OK | OK | OK | |||||||||
| lconway | macOS 12.7.6 Monterey / x86_64 | OK | OK | OK | OK | |||||||||
| kjohnson3 | macOS 13.7.7 Ventura / arm64 | OK | OK | OK | OK | |||||||||
|
To the developers/maintainers of the dar package: - Allow up to 24 hours (and sometimes 48 hours) for your latest push to git@git.bioconductor.org:packages/dar.git to reflect on this report. See Troubleshooting Build Report for more information. - Use the following Renviron settings to reproduce errors and warnings. - If 'R CMD check' started to fail recently on the Linux builder(s) over a missing dependency, add the missing dependency to 'Suggests:' in your DESCRIPTION file. See Renviron.bioc for more information. |
| Package: dar |
| Version: 1.6.0 |
| Command: /Library/Frameworks/R.framework/Resources/bin/R CMD check --install=check:dar.install-out.txt --library=/Library/Frameworks/R.framework/Resources/library --no-vignettes --timings dar_1.6.0.tar.gz |
| StartedAt: 2025-10-30 19:20:06 -0400 (Thu, 30 Oct 2025) |
| EndedAt: 2025-10-30 19:24:13 -0400 (Thu, 30 Oct 2025) |
| EllapsedTime: 246.9 seconds |
| RetCode: 0 |
| Status: OK |
| CheckDir: dar.Rcheck |
| Warnings: 0 |
##############################################################################
##############################################################################
###
### Running command:
###
### /Library/Frameworks/R.framework/Resources/bin/R CMD check --install=check:dar.install-out.txt --library=/Library/Frameworks/R.framework/Resources/library --no-vignettes --timings dar_1.6.0.tar.gz
###
##############################################################################
##############################################################################
* using log directory ‘/Users/biocbuild/bbs-3.22-bioc/meat/dar.Rcheck’
* using R version 4.5.1 Patched (2025-09-10 r88807)
* using platform: aarch64-apple-darwin20
* R was compiled by
Apple clang version 16.0.0 (clang-1600.0.26.6)
GNU Fortran (GCC) 14.2.0
* running under: macOS Ventura 13.7.7
* using session charset: UTF-8
* using option ‘--no-vignettes’
* checking for file ‘dar/DESCRIPTION’ ... OK
* this is package ‘dar’ version ‘1.6.0’
* package encoding: UTF-8
* checking package namespace information ... OK
* checking package dependencies ... INFO
Imports includes 21 non-default packages.
Importing from so many packages makes the package vulnerable to any of
them becoming unavailable. Move as many as possible to Suggests and
use conditionally.
* checking if this is a source package ... OK
* checking if there is a namespace ... OK
* checking for hidden files and directories ... OK
* checking for portable file names ... OK
* checking for sufficient/correct file permissions ... OK
* checking whether package ‘dar’ can be installed ... OK
* checking installed package size ... OK
* checking package directory ... OK
* checking ‘build’ directory ... OK
* checking DESCRIPTION meta-information ... OK
* checking top-level files ... OK
* checking for left-over files ... OK
* checking index information ... OK
* checking package subdirectories ... OK
* checking code files for non-ASCII characters ... OK
* checking R files for syntax errors ... OK
* checking whether the package can be loaded ... OK
* checking whether the package can be loaded with stated dependencies ... OK
* checking whether the package can be unloaded cleanly ... OK
* checking whether the namespace can be loaded with stated dependencies ... OK
* checking whether the namespace can be unloaded cleanly ... OK
* checking dependencies in R code ... OK
* checking S3 generic/method consistency ... OK
* checking replacement functions ... OK
* checking foreign function calls ... OK
* checking R code for possible problems ... OK
* checking Rd files ... OK
* checking Rd metadata ... OK
* checking Rd cross-references ... OK
* checking for missing documentation entries ... OK
* checking for code/documentation mismatches ... OK
* checking Rd \usage sections ... OK
* checking Rd contents ... OK
* checking for unstated dependencies in examples ... OK
* checking contents of ‘data’ directory ... OK
* checking data for non-ASCII characters ... OK
* checking data for ASCII and uncompressed saves ... OK
* checking R/sysdata.rda ... OK
* checking files in ‘vignettes’ ... OK
* checking examples ... OK
Examples with CPU (user + system) or elapsed time > 5s
user system elapsed
step_aldex 6.375 0.774 7.169
prep 1.596 0.040 14.705
export_steps 0.870 0.066 5.139
import_steps 0.763 0.030 12.008
recipe 0.578 0.010 6.319
* checking for unstated dependencies in ‘tests’ ... OK
* checking tests ...
Running ‘testthat.R’
OK
* checking for unstated dependencies in vignettes ... OK
* checking package vignettes ... OK
* checking running R code from vignettes ... SKIPPED
* checking re-building of vignette outputs ... SKIPPED
* checking PDF version of manual ... OK
* DONE
Status: OK
dar.Rcheck/00install.out
############################################################################## ############################################################################## ### ### Running command: ### ### /Library/Frameworks/R.framework/Resources/bin/R CMD INSTALL dar ### ############################################################################## ############################################################################## * installing to library ‘/Library/Frameworks/R.framework/Versions/4.5-arm64/Resources/library’ * installing *source* package ‘dar’ ... ** this is package ‘dar’ version ‘1.6.0’ ** using staged installation ** R ** data ** inst ** byte-compile and prepare package for lazy loading ** help *** installing help indices *** copying figures ** building package indices ** installing vignettes ** testing if installed package can be loaded from temporary location ** testing if installed package can be loaded from final location ** testing if installed package keeps a record of temporary installation path * DONE (dar)
dar.Rcheck/tests/testthat.Rout
R version 4.5.1 Patched (2025-09-10 r88807) -- "Great Square Root"
Copyright (C) 2025 The R Foundation for Statistical Computing
Platform: aarch64-apple-darwin20
R is free software and comes with ABSOLUTELY NO WARRANTY.
You are welcome to redistribute it under certain conditions.
Type 'license()' or 'licence()' for distribution details.
R is a collaborative project with many contributors.
Type 'contributors()' for more information and
'citation()' on how to cite R or R packages in publications.
Type 'demo()' for some demos, 'help()' for on-line help, or
'help.start()' for an HTML browser interface to help.
Type 'q()' to quit R.
> library(testthat)
> library(dar)
>
> test_check("dar")
Starting 2 test processes
[ FAIL 0 | WARN 3 | SKIP 10 | PASS 81 ]
══ Skipped tests (10) ══════════════════════════════════════════════════════════
• On CRAN (9): 'test-roxytest-tests-bake.R:18:3',
'test-roxytest-tests-maaslin2.R:16:3', 'test-roxytest-tests-lefse.R:15:3',
'test-roxytest-tests-pkg_check.R:6:3', 'test-roxytest-tests-misc.R:73:3',
'test-roxytest-tests-misc.R:101:3', 'test-roxytest-tests-misc.R:108:3',
'test-roxytest-tests-read_data.R:24:3',
'test-roxytest-tests-steps_and_checks.R:7:3'
• Temporary disabling due to problems with the ANCOM package (1):
'test-roxytest-tests-ancom.R:6:3'
[ FAIL 0 | WARN 3 | SKIP 10 | PASS 81 ]
>
> proc.time()
user system elapsed
84.311 6.834 122.670
dar.Rcheck/dar-Ex.timings
| name | user | system | elapsed | |
| abundance_plt | 0.954 | 0.014 | 0.970 | |
| add_tax | 0.052 | 0.002 | 0.054 | |
| add_var | 0.057 | 0.002 | 0.059 | |
| bake | 0.140 | 0.003 | 0.142 | |
| contains_rarefaction | 0.360 | 0.006 | 0.367 | |
| cool | 0.083 | 0.002 | 0.085 | |
| corr_heatmap | 1.730 | 0.063 | 1.804 | |
| exclusion_plt | 0.342 | 0.012 | 0.364 | |
| export_steps | 0.870 | 0.066 | 5.139 | |
| find_intersections | 0.049 | 0.001 | 0.056 | |
| get_comparisons | 0.007 | 0.001 | 0.011 | |
| get_phy | 0.008 | 0.001 | 0.010 | |
| get_tax | 0.010 | 0.001 | 0.010 | |
| get_var | 0.010 | 0.001 | 0.015 | |
| import_steps | 0.763 | 0.030 | 12.008 | |
| intersection_df | 0.049 | 0.002 | 0.050 | |
| intersection_plt | 0.662 | 0.004 | 0.667 | |
| mutual_plt | 0.714 | 0.005 | 0.720 | |
| otu_table | 0.113 | 0.001 | 0.115 | |
| overlap_df | 0.071 | 0.002 | 0.072 | |
| phy_qc | 0.330 | 0.008 | 0.339 | |
| prep | 1.596 | 0.040 | 14.705 | |
| rand_id | 0 | 0 | 0 | |
| read_data | 0.453 | 0.180 | 0.499 | |
| recipe | 0.578 | 0.010 | 6.319 | |
| required_deps | 0.013 | 0.001 | 0.015 | |
| sample_data | 0.013 | 0.001 | 0.013 | |
| step_aldex | 6.375 | 0.774 | 7.169 | |
| step_ancom | 0 | 0 | 0 | |
| step_corncob | 0.611 | 0.059 | 0.671 | |
| step_deseq | 1.876 | 0.041 | 1.922 | |
| step_filter_by_abundance | 0.014 | 0.001 | 0.015 | |
| step_filter_by_prevalence | 0.015 | 0.001 | 0.019 | |
| step_filter_by_rarity | 0.014 | 0.001 | 0.015 | |
| step_filter_by_variance | 0.014 | 0.001 | 0.016 | |
| step_filter_taxa | 0.015 | 0.003 | 0.021 | |
| step_lefse | 0.022 | 0.004 | 0.026 | |
| step_maaslin | 0.923 | 0.047 | 0.970 | |
| step_metagenomeseq | 0.976 | 0.025 | 3.264 | |
| step_rarefaction | 0.017 | 0.002 | 0.019 | |
| step_subset_taxa | 0.015 | 0.002 | 0.017 | |
| step_wilcox | 0.494 | 0.009 | 0.502 | |
| steps_ids | 0.004 | 0.001 | 0.005 | |
| tax_table | 0.017 | 0.001 | 0.018 | |
| tidyeval | 0.004 | 0.000 | 0.004 | |
| to_tibble | 0.108 | 0.001 | 0.108 | |
| use_rarefy | 0.007 | 0.002 | 0.009 | |
| zero_otu | 0.118 | 0.004 | 0.123 | |